{"text_format":"1","workbook":"xlsx","n_sheets":18,"sheets":["Subvention","Cadre de travail","Instructions","Instructions (2)","Errors Validation","Synthèse","Budget détaillé","CCEOP Drop Downs_3","Validation","Budget_BackWork","ADMIN","Analysis1","ECF et services éligibles","Budget GS dir. pays","CCEOP Price List","CCEOP Drop Downs","CCEOP Drop Downs_2","CCEOP Av Px_Min Floor & Cash "],"not_rendered":{"charts":9,"images":8,"macros":1,"external_links":0,"defined_names":1631,"comments":2,"pivot_tables":0},"unopened":[],"bounds":{"document_bytes":16777216,"sheet_cells":100000,"rows_first":2000,"rows_last":500,"rows_between":2000,"halvings":0,"cell_chars":16384,"cell_head_chars":4096},"cells_cut":0,"cells_raw":0,"read":"whole","date_system":"1900"}

{"sheet":"Subvention","index":0,"n_rows":48,"n_cols":5,"rows_kept":48,"cut":false,"hidden":false,"merged":[[0,0,1,4],[2,1,2,4],[14,1,14,4],[8,1,8,4]]}
["6.0 Modèle budgétaire"]
[]
[null,"Informations générales sur la subvention"]
[]
[null,"Segment du pays",null,"Sélectionnez le segment correspondant à votre pays"]
[null,"Nom du pays",null,"Sélectionnez un pays dans la liste déroulante. Si « Autre » est sélectionné, veuillez indiquer le nom du pays dans la cellule E6"]
[null,"Cycle fiscal"]
[]
[null,"Durée du programme"]
[]
[null,"Date de début",null,"Veuillez indiquer une date"]
[null,"Date de fin",null,"Veuillez indiquer une date"]
[null,"Fréquence budgétaire"]
[]
[null,"Plafond"]
[null,null,null,null,"Commentaires"]
[null,"Plafond Gavi",null,"Veuillez indiquer ici le plafond disponible pour cette demande"]
[null,"Trésorerie dans le pays pour la reprogrammation",null,"À renseigner uniquement si la trésorerie au niveau du pays est reprogrammée dans le cadre de cette demande"]
[null,"Autres (intérêts, …)",null,"Idem ci-dessus pour les intérêts ou autres revenus"]
[]
[null,"Total de trésorerie disponible",{"$f":"SUM(C17:C20)","v":0}]
[]
[null,"Garde-fous / Seuils","Plancher minimum"]
[]
[null,"CCE minimum floor",null,null,"Merci de refléter l’allocation minimum communiquée par Gavi’"]
[null,"CSOs",null,null,"Merci de refléter l’allocation minimum communiquée par Gavi’"]
[null,null,"De","À"]
[null,"Rougeole / Rougeole Rubéole ",null,null,"Merci de refléter l’allocations minimum et maximum communiquées par Gavi’"]
[]
[null,"#","Décaissement de Gavi à"]
[]
[null,1,"Gouvernement"]
[null,2,"UNICEF"]
[null,3,"UNICEF SD"]
[null,4,"OMS"]
[null,5,"CDC"]
[null,6,"Fondation CDC"]
[null,7,"Banque mondiale"]
[null,8,"TBD"]
[]
["Fund Recipient","Type"]
["CSO-Fund Manager","CSO"]
["CSO-Core Partner","CSO"]
["CSO-Direct","CSO"]
["CSO-Government","CSO"]
["MoH","MoH/GOV"]
["UNICEF","Alliance/Core Partner"]
["WHO","Alliance/Core Partner"]

{"sheet":"Cadre de travail","index":1,"n_rows":13,"n_cols":7,"rows_kept":13,"cut":false,"hidden":false,"merged":[]}
["But stratégique","Objectif stratégique","Activity type",null,"Domaine d’investissement",null,"Cadre de coûts de Gavi 6.0"]
["1. Introduire les vaccins et étendre leur utilisation","1.1 Les pays priorisent et optimisent leurs programmes de vaccination","Technical Assistance",null,"1. Prestation de services",null,"Nouvelles catégories de coûts (réduites)"]
["1. Introduire les vaccins et étendre leur utilisation","1.2 Introductions de vaccins soutenues par Gavi et campagnes préventives de haute qualité","Implementation",null,"2. Gestion des ressources humaines",null,"1. Salaires et rémunérations (personnel de programme, administratif, technique et de sensibilisation)"]
["1. Introduire les vaccins et étendre leur utilisation","1.3 Réponse efficace et en temps opportun aux flambées épidémiques, aux épidémies et aux pandémies",null,null,"3. Chaîne d’approvisionnement",null,"2. Indemnités journalières, allocations et autres formes de rémunération."]
["2. Renforcer les systèmes de santé pour accroître l’équité en matière de vaccination","2.1 La couverture vaccinale de la petite enfance est maintenue grâce à une vaccination de routine résiliente et à des campagnes intégrées menées en temps opportun",null,null,"4. Données, suivi et apprentissage, AEFI",null,"3. Transport, déplacements et coûts associés"]
["2. Renforcer les systèmes de santé pour accroître l’équité en matière de vaccination","2.2 Les enfants zéro dose et les communautés non desservies sont atteints et complètement vaccinés, avec une prestation conjointe d'autres services de soins de santé primaires lorsque cela est possible",null,null,"5. Surveillance des maladies",null,"4. Services professionnels"]
["2. Renforcer les systèmes de santé pour accroître l’équité en matière de vaccination","2.3 L'accès aux autres vaccins de l'enfant et de l'adolescent est amélioré grâce au renforcement des points de contact, en tirant parti d'autres services de santé",null,null,"6. Création de la demande et engagement communautaire",null,"5. Consommables associés à la prestation de services"]
["3. Améliorer la pérennité financière et programmatique des programmes de vaccination","3.1 Engagement politique et social en faveur de la vaccination",null,null,"7. Gouvernance, politiques, planification stratégique et gestion des programmes",null,"6. Coûts liés aux événements (formations, réunions, ateliers, etc.)"]
["3. Améliorer la pérennité financière et programmatique des programmes de vaccination","3.2 Amélioration de la préparation à la transition et maintien des performances après la transition",null,null,"8. Financement de la santé",null,"7. Actifs – acquisition, maintenance, construction et rénovation"]
["3. Améliorer la pérennité financière et programmatique des programmes de vaccination","3.3 Les introductions de vaccins financées par les pays eux-mêmes et les performances en matière de couverture vaccinale équitable sont maintenues",null,null,null,null,"8. Équipements éligibles au CCEOP et services associés (garde-fou du Conseil d’administration de Gavi)"]
[null,null,null,null,null,null,"9. Activités liées aux technologies de l’information et de la communication"]
[null,null,null,null,null,null,"10. Coûts de soutien au programme, administration et frais généraux"]
[null,null,null,null,null,null,"11. Financement basé sur les résultats"]

{"sheet":"Instructions","index":2,"n_rows":47,"n_cols":2,"rows_kept":47,"cut":false,"hidden":false,"merged":[]}
["Instructions d'utilisation du modèle : par où commencer ?"]
[]
["(Vous trouverez des informations plus détaillées dans le guide d'utilisation publié avec ce modèle : Guide d'utilisation – Modèle de budget Gavi 6.0)"]
[]
["Il faut d'abord remplir l'onglet « Configuration de la subvention »."]
[]
["Remarque : veuillez utiliser la barre de navigation « GAVI » et cliquer sur les boutons « VALIDATION » et « Informations ». "]
[]
["·         Le bouton « VALIDATION » vous indique si vous avez correctement rempli l'onglet « Configuration de la subvention ». Si des informations ont été saisies de manière erronée, une fenêtre contextuelle vous indiquera quelle cellule contient une erreur. "]
[]
["·         Le bouton « Informations » fournit des instructions sur la manière de remplir l'onglet « Configuration de la subvention »."]
[]
[]
[]
[]
[]
[]
["Les utilisateurs doivent remplir tous les champs obligatoires, notamment :"]
[]
["Segment (cellule C5 – ne doit pas être vide) : veuillez utiliser la liste déroulante pour sélectionner le segment correspondant à votre pays. Il existe 5 segments : HI, F&C, Core, MICS AT et Catalytic Phase."]
["Pays (cellule C6 – ne doit pas être vide) – Sélectionnez votre pays dans la liste déroulante."]
["C7 : Cycle budgétaire : ce champ est renseigné automatiquement avec le cycle budgétaire correspondant à votre pays."]
["C11, C12 : Dates de début et de fin du programme (format de date valide : JJ/MM/AAAA) : dates de début et de fin de la demande."]
["C13 : Remplissez cette cellule à l'aide du menu déroulant correspondant à la fréquence budgétaire. La fréquence budgétaire doit faire l'objet d'une discussion et d'un accord avec le Comité technique de Gavi. "]
["Plafond Gavi et liquidités disponibles : veuillez saisir le montant convenu avec Gavi CT. Saisissez « 0 » (zéro) si le montant est nul."]
["Seuils de sécurité et seuils minimaux (par exemple, CCE, CSO, rougeole/MR) : veuillez indiquer le montant convenu avec le Comité technique de Gavi"]
["C32:C38 - Bénéficiaires des versements de Gavi : une liste préremplie est disponible pour les entités pouvant être sélectionnées sans procédure d'appel d'offres : gouvernement national et partenaires clés (UNICEF, UNICEF SD, OMS, CDC, fondations CDC, Banque mondiale)."]
["Si le bénéficiaire ne figure pas dans la liste, veuillez sélectionner « TBD » au moment de la demande."]
[]
["Une fois que tout est correct, passez à la section « Budget détaillé » et remplissez les champs."]
[]
["Pour accéder au budget détaillé, procédez comme suit :"]
[]
["Étape 1 : Utilisez la barre de navigation « GAVI », puis cliquez sur le bouton « Configuration des subventions ». Une fenêtre contextuelle intitulée « Onglet Accès » s'ouvrira alors. "]
[]
["Étape 2 : Cliquez sur le bouton « Accès » dans cette fenêtre contextuelle. Cela ouvrira les onglets « Résumé », « Budget détaillé », « CCE et services éligibles » et « Budget du programme SB piloté par le pays »."]
[]
[]
[]
[]
[]
[]
[]
[]
[]
[]
[null," Remarque : si l'onglet « Configuration de la subvention » n'est pas complété, l'utilisateur verra s'afficher un message contextuel indiquant : « La fiche de configuration de la subvention ne contient pas toutes les informations requises ». "]

{"sheet":"Instructions (2)","index":3,"n_rows":47,"n_cols":4,"rows_kept":47,"cut":false,"hidden":true,"merged":[[15,1,15,9],[0,0,0,9],[2,2,2,4],[5,1,5,9],[6,1,6,9],[7,1,7,9],[8,1,8,9],[9,1,9,9],[10,1,10,9],[11,1,11,9],[13,0,13,9],[14,0,14,9],[30,3,30,9],[17,1,17,9],[19,1,19,9],[20,2,20,9],[21,2,21,9],[22,2,22,9],[23,3,23,9],[24,3,24,9],[25,3,25,9],[27,3,27,9],[28,3,28,9],[29,3,29,9],[46,0,46,9],[32,2,32,9],[34,1,34,9],[35,2,35,9],[36,2,36,9],[37,0,37,9],[38,3,38,9],[39,3,39,9],[40,3,40,9],[41,2,41,9],[42,2,42,9],[44,1,44,9]]}
["Programme d’ECF de Gavi 6.0 – investissements minimums dans les ECF"]
[]
["Pays "]
[]
["Quoi de neuf dans le soutien pour les équipements de la chaîne du froid (ECF) sous Gavi 6.0 ?"]
[null,"a) Le soutien pour les ECF est désormais regroupé dans le budget en espèces consolidé au titre des investissements minimums dans les ECF."]
[null,"b) Les pays pourront faire un « investissement minimum » (établi dans l’allocation de la subvention en espèces) dans des produits et services de la chaîne du froid éligibles."]
[null,"c) Le guide sur les programmes et les technologies d’ECF fournit une liste des catégories de produits et de services de la chaîne du froid éligibles pour lesquels les pays peuvent faire une demande. Ces éléments sont également intégrés dans le modèle de budget."]
[null,"d) Les pays sont toujours tenus de fournir un investissement conjoint basé sur leur statut de transition au moment du dépôt de la demande (autofinancement initial : 10 %, transition préparatoire : 20 %, transition accélérée : 35 %, ou 0 % en cas d’exemption de cofinancement des vaccins)."]
[null,"e) Deux approches de déploiement des ECF sont possibles sous Gavi 6.0 : le « déploiement dirigé par le fournisseur » et le « déploiement dirigé par le pays ». Chaque approche est assortie de critères d’éligibilité et d’investissement minimum clairs."]
[null,"f) Pour Gavi 6.0, l’approche ne précise aucune marque de commerce ; les candidatures et les achats sont centrés sur les spécifications techniques plutôt que sur des marques spécifiques, afin que les pays puissent répondre au mieux à leurs besoins."]
[null,"g) Les modalités d’achat des ECF ont été simplifiées dans Gavi 6.0, comme indiqué dans le guide sur les programmes et les technologies d’ECF."]
[]
["Instructions "]
[]
[null,"Ce modèle doit être rempli par TOUS les pays qui demandent un soutien au titre des investissements minimums dans les ECF sous Gavi 6.0. Les pays qui font une demande pour un déploiement dirigé par le fournisseur doivent remplir uniquement l’onglet « ECF et services éligibles », tandis que les pays qui font une demande pour un déploiement dirigé par le pays doivent remplir l’onglet « ECF et services éligibles » et l’onglet « Budget PS dir. pays »."]
[]
[null,"Les directives pour remplir les sections sur le budget des ECF se trouvent dans l’onglet « Instructions ». Remplissez la cellule C3 de l’onglet Instructions en sélectionnant le nom du pays dans le menu déroulant. Les pays peuvent également consulter le guide détaillé des technologies d’ECF de Gavi pour prendre connaissance des produits et services de chaîne du froid éligibles, ainsi que pour des orientations sur les investissements."]
[]
[null,"L’onglet « ECF et services éligibles » procure une vue d’ensemble des exigences 6.0 en matière d’ECF et d’achats qui sont applicables quelle que soit l’approche de déploiement choisie. Pour l’approche de déploiement dirigé par le fournisseur, un calcul détaillé des coûts est inclus dans cet onglet. Si le pays sélectionne l’approche de déploiement dirigé par le pays, un sommaire des coûts de déploiement et des coûts unitaires connexes est généré automatiquement. "]
[null,null,"a) Remplissez les lignes 4 à 16 de la colonne C avec les renseignements sur l’entité et le destinataire."]
[null,null,"b) Utilisez les filtres de la colonne F pour sélectionner la contribution à l’investissement conjoint du pays concerné (cellule F6) et le groupe de services ou l’approche de déploiement (cellule F7). Le choix de l’approche de déploiement détermine quelles cellules ne doivent pas être mises à jour ou remplies par le pays."]
[null,null,"c) Remplissez le tableau à partir de la ligne 20 en sélectionnant, au moyen des filtres, les spécifications techniques des ECF souhaitées. Ne faites pas de copier-coller, car cela risque d’effacer les formules de la cellule."]
[null,null,null,"i) Sélectionnez l’ECF ou le service éligible au titre des investissements minimums dans les ECF (colonne B)."]
[null,null,null,"ii) Sélectionnez le type d’ECF ou de service (colonne C)."]
[null,null,null,"iii) Sélectionnez le type de SSE (systèmes de surveillance de l’équipement) ou le mode de formation requis, si nécessaire (colonne D)."]
[null,null,null,"iv) Sélectionnez la fourchette de capacité requise, si nécessaire (colonne E)."]
[null,null,null,"v) Sélectionnez le prix moyen (bas, moyen, élevé) en fonction des coûts prévus : bas pour les contextes simples/accessibles, moyen pour les conditions typiques et élevé pour les scénarios complexes ou à coûts élevés (colonne F)."]
[null,null,null,"vi) Indiquez le coût unitaire du groupe de services dans la colonne H pour l’approche de déploiement dirigée par le fournisseur en utilisant les seuils fournis dans la fenêtre contextuelle. Pour les déploiements dirigés par le pays, les coûts unitaires des groupes de services sont générés automatiquement dans la colonne I, après que l’onglet « Budget GS dir. pays » a été rempli. \nRemarque : Pour les déploiements dirigés par le fournisseur, les pays doivent planifier les budgets au moyen : a) des estimations de la limite inférieure pour les installations dont les coûts de transport dans le pays sont bas (p. ex. courtes distances, bonne infrastructure) ; et b) des estimations de la limite supérieure pour les installations dont les coûts de transport sont hauts (p. ex. longues distances, mauvaise infrastructure). Employer des estimations intérimaires, si nécessaire. Les achats en petites quantités peuvent nécessiter une budgétisation plus proche des limites supérieures."]
[null,null,null,"vii) Indiquez les quantités à acheter pour chaque année (A1-A5) dans les colonnes K, M, O, Q et S. Le regroupement des achats peut permettre de réaliser des économies d’échelle."]
[null,null,null,"viii) Sélectionnez les frais de gestion de la Division des approvisionnements de l’UNICEF sur l’investissement conjoint du pays (8 % ou 8,5 %) en utilisant le filtre de la cellule J88, colonne J. Confirmez le pourcentage avec le bureau de pays de l’UNICEF."]
[null,null,"d) Le fret et le tampon sont automatiquement générés sur la base des calculs d’expédition des ECF et des hypothèses standard sur ces stocks."]
[null,null,"e) Pour les déploiements dirigés par le pays, remplissez d’abord l’onglet « Budget GS dir. pays » avec des coûts unitaires détaillés, qui seront automatiquement transférés dans le tableau récapitulatif de l’onglet « ECF et services éligibles ». Remplissez ensuite le tableau récapitulatif en indiquant le nombre de boîtes à outils (colonne C, cellule 125) et les coûts de soutien aux programmes (CSP, 8 % ou 5 %) pour les coûts de déploiement (colonne F, cellule 134) selon que le pays dispose d’un accord tripartite (recommandé) ou d’un accord bilatéral (exceptionnellement)"]
[]
[null,"L’onglet « Budget GS dir. pays » sert à estimer les coûts détaillés de déploiement pour l’approche de déploiement dirigée par le pays. Les pays doivent remplir UNIQUEMENT les cases jaunes de cette feuille de travail. Des formules sont intégrées dans les cellules blanches et grises et ne doivent pas être modifiées.  Les pays peuvent ajouter des commentaires, si nécessaire, dans le champ jaune prévu à cet effet. Il est obligatoire d’indiquer les sources de l’établissement des coûts, par exemple les accords à long terme de l’UNICEF, les taux d’indemnité journalière du gouvernement, etc."]
[null,null," a) Budget de gestion de projet (section I). Remplissez les cellules jaunes avec les coûts unitaires, les quantités et les sources des données d’établissement des coûts pour la gestion de projet et les activités postérieures à l’installation (lignes 7-9)."]
[null,null,"b) Ventilation détaillée des coûts unitaires des ECF (section III). Remplissez toutes les cellules jaunes avec les données sur les coûts, les sources et toute information complémentaire. Si des accords à long terme de l’UNICEF sont utilisés, indiquez le numéro des accords correspondants. Tous les prix doivent être en dollars US ; indiquez le taux de change des Nations Unies applicable dans le champ des commentaires.\n"]
[]
[null,null,null,"i) Dédouanement. Les frais de surestaries ne peuvent être planifiés ou inclus."]
[null,null,null,"ii) Coûts d’installation des ECF. L’installation d’un réfrigérateur à gaine réfrigérante (RGR) ne doit pas dépasser 0,5 jour par unité, et celle d’un dispositif solaire à connexion directe (SCD) ne doit pas dépasser 1 jour par unité. Précisez dans le champ des commentaires le nombre de jours de déplacement requis."]
[null,null,null,"iii) Montage sur support pour dispositifs solaires à connexion directe (SCD). Pour l’installation de dispositifs solaires à connexion directe nécessitant un montage de panneaux sur supports, ces derniers doivent être livrés avec l’équipement conformément à l’accord à long terme de l’UNICEF, et sont donc imputés au budget des équipements de la Division des approvisionnements."]
[null,null,"c) Ventilation détaillée des coûts de formation (section IV). Remplissez toutes les cellules jaunes pour obtenir une estimation des coûts de la formation relative à l’installation, à l’entretien préventif et aux réparations des dispositifs d’ECF et de surveillance à distance de la température."]
[null,null,"d) Une fois cette feuille entièrement remplie, la fiche récapitulative du déploiement dirigé par le pays sous l’onglet « ECF et services éligibles » sera remplie automatiquement, y compris les coûts unitaires du groupe de services au titre de l’approche de déploiement dirigée par le pays, dans la colonne F du même onglet."]
[]
[null,"Une fois le calcul détaillé des coûts des ECF terminé, le budget agrégé des ECF avec contribution de Gavi (colonne F, cellule 10 de l’onglet « ECF et services éligibles ») doit être ajouté au budget en espèces 6.0 sous l’intitulé « équipements de la chaîne du froid et services connexes ». Cela représente la portion du budget total des ECF qui sera financée par Gavi dans le budget en espèces 6.0 au titre des investissements minimums dans les ECF."]
[]
["            b) Explain rationale for selecting final CCE Model Option (cell A18)"]

{"sheet":"Errors Validation","index":4,"n_rows":1,"n_cols":1,"rows_kept":1,"cut":false,"hidden":true,"merged":[]}
["Feuille : [Subvention]\r\n\r\n. La cellule C5 ne doit pas être vide.\r\n. La cellule C6 ne doit pas être vide.\r\n. La cellule C7 ne doit pas être vide.\r\n. La cellule C11 doit contenir une date valide.\r\n. La cellule C12 doit contenir une date valide.\r\n. La cellule C16 doit contenir une date valide.\r\n. La cellule C17 doit contenir une valeur numérique.\r\n. La cellule C18 doit contenir une valeur numérique.\r\n. La cellule C19 doit contenir une valeur numérique.\r\n. La cellule C25 doit contenir une valeur numérique.\r\n. La cellule C27 doit contenir une valeur numérique.\r\n. La cellule C31 ne doit pas être vide.\r\n"]

{"sheet":"Synthèse","index":5,"n_rows":84,"n_cols":26,"rows_kept":84,"cut":false,"hidden":true,"merged":[[37,10,37,18],[0,0,1,8],[8,1,8,8],[16,0,16,8],[72,0,72,8],[62,0,62,8],[46,0,46,8],[33,0,33,8]]}
["Généré automatiquement",null,null,null,null,null,null,null,null,null,null,null,null,null,null,null,null,null,null,null,null,null,null,null,null,{"$f":"IFERROR(\n  LOOKUP(\n    2,\n    1/('Budget détaillé'!$A$12:$A$2171=\"Coût\"),\n    ROW('Budget détaillé'!$A$12:$A$2171)\n  ),\n  11\n)","v":264}]
[]
[]
[{"$f":"Subvention!B21","v":"Total de trésorerie disponible"},{"$f":"Subvention!C21","v":0}]
[]
[null,"Année 1","Année 2","Année 3","Année 4","Année 5","Total"]
["Budget Total/an",{"$f":"IF($Z$1<12,0,\n    SUMIFS(\n      'Budget détaillé'!$Y$12:INDEX('Budget détaillé'!$Y:$Y, $Z$1),'Budget détaillé'!$A$12:INDEX('Budget détaillé'!$A:$A, $Z$1), \"Coût\"\n    )\n  )","v":0},{"$f":"IF($Z$1<12,0,\n    SUMIFS(\n      'Budget détaillé'!$AL$12:INDEX('Budget détaillé'!$AL:$AL, $Z$1),'Budget détaillé'!$A$12:INDEX('Budget détaillé'!$A:$A, $Z$1), \"Coût\"\n    )\n  )","v":0},{"$f":"IF($Z$1<12,0,\n    SUMIFS(\n      'Budget détaillé'!$AY$12:INDEX('Budget détaillé'!$AY:$AY, $Z$1),'Budget détaillé'!$A$12:INDEX('Budget détaillé'!$A:$A, $Z$1), \"Coût\"\n    )\n  )","v":0},{"$f":"IF($Z$1<12,0,\n    SUMIFS(\n      'Budget détaillé'!$BL$12:INDEX('Budget détaillé'!$BL:$BL, $Z$1),'Budget détaillé'!$A$12:INDEX('Budget détaillé'!$A:$A, $Z$1), \"Coût\"\n    )\n  )","v":0},{"$f":"IF($Z$1<12,0,\n    SUMIFS(\n      'Budget détaillé'!$BY$12:INDEX('Budget détaillé'!$BY:$BY, $Z$1),'Budget détaillé'!$A$12:INDEX('Budget détaillé'!$A:$A, $Z$1), \"Coût\"\n    )\n  )","v":0},{"$f":"IF($Z$1<12,0,\n    SUMIFS(\n      'Budget détaillé'!$BZ$12:INDEX('Budget détaillé'!$BZ:$BZ, $Z$1),'Budget détaillé'!$A$12:INDEX('Budget détaillé'!$A:$A, $Z$1), \"Coût\"\n    )\n  )","v":0},{"$f":"IF(G7<=Subvention!C21,\"OK\",\"Vérifier\")","v":"OK"}]
[]
[null,"Budgétisé"]
["Garde-fous et autres",{"$f":"B6","v":"Année 1"},"Année 2","Année 3","Année 4","Année 5","Total","Plancher minimum","Indicateur"]
["CCE plancher minimum",{"$f":"IF($Z$1<12,0,\n    SUMIFS(\n      'Budget détaillé'!$Y$12:INDEX('Budget détaillé'!$Y:$Y, $Z$1),\n      'Budget détaillé'!$L$12:INDEX('Budget détaillé'!$L:$L, $Z$1), \"*\" & Validation!N14 & \"*\",\n      'Budget détaillé'!$A$12:INDEX('Budget détaillé'!$A:$A, $Z$1), \"Coût\"\n    )\n  )","v":0},{"$f":"IF($Z$1<12,0,\n    SUMIFS(\n      'Budget détaillé'!$AL$12:INDEX('Budget détaillé'!$AL:$AL, $Z$1),\n      'Budget détaillé'!$L$12:INDEX('Budget détaillé'!$L:$L, $Z$1), \"*\" & Validation!N14 & \"*\",\n      'Budget détaillé'!$A$12:INDEX('Budget détaillé'!$A:$A, $Z$1), \"Coût\"\n    )\n  )","v":0},{"$f":"IF($Z$1<12,0,\n    SUMIFS(\n      'Budget détaillé'!$AY$12:INDEX('Budget détaillé'!$AY:$AY, $Z$1),\n      'Budget détaillé'!$L$12:INDEX('Budget détaillé'!$L:$L, $Z$1), \"*\" & Validation!N14 & \"*\",\n      'Budget détaillé'!$A$12:INDEX('Budget détaillé'!$A:$A, $Z$1), \"Coût\"\n    )\n  )","v":0},{"$f":"IF($Z$1<12,0,\n    SUMIFS(\n      'Budget détaillé'!$BL$12:INDEX('Budget détaillé'!$BL:$BL, $Z$1),\n      'Budget détaillé'!$L$12:INDEX('Budget détaillé'!$L:$L, $Z$1), \"*\" & Validation!N14 & \"*\",\n      'Budget détaillé'!$A$12:INDEX('Budget détaillé'!$A:$A, $Z$1), \"Coût\"\n    )\n  )","v":0},{"$f":"IF($Z$1<12,0,\n    SUMIFS(\n      'Budget détaillé'!$BY$12:INDEX('Budget détaillé'!$BY:$BY, $Z$1),\n      'Budget détaillé'!$L$12:INDEX('Budget détaillé'!$L:$L, $Z$1), \"*\" & Validation!N14 & \"*\",\n      'Budget détaillé'!$A$12:INDEX('Budget détaillé'!$A:$A, $Z$1), \"Coût\"\n    )\n  )","v":0},{"$f":"SUM(B11:F11)","v":0},{"$f":"Subvention!C25","v":0},{"$f":"IF(G11>H11,\"OK\",\"Vérifier\")","v":"Vérifier"}]
["CSO",{"$f":"IF($Z$1<12,0,\n    SUMIFS(\n      'Budget détaillé'!$Y$12:INDEX('Budget détaillé'!$Y:$Y, $Z$1),\n      'Budget détaillé'!$D$12:INDEX('Budget détaillé'!$D:$D, $Z$1), \"*\" & Validation!P4 & \"*\",\n      'Budget détaillé'!$A$12:INDEX('Budget détaillé'!$A:$A, $Z$1), \"Coût\"\n    )\n  )","v":0},{"$f":"IF($Z$1<12,0,\n    SUMIFS(\n      'Budget détaillé'!$AL$12:INDEX('Budget détaillé'!$AL:$AL, $Z$1),\n      'Budget détaillé'!$D$12:INDEX('Budget détaillé'!$D:$D, $Z$1), \"*\" & Validation!P4 & \"*\",\n      'Budget détaillé'!$A$12:INDEX('Budget détaillé'!$A:$A, $Z$1), \"Coût\"\n    )\n  )","v":0},{"$f":"IF($Z$1<12,0,\n    SUMIFS(\n      'Budget détaillé'!$AY$12:INDEX('Budget détaillé'!$AY:$AY, $Z$1),\n      'Budget détaillé'!$D$12:INDEX('Budget détaillé'!$D:$D, $Z$1), \"*\" & Validation!P4 & \"*\",\n      'Budget détaillé'!$A$12:INDEX('Budget détaillé'!$A:$A, $Z$1), \"Coût\"\n    )\n  )","v":0},{"$f":"IF($Z$1<12,0,\n    SUMIFS(\n      'Budget détaillé'!$BL$12:INDEX('Budget détaillé'!$BL:$BL, $Z$1),\n      'Budget détaillé'!$D$12:INDEX('Budget détaillé'!$D:$D, $Z$1), \"*\" & Validation!P4 & \"*\",\n      'Budget détaillé'!$A$12:INDEX('Budget détaillé'!$A:$A, $Z$1), \"Coût\"\n    )\n  )","v":0},{"$f":"IF($Z$1<12,0,\n    SUMIFS(\n      'Budget détaillé'!$BY$12:INDEX('Budget détaillé'!$BY:$BY, $Z$1),\n      'Budget détaillé'!$D$12:INDEX('Budget détaillé'!$D:$D, $Z$1), \"*\" & Validation!P4 & \"*\",\n      'Budget détaillé'!$A$12:INDEX('Budget détaillé'!$A:$A, $Z$1), \"Coût\"\n    )\n  )","v":0},{"$f":"SUM(B12:F12)","v":0},{"$f":"Subvention!C26","v":0},{"$f":"IF(G12>H12,\"OK\",\"Vérifier\")","v":"Vérifier"}]
["M/MR",{"$f":"IF($Z$1<12,0,\n    SUMIFS(\n      'Budget détaillé'!$Y$12:INDEX('Budget détaillé'!$Y:$Y, $Z$1),\n      'Budget détaillé'!$I$12:INDEX('Budget détaillé'!$I:$I, $Z$1), \"*\" & A13 & \"*\",\n      'Budget détaillé'!$A$12:INDEX('Budget détaillé'!$A:$A, $Z$1), \"Coût\"\n    )\n  )","v":0},{"$f":"IF($Z$1<12,0,\n    SUMIFS(\n      'Budget détaillé'!$AL$12:INDEX('Budget détaillé'!$AL:$AL, $Z$1),\n      'Budget détaillé'!$I$12:INDEX('Budget détaillé'!$I:$I, $Z$1), \"*\" & A13 & \"*\",\n      'Budget détaillé'!$A$12:INDEX('Budget détaillé'!$A:$A, $Z$1), \"Coût\"\n    )\n  )","v":0},{"$f":"IF($Z$1<12,0,\n    SUMIFS(\n      'Budget détaillé'!$AY$12:INDEX('Budget détaillé'!$AY:$AY, $Z$1),\n      'Budget détaillé'!$I$12:INDEX('Budget détaillé'!$I:$I, $Z$1), \"*\" & A13 & \"*\",\n      'Budget détaillé'!$A$12:INDEX('Budget détaillé'!$A:$A, $Z$1), \"Coût\"\n    )\n  )","v":0},{"$f":"IF($Z$1<12,0,\n    SUMIFS(\n      'Budget détaillé'!$BL$12:INDEX('Budget détaillé'!$BL:$BL, $Z$1),\n      'Budget détaillé'!$I$12:INDEX('Budget détaillé'!$I:$I, $Z$1), \"*\" & A13 & \"*\",\n      'Budget détaillé'!$A$12:INDEX('Budget détaillé'!$A:$A, $Z$1), \"Coût\"\n    )\n  )","v":0},{"$f":"IF($Z$1<12,0,\n    SUMIFS(\n      'Budget détaillé'!$BY$12:INDEX('Budget détaillé'!$BY:$BY, $Z$1),\n      'Budget détaillé'!$I$12:INDEX('Budget détaillé'!$I:$I, $Z$1), \"*\" & A13 & \"*\",\n      'Budget détaillé'!$A$12:INDEX('Budget détaillé'!$A:$A, $Z$1), \"Coût\"\n    )\n  )","v":0},{"$f":"SUM(B13:F13)","v":0},{"$f":"MIN(Subvention!C28) & \" - \" & MAX(Subvention!D28)","v":"0 - 0"},{"$f":"IF(AND(G13>Subvention!C28,G13<Subvention!D28),\"OK\",\"Vérifier\")","v":"Vérifier"}]
[]
[]
[]
[]
[null,{"$f":"B6","v":"Année 1"},{"$f":"C6","v":"Année 2"},"Année 3","Année 4","Année 5","Total","%",{"$f":"I10","v":"Indicateur"}]
[{"$f":"'Cadre de travail'!A2","v":"1. Introduire les vaccins et étendre leur utilisation"},{"$f":"SUM(B20:B22)","v":0},{"$f":"SUM(C20:C22)","v":0},0,0,0,{"$f":"SUM(B19:F19)","v":0},{"$f":"IF($G$31=0,\"\",G19/$G$31)","v":""}]
[{"$f":"'Cadre de travail'!B2","v":"1.1 Les pays priorisent et optimisent leurs programmes de vaccination"},{"$f":"IF($Z$1<12,0,\n    SUMIFS(\n      'Budget détaillé'!$Y$12:INDEX('Budget détaillé'!$Y:$Y, $Z$1),\n      'Budget détaillé'!$G$12:INDEX('Budget détaillé'!$G:$G, $Z$1), Synthèse!A20,\n      'Budget détaillé'!$A$12:INDEX('Budget détaillé'!$A:$A, $Z$1), \"Coût\"\n    )\n  )","v":0},{"$f":"IF($Z$1<12,0,\n    SUMIFS(\n      'Budget détaillé'!$AL$12:INDEX('Budget détaillé'!$AL:$AL, $Z$1),\n      'Budget détaillé'!$G$12:INDEX('Budget détaillé'!$G:$G, $Z$1), Synthèse!A20,\n      'Budget détaillé'!$A$12:INDEX('Budget détaillé'!$A:$A, $Z$1), \"Coût\"\n    )\n  )","v":0},{"$f":"IF($Z$1<12,0,\n    SUMIFS(\n      'Budget détaillé'!$AY$12:INDEX('Budget détaillé'!$AY:$AY, $Z$1),\n      'Budget détaillé'!$G$12:INDEX('Budget détaillé'!$G:$G, $Z$1), Synthèse!A20,\n      'Budget détaillé'!$A$12:INDEX('Budget détaillé'!$A:$A, $Z$1), \"Coût\"\n    )\n  )","v":0},{"$f":"IF($Z$1<12,0,\n    SUMIFS(\n      'Budget détaillé'!$BL$12:INDEX('Budget détaillé'!$BL:$BL, $Z$1),\n      'Budget détaillé'!$G$12:INDEX('Budget détaillé'!$G:$G, $Z$1), Synthèse!A20,\n      'Budget détaillé'!$A$12:INDEX('Budget détaillé'!$A:$A, $Z$1), \"Coût\"\n    )\n  )","v":0},{"$f":"IF($Z$1<12,0,\n    SUMIFS(\n      'Budget détaillé'!$BY$12:INDEX('Budget détaillé'!$BY:$BY, $Z$1),\n      'Budget détaillé'!$G$12:INDEX('Budget détaillé'!$G:$G, $Z$1), Synthèse!A20,\n      'Budget détaillé'!$A$12:INDEX('Budget détaillé'!$A:$A, $Z$1), \"Coût\"\n    )\n  )","v":0},{"$f":"SUM(B20:F20)","v":0},{"$f":"IF($G$31=0,\"\",G20/$G$31)","v":""},{"$f":"_xlfn.LET(\n_xlpm.x,IF($Z$1<12,0,\n    SUMIFS(\n      'Budget détaillé'!$BZ$12:INDEX('Budget détaillé'!$BZ:$BZ,$Z$1),\n      'Budget détaillé'!$G$12:INDEX('Budget détaillé'!$G:$G,$Z$1),A20,\n      'Budget détaillé'!$A$12:INDEX('Budget détaillé'!$A:$A,$Z$1),\"Coût\"\n    )\n),\nIF(_xlpm.x=G20,\"OK\",\"Vérifier\")\n)","v":"OK"}]
[{"$f":"'Cadre de travail'!B3","v":"1.2 Introductions de vaccins soutenues par Gavi et campagnes préventives de haute qualité"},{"$f":"IF($Z$1<12,0,\n    SUMIFS(\n      'Budget détaillé'!$Y$12:INDEX('Budget détaillé'!$Y:$Y, $Z$1),\n      'Budget détaillé'!$G$12:INDEX('Budget détaillé'!$G:$G, $Z$1), Synthèse!A21,\n      'Budget détaillé'!$A$12:INDEX('Budget détaillé'!$A:$A, $Z$1), \"Coût\"\n    )\n  )","v":0},{"$f":"IF($Z$1<12,0,\n    SUMIFS(\n      'Budget détaillé'!$AL$12:INDEX('Budget détaillé'!$AL:$AL, $Z$1),\n      'Budget détaillé'!$G$12:INDEX('Budget détaillé'!$G:$G, $Z$1), Synthèse!A21,\n      'Budget détaillé'!$A$12:INDEX('Budget détaillé'!$A:$A, $Z$1), \"Coût\"\n    )\n  )","v":0},{"$f":"IF($Z$1<12,0,\n    SUMIFS(\n      'Budget détaillé'!$AY$12:INDEX('Budget détaillé'!$AY:$AY, $Z$1),\n      'Budget détaillé'!$G$12:INDEX('Budget détaillé'!$G:$G, $Z$1), Synthèse!A21,\n      'Budget détaillé'!$A$12:INDEX('Budget détaillé'!$A:$A, $Z$1), \"Coût\"\n    )\n  )","v":0},{"$f":"IF($Z$1<12,0,\n    SUMIFS(\n      'Budget détaillé'!$BL$12:INDEX('Budget détaillé'!$BL:$BL, $Z$1),\n      'Budget détaillé'!$G$12:INDEX('Budget détaillé'!$G:$G, $Z$1), Synthèse!A21,\n      'Budget détaillé'!$A$12:INDEX('Budget détaillé'!$A:$A, $Z$1), \"Coût\"\n    )\n  )","v":0},{"$f":"IF($Z$1<12,0,\n    SUMIFS(\n      'Budget détaillé'!$BY$12:INDEX('Budget détaillé'!$BY:$BY, $Z$1),\n      'Budget détaillé'!$G$12:INDEX('Budget détaillé'!$G:$G, $Z$1), Synthèse!A21,\n      'Budget détaillé'!$A$12:INDEX('Budget détaillé'!$A:$A, $Z$1), \"Coût\"\n    )\n  )","v":0},0,{"$f":"IF($G$31=0,\"\",G21/$G$31)","v":""},{"$f":"_xlfn.LET(\n_xlpm.x,IF($Z$1<12,0,\n    SUMIFS(\n      'Budget détaillé'!$BZ$12:INDEX('Budget détaillé'!$BZ:$BZ,$Z$1),\n      'Budget détaillé'!$G$12:INDEX('Budget détaillé'!$G:$G,$Z$1),A21,\n      'Budget détaillé'!$A$12:INDEX('Budget détaillé'!$A:$A,$Z$1),\"Coût\"\n    )\n),\nIF(_xlpm.x=G21,\"OK\",\"Vérifier\")\n)","v":"OK"}]
[{"$f":"'Cadre de travail'!B4","v":"1.3 Réponse efficace et en temps opportun aux flambées épidémiques, aux épidémies et aux pandémies"},{"$f":"IF($Z$1<12,0,\n    SUMIFS(\n      'Budget détaillé'!$Y$12:INDEX('Budget détaillé'!$Y:$Y, $Z$1),\n      'Budget détaillé'!$G$12:INDEX('Budget détaillé'!$G:$G, $Z$1), Synthèse!A22,\n      'Budget détaillé'!$A$12:INDEX('Budget détaillé'!$A:$A, $Z$1), \"Coût\"\n    )\n  )","v":0},{"$f":"IF($Z$1<12,0,\n    SUMIFS(\n      'Budget détaillé'!$AL$12:INDEX('Budget détaillé'!$AL:$AL, $Z$1),\n      'Budget détaillé'!$G$12:INDEX('Budget détaillé'!$G:$G, $Z$1), Synthèse!A22,\n      'Budget détaillé'!$A$12:INDEX('Budget détaillé'!$A:$A, $Z$1), \"Coût\"\n    )\n  )","v":0},{"$f":"IF($Z$1<12,0,\n    SUMIFS(\n      'Budget détaillé'!$AY$12:INDEX('Budget détaillé'!$AY:$AY, $Z$1),\n      'Budget détaillé'!$G$12:INDEX('Budget détaillé'!$G:$G, $Z$1), Synthèse!A22,\n      'Budget détaillé'!$A$12:INDEX('Budget détaillé'!$A:$A, $Z$1), \"Coût\"\n    )\n  )","v":0},{"$f":"IF($Z$1<12,0,\n    SUMIFS(\n      'Budget détaillé'!$BL$12:INDEX('Budget détaillé'!$BL:$BL, $Z$1),\n      'Budget détaillé'!$G$12:INDEX('Budget détaillé'!$G:$G, $Z$1), Synthèse!A22,\n      'Budget détaillé'!$A$12:INDEX('Budget détaillé'!$A:$A, $Z$1), \"Coût\"\n    )\n  )","v":0},{"$f":"IF($Z$1<12,0,\n    SUMIFS(\n      'Budget détaillé'!$BY$12:INDEX('Budget détaillé'!$BY:$BY, $Z$1),\n      'Budget détaillé'!$G$12:INDEX('Budget détaillé'!$G:$G, $Z$1), Synthèse!A22,\n      'Budget détaillé'!$A$12:INDEX('Budget détaillé'!$A:$A, $Z$1), \"Coût\"\n    )\n  )","v":0},0,{"$f":"IF($G$31=0,\"\",G22/$G$31)","v":""},{"$f":"_xlfn.LET(\n_xlpm.x,IF($Z$1<12,0,\n    SUMIFS(\n      'Budget détaillé'!$BZ$12:INDEX('Budget détaillé'!$BZ:$BZ,$Z$1),\n      'Budget détaillé'!$G$12:INDEX('Budget détaillé'!$G:$G,$Z$1),A22,\n      'Budget détaillé'!$A$12:INDEX('Budget détaillé'!$A:$A,$Z$1),\"Coût\"\n    )\n),\nIF(_xlpm.x=G22,\"OK\",\"Vérifier\")\n)","v":"OK"}]
[{"$f":"'Cadre de travail'!A5","v":"2. Renforcer les systèmes de santé pour accroître l’équité en matière de vaccination"},{"$f":"SUM(B24:B26)","v":0},{"$f":"SUM(C24:C26)","v":0},0,0,0,{"$f":"SUM(B23:F23)","v":0},{"$f":"IF($G$31=0,\"\",G23/$G$31)","v":""}]
[{"$f":"'Cadre de travail'!B5","v":"2.1 La couverture vaccinale de la petite enfance est maintenue grâce à une vaccination de routine résiliente et à des campagnes intégrées menées en temps opportun"},{"$f":"IF($Z$1<12,0,\n    SUMIFS(\n      'Budget détaillé'!$Y$12:INDEX('Budget détaillé'!$Y:$Y, $Z$1),\n      'Budget détaillé'!$G$12:INDEX('Budget détaillé'!$G:$G, $Z$1), Synthèse!A24,\n      'Budget détaillé'!$A$12:INDEX('Budget détaillé'!$A:$A, $Z$1), \"Coût\"\n    )\n  )","v":0},{"$f":"IF($Z$1<12,0,\n    SUMIFS(\n      'Budget détaillé'!$AL$12:INDEX('Budget détaillé'!$AL:$AL, $Z$1),\n      'Budget détaillé'!$G$12:INDEX('Budget détaillé'!$G:$G, $Z$1), Synthèse!A24,\n      'Budget détaillé'!$A$12:INDEX('Budget détaillé'!$A:$A, $Z$1), \"Coût\"\n    )\n  )","v":0},{"$f":"IF($Z$1<12,0,\n    SUMIFS(\n      'Budget détaillé'!$AY$12:INDEX('Budget détaillé'!$AY:$AY, $Z$1),\n      'Budget détaillé'!$G$12:INDEX('Budget détaillé'!$G:$G, $Z$1), Synthèse!A24,\n      'Budget détaillé'!$A$12:INDEX('Budget détaillé'!$A:$A, $Z$1), \"Coût\"\n    )\n  )","v":0},{"$f":"IF($Z$1<12,0,\n    SUMIFS(\n      'Budget détaillé'!$BL$12:INDEX('Budget détaillé'!$BL:$BL, $Z$1),\n      'Budget détaillé'!$G$12:INDEX('Budget détaillé'!$G:$G, $Z$1), Synthèse!A24,\n      'Budget détaillé'!$A$12:INDEX('Budget détaillé'!$A:$A, $Z$1), \"Coût\"\n    )\n  )","v":0},{"$f":"IF($Z$1<12,0,\n    SUMIFS(\n      'Budget détaillé'!$BY$12:INDEX('Budget détaillé'!$BY:$BY, $Z$1),\n      'Budget détaillé'!$G$12:INDEX('Budget détaillé'!$G:$G, $Z$1), Synthèse!A24,\n      'Budget détaillé'!$A$12:INDEX('Budget détaillé'!$A:$A, $Z$1), \"Coût\"\n    )\n  )","v":0},{"$f":"SUM(B24:F24)","v":0},{"$f":"IF($G$31=0,\"\",G24/$G$31)","v":""},{"$f":"_xlfn.LET(\n_xlpm.x,IF($Z$1<12,0,\n    SUMIFS(\n      'Budget détaillé'!$BZ$12:INDEX('Budget détaillé'!$BZ:$BZ,$Z$1),\n      'Budget détaillé'!$G$12:INDEX('Budget détaillé'!$G:$G,$Z$1),A24,\n      'Budget détaillé'!$A$12:INDEX('Budget détaillé'!$A:$A,$Z$1),\"Coût\"\n    )\n),\nIF(_xlpm.x=G24,\"OK\",\"Vérifier\")\n)","v":"OK"}]
[{"$f":"'Cadre de travail'!B6","v":"2.2 Les enfants zéro dose et les communautés non desservies sont atteints et complètement vaccinés, avec une prestation conjointe d'autres services de soins de santé primaires lorsque cela est possible"},{"$f":"IF($Z$1<12,0,\n    SUMIFS(\n      'Budget détaillé'!$Y$12:INDEX('Budget détaillé'!$Y:$Y, $Z$1),\n      'Budget détaillé'!$G$12:INDEX('Budget détaillé'!$G:$G, $Z$1), Synthèse!A25,\n      'Budget détaillé'!$A$12:INDEX('Budget détaillé'!$A:$A, $Z$1), \"Coût\"\n    )\n  )","v":0},{"$f":"IF($Z$1<12,0,\n    SUMIFS(\n      'Budget détaillé'!$AL$12:INDEX('Budget détaillé'!$AL:$AL, $Z$1),\n      'Budget détaillé'!$G$12:INDEX('Budget détaillé'!$G:$G, $Z$1), Synthèse!A25,\n      'Budget détaillé'!$A$12:INDEX('Budget détaillé'!$A:$A, $Z$1), \"Coût\"\n    )\n  )","v":0},{"$f":"IF($Z$1<12,0,\n    SUMIFS(\n      'Budget détaillé'!$AY$12:INDEX('Budget détaillé'!$AY:$AY, $Z$1),\n      'Budget détaillé'!$G$12:INDEX('Budget détaillé'!$G:$G, $Z$1), Synthèse!A25,\n      'Budget détaillé'!$A$12:INDEX('Budget détaillé'!$A:$A, $Z$1), \"Coût\"\n    )\n  )","v":0},{"$f":"IF($Z$1<12,0,\n    SUMIFS(\n      'Budget détaillé'!$BL$12:INDEX('Budget détaillé'!$BL:$BL, $Z$1),\n      'Budget détaillé'!$G$12:INDEX('Budget détaillé'!$G:$G, $Z$1), Synthèse!A25,\n      'Budget détaillé'!$A$12:INDEX('Budget détaillé'!$A:$A, $Z$1), \"Coût\"\n    )\n  )","v":0},{"$f":"IF($Z$1<12,0,\n    SUMIFS(\n      'Budget détaillé'!$BY$12:INDEX('Budget détaillé'!$BY:$BY, $Z$1),\n      'Budget détaillé'!$G$12:INDEX('Budget détaillé'!$G:$G, $Z$1), Synthèse!A25,\n      'Budget détaillé'!$A$12:INDEX('Budget détaillé'!$A:$A, $Z$1), \"Coût\"\n    )\n  )","v":0},0,"",{"$f":"_xlfn.LET(\n_xlpm.x,IF($Z$1<12,0,\n    SUMIFS(\n      'Budget détaillé'!$BZ$12:INDEX('Budget détaillé'!$BZ:$BZ,$Z$1),\n      'Budget détaillé'!$G$12:INDEX('Budget détaillé'!$G:$G,$Z$1),A25,\n      'Budget détaillé'!$A$12:INDEX('Budget détaillé'!$A:$A,$Z$1),\"Coût\"\n    )\n),\nIF(_xlpm.x=G25,\"OK\",\"Vérifier\")\n)","v":"OK"}]
[{"$f":"'Cadre de travail'!B7","v":"2.3 L'accès aux autres vaccins de l'enfant et de l'adolescent est amélioré grâce au renforcement des points de contact, en tirant parti d'autres services de santé"},{"$f":"IF($Z$1<12,0,\n    SUMIFS(\n      'Budget détaillé'!$Y$12:INDEX('Budget détaillé'!$Y:$Y, $Z$1),\n      'Budget détaillé'!$G$12:INDEX('Budget détaillé'!$G:$G, $Z$1), Synthèse!A26,\n      'Budget détaillé'!$A$12:INDEX('Budget détaillé'!$A:$A, $Z$1), \"Coût\"\n    )\n  )","v":0},{"$f":"IF($Z$1<12,0,\n    SUMIFS(\n      'Budget détaillé'!$AL$12:INDEX('Budget détaillé'!$AL:$AL, $Z$1),\n      'Budget détaillé'!$G$12:INDEX('Budget détaillé'!$G:$G, $Z$1), Synthèse!A26,\n      'Budget détaillé'!$A$12:INDEX('Budget détaillé'!$A:$A, $Z$1), \"Coût\"\n    )\n  )","v":0},{"$f":"IF($Z$1<12,0,\n    SUMIFS(\n      'Budget détaillé'!$AY$12:INDEX('Budget détaillé'!$AY:$AY, $Z$1),\n      'Budget détaillé'!$G$12:INDEX('Budget détaillé'!$G:$G, $Z$1), Synthèse!A26,\n      'Budget détaillé'!$A$12:INDEX('Budget détaillé'!$A:$A, $Z$1), \"Coût\"\n    )\n  )","v":0},{"$f":"IF($Z$1<12,0,\n    SUMIFS(\n      'Budget détaillé'!$BL$12:INDEX('Budget détaillé'!$BL:$BL, $Z$1),\n      'Budget détaillé'!$G$12:INDEX('Budget détaillé'!$G:$G, $Z$1), Synthèse!A26,\n      'Budget détaillé'!$A$12:INDEX('Budget détaillé'!$A:$A, $Z$1), \"Coût\"\n    )\n  )","v":0},{"$f":"IF($Z$1<12,0,\n    SUMIFS(\n      'Budget détaillé'!$BY$12:INDEX('Budget détaillé'!$BY:$BY, $Z$1),\n      'Budget détaillé'!$G$12:INDEX('Budget détaillé'!$G:$G, $Z$1), Synthèse!A26,\n      'Budget détaillé'!$A$12:INDEX('Budget détaillé'!$A:$A, $Z$1), \"Coût\"\n    )\n  )","v":0},0,"",{"$f":"_xlfn.LET(\n_xlpm.x,IF($Z$1<12,0,\n    SUMIFS(\n      'Budget détaillé'!$BZ$12:INDEX('Budget détaillé'!$BZ:$BZ,$Z$1),\n      'Budget détaillé'!$G$12:INDEX('Budget détaillé'!$G:$G,$Z$1),A26,\n      'Budget détaillé'!$A$12:INDEX('Budget détaillé'!$A:$A,$Z$1),\"Coût\"\n    )\n),\nIF(_xlpm.x=G26,\"OK\",\"Vérifier\")\n)","v":"OK"}]
[{"$f":"'Cadre de travail'!A8","v":"3. Améliorer la pérennité financière et programmatique des programmes de vaccination"},{"$f":"SUM(B28:B30)","v":0},{"$f":"SUM(C28:C30)","v":0},0,0,0,{"$f":"SUM(B27:F27)","v":0},{"$f":"IF($G$31=0,\"\",G27/$G$31)","v":""}]
[{"$f":"'Cadre de travail'!B8","v":"3.1 Engagement politique et social en faveur de la vaccination"},{"$f":"IF($Z$1<12,0,\n    SUMIFS(\n      'Budget détaillé'!$Y$12:INDEX('Budget détaillé'!$Y:$Y, $Z$1),\n      'Budget détaillé'!$G$12:INDEX('Budget détaillé'!$G:$G, $Z$1), Synthèse!A28,\n      'Budget détaillé'!$A$12:INDEX('Budget détaillé'!$A:$A, $Z$1), \"Coût\"\n    )\n  )","v":0},{"$f":"IF($Z$1<12,0,\n    SUMIFS(\n      'Budget détaillé'!$AL$12:INDEX('Budget détaillé'!$AL:$AL, $Z$1),\n      'Budget détaillé'!$G$12:INDEX('Budget détaillé'!$G:$G, $Z$1), Synthèse!A28,\n      'Budget détaillé'!$A$12:INDEX('Budget détaillé'!$A:$A, $Z$1), \"Coût\"\n    )\n  )","v":0},{"$f":"IF($Z$1<12,0,\n    SUMIFS(\n      'Budget détaillé'!$AY$12:INDEX('Budget détaillé'!$AY:$AY, $Z$1),\n      'Budget détaillé'!$G$12:INDEX('Budget détaillé'!$G:$G, $Z$1), Synthèse!A28,\n      'Budget détaillé'!$A$12:INDEX('Budget détaillé'!$A:$A, $Z$1), \"Coût\"\n    )\n  )","v":0},{"$f":"IF($Z$1<12,0,\n    SUMIFS(\n      'Budget détaillé'!$BL$12:INDEX('Budget détaillé'!$BL:$BL, $Z$1),\n      'Budget détaillé'!$G$12:INDEX('Budget détaillé'!$G:$G, $Z$1), Synthèse!A28,\n      'Budget détaillé'!$A$12:INDEX('Budget détaillé'!$A:$A, $Z$1), \"Coût\"\n    )\n  )","v":0},{"$f":"IF($Z$1<12,0,\n    SUMIFS(\n      'Budget détaillé'!$BY$12:INDEX('Budget détaillé'!$BY:$BY, $Z$1),\n      'Budget détaillé'!$G$12:INDEX('Budget détaillé'!$G:$G, $Z$1), Synthèse!A28,\n      'Budget détaillé'!$A$12:INDEX('Budget détaillé'!$A:$A, $Z$1), \"Coût\"\n    )\n  )","v":0},{"$f":"SUM(B28:F28)","v":0},{"$f":"IF($G$31=0,\"\",G28/$G$31)","v":""},{"$f":"_xlfn.LET(\n_xlpm.x,IF($Z$1<12,0,\n    SUMIFS(\n      'Budget détaillé'!$BZ$12:INDEX('Budget détaillé'!$BZ:$BZ,$Z$1),\n      'Budget détaillé'!$G$12:INDEX('Budget détaillé'!$G:$G,$Z$1),A28,\n      'Budget détaillé'!$A$12:INDEX('Budget détaillé'!$A:$A,$Z$1),\"Coût\"\n    )\n),\nIF(_xlpm.x=G28,\"OK\",\"Vérifier\")\n)","v":"OK"}]
[{"$f":"'Cadre de travail'!B9","v":"3.2 Amélioration de la préparation à la transition et maintien des performances après la transition"},{"$f":"IF($Z$1<12,0,\n    SUMIFS(\n      'Budget détaillé'!$Y$12:INDEX('Budget détaillé'!$Y:$Y, $Z$1),\n      'Budget détaillé'!$G$12:INDEX('Budget détaillé'!$G:$G, $Z$1), Synthèse!A29,\n      'Budget détaillé'!$A$12:INDEX('Budget détaillé'!$A:$A, $Z$1), \"Coût\"\n    )\n  )","v":0},{"$f":"IF($Z$1<12,0,\n    SUMIFS(\n      'Budget détaillé'!$AL$12:INDEX('Budget détaillé'!$AL:$AL, $Z$1),\n      'Budget détaillé'!$G$12:INDEX('Budget détaillé'!$G:$G, $Z$1), Synthèse!A29,\n      'Budget détaillé'!$A$12:INDEX('Budget détaillé'!$A:$A, $Z$1), \"Coût\"\n    )\n  )","v":0},{"$f":"IF($Z$1<12,0,\n    SUMIFS(\n      'Budget détaillé'!$AY$12:INDEX('Budget détaillé'!$AY:$AY, $Z$1),\n      'Budget détaillé'!$G$12:INDEX('Budget détaillé'!$G:$G, $Z$1), Synthèse!A29,\n      'Budget détaillé'!$A$12:INDEX('Budget détaillé'!$A:$A, $Z$1), \"Coût\"\n    )\n  )","v":0},{"$f":"IF($Z$1<12,0,\n    SUMIFS(\n      'Budget détaillé'!$BL$12:INDEX('Budget détaillé'!$BL:$BL, $Z$1),\n      'Budget détaillé'!$G$12:INDEX('Budget détaillé'!$G:$G, $Z$1), Synthèse!A29,\n      'Budget détaillé'!$A$12:INDEX('Budget détaillé'!$A:$A, $Z$1), \"Coût\"\n    )\n  )","v":0},{"$f":"IF($Z$1<12,0,\n    SUMIFS(\n      'Budget détaillé'!$BY$12:INDEX('Budget détaillé'!$BY:$BY, $Z$1),\n      'Budget détaillé'!$G$12:INDEX('Budget détaillé'!$G:$G, $Z$1), Synthèse!A29,\n      'Budget détaillé'!$A$12:INDEX('Budget détaillé'!$A:$A, $Z$1), \"Coût\"\n    )\n  )","v":0},0,"",{"$f":"_xlfn.LET(\n_xlpm.x,IF($Z$1<12,0,\n    SUMIFS(\n      'Budget détaillé'!$BZ$12:INDEX('Budget détaillé'!$BZ:$BZ,$Z$1),\n      'Budget détaillé'!$G$12:INDEX('Budget détaillé'!$G:$G,$Z$1),A29,\n      'Budget détaillé'!$A$12:INDEX('Budget détaillé'!$A:$A,$Z$1),\"Coût\"\n    )\n),\nIF(_xlpm.x=G29,\"OK\",\"Vérifier\")\n)","v":"OK"}]
[{"$f":"'Cadre de travail'!B10","v":"3.3 Les introductions de vaccins financées par les pays eux-mêmes et les performances en matière de couverture vaccinale équitable sont maintenues"},{"$f":"IF($Z$1<12,0,\n    SUMIFS(\n      'Budget détaillé'!$Y$12:INDEX('Budget détaillé'!$Y:$Y, $Z$1),\n      'Budget détaillé'!$G$12:INDEX('Budget détaillé'!$G:$G, $Z$1), Synthèse!A30,\n      'Budget détaillé'!$A$12:INDEX('Budget détaillé'!$A:$A, $Z$1), \"Coût\"\n    )\n  )","v":0},{"$f":"IF($Z$1<12,0,\n    SUMIFS(\n      'Budget détaillé'!$AL$12:INDEX('Budget détaillé'!$AL:$AL, $Z$1),\n      'Budget détaillé'!$G$12:INDEX('Budget détaillé'!$G:$G, $Z$1), Synthèse!A30,\n      'Budget détaillé'!$A$12:INDEX('Budget détaillé'!$A:$A, $Z$1), \"Coût\"\n    )\n  )","v":0},{"$f":"IF($Z$1<12,0,\n    SUMIFS(\n      'Budget détaillé'!$AY$12:INDEX('Budget détaillé'!$AY:$AY, $Z$1),\n      'Budget détaillé'!$G$12:INDEX('Budget détaillé'!$G:$G, $Z$1), Synthèse!A30,\n      'Budget détaillé'!$A$12:INDEX('Budget détaillé'!$A:$A, $Z$1), \"Coût\"\n    )\n  )","v":0},{"$f":"IF($Z$1<12,0,\n    SUMIFS(\n      'Budget détaillé'!$BL$12:INDEX('Budget détaillé'!$BL:$BL, $Z$1),\n      'Budget détaillé'!$G$12:INDEX('Budget détaillé'!$G:$G, $Z$1), Synthèse!A30,\n      'Budget détaillé'!$A$12:INDEX('Budget détaillé'!$A:$A, $Z$1), \"Coût\"\n    )\n  )","v":0},{"$f":"IF($Z$1<12,0,\n    SUMIFS(\n      'Budget détaillé'!$BY$12:INDEX('Budget détaillé'!$BY:$BY, $Z$1),\n      'Budget détaillé'!$G$12:INDEX('Budget détaillé'!$G:$G, $Z$1), Synthèse!A30,\n      'Budget détaillé'!$A$12:INDEX('Budget détaillé'!$A:$A, $Z$1), \"Coût\"\n    )\n  )","v":0},0,"",{"$f":"_xlfn.LET(\n_xlpm.x,IF($Z$1<12,0,\n    SUMIFS(\n      'Budget détaillé'!$BZ$12:INDEX('Budget détaillé'!$BZ:$BZ,$Z$1),\n      'Budget détaillé'!$G$12:INDEX('Budget détaillé'!$G:$G,$Z$1),A30,\n      'Budget détaillé'!$A$12:INDEX('Budget détaillé'!$A:$A,$Z$1),\"Coût\"\n    )\n),\nIF(_xlpm.x=G30,\"OK\",\"Vérifier\")\n)","v":"OK"}]
["Total",{"$f":"B19+B23+B27","v":0},{"$f":"C19+C23+C27","v":0},0,0,0,0,{"$f":"IF($G$31=0,\"\",G31/$G$31)","v":""}]
[null,null,null,null,null,null,{"$f":"IF(G31<=Subvention!C21,\"OK\",\"Vérifier\")","v":"OK"}]
[]
["Résumé par domaines d'investissement"]
["Domaines d'investissement",{"$f":"B6","v":"Année 1"},{"$f":"C6","v":"Année 2"},"Année 3","Année 4","Année 5","Total","%",{"$f":"I10","v":"Indicateur"}]
[{"$f":"Validation!J2","v":"Financement de la santé"},{"$f":"IF($Z$1<12,0,\n    SUMIFS(\n      'Budget détaillé'!$Y$12:INDEX('Budget détaillé'!$Y:$Y, $Z$1),\n      'Budget détaillé'!$H$12:INDEX('Budget détaillé'!$H:$H, $Z$1), Synthèse!A36,\n      'Budget détaillé'!$A$12:INDEX('Budget détaillé'!$A:$A, $Z$1), \"Coût\"\n    )\n  )","v":0},{"$f":"IF($Z$1<12,0,\n    SUMIFS(\n      'Budget détaillé'!$AL$12:INDEX('Budget détaillé'!$AL:$AL, $Z$1),\n      'Budget détaillé'!$H$12:INDEX('Budget détaillé'!$H:$H, $Z$1), Synthèse!A36,\n      'Budget détaillé'!$A$12:INDEX('Budget détaillé'!$A:$A, $Z$1), \"Coût\"\n    )\n  )","v":0},{"$f":"IF($Z$1<12,0,\n    SUMIFS(\n      'Budget détaillé'!$AY$12:INDEX('Budget détaillé'!$AY:$AY, $Z$1),\n      'Budget détaillé'!$H$12:INDEX('Budget détaillé'!$H:$H, $Z$1), Synthèse!A36,\n      'Budget détaillé'!$A$12:INDEX('Budget détaillé'!$A:$A, $Z$1), \"Coût\"\n    )\n  )","v":0},{"$f":"IF($Z$1<12,0,\n    SUMIFS(\n      'Budget détaillé'!$BL$12:INDEX('Budget détaillé'!$BL:$BL, $Z$1),\n      'Budget détaillé'!$H$12:INDEX('Budget détaillé'!$H:$H, $Z$1), Synthèse!A36,\n      'Budget détaillé'!$A$12:INDEX('Budget détaillé'!$A:$A, $Z$1), \"Coût\"\n    )\n  )","v":0},{"$f":"IF($Z$1<12,0,\n    SUMIFS(\n      'Budget détaillé'!$BY$12:INDEX('Budget détaillé'!$BY:$BY, $Z$1),\n      'Budget détaillé'!$H$12:INDEX('Budget détaillé'!$H:$H, $Z$1), Synthèse!A36,\n      'Budget détaillé'!$A$12:INDEX('Budget détaillé'!$A:$A, $Z$1), \"Coût\"\n    )\n  )","v":0},{"$f":"SUM(B36:F36)","v":0},{"$f":"IF($G$44=0,\"\",G36/$G$44)","v":""},{"$f":"_xlfn.LET(\n_xlpm.x,IF($Z$1<12,0,\n    SUMIFS(\n      'Budget détaillé'!$BZ$12:INDEX('Budget détaillé'!$BZ:$BZ,$Z$1),\n      'Budget détaillé'!$H$12:INDEX('Budget détaillé'!$H:$H,$Z$1),A36,\n      'Budget détaillé'!$A$12:INDEX('Budget détaillé'!$A:$A,$Z$1),\"Coût\"\n    )\n),\nIF(_xlpm.x=G36,\"OK\",\"Vérifier\")\n)","v":"OK"}]
[{"$f":"Validation!J3","v":"Prestation de services"},{"$f":"IF($Z$1<12,0,\n    SUMIFS(\n      'Budget détaillé'!$Y$12:INDEX('Budget détaillé'!$Y:$Y, $Z$1),\n      'Budget détaillé'!$H$12:INDEX('Budget détaillé'!$H:$H, $Z$1), Synthèse!A37,\n      'Budget détaillé'!$A$12:INDEX('Budget détaillé'!$A:$A, $Z$1), \"Coût\"\n    )\n  )","v":0},{"$f":"IF($Z$1<12,0,\n    SUMIFS(\n      'Budget détaillé'!$AL$12:INDEX('Budget détaillé'!$AL:$AL, $Z$1),\n      'Budget détaillé'!$H$12:INDEX('Budget détaillé'!$H:$H, $Z$1), Synthèse!A37,\n      'Budget détaillé'!$A$12:INDEX('Budget détaillé'!$A:$A, $Z$1), \"Coût\"\n    )\n  )","v":0},{"$f":"IF($Z$1<12,0,\n    SUMIFS(\n      'Budget détaillé'!$AY$12:INDEX('Budget détaillé'!$AY:$AY, $Z$1),\n      'Budget détaillé'!$H$12:INDEX('Budget détaillé'!$H:$H, $Z$1), Synthèse!A37,\n      'Budget détaillé'!$A$12:INDEX('Budget détaillé'!$A:$A, $Z$1), \"Coût\"\n    )\n  )","v":0},{"$f":"IF($Z$1<12,0,\n    SUMIFS(\n      'Budget détaillé'!$BL$12:INDEX('Budget détaillé'!$BL:$BL, $Z$1),\n      'Budget détaillé'!$H$12:INDEX('Budget détaillé'!$H:$H, $Z$1), Synthèse!A37,\n      'Budget détaillé'!$A$12:INDEX('Budget détaillé'!$A:$A, $Z$1), \"Coût\"\n    )\n  )","v":0},{"$f":"IF($Z$1<12,0,\n    SUMIFS(\n      'Budget détaillé'!$BY$12:INDEX('Budget détaillé'!$BY:$BY, $Z$1),\n      'Budget détaillé'!$H$12:INDEX('Budget détaillé'!$H:$H, $Z$1), Synthèse!A37,\n      'Budget détaillé'!$A$12:INDEX('Budget détaillé'!$A:$A, $Z$1), \"Coût\"\n    )\n  )","v":0},{"$f":"SUM(B37:F37)","v":0},"",{"$f":"_xlfn.LET(\n_xlpm.x,IF($Z$1<12,0,\n    SUMIFS(\n      'Budget détaillé'!$BZ$12:INDEX('Budget détaillé'!$BZ:$BZ,$Z$1),\n      'Budget détaillé'!$H$12:INDEX('Budget détaillé'!$H:$H,$Z$1),A37,\n      'Budget détaillé'!$A$12:INDEX('Budget détaillé'!$A:$A,$Z$1),\"Coût\"\n    )\n),\nIF(_xlpm.x=G37,\"OK\",\"Vérifier\")\n)","v":"OK"}]
[{"$f":"Validation!J4","v":"Gestion des ressources humaines"},{"$f":"IF($Z$1<12,0,\n    SUMIFS(\n      'Budget détaillé'!$Y$12:INDEX('Budget détaillé'!$Y:$Y, $Z$1),\n      'Budget détaillé'!$H$12:INDEX('Budget détaillé'!$H:$H, $Z$1), Synthèse!A38,\n      'Budget détaillé'!$A$12:INDEX('Budget détaillé'!$A:$A, $Z$1), \"Coût\"\n    )\n  )","v":0},{"$f":"IF($Z$1<12,0,\n    SUMIFS(\n      'Budget détaillé'!$AL$12:INDEX('Budget détaillé'!$AL:$AL, $Z$1),\n      'Budget détaillé'!$H$12:INDEX('Budget détaillé'!$H:$H, $Z$1), Synthèse!A38,\n      'Budget détaillé'!$A$12:INDEX('Budget détaillé'!$A:$A, $Z$1), \"Coût\"\n    )\n  )","v":0},{"$f":"IF($Z$1<12,0,\n    SUMIFS(\n      'Budget détaillé'!$AY$12:INDEX('Budget détaillé'!$AY:$AY, $Z$1),\n      'Budget détaillé'!$H$12:INDEX('Budget détaillé'!$H:$H, $Z$1), Synthèse!A38,\n      'Budget détaillé'!$A$12:INDEX('Budget détaillé'!$A:$A, $Z$1), \"Coût\"\n    )\n  )","v":0},{"$f":"IF($Z$1<12,0,\n    SUMIFS(\n      'Budget détaillé'!$BL$12:INDEX('Budget détaillé'!$BL:$BL, $Z$1),\n      'Budget détaillé'!$H$12:INDEX('Budget détaillé'!$H:$H, $Z$1), Synthèse!A38,\n      'Budget détaillé'!$A$12:INDEX('Budget détaillé'!$A:$A, $Z$1), \"Coût\"\n    )\n  )","v":0},{"$f":"IF($Z$1<12,0,\n    SUMIFS(\n      'Budget détaillé'!$BY$12:INDEX('Budget détaillé'!$BY:$BY, $Z$1),\n      'Budget détaillé'!$H$12:INDEX('Budget détaillé'!$H:$H, $Z$1), Synthèse!A38,\n      'Budget détaillé'!$A$12:INDEX('Budget détaillé'!$A:$A, $Z$1), \"Coût\"\n    )\n  )","v":0},0,"",{"$f":"_xlfn.LET(\n_xlpm.x,IF($Z$1<12,0,\n    SUMIFS(\n      'Budget détaillé'!$BZ$12:INDEX('Budget détaillé'!$BZ:$BZ,$Z$1),\n      'Budget détaillé'!$H$12:INDEX('Budget détaillé'!$H:$H,$Z$1),A38,\n      'Budget détaillé'!$A$12:INDEX('Budget détaillé'!$A:$A,$Z$1),\"Coût\"\n    )\n),\nIF(_xlpm.x=G38,\"OK\",\"Vérifier\")\n)","v":"OK"},null,"Budget annuel par domaine d'investissement"]
[{"$f":"Validation!J5","v":"Chaîne d'approvisionnement"},{"$f":"IF($Z$1<12,0,\n    SUMIFS(\n      'Budget détaillé'!$Y$12:INDEX('Budget détaillé'!$Y:$Y, $Z$1),\n      'Budget détaillé'!$H$12:INDEX('Budget détaillé'!$H:$H, $Z$1), Synthèse!A39,\n      'Budget détaillé'!$A$12:INDEX('Budget détaillé'!$A:$A, $Z$1), \"Coût\"\n    )\n  )","v":0},{"$f":"IF($Z$1<12,0,\n    SUMIFS(\n      'Budget détaillé'!$AL$12:INDEX('Budget détaillé'!$AL:$AL, $Z$1),\n      'Budget détaillé'!$H$12:INDEX('Budget détaillé'!$H:$H, $Z$1), Synthèse!A39,\n      'Budget détaillé'!$A$12:INDEX('Budget détaillé'!$A:$A, $Z$1), \"Coût\"\n    )\n  )","v":0},{"$f":"IF($Z$1<12,0,\n    SUMIFS(\n      'Budget détaillé'!$AY$12:INDEX('Budget détaillé'!$AY:$AY, $Z$1),\n      'Budget détaillé'!$H$12:INDEX('Budget détaillé'!$H:$H, $Z$1), Synthèse!A39,\n      'Budget détaillé'!$A$12:INDEX('Budget détaillé'!$A:$A, $Z$1), \"Coût\"\n    )\n  )","v":0},{"$f":"IF($Z$1<12,0,\n    SUMIFS(\n      'Budget détaillé'!$BL$12:INDEX('Budget détaillé'!$BL:$BL, $Z$1),\n      'Budget détaillé'!$H$12:INDEX('Budget détaillé'!$H:$H, $Z$1), Synthèse!A39,\n      'Budget détaillé'!$A$12:INDEX('Budget détaillé'!$A:$A, $Z$1), \"Coût\"\n    )\n  )","v":0},{"$f":"IF($Z$1<12,0,\n    SUMIFS(\n      'Budget détaillé'!$BY$12:INDEX('Budget détaillé'!$BY:$BY, $Z$1),\n      'Budget détaillé'!$H$12:INDEX('Budget détaillé'!$H:$H, $Z$1), Synthèse!A39,\n      'Budget détaillé'!$A$12:INDEX('Budget détaillé'!$A:$A, $Z$1), \"Coût\"\n    )\n  )","v":0},0,"",{"$f":"_xlfn.LET(\n_xlpm.x,IF($Z$1<12,0,\n    SUMIFS(\n      'Budget détaillé'!$BZ$12:INDEX('Budget détaillé'!$BZ:$BZ,$Z$1),\n      'Budget détaillé'!$H$12:INDEX('Budget détaillé'!$H:$H,$Z$1),A39,\n      'Budget détaillé'!$A$12:INDEX('Budget détaillé'!$A:$A,$Z$1),\"Coût\"\n    )\n),\nIF(_xlpm.x=G39,\"OK\",\"Vérifier\")\n)","v":"OK"}]
[{"$f":"Validation!J6","v":"Données, suivi et apprentissage, MAPI (Manifestations Adverses Post-Immunisation)"},{"$f":"IF($Z$1<12,0,\n    SUMIFS(\n      'Budget détaillé'!$Y$12:INDEX('Budget détaillé'!$Y:$Y, $Z$1),\n      'Budget détaillé'!$H$12:INDEX('Budget détaillé'!$H:$H, $Z$1), Synthèse!A40,\n      'Budget détaillé'!$A$12:INDEX('Budget détaillé'!$A:$A, $Z$1), \"Coût\"\n    )\n  )","v":0},{"$f":"IF($Z$1<12,0,\n    SUMIFS(\n      'Budget détaillé'!$AL$12:INDEX('Budget détaillé'!$AL:$AL, $Z$1),\n      'Budget détaillé'!$H$12:INDEX('Budget détaillé'!$H:$H, $Z$1), Synthèse!A40,\n      'Budget détaillé'!$A$12:INDEX('Budget détaillé'!$A:$A, $Z$1), \"Coût\"\n    )\n  )","v":0},{"$f":"IF($Z$1<12,0,\n    SUMIFS(\n      'Budget détaillé'!$AY$12:INDEX('Budget détaillé'!$AY:$AY, $Z$1),\n      'Budget détaillé'!$H$12:INDEX('Budget détaillé'!$H:$H, $Z$1), Synthèse!A40,\n      'Budget détaillé'!$A$12:INDEX('Budget détaillé'!$A:$A, $Z$1), \"Coût\"\n    )\n  )","v":0},{"$f":"IF($Z$1<12,0,\n    SUMIFS(\n      'Budget détaillé'!$BL$12:INDEX('Budget détaillé'!$BL:$BL, $Z$1),\n      'Budget détaillé'!$H$12:INDEX('Budget détaillé'!$H:$H, $Z$1), Synthèse!A40,\n      'Budget détaillé'!$A$12:INDEX('Budget détaillé'!$A:$A, $Z$1), \"Coût\"\n    )\n  )","v":0},{"$f":"IF($Z$1<12,0,\n    SUMIFS(\n      'Budget détaillé'!$BY$12:INDEX('Budget détaillé'!$BY:$BY, $Z$1),\n      'Budget détaillé'!$H$12:INDEX('Budget détaillé'!$H:$H, $Z$1), Synthèse!A40,\n      'Budget détaillé'!$A$12:INDEX('Budget détaillé'!$A:$A, $Z$1), \"Coût\"\n    )\n  )","v":0},{"$f":"SUM(B40:F40)","v":0},"",{"$f":"_xlfn.LET(\n_xlpm.x,IF($Z$1<12,0,\n    SUMIFS(\n      'Budget détaillé'!$BZ$12:INDEX('Budget détaillé'!$BZ:$BZ,$Z$1),\n      'Budget détaillé'!$H$12:INDEX('Budget détaillé'!$H:$H,$Z$1),A40,\n      'Budget détaillé'!$A$12:INDEX('Budget détaillé'!$A:$A,$Z$1),\"Coût\"\n    )\n),\nIF(_xlpm.x=G40,\"OK\",\"Vérifier\")\n)","v":"OK"}]
[{"$f":"Validation!J7","v":"Surveillance des maladies"},{"$f":"IF($Z$1<12,0,\n    SUMIFS(\n      'Budget détaillé'!$Y$12:INDEX('Budget détaillé'!$Y:$Y, $Z$1),\n      'Budget détaillé'!$H$12:INDEX('Budget détaillé'!$H:$H, $Z$1), Synthèse!A41,\n      'Budget détaillé'!$A$12:INDEX('Budget détaillé'!$A:$A, $Z$1), \"Coût\"\n    )\n  )","v":0},{"$f":"IF($Z$1<12,0,\n    SUMIFS(\n      'Budget détaillé'!$AL$12:INDEX('Budget détaillé'!$AL:$AL, $Z$1),\n      'Budget détaillé'!$H$12:INDEX('Budget détaillé'!$H:$H, $Z$1), Synthèse!A41,\n      'Budget détaillé'!$A$12:INDEX('Budget détaillé'!$A:$A, $Z$1), \"Coût\"\n    )\n  )","v":0},{"$f":"IF($Z$1<12,0,\n    SUMIFS(\n      'Budget détaillé'!$AY$12:INDEX('Budget détaillé'!$AY:$AY, $Z$1),\n      'Budget détaillé'!$H$12:INDEX('Budget détaillé'!$H:$H, $Z$1), Synthèse!A41,\n      'Budget détaillé'!$A$12:INDEX('Budget détaillé'!$A:$A, $Z$1), \"Coût\"\n    )\n  )","v":0},{"$f":"IF($Z$1<12,0,\n    SUMIFS(\n      'Budget détaillé'!$BL$12:INDEX('Budget détaillé'!$BL:$BL, $Z$1),\n      'Budget détaillé'!$H$12:INDEX('Budget détaillé'!$H:$H, $Z$1), Synthèse!A41,\n      'Budget détaillé'!$A$12:INDEX('Budget détaillé'!$A:$A, $Z$1), \"Coût\"\n    )\n  )","v":0},{"$f":"IF($Z$1<12,0,\n    SUMIFS(\n      'Budget détaillé'!$BY$12:INDEX('Budget détaillé'!$BY:$BY, $Z$1),\n      'Budget détaillé'!$H$12:INDEX('Budget détaillé'!$H:$H, $Z$1), Synthèse!A41,\n      'Budget détaillé'!$A$12:INDEX('Budget détaillé'!$A:$A, $Z$1), \"Coût\"\n    )\n  )","v":0},{"$f":"SUM(B41:F41)","v":0},"",{"$f":"_xlfn.LET(\n_xlpm.x,IF($Z$1<12,0,\n    SUMIFS(\n      'Budget détaillé'!$BZ$12:INDEX('Budget détaillé'!$BZ:$BZ,$Z$1),\n      'Budget détaillé'!$H$12:INDEX('Budget détaillé'!$H:$H,$Z$1),A41,\n      'Budget détaillé'!$A$12:INDEX('Budget détaillé'!$A:$A,$Z$1),\"Coût\"\n    )\n),\nIF(_xlpm.x=G41,\"OK\",\"Vérifier\")\n)","v":"OK"}]
[{"$f":"Validation!J8","v":"Création de la demande et engagement communautaire"},{"$f":"IF($Z$1<12,0,\n    SUMIFS(\n      'Budget détaillé'!$Y$12:INDEX('Budget détaillé'!$Y:$Y, $Z$1),\n      'Budget détaillé'!$H$12:INDEX('Budget détaillé'!$H:$H, $Z$1), Synthèse!A42,\n      'Budget détaillé'!$A$12:INDEX('Budget détaillé'!$A:$A, $Z$1), \"Coût\"\n    )\n  )","v":0},{"$f":"IF($Z$1<12,0,\n    SUMIFS(\n      'Budget détaillé'!$AL$12:INDEX('Budget détaillé'!$AL:$AL, $Z$1),\n      'Budget détaillé'!$H$12:INDEX('Budget détaillé'!$H:$H, $Z$1), Synthèse!A42,\n      'Budget détaillé'!$A$12:INDEX('Budget détaillé'!$A:$A, $Z$1), \"Coût\"\n    )\n  )","v":0},{"$f":"IF($Z$1<12,0,\n    SUMIFS(\n      'Budget détaillé'!$AY$12:INDEX('Budget détaillé'!$AY:$AY, $Z$1),\n      'Budget détaillé'!$H$12:INDEX('Budget détaillé'!$H:$H, $Z$1), Synthèse!A42,\n      'Budget détaillé'!$A$12:INDEX('Budget détaillé'!$A:$A, $Z$1), \"Coût\"\n    )\n  )","v":0},{"$f":"IF($Z$1<12,0,\n    SUMIFS(\n      'Budget détaillé'!$BL$12:INDEX('Budget détaillé'!$BL:$BL, $Z$1),\n      'Budget détaillé'!$H$12:INDEX('Budget détaillé'!$H:$H, $Z$1), Synthèse!A42,\n      'Budget détaillé'!$A$12:INDEX('Budget détaillé'!$A:$A, $Z$1), \"Coût\"\n    )\n  )","v":0},{"$f":"IF($Z$1<12,0,\n    SUMIFS(\n      'Budget détaillé'!$BY$12:INDEX('Budget détaillé'!$BY:$BY, $Z$1),\n      'Budget détaillé'!$H$12:INDEX('Budget détaillé'!$H:$H, $Z$1), Synthèse!A42,\n      'Budget détaillé'!$A$12:INDEX('Budget détaillé'!$A:$A, $Z$1), \"Coût\"\n    )\n  )","v":0},0,"",{"$f":"_xlfn.LET(\n_xlpm.x,IF($Z$1<12,0,\n    SUMIFS(\n      'Budget détaillé'!$BZ$12:INDEX('Budget détaillé'!$BZ:$BZ,$Z$1),\n      'Budget détaillé'!$H$12:INDEX('Budget détaillé'!$H:$H,$Z$1),A42,\n      'Budget détaillé'!$A$12:INDEX('Budget détaillé'!$A:$A,$Z$1),\"Coût\"\n    )\n),\nIF(_xlpm.x=G42,\"OK\",\"Vérifier\")\n)","v":"OK"}]
[{"$f":"Validation!J9","v":"Gouvernance, politiques, planification stratégique et gestion des programmes"},{"$f":"IF($Z$1<12,0,\n    SUMIFS(\n      'Budget détaillé'!$Y$12:INDEX('Budget détaillé'!$Y:$Y, $Z$1),\n      'Budget détaillé'!$H$12:INDEX('Budget détaillé'!$H:$H, $Z$1), Synthèse!A43,\n      'Budget détaillé'!$A$12:INDEX('Budget détaillé'!$A:$A, $Z$1), \"Coût\"\n    )\n  )","v":0},{"$f":"IF($Z$1<12,0,\n    SUMIFS(\n      'Budget détaillé'!$AL$12:INDEX('Budget détaillé'!$AL:$AL, $Z$1),\n      'Budget détaillé'!$H$12:INDEX('Budget détaillé'!$H:$H, $Z$1), Synthèse!A43,\n      'Budget détaillé'!$A$12:INDEX('Budget détaillé'!$A:$A, $Z$1), \"Coût\"\n    )\n  )","v":0},{"$f":"IF($Z$1<12,0,\n    SUMIFS(\n      'Budget détaillé'!$AY$12:INDEX('Budget détaillé'!$AY:$AY, $Z$1),\n      'Budget détaillé'!$H$12:INDEX('Budget détaillé'!$H:$H, $Z$1), Synthèse!A43,\n      'Budget détaillé'!$A$12:INDEX('Budget détaillé'!$A:$A, $Z$1), \"Coût\"\n    )\n  )","v":0},{"$f":"IF($Z$1<12,0,\n    SUMIFS(\n      'Budget détaillé'!$BL$12:INDEX('Budget détaillé'!$BL:$BL, $Z$1),\n      'Budget détaillé'!$H$12:INDEX('Budget détaillé'!$H:$H, $Z$1), Synthèse!A43,\n      'Budget détaillé'!$A$12:INDEX('Budget détaillé'!$A:$A, $Z$1), \"Coût\"\n    )\n  )","v":0},{"$f":"IF($Z$1<12,0,\n    SUMIFS(\n      'Budget détaillé'!$BY$12:INDEX('Budget détaillé'!$BY:$BY, $Z$1),\n      'Budget détaillé'!$H$12:INDEX('Budget détaillé'!$H:$H, $Z$1), Synthèse!A43,\n      'Budget détaillé'!$A$12:INDEX('Budget détaillé'!$A:$A, $Z$1), \"Coût\"\n    )\n  )","v":0},0,"",{"$f":"_xlfn.LET(\n_xlpm.x,IF($Z$1<12,0,\n    SUMIFS(\n      'Budget détaillé'!$BZ$12:INDEX('Budget détaillé'!$BZ:$BZ,$Z$1),\n      'Budget détaillé'!$H$12:INDEX('Budget détaillé'!$H:$H,$Z$1),A43,\n      'Budget détaillé'!$A$12:INDEX('Budget détaillé'!$A:$A,$Z$1),\"Coût\"\n    )\n),\nIF(_xlpm.x=G43,\"OK\",\"Vérifier\")\n)","v":"OK"}]
["Total",{"$f":"SUM(B36:B43)","v":0},{"$f":"SUM(C36:C43)","v":0},{"$f":"SUM(D36:D43)","v":0},0,0,0,""]
[null,null,null,null,null,null,{"$f":"IF(G44<=Subvention!C21,\"OK\",\"Vérifier\")","v":"OK"}]
[]
["Résumé par catégorie de coût"]
["Catégorie de coût",{"$f":"B6","v":"Année 1"},{"$f":"C6","v":"Année 2"},"Année 3","Année 4","Année 5","Total","%",{"$f":"I10","v":"Indicateur"}]
[{"$f":"Validation!N7","v":"Salaires et traitements (personnel de programme, administratif, technique et de sensibilisation)"},{"$f":"IF($Z$1<12,0,\n    SUMIFS(\n      'Budget détaillé'!$Y$12:INDEX('Budget détaillé'!$Y:$Y, $Z$1),\n      'Budget détaillé'!$L$12:INDEX('Budget détaillé'!$L:$L, $Z$1), A49,\n      'Budget détaillé'!$A$12:INDEX('Budget détaillé'!$A:$A, $Z$1), \"Coût\"\n    )\n  )","v":0},{"$f":"IF($Z$1<12,0,\n    SUMIFS(\n      'Budget détaillé'!$AL$12:INDEX('Budget détaillé'!$AL:$AL, $Z$1),\n      'Budget détaillé'!$L$12:INDEX('Budget détaillé'!$L:$L, $Z$1), A49,\n      'Budget détaillé'!$A$12:INDEX('Budget détaillé'!$A:$A, $Z$1), \"Coût\"\n    )\n  )","v":0},{"$f":"IF($Z$1<12,0,\n    SUMIFS(\n      'Budget détaillé'!$AY$12:INDEX('Budget détaillé'!$AY:$AY, $Z$1),\n      'Budget détaillé'!$L$12:INDEX('Budget détaillé'!$L:$L, $Z$1), A49,\n      'Budget détaillé'!$A$12:INDEX('Budget détaillé'!$A:$A, $Z$1), \"Coût\"\n    )\n  )","v":0},{"$f":"IF($Z$1<12,0,\n    SUMIFS(\n      'Budget détaillé'!$BL$12:INDEX('Budget détaillé'!$BL:$BL, $Z$1),\n      'Budget détaillé'!$L$12:INDEX('Budget détaillé'!$L:$L, $Z$1), A49,\n      'Budget détaillé'!$A$12:INDEX('Budget détaillé'!$A:$A, $Z$1), \"Coût\"\n    )\n  )","v":0},{"$f":"IF($Z$1<12,0,\n    SUMIFS(\n      'Budget détaillé'!$BY$12:INDEX('Budget détaillé'!$BY:$BY, $Z$1),\n      'Budget détaillé'!$L$12:INDEX('Budget détaillé'!$L:$L, $Z$1), A49,\n      'Budget détaillé'!$A$12:INDEX('Budget détaillé'!$A:$A, $Z$1), \"Coût\"\n    )\n  )","v":0},{"$f":"SUM(B49:F49)","v":0},{"$f":"IF($G$60=0,\"\",G49/$G$60)","v":""},{"$f":"_xlfn.LET(\n_xlpm.x,IF($Z$1<12,0,\n    SUMIFS(\n      'Budget détaillé'!$BZ$12:INDEX('Budget détaillé'!$BZ:$BZ,$Z$1),\n      'Budget détaillé'!$L$12:INDEX('Budget détaillé'!$L:$L,$Z$1),A49,\n      'Budget détaillé'!$A$12:INDEX('Budget détaillé'!$A:$A,$Z$1),\"Coût\"\n    )\n),\nIF(_xlpm.x=G49,\"OK\",\"Vérifier\")\n)","v":"OK"}]
[{"$f":"Validation!N8","v":"Per diem, allocations et autres formes de compensation"},{"$f":"IF($Z$1<12,0,\n    SUMIFS(\n      'Budget détaillé'!$Y$12:INDEX('Budget détaillé'!$Y:$Y, $Z$1),\n      'Budget détaillé'!$L$12:INDEX('Budget détaillé'!$L:$L, $Z$1), A50,\n      'Budget détaillé'!$A$12:INDEX('Budget détaillé'!$A:$A, $Z$1), \"Coût\"\n    )\n  )","v":0},{"$f":"IF($Z$1<12,0,\n    SUMIFS(\n      'Budget détaillé'!$AL$12:INDEX('Budget détaillé'!$AL:$AL, $Z$1),\n      'Budget détaillé'!$L$12:INDEX('Budget détaillé'!$L:$L, $Z$1), A50,\n      'Budget détaillé'!$A$12:INDEX('Budget détaillé'!$A:$A, $Z$1), \"Coût\"\n    )\n  )","v":0},{"$f":"IF($Z$1<12,0,\n    SUMIFS(\n      'Budget détaillé'!$AY$12:INDEX('Budget détaillé'!$AY:$AY, $Z$1),\n      'Budget détaillé'!$L$12:INDEX('Budget détaillé'!$L:$L, $Z$1), A50,\n      'Budget détaillé'!$A$12:INDEX('Budget détaillé'!$A:$A, $Z$1), \"Coût\"\n    )\n  )","v":0},{"$f":"IF($Z$1<12,0,\n    SUMIFS(\n      'Budget détaillé'!$BL$12:INDEX('Budget détaillé'!$BL:$BL, $Z$1),\n      'Budget détaillé'!$L$12:INDEX('Budget détaillé'!$L:$L, $Z$1), A50,\n      'Budget détaillé'!$A$12:INDEX('Budget détaillé'!$A:$A, $Z$1), \"Coût\"\n    )\n  )","v":0},{"$f":"IF($Z$1<12,0,\n    SUMIFS(\n      'Budget détaillé'!$BY$12:INDEX('Budget détaillé'!$BY:$BY, $Z$1),\n      'Budget détaillé'!$L$12:INDEX('Budget détaillé'!$L:$L, $Z$1), A50,\n      'Budget détaillé'!$A$12:INDEX('Budget détaillé'!$A:$A, $Z$1), \"Coût\"\n    )\n  )","v":0},{"$f":"SUM(B50:F50)","v":0},"",{"$f":"_xlfn.LET(\n_xlpm.x,IF($Z$1<12,0,\n    SUMIFS(\n      'Budget détaillé'!$BZ$12:INDEX('Budget détaillé'!$BZ:$BZ,$Z$1),\n      'Budget détaillé'!$L$12:INDEX('Budget détaillé'!$L:$L,$Z$1),A50,\n      'Budget détaillé'!$A$12:INDEX('Budget détaillé'!$A:$A,$Z$1),\"Coût\"\n    )\n),\nIF(_xlpm.x=G50,\"OK\",\"Vérifier\")\n)","v":"OK"}]
[{"$f":"Validation!N9","v":"Transport, voyages et coûts connexes"},{"$f":"IF($Z$1<12,0,\n    SUMIFS(\n      'Budget détaillé'!$Y$12:INDEX('Budget détaillé'!$Y:$Y, $Z$1),\n      'Budget détaillé'!$L$12:INDEX('Budget détaillé'!$L:$L, $Z$1), A51,\n      'Budget détaillé'!$A$12:INDEX('Budget détaillé'!$A:$A, $Z$1), \"Coût\"\n    )\n  )","v":0},{"$f":"IF($Z$1<12,0,\n    SUMIFS(\n      'Budget détaillé'!$AL$12:INDEX('Budget détaillé'!$AL:$AL, $Z$1),\n      'Budget détaillé'!$L$12:INDEX('Budget détaillé'!$L:$L, $Z$1), A51,\n      'Budget détaillé'!$A$12:INDEX('Budget détaillé'!$A:$A, $Z$1), \"Coût\"\n    )\n  )","v":0},{"$f":"IF($Z$1<12,0,\n    SUMIFS(\n      'Budget détaillé'!$AY$12:INDEX('Budget détaillé'!$AY:$AY, $Z$1),\n      'Budget détaillé'!$L$12:INDEX('Budget détaillé'!$L:$L, $Z$1), A51,\n      'Budget détaillé'!$A$12:INDEX('Budget détaillé'!$A:$A, $Z$1), \"Coût\"\n    )\n  )","v":0},{"$f":"IF($Z$1<12,0,\n    SUMIFS(\n      'Budget détaillé'!$BL$12:INDEX('Budget détaillé'!$BL:$BL, $Z$1),\n      'Budget détaillé'!$L$12:INDEX('Budget détaillé'!$L:$L, $Z$1), A51,\n      'Budget détaillé'!$A$12:INDEX('Budget détaillé'!$A:$A, $Z$1), \"Coût\"\n    )\n  )","v":0},{"$f":"IF($Z$1<12,0,\n    SUMIFS(\n      'Budget détaillé'!$BY$12:INDEX('Budget détaillé'!$BY:$BY, $Z$1),\n      'Budget détaillé'!$L$12:INDEX('Budget détaillé'!$L:$L, $Z$1), A51,\n      'Budget détaillé'!$A$12:INDEX('Budget détaillé'!$A:$A, $Z$1), \"Coût\"\n    )\n  )","v":0},0,"",{"$f":"_xlfn.LET(\n_xlpm.x,IF($Z$1<12,0,\n    SUMIFS(\n      'Budget détaillé'!$BZ$12:INDEX('Budget détaillé'!$BZ:$BZ,$Z$1),\n      'Budget détaillé'!$L$12:INDEX('Budget détaillé'!$L:$L,$Z$1),A51,\n      'Budget détaillé'!$A$12:INDEX('Budget détaillé'!$A:$A,$Z$1),\"Coût\"\n    )\n),\nIF(_xlpm.x=G51,\"OK\",\"Vérifier\")\n)","v":"OK"}]
[{"$f":"Validation!N10","v":"Services professionnels"},{"$f":"IF($Z$1<12,0,\n    SUMIFS(\n      'Budget détaillé'!$Y$12:INDEX('Budget détaillé'!$Y:$Y, $Z$1),\n      'Budget détaillé'!$L$12:INDEX('Budget détaillé'!$L:$L, $Z$1), A52,\n      'Budget détaillé'!$A$12:INDEX('Budget détaillé'!$A:$A, $Z$1), \"Coût\"\n    )\n  )","v":0},{"$f":"IF($Z$1<12,0,\n    SUMIFS(\n      'Budget détaillé'!$AL$12:INDEX('Budget détaillé'!$AL:$AL, $Z$1),\n      'Budget détaillé'!$L$12:INDEX('Budget détaillé'!$L:$L, $Z$1), A52,\n      'Budget détaillé'!$A$12:INDEX('Budget détaillé'!$A:$A, $Z$1), \"Coût\"\n    )\n  )","v":0},{"$f":"IF($Z$1<12,0,\n    SUMIFS(\n      'Budget détaillé'!$AY$12:INDEX('Budget détaillé'!$AY:$AY, $Z$1),\n      'Budget détaillé'!$L$12:INDEX('Budget détaillé'!$L:$L, $Z$1), A52,\n      'Budget détaillé'!$A$12:INDEX('Budget détaillé'!$A:$A, $Z$1), \"Coût\"\n    )\n  )","v":0},{"$f":"IF($Z$1<12,0,\n    SUMIFS(\n      'Budget détaillé'!$BL$12:INDEX('Budget détaillé'!$BL:$BL, $Z$1),\n      'Budget détaillé'!$L$12:INDEX('Budget détaillé'!$L:$L, $Z$1), A52,\n      'Budget détaillé'!$A$12:INDEX('Budget détaillé'!$A:$A, $Z$1), \"Coût\"\n    )\n  )","v":0},{"$f":"IF($Z$1<12,0,\n    SUMIFS(\n      'Budget détaillé'!$BY$12:INDEX('Budget détaillé'!$BY:$BY, $Z$1),\n      'Budget détaillé'!$L$12:INDEX('Budget détaillé'!$L:$L, $Z$1), A52,\n      'Budget détaillé'!$A$12:INDEX('Budget détaillé'!$A:$A, $Z$1), \"Coût\"\n    )\n  )","v":0},0,"",{"$f":"_xlfn.LET(\n_xlpm.x,IF($Z$1<12,0,\n    SUMIFS(\n      'Budget détaillé'!$BZ$12:INDEX('Budget détaillé'!$BZ:$BZ,$Z$1),\n      'Budget détaillé'!$L$12:INDEX('Budget détaillé'!$L:$L,$Z$1),A52,\n      'Budget détaillé'!$A$12:INDEX('Budget détaillé'!$A:$A,$Z$1),\"Coût\"\n    )\n),\nIF(_xlpm.x=G52,\"OK\",\"Vérifier\")\n)","v":"OK"}]
[{"$f":"Validation!N11","v":"Consommables associés à la prestation des services"},{"$f":"IF($Z$1<12,0,\n    SUMIFS(\n      'Budget détaillé'!$Y$12:INDEX('Budget détaillé'!$Y:$Y, $Z$1),\n      'Budget détaillé'!$L$12:INDEX('Budget détaillé'!$L:$L, $Z$1), A53,\n      'Budget détaillé'!$A$12:INDEX('Budget détaillé'!$A:$A, $Z$1), \"Coût\"\n    )\n  )","v":0},{"$f":"IF($Z$1<12,0,\n    SUMIFS(\n      'Budget détaillé'!$AL$12:INDEX('Budget détaillé'!$AL:$AL, $Z$1),\n      'Budget détaillé'!$L$12:INDEX('Budget détaillé'!$L:$L, $Z$1), A53,\n      'Budget détaillé'!$A$12:INDEX('Budget détaillé'!$A:$A, $Z$1), \"Coût\"\n    )\n  )","v":0},{"$f":"IF($Z$1<12,0,\n    SUMIFS(\n      'Budget détaillé'!$AY$12:INDEX('Budget détaillé'!$AY:$AY, $Z$1),\n      'Budget détaillé'!$L$12:INDEX('Budget détaillé'!$L:$L, $Z$1), A53,\n      'Budget détaillé'!$A$12:INDEX('Budget détaillé'!$A:$A, $Z$1), \"Coût\"\n    )\n  )","v":0},{"$f":"IF($Z$1<12,0,\n    SUMIFS(\n      'Budget détaillé'!$BL$12:INDEX('Budget détaillé'!$BL:$BL, $Z$1),\n      'Budget détaillé'!$L$12:INDEX('Budget détaillé'!$L:$L, $Z$1), A53,\n      'Budget détaillé'!$A$12:INDEX('Budget détaillé'!$A:$A, $Z$1), \"Coût\"\n    )\n  )","v":0},{"$f":"IF($Z$1<12,0,\n    SUMIFS(\n      'Budget détaillé'!$BY$12:INDEX('Budget détaillé'!$BY:$BY, $Z$1),\n      'Budget détaillé'!$L$12:INDEX('Budget détaillé'!$L:$L, $Z$1), A53,\n      'Budget détaillé'!$A$12:INDEX('Budget détaillé'!$A:$A, $Z$1), \"Coût\"\n    )\n  )","v":0},{"$f":"SUM(B53:F53)","v":0},"",{"$f":"_xlfn.LET(\n_xlpm.x,IF($Z$1<12,0,\n    SUMIFS(\n      'Budget détaillé'!$BZ$12:INDEX('Budget détaillé'!$BZ:$BZ,$Z$1),\n      'Budget détaillé'!$L$12:INDEX('Budget détaillé'!$L:$L,$Z$1),A53,\n      'Budget détaillé'!$A$12:INDEX('Budget détaillé'!$A:$A,$Z$1),\"Coût\"\n    )\n),\nIF(_xlpm.x=G53,\"OK\",\"Vérifier\")\n)","v":"OK"}]
[{"$f":"Validation!N12","v":"Coûts liés aux événements (formations, réunions, ateliers, etc.)"},{"$f":"IF($Z$1<12,0,\n    SUMIFS(\n      'Budget détaillé'!$Y$12:INDEX('Budget détaillé'!$Y:$Y, $Z$1),\n      'Budget détaillé'!$L$12:INDEX('Budget détaillé'!$L:$L, $Z$1), A54,\n      'Budget détaillé'!$A$12:INDEX('Budget détaillé'!$A:$A, $Z$1), \"Coût\"\n    )\n  )","v":0},{"$f":"IF($Z$1<12,0,\n    SUMIFS(\n      'Budget détaillé'!$AL$12:INDEX('Budget détaillé'!$AL:$AL, $Z$1),\n      'Budget détaillé'!$L$12:INDEX('Budget détaillé'!$L:$L, $Z$1), A54,\n      'Budget détaillé'!$A$12:INDEX('Budget détaillé'!$A:$A, $Z$1), \"Coût\"\n    )\n  )","v":0},{"$f":"IF($Z$1<12,0,\n    SUMIFS(\n      'Budget détaillé'!$AY$12:INDEX('Budget détaillé'!$AY:$AY, $Z$1),\n      'Budget détaillé'!$L$12:INDEX('Budget détaillé'!$L:$L, $Z$1), A54,\n      'Budget détaillé'!$A$12:INDEX('Budget détaillé'!$A:$A, $Z$1), \"Coût\"\n    )\n  )","v":0},{"$f":"IF($Z$1<12,0,\n    SUMIFS(\n      'Budget détaillé'!$BL$12:INDEX('Budget détaillé'!$BL:$BL, $Z$1),\n      'Budget détaillé'!$L$12:INDEX('Budget détaillé'!$L:$L, $Z$1), A54,\n      'Budget détaillé'!$A$12:INDEX('Budget détaillé'!$A:$A, $Z$1), \"Coût\"\n    )\n  )","v":0},{"$f":"IF($Z$1<12,0,\n    SUMIFS(\n      'Budget détaillé'!$BY$12:INDEX('Budget détaillé'!$BY:$BY, $Z$1),\n      'Budget détaillé'!$L$12:INDEX('Budget détaillé'!$L:$L, $Z$1), A54,\n      'Budget détaillé'!$A$12:INDEX('Budget détaillé'!$A:$A, $Z$1), \"Coût\"\n    )\n  )","v":0},{"$f":"SUM(B54:F54)","v":0},"",{"$f":"_xlfn.LET(\n_xlpm.x,IF($Z$1<12,0,\n    SUMIFS(\n      'Budget détaillé'!$BZ$12:INDEX('Budget détaillé'!$BZ:$BZ,$Z$1),\n      'Budget détaillé'!$L$12:INDEX('Budget détaillé'!$L:$L,$Z$1),A54,\n      'Budget détaillé'!$A$12:INDEX('Budget détaillé'!$A:$A,$Z$1),\"Coût\"\n    )\n),\nIF(_xlpm.x=G54,\"OK\",\"Vérifier\")\n)","v":"OK"}]
[{"$f":"Validation!N13","v":"Actifs – acquisition / maintenance / construction et rénovation"},{"$f":"IF($Z$1<12,0,\n    SUMIFS(\n      'Budget détaillé'!$Y$12:INDEX('Budget détaillé'!$Y:$Y, $Z$1),\n      'Budget détaillé'!$L$12:INDEX('Budget détaillé'!$L:$L, $Z$1), A55,\n      'Budget détaillé'!$A$12:INDEX('Budget détaillé'!$A:$A, $Z$1), \"Coût\"\n    )\n  )","v":0},{"$f":"IF($Z$1<12,0,\n    SUMIFS(\n      'Budget détaillé'!$AL$12:INDEX('Budget détaillé'!$AL:$AL, $Z$1),\n      'Budget détaillé'!$L$12:INDEX('Budget détaillé'!$L:$L, $Z$1), A55,\n      'Budget détaillé'!$A$12:INDEX('Budget détaillé'!$A:$A, $Z$1), \"Coût\"\n    )\n  )","v":0},{"$f":"IF($Z$1<12,0,\n    SUMIFS(\n      'Budget détaillé'!$AY$12:INDEX('Budget détaillé'!$AY:$AY, $Z$1),\n      'Budget détaillé'!$L$12:INDEX('Budget détaillé'!$L:$L, $Z$1), A55,\n      'Budget détaillé'!$A$12:INDEX('Budget détaillé'!$A:$A, $Z$1), \"Coût\"\n    )\n  )","v":0},{"$f":"IF($Z$1<12,0,\n    SUMIFS(\n      'Budget détaillé'!$BL$12:INDEX('Budget détaillé'!$BL:$BL, $Z$1),\n      'Budget détaillé'!$L$12:INDEX('Budget détaillé'!$L:$L, $Z$1), A55,\n      'Budget détaillé'!$A$12:INDEX('Budget détaillé'!$A:$A, $Z$1), \"Coût\"\n    )\n  )","v":0},{"$f":"IF($Z$1<12,0,\n    SUMIFS(\n      'Budget détaillé'!$BY$12:INDEX('Budget détaillé'!$BY:$BY, $Z$1),\n      'Budget détaillé'!$L$12:INDEX('Budget détaillé'!$L:$L, $Z$1), A55,\n      'Budget détaillé'!$A$12:INDEX('Budget détaillé'!$A:$A, $Z$1), \"Coût\"\n    )\n  )","v":0},0,"",{"$f":"_xlfn.LET(\n_xlpm.x,IF($Z$1<12,0,\n    SUMIFS(\n      'Budget détaillé'!$BZ$12:INDEX('Budget détaillé'!$BZ:$BZ,$Z$1),\n      'Budget détaillé'!$L$12:INDEX('Budget détaillé'!$L:$L,$Z$1),A55,\n      'Budget détaillé'!$A$12:INDEX('Budget détaillé'!$A:$A,$Z$1),\"Coût\"\n    )\n),\nIF(_xlpm.x=G55,\"OK\",\"Vérifier\")\n)","v":"OK"}]
[{"$f":"Validation!N14","v":"Équipements éligibles au CCEOP et services associés (garde-fou du Conseil de Gavi)"},{"$f":"IF($Z$1<12,0,\n    SUMIFS(\n      'Budget détaillé'!$Y$12:INDEX('Budget détaillé'!$Y:$Y, $Z$1),\n      'Budget détaillé'!$L$12:INDEX('Budget détaillé'!$L:$L, $Z$1), A56,\n      'Budget détaillé'!$A$12:INDEX('Budget détaillé'!$A:$A, $Z$1), \"Coût\"\n    )\n  )","v":0},{"$f":"IF($Z$1<12,0,\n    SUMIFS(\n      'Budget détaillé'!$AL$12:INDEX('Budget détaillé'!$AL:$AL, $Z$1),\n      'Budget détaillé'!$L$12:INDEX('Budget détaillé'!$L:$L, $Z$1), A56,\n      'Budget détaillé'!$A$12:INDEX('Budget détaillé'!$A:$A, $Z$1), \"Coût\"\n    )\n  )","v":0},{"$f":"IF($Z$1<12,0,\n    SUMIFS(\n      'Budget détaillé'!$AY$12:INDEX('Budget détaillé'!$AY:$AY, $Z$1),\n      'Budget détaillé'!$L$12:INDEX('Budget détaillé'!$L:$L, $Z$1), A56,\n      'Budget détaillé'!$A$12:INDEX('Budget détaillé'!$A:$A, $Z$1), \"Coût\"\n    )\n  )","v":0},{"$f":"IF($Z$1<12,0,\n    SUMIFS(\n      'Budget détaillé'!$BL$12:INDEX('Budget détaillé'!$BL:$BL, $Z$1),\n      'Budget détaillé'!$L$12:INDEX('Budget détaillé'!$L:$L, $Z$1), A56,\n      'Budget détaillé'!$A$12:INDEX('Budget détaillé'!$A:$A, $Z$1), \"Coût\"\n    )\n  )","v":0},{"$f":"IF($Z$1<12,0,\n    SUMIFS(\n      'Budget détaillé'!$BY$12:INDEX('Budget détaillé'!$BY:$BY, $Z$1),\n      'Budget détaillé'!$L$12:INDEX('Budget détaillé'!$L:$L, $Z$1), A56,\n      'Budget détaillé'!$A$12:INDEX('Budget détaillé'!$A:$A, $Z$1), \"Coût\"\n    )\n  )","v":0},0,"",{"$f":"_xlfn.LET(\n_xlpm.x,IF($Z$1<12,0,\n    SUMIFS(\n      'Budget détaillé'!$BZ$12:INDEX('Budget détaillé'!$BZ:$BZ,$Z$1),\n      'Budget détaillé'!$L$12:INDEX('Budget détaillé'!$L:$L,$Z$1),A56,\n      'Budget détaillé'!$A$12:INDEX('Budget détaillé'!$A:$A,$Z$1),\"Coût\"\n    )\n),\nIF(_xlpm.x=G56,\"OK\",\"Vérifier\")\n)","v":"OK"}]
[{"$f":"Validation!N15","v":"Activités liées aux technologies de l'information et de la communication"},{"$f":"IF($Z$1<12,0,\n    SUMIFS(\n      'Budget détaillé'!$Y$12:INDEX('Budget détaillé'!$Y:$Y, $Z$1),\n      'Budget détaillé'!$L$12:INDEX('Budget détaillé'!$L:$L, $Z$1), A57,\n      'Budget détaillé'!$A$12:INDEX('Budget détaillé'!$A:$A, $Z$1), \"Coût\"\n    )\n  )","v":0},{"$f":"IF($Z$1<12,0,\n    SUMIFS(\n      'Budget détaillé'!$AL$12:INDEX('Budget détaillé'!$AL:$AL, $Z$1),\n      'Budget détaillé'!$L$12:INDEX('Budget détaillé'!$L:$L, $Z$1), A57,\n      'Budget détaillé'!$A$12:INDEX('Budget détaillé'!$A:$A, $Z$1), \"Coût\"\n    )\n  )","v":0},{"$f":"IF($Z$1<12,0,\n    SUMIFS(\n      'Budget détaillé'!$AY$12:INDEX('Budget détaillé'!$AY:$AY, $Z$1),\n      'Budget détaillé'!$L$12:INDEX('Budget détaillé'!$L:$L, $Z$1), A57,\n      'Budget détaillé'!$A$12:INDEX('Budget détaillé'!$A:$A, $Z$1), \"Coût\"\n    )\n  )","v":0},{"$f":"IF($Z$1<12,0,\n    SUMIFS(\n      'Budget détaillé'!$BL$12:INDEX('Budget détaillé'!$BL:$BL, $Z$1),\n      'Budget détaillé'!$L$12:INDEX('Budget détaillé'!$L:$L, $Z$1), A57,\n      'Budget détaillé'!$A$12:INDEX('Budget détaillé'!$A:$A, $Z$1), \"Coût\"\n    )\n  )","v":0},{"$f":"IF($Z$1<12,0,\n    SUMIFS(\n      'Budget détaillé'!$BY$12:INDEX('Budget détaillé'!$BY:$BY, $Z$1),\n      'Budget détaillé'!$L$12:INDEX('Budget détaillé'!$L:$L, $Z$1), A57,\n      'Budget détaillé'!$A$12:INDEX('Budget détaillé'!$A:$A, $Z$1), \"Coût\"\n    )\n  )","v":0},0,"",{"$f":"_xlfn.LET(\n_xlpm.x,IF($Z$1<12,0,\n    SUMIFS(\n      'Budget détaillé'!$BZ$12:INDEX('Budget détaillé'!$BZ:$BZ,$Z$1),\n      'Budget détaillé'!$L$12:INDEX('Budget détaillé'!$L:$L,$Z$1),A57,\n      'Budget détaillé'!$A$12:INDEX('Budget détaillé'!$A:$A,$Z$1),\"Coût\"\n    )\n),\nIF(_xlpm.x=G57,\"OK\",\"Vérifier\")\n)","v":"OK"}]
[{"$f":"Validation!N16","v":"Coûts d'appui au programme, administration et frais généraux"},{"$f":"IF($Z$1<12,0,\n    SUMIFS(\n      'Budget détaillé'!$Y$12:INDEX('Budget détaillé'!$Y:$Y, $Z$1),\n      'Budget détaillé'!$L$12:INDEX('Budget détaillé'!$L:$L, $Z$1), A58,\n      'Budget détaillé'!$A$12:INDEX('Budget détaillé'!$A:$A, $Z$1), \"Coût\"\n    )\n  )","v":0},{"$f":"IF($Z$1<12,0,\n    SUMIFS(\n      'Budget détaillé'!$AL$12:INDEX('Budget détaillé'!$AL:$AL, $Z$1),\n      'Budget détaillé'!$L$12:INDEX('Budget détaillé'!$L:$L, $Z$1), A58,\n      'Budget détaillé'!$A$12:INDEX('Budget détaillé'!$A:$A, $Z$1), \"Coût\"\n    )\n  )","v":0},{"$f":"IF($Z$1<12,0,\n    SUMIFS(\n      'Budget détaillé'!$AY$12:INDEX('Budget détaillé'!$AY:$AY, $Z$1),\n      'Budget détaillé'!$L$12:INDEX('Budget détaillé'!$L:$L, $Z$1), A58,\n      'Budget détaillé'!$A$12:INDEX('Budget détaillé'!$A:$A, $Z$1), \"Coût\"\n    )\n  )","v":0},{"$f":"IF($Z$1<12,0,\n    SUMIFS(\n      'Budget détaillé'!$BL$12:INDEX('Budget détaillé'!$BL:$BL, $Z$1),\n      'Budget détaillé'!$L$12:INDEX('Budget détaillé'!$L:$L, $Z$1), A58,\n      'Budget détaillé'!$A$12:INDEX('Budget détaillé'!$A:$A, $Z$1), \"Coût\"\n    )\n  )","v":0},{"$f":"IF($Z$1<12,0,\n    SUMIFS(\n      'Budget détaillé'!$BY$12:INDEX('Budget détaillé'!$BY:$BY, $Z$1),\n      'Budget détaillé'!$L$12:INDEX('Budget détaillé'!$L:$L, $Z$1), A58,\n      'Budget détaillé'!$A$12:INDEX('Budget détaillé'!$A:$A, $Z$1), \"Coût\"\n    )\n  )","v":0},0,"",{"$f":"_xlfn.LET(\n_xlpm.x,IF($Z$1<12,0,\n    SUMIFS(\n      'Budget détaillé'!$BZ$12:INDEX('Budget détaillé'!$BZ:$BZ,$Z$1),\n      'Budget détaillé'!$L$12:INDEX('Budget détaillé'!$L:$L,$Z$1),A58,\n      'Budget détaillé'!$A$12:INDEX('Budget détaillé'!$A:$A,$Z$1),\"Coût\"\n    )\n),\nIF(_xlpm.x=G58,\"OK\",\"Vérifier\")\n)","v":"OK"}]
[{"$f":"Validation!N17","v":"Financement basé sur les résultats"},{"$f":"IF($Z$1<12,0,\n    SUMIFS(\n      'Budget détaillé'!$Y$12:INDEX('Budget détaillé'!$Y:$Y, $Z$1),\n      'Budget détaillé'!$L$12:INDEX('Budget détaillé'!$L:$L, $Z$1), A59,\n      'Budget détaillé'!$A$12:INDEX('Budget détaillé'!$A:$A, $Z$1), \"Coût\"\n    )\n  )","v":0},{"$f":"IF($Z$1<12,0,\n    SUMIFS(\n      'Budget détaillé'!$AL$12:INDEX('Budget détaillé'!$AL:$AL, $Z$1),\n      'Budget détaillé'!$L$12:INDEX('Budget détaillé'!$L:$L, $Z$1), A59,\n      'Budget détaillé'!$A$12:INDEX('Budget détaillé'!$A:$A, $Z$1), \"Coût\"\n    )\n  )","v":0},{"$f":"IF($Z$1<12,0,\n    SUMIFS(\n      'Budget détaillé'!$AY$12:INDEX('Budget détaillé'!$AY:$AY, $Z$1),\n      'Budget détaillé'!$L$12:INDEX('Budget détaillé'!$L:$L, $Z$1), A59,\n      'Budget détaillé'!$A$12:INDEX('Budget détaillé'!$A:$A, $Z$1), \"Coût\"\n    )\n  )","v":0},{"$f":"IF($Z$1<12,0,\n    SUMIFS(\n      'Budget détaillé'!$BL$12:INDEX('Budget détaillé'!$BL:$BL, $Z$1),\n      'Budget détaillé'!$L$12:INDEX('Budget détaillé'!$L:$L, $Z$1), A59,\n      'Budget détaillé'!$A$12:INDEX('Budget détaillé'!$A:$A, $Z$1), \"Coût\"\n    )\n  )","v":0},{"$f":"IF($Z$1<12,0,\n    SUMIFS(\n      'Budget détaillé'!$BY$12:INDEX('Budget détaillé'!$BY:$BY, $Z$1),\n      'Budget détaillé'!$L$12:INDEX('Budget détaillé'!$L:$L, $Z$1), A59,\n      'Budget détaillé'!$A$12:INDEX('Budget détaillé'!$A:$A, $Z$1), \"Coût\"\n    )\n  )","v":0},0,"",{"$f":"_xlfn.LET(\n_xlpm.x,IF($Z$1<12,0,\n    SUMIFS(\n      'Budget détaillé'!$BZ$12:INDEX('Budget détaillé'!$BZ:$BZ,$Z$1),\n      'Budget détaillé'!$L$12:INDEX('Budget détaillé'!$L:$L,$Z$1),A59,\n      'Budget détaillé'!$A$12:INDEX('Budget détaillé'!$A:$A,$Z$1),\"Coût\"\n    )\n),\nIF(_xlpm.x=G59,\"OK\",\"Vérifier\")\n)","v":"OK"}]
["Total",{"$f":"SUM(B49:B59)","v":0},{"$f":"SUM(C49:C59)","v":0},0,0,0,0,{"$f":"IF($G$60=0,\"\",G60/$G$60)","v":""}]
[null,null,null,null,null,null,{"$f":"IF(G60<=Subvention!C21,\"OK\",\"Vérifier\")","v":"OK"}]
[]
["Résumé par type de partenaire"]
["Type de partenaire",{"$f":"B6","v":"Année 1"},{"$f":"C6","v":"Année 2"},"Année 3","Année 4","Année 5","Total","%",{"$f":"I10","v":"Indicateur"}]
[{"$f":"Validation!P2","v":"Gouvernement"},{"$f":"IF($Z$1<12,0,\n    SUMIFS(\n      'Budget détaillé'!$Y$12:INDEX('Budget détaillé'!$Y:$Y, $Z$1),\n      'Budget détaillé'!$D$12:INDEX('Budget détaillé'!$D:$D, $Z$1), A65,\n      'Budget détaillé'!$A$12:INDEX('Budget détaillé'!$A:$A, $Z$1), \"Coût\"\n    )\n  )","v":0},{"$f":"IF($Z$1<12,0,\n    SUMIFS(\n      'Budget détaillé'!$AL$12:INDEX('Budget détaillé'!$AL:$AL, $Z$1),\n      'Budget détaillé'!$D$12:INDEX('Budget détaillé'!$D:$D, $Z$1), A65,\n      'Budget détaillé'!$A$12:INDEX('Budget détaillé'!$A:$A, $Z$1), \"Coût\"\n    )\n  )","v":0},{"$f":"IF($Z$1<12,0,\n    SUMIFS(\n      'Budget détaillé'!$AY$12:INDEX('Budget détaillé'!$AY:$AY, $Z$1),\n      'Budget détaillé'!$D$12:INDEX('Budget détaillé'!$D:$D, $Z$1), A65,\n      'Budget détaillé'!$A$12:INDEX('Budget détaillé'!$A:$A, $Z$1), \"Coût\"\n    )\n  )","v":0},{"$f":"IF($Z$1<12,0,\n    SUMIFS(\n      'Budget détaillé'!$BL$12:INDEX('Budget détaillé'!$BL:$BL, $Z$1),\n      'Budget détaillé'!$D$12:INDEX('Budget détaillé'!$D:$D, $Z$1), A65,\n      'Budget détaillé'!$A$12:INDEX('Budget détaillé'!$A:$A, $Z$1), \"Coût\"\n    )\n  )","v":0},{"$f":"IF($Z$1<12,0,\n    SUMIFS(\n      'Budget détaillé'!$BY$12:INDEX('Budget détaillé'!$BY:$BY, $Z$1),\n      'Budget détaillé'!$D$12:INDEX('Budget détaillé'!$D:$D, $Z$1), A65,\n      'Budget détaillé'!$A$12:INDEX('Budget détaillé'!$A:$A, $Z$1), \"Coût\"\n    )\n  )","v":0},{"$f":"SUM(B65:F65)","v":0},{"$f":"IF($G$70=0,\"\",G65/$G$70)","v":""},{"$f":"_xlfn.LET(\n_xlpm.x,IF($Z$1<12,0,\n    SUMIFS(\n      'Budget détaillé'!$BZ$12:INDEX('Budget détaillé'!$BZ:$BZ,$Z$1),\n      'Budget détaillé'!$D$12:INDEX('Budget détaillé'!$D:$D,$Z$1),A65,\n      'Budget détaillé'!$A$12:INDEX('Budget détaillé'!$A:$A,$Z$1),\"Coût\"\n    )\n),\nIF(_xlpm.x=G65,\"OK\",\"Vérifier\")\n)","v":"OK"}]
[{"$f":"Validation!P3","v":"Partenaire principal"},{"$f":"IF($Z$1<12,0,\n    SUMIFS(\n      'Budget détaillé'!$Y$12:INDEX('Budget détaillé'!$Y:$Y, $Z$1),\n      'Budget détaillé'!$D$12:INDEX('Budget détaillé'!$D:$D, $Z$1), A66,\n      'Budget détaillé'!$A$12:INDEX('Budget détaillé'!$A:$A, $Z$1), \"Coût\"\n    )\n  )","v":0},{"$f":"IF($Z$1<12,0,\n    SUMIFS(\n      'Budget détaillé'!$AL$12:INDEX('Budget détaillé'!$AL:$AL, $Z$1),\n      'Budget détaillé'!$D$12:INDEX('Budget détaillé'!$D:$D, $Z$1), A66,\n      'Budget détaillé'!$A$12:INDEX('Budget détaillé'!$A:$A, $Z$1), \"Coût\"\n    )\n  )","v":0},{"$f":"IF($Z$1<12,0,\n    SUMIFS(\n      'Budget détaillé'!$AY$12:INDEX('Budget détaillé'!$AY:$AY, $Z$1),\n      'Budget détaillé'!$D$12:INDEX('Budget détaillé'!$D:$D, $Z$1), A66,\n      'Budget détaillé'!$A$12:INDEX('Budget détaillé'!$A:$A, $Z$1), \"Coût\"\n    )\n  )","v":0},{"$f":"IF($Z$1<12,0,\n    SUMIFS(\n      'Budget détaillé'!$BL$12:INDEX('Budget détaillé'!$BL:$BL, $Z$1),\n      'Budget détaillé'!$D$12:INDEX('Budget détaillé'!$D:$D, $Z$1), A66,\n      'Budget détaillé'!$A$12:INDEX('Budget détaillé'!$A:$A, $Z$1), \"Coût\"\n    )\n  )","v":0},{"$f":"IF($Z$1<12,0,\n    SUMIFS(\n      'Budget détaillé'!$BY$12:INDEX('Budget détaillé'!$BY:$BY, $Z$1),\n      'Budget détaillé'!$D$12:INDEX('Budget détaillé'!$D:$D, $Z$1), A66,\n      'Budget détaillé'!$A$12:INDEX('Budget détaillé'!$A:$A, $Z$1), \"Coût\"\n    )\n  )","v":0},0,{"$f":"IF($G$70=0,\"\",G66/$G$70)","v":""},{"$f":"_xlfn.LET(\n_xlpm.x,IF($Z$1<12,0,\n    SUMIFS(\n      'Budget détaillé'!$BZ$12:INDEX('Budget détaillé'!$BZ:$BZ,$Z$1),\n      'Budget détaillé'!$D$12:INDEX('Budget détaillé'!$D:$D,$Z$1),A66,\n      'Budget détaillé'!$A$12:INDEX('Budget détaillé'!$A:$A,$Z$1),\"Coût\"\n    )\n),\nIF(_xlpm.x=G66,\"OK\",\"Vérifier\")\n)","v":"OK"}]
[{"$f":"Validation!P4","v":"Organisation de la société civile"},{"$f":"IF($Z$1<12,0,\n    SUMIFS(\n      'Budget détaillé'!$Y$12:INDEX('Budget détaillé'!$Y:$Y, $Z$1),\n      'Budget détaillé'!$D$12:INDEX('Budget détaillé'!$D:$D, $Z$1), A67,\n      'Budget détaillé'!$A$12:INDEX('Budget détaillé'!$A:$A, $Z$1), \"Coût\"\n    )\n  )","v":0},{"$f":"IF($Z$1<12,0,\n    SUMIFS(\n      'Budget détaillé'!$AL$12:INDEX('Budget détaillé'!$AL:$AL, $Z$1),\n      'Budget détaillé'!$D$12:INDEX('Budget détaillé'!$D:$D, $Z$1), A67,\n      'Budget détaillé'!$A$12:INDEX('Budget détaillé'!$A:$A, $Z$1), \"Coût\"\n    )\n  )","v":0},{"$f":"IF($Z$1<12,0,\n    SUMIFS(\n      'Budget détaillé'!$AY$12:INDEX('Budget détaillé'!$AY:$AY, $Z$1),\n      'Budget détaillé'!$D$12:INDEX('Budget détaillé'!$D:$D, $Z$1), A67,\n      'Budget détaillé'!$A$12:INDEX('Budget détaillé'!$A:$A, $Z$1), \"Coût\"\n    )\n  )","v":0},{"$f":"IF($Z$1<12,0,\n    SUMIFS(\n      'Budget détaillé'!$BL$12:INDEX('Budget détaillé'!$BL:$BL, $Z$1),\n      'Budget détaillé'!$D$12:INDEX('Budget détaillé'!$D:$D, $Z$1), A67,\n      'Budget détaillé'!$A$12:INDEX('Budget détaillé'!$A:$A, $Z$1), \"Coût\"\n    )\n  )","v":0},{"$f":"IF($Z$1<12,0,\n    SUMIFS(\n      'Budget détaillé'!$BY$12:INDEX('Budget détaillé'!$BY:$BY, $Z$1),\n      'Budget détaillé'!$D$12:INDEX('Budget détaillé'!$D:$D, $Z$1), A67,\n      'Budget détaillé'!$A$12:INDEX('Budget détaillé'!$A:$A, $Z$1), \"Coût\"\n    )\n  )","v":0},0,"",{"$f":"_xlfn.LET(\n_xlpm.x,IF($Z$1<12,0,\n    SUMIFS(\n      'Budget détaillé'!$BZ$12:INDEX('Budget détaillé'!$BZ:$BZ,$Z$1),\n      'Budget détaillé'!$D$12:INDEX('Budget détaillé'!$D:$D,$Z$1),A67,\n      'Budget détaillé'!$A$12:INDEX('Budget détaillé'!$A:$A,$Z$1),\"Coût\"\n    )\n),\nIF(_xlpm.x=G67,\"OK\",\"Vérifier\")\n)","v":"OK"}]
[{"$f":"Validation!P5","v":"Secteur privé"},{"$f":"IF($Z$1<12,0,\n    SUMIFS(\n      'Budget détaillé'!$Y$12:INDEX('Budget détaillé'!$Y:$Y, $Z$1),\n      'Budget détaillé'!$D$12:INDEX('Budget détaillé'!$D:$D, $Z$1), A68,\n      'Budget détaillé'!$A$12:INDEX('Budget détaillé'!$A:$A, $Z$1), \"Coût\"\n    )\n  )","v":0},{"$f":"IF($Z$1<12,0,\n    SUMIFS(\n      'Budget détaillé'!$AL$12:INDEX('Budget détaillé'!$AL:$AL, $Z$1),\n      'Budget détaillé'!$D$12:INDEX('Budget détaillé'!$D:$D, $Z$1), A68,\n      'Budget détaillé'!$A$12:INDEX('Budget détaillé'!$A:$A, $Z$1), \"Coût\"\n    )\n  )","v":0},{"$f":"IF($Z$1<12,0,\n    SUMIFS(\n      'Budget détaillé'!$AY$12:INDEX('Budget détaillé'!$AY:$AY, $Z$1),\n      'Budget détaillé'!$D$12:INDEX('Budget détaillé'!$D:$D, $Z$1), A68,\n      'Budget détaillé'!$A$12:INDEX('Budget détaillé'!$A:$A, $Z$1), \"Coût\"\n    )\n  )","v":0},{"$f":"IF($Z$1<12,0,\n    SUMIFS(\n      'Budget détaillé'!$BL$12:INDEX('Budget détaillé'!$BL:$BL, $Z$1),\n      'Budget détaillé'!$D$12:INDEX('Budget détaillé'!$D:$D, $Z$1), A68,\n      'Budget détaillé'!$A$12:INDEX('Budget détaillé'!$A:$A, $Z$1), \"Coût\"\n    )\n  )","v":0},{"$f":"IF($Z$1<12,0,\n    SUMIFS(\n      'Budget détaillé'!$BY$12:INDEX('Budget détaillé'!$BY:$BY, $Z$1),\n      'Budget détaillé'!$D$12:INDEX('Budget détaillé'!$D:$D, $Z$1), A68,\n      'Budget détaillé'!$A$12:INDEX('Budget détaillé'!$A:$A, $Z$1), \"Coût\"\n    )\n  )","v":0},{"$f":"SUM(B68:F68)","v":0},"",{"$f":"_xlfn.LET(\n_xlpm.x,IF($Z$1<12,0,\n    SUMIFS(\n      'Budget détaillé'!$BZ$12:INDEX('Budget détaillé'!$BZ:$BZ,$Z$1),\n      'Budget détaillé'!$D$12:INDEX('Budget détaillé'!$D:$D,$Z$1),A68,\n      'Budget détaillé'!$A$12:INDEX('Budget détaillé'!$A:$A,$Z$1),\"Coût\"\n    )\n),\nIF(_xlpm.x=G68,\"OK\",\"Vérifier\")\n)","v":"OK"}]
[{"$f":"Validation!P6","v":"Autre"},{"$f":"IF($Z$1<12,0,\n    SUMIFS(\n      'Budget détaillé'!$Y$12:INDEX('Budget détaillé'!$Y:$Y, $Z$1),\n      'Budget détaillé'!$D$12:INDEX('Budget détaillé'!$D:$D, $Z$1), A69,\n      'Budget détaillé'!$A$12:INDEX('Budget détaillé'!$A:$A, $Z$1), \"Coût\"\n    )\n  )","v":0},{"$f":"IF($Z$1<12,0,\n    SUMIFS(\n      'Budget détaillé'!$AL$12:INDEX('Budget détaillé'!$AL:$AL, $Z$1),\n      'Budget détaillé'!$D$12:INDEX('Budget détaillé'!$D:$D, $Z$1), A69,\n      'Budget détaillé'!$A$12:INDEX('Budget détaillé'!$A:$A, $Z$1), \"Coût\"\n    )\n  )","v":0},{"$f":"IF($Z$1<12,0,\n    SUMIFS(\n      'Budget détaillé'!$AY$12:INDEX('Budget détaillé'!$AY:$AY, $Z$1),\n      'Budget détaillé'!$D$12:INDEX('Budget détaillé'!$D:$D, $Z$1), A69,\n      'Budget détaillé'!$A$12:INDEX('Budget détaillé'!$A:$A, $Z$1), \"Coût\"\n    )\n  )","v":0},{"$f":"IF($Z$1<12,0,\n    SUMIFS(\n      'Budget détaillé'!$BL$12:INDEX('Budget détaillé'!$BL:$BL, $Z$1),\n      'Budget détaillé'!$D$12:INDEX('Budget détaillé'!$D:$D, $Z$1), A69,\n      'Budget détaillé'!$A$12:INDEX('Budget détaillé'!$A:$A, $Z$1), \"Coût\"\n    )\n  )","v":0},{"$f":"IF($Z$1<12,0,\n    SUMIFS(\n      'Budget détaillé'!$BY$12:INDEX('Budget détaillé'!$BY:$BY, $Z$1),\n      'Budget détaillé'!$D$12:INDEX('Budget détaillé'!$D:$D, $Z$1), A69,\n      'Budget détaillé'!$A$12:INDEX('Budget détaillé'!$A:$A, $Z$1), \"Coût\"\n    )\n  )","v":0},{"$f":"SUM(B69:F69)","v":0},"",{"$f":"_xlfn.LET(\n_xlpm.x,IF($Z$1<12,0,\n    SUMIFS(\n      'Budget détaillé'!$BZ$12:INDEX('Budget détaillé'!$BZ:$BZ,$Z$1),\n      'Budget détaillé'!$D$12:INDEX('Budget détaillé'!$D:$D,$Z$1),A69,\n      'Budget détaillé'!$A$12:INDEX('Budget détaillé'!$A:$A,$Z$1),\"Coût\"\n    )\n),\nIF(_xlpm.x=G69,\"OK\",\"Vérifier\")\n)","v":"OK"}]
["Total",{"$f":"SUM(B65:B69)","v":0},{"$f":"SUM(C65:C69)","v":0},0,0,0,0,{"$f":"IF($G$70=0,\"\",G70/$G$70)","v":""}]
[null,null,null,null,null,null,{"$f":"IF(G70<=Subvention!C21,\"OK\",\"Vérifier\")","v":"OK"}]
[]
["Résumé par décaissement de GAVI"]
["Décaissement de GAVI",{"$f":"B6","v":"Année 1"},{"$f":"C6","v":"Année 2"},"Année 3","Année 4","Année 5","Total","%",{"$f":"I10","v":"Indicateur"}]
[{"$f":"_xlfn._xlws.FILTER(Subvention!C32:C39, Subvention!C32:C39<>\"\")","v":"Gouvernement"},{"$f":"IF($Z$1<12,0,\n    SUMIFS(\n      'Budget détaillé'!$Y$12:INDEX('Budget détaillé'!$Y:$Y, $Z$1),\n      'Budget détaillé'!$F$12:INDEX('Budget détaillé'!$F:$F, $Z$1), A75,\n      'Budget détaillé'!$A$12:INDEX('Budget détaillé'!$A:$A, $Z$1), \"Coût\"\n    )\n  )","v":0},{"$f":"IF($Z$1<12,0,\n    SUMIFS(\n      'Budget détaillé'!$AL$12:INDEX('Budget détaillé'!$AL:$AL, $Z$1),\n      'Budget détaillé'!$F$12:INDEX('Budget détaillé'!$F:$F, $Z$1), A75,\n      'Budget détaillé'!$A$12:INDEX('Budget détaillé'!$A:$A, $Z$1), \"Coût\"\n    )\n  )","v":0},{"$f":"IF($Z$1<12,0,\n    SUMIFS(\n      'Budget détaillé'!$AY$12:INDEX('Budget détaillé'!$AY:$AY, $Z$1),\n      'Budget détaillé'!$F$12:INDEX('Budget détaillé'!$F:$F, $Z$1), A75,\n      'Budget détaillé'!$A$12:INDEX('Budget détaillé'!$A:$A, $Z$1), \"Coût\"\n    )\n  )","v":0},{"$f":"IF($Z$1<12,0,\n    SUMIFS(\n      'Budget détaillé'!$BL$12:INDEX('Budget détaillé'!$BL:$BL, $Z$1),\n      'Budget détaillé'!$F$12:INDEX('Budget détaillé'!$F:$F, $Z$1), A75,\n      'Budget détaillé'!$A$12:INDEX('Budget détaillé'!$A:$A, $Z$1), \"Coût\"\n    )\n  )","v":0},{"$f":"IF($Z$1<12,0,\n    SUMIFS(\n      'Budget détaillé'!$BY$12:INDEX('Budget détaillé'!$BY:$BY, $Z$1),\n      'Budget détaillé'!$F$12:INDEX('Budget détaillé'!$F:$F, $Z$1), A75,\n      'Budget détaillé'!$A$12:INDEX('Budget détaillé'!$A:$A, $Z$1), \"Coût\"\n    )\n  )","v":0},{"$f":"SUM(B75:F75)","v":0},{"$f":"IF($G$83=0,\"\",G75/$G$83)","v":""},{"$f":"_xlfn.LET(\n_xlpm.x,IF($Z$1<12,0,\n    SUMIFS(\n      'Budget détaillé'!$BZ$12:INDEX('Budget détaillé'!$BZ:$BZ,$Z$1),\n      'Budget détaillé'!$F$12:INDEX('Budget détaillé'!$F:$F,$Z$1),A75,\n      'Budget détaillé'!$A$12:INDEX('Budget détaillé'!$A:$A,$Z$1),\"Coût\"\n    )\n),\nIF(_xlpm.x=G75,\"OK\",\"Vérifier\")\n)","v":"OK"}]
["UNICEF",{"$f":"IF($Z$1<12,0,\n    SUMIFS(\n      'Budget détaillé'!$Y$12:INDEX('Budget détaillé'!$Y:$Y, $Z$1),\n      'Budget détaillé'!$F$12:INDEX('Budget détaillé'!$F:$F, $Z$1), A76,\n      'Budget détaillé'!$A$12:INDEX('Budget détaillé'!$A:$A, $Z$1), \"Coût\"\n    )\n  )","v":0},{"$f":"IF($Z$1<12,0,\n    SUMIFS(\n      'Budget détaillé'!$AL$12:INDEX('Budget détaillé'!$AL:$AL, $Z$1),\n      'Budget détaillé'!$F$12:INDEX('Budget détaillé'!$F:$F, $Z$1), A76,\n      'Budget détaillé'!$A$12:INDEX('Budget détaillé'!$A:$A, $Z$1), \"Coût\"\n    )\n  )","v":0},{"$f":"IF($Z$1<12,0,\n    SUMIFS(\n      'Budget détaillé'!$AY$12:INDEX('Budget détaillé'!$AY:$AY, $Z$1),\n      'Budget détaillé'!$F$12:INDEX('Budget détaillé'!$F:$F, $Z$1), A76,\n      'Budget détaillé'!$A$12:INDEX('Budget détaillé'!$A:$A, $Z$1), \"Coût\"\n    )\n  )","v":0},{"$f":"IF($Z$1<12,0,\n    SUMIFS(\n      'Budget détaillé'!$BL$12:INDEX('Budget détaillé'!$BL:$BL, $Z$1),\n      'Budget détaillé'!$F$12:INDEX('Budget détaillé'!$F:$F, $Z$1), A76,\n      'Budget détaillé'!$A$12:INDEX('Budget détaillé'!$A:$A, $Z$1), \"Coût\"\n    )\n  )","v":0},{"$f":"IF($Z$1<12,0,\n    SUMIFS(\n      'Budget détaillé'!$BY$12:INDEX('Budget détaillé'!$BY:$BY, $Z$1),\n      'Budget détaillé'!$F$12:INDEX('Budget détaillé'!$F:$F, $Z$1), A76,\n      'Budget détaillé'!$A$12:INDEX('Budget détaillé'!$A:$A, $Z$1), \"Coût\"\n    )\n  )","v":0},0,"",{"$f":"_xlfn.LET(\n_xlpm.x,IF($Z$1<12,0,\n    SUMIFS(\n      'Budget détaillé'!$BZ$12:INDEX('Budget détaillé'!$BZ:$BZ,$Z$1),\n      'Budget détaillé'!$F$12:INDEX('Budget détaillé'!$F:$F,$Z$1),A76,\n      'Budget détaillé'!$A$12:INDEX('Budget détaillé'!$A:$A,$Z$1),\"Coût\"\n    )\n),\nIF(_xlpm.x=G76,\"OK\",\"Vérifier\")\n)","v":"OK"}]
["UNICEF SD",{"$f":"IF($Z$1<12,0,\n    SUMIFS(\n      'Budget détaillé'!$Y$12:INDEX('Budget détaillé'!$Y:$Y, $Z$1),\n      'Budget détaillé'!$F$12:INDEX('Budget détaillé'!$F:$F, $Z$1), A77,\n      'Budget détaillé'!$A$12:INDEX('Budget détaillé'!$A:$A, $Z$1), \"Coût\"\n    )\n  )","v":0},{"$f":"IF($Z$1<12,0,\n    SUMIFS(\n      'Budget détaillé'!$AL$12:INDEX('Budget détaillé'!$AL:$AL, $Z$1),\n      'Budget détaillé'!$F$12:INDEX('Budget détaillé'!$F:$F, $Z$1), A77,\n      'Budget détaillé'!$A$12:INDEX('Budget détaillé'!$A:$A, $Z$1), \"Coût\"\n    )\n  )","v":0},{"$f":"IF($Z$1<12,0,\n    SUMIFS(\n      'Budget détaillé'!$AY$12:INDEX('Budget détaillé'!$AY:$AY, $Z$1),\n      'Budget détaillé'!$F$12:INDEX('Budget détaillé'!$F:$F, $Z$1), A77,\n      'Budget détaillé'!$A$12:INDEX('Budget détaillé'!$A:$A, $Z$1), \"Coût\"\n    )\n  )","v":0},{"$f":"IF($Z$1<12,0,\n    SUMIFS(\n      'Budget détaillé'!$BL$12:INDEX('Budget détaillé'!$BL:$BL, $Z$1),\n      'Budget détaillé'!$F$12:INDEX('Budget détaillé'!$F:$F, $Z$1), A77,\n      'Budget détaillé'!$A$12:INDEX('Budget détaillé'!$A:$A, $Z$1), \"Coût\"\n    )\n  )","v":0},{"$f":"IF($Z$1<12,0,\n    SUMIFS(\n      'Budget détaillé'!$BY$12:INDEX('Budget détaillé'!$BY:$BY, $Z$1),\n      'Budget détaillé'!$F$12:INDEX('Budget détaillé'!$F:$F, $Z$1), A77,\n      'Budget détaillé'!$A$12:INDEX('Budget détaillé'!$A:$A, $Z$1), \"Coût\"\n    )\n  )","v":0},0,"",{"$f":"_xlfn.LET(\n_xlpm.x,IF($Z$1<12,0,\n    SUMIFS(\n      'Budget détaillé'!$BZ$12:INDEX('Budget détaillé'!$BZ:$BZ,$Z$1),\n      'Budget détaillé'!$F$12:INDEX('Budget détaillé'!$F:$F,$Z$1),A77,\n      'Budget détaillé'!$A$12:INDEX('Budget détaillé'!$A:$A,$Z$1),\"Coût\"\n    )\n),\nIF(_xlpm.x=G77,\"OK\",\"Vérifier\")\n)","v":"OK"}]
["OMS",{"$f":"IF($Z$1<12,0,\n    SUMIFS(\n      'Budget détaillé'!$Y$12:INDEX('Budget détaillé'!$Y:$Y, $Z$1),\n      'Budget détaillé'!$F$12:INDEX('Budget détaillé'!$F:$F, $Z$1), A78,\n      'Budget détaillé'!$A$12:INDEX('Budget détaillé'!$A:$A, $Z$1), \"Coût\"\n    )\n  )","v":0},{"$f":"IF($Z$1<12,0,\n    SUMIFS(\n      'Budget détaillé'!$AL$12:INDEX('Budget détaillé'!$AL:$AL, $Z$1),\n      'Budget détaillé'!$F$12:INDEX('Budget détaillé'!$F:$F, $Z$1), A78,\n      'Budget détaillé'!$A$12:INDEX('Budget détaillé'!$A:$A, $Z$1), \"Coût\"\n    )\n  )","v":0},{"$f":"IF($Z$1<12,0,\n    SUMIFS(\n      'Budget détaillé'!$AY$12:INDEX('Budget détaillé'!$AY:$AY, $Z$1),\n      'Budget détaillé'!$F$12:INDEX('Budget détaillé'!$F:$F, $Z$1), A78,\n      'Budget détaillé'!$A$12:INDEX('Budget détaillé'!$A:$A, $Z$1), \"Coût\"\n    )\n  )","v":0},{"$f":"IF($Z$1<12,0,\n    SUMIFS(\n      'Budget détaillé'!$BL$12:INDEX('Budget détaillé'!$BL:$BL, $Z$1),\n      'Budget détaillé'!$F$12:INDEX('Budget détaillé'!$F:$F, $Z$1), A78,\n      'Budget détaillé'!$A$12:INDEX('Budget détaillé'!$A:$A, $Z$1), \"Coût\"\n    )\n  )","v":0},{"$f":"IF($Z$1<12,0,\n    SUMIFS(\n      'Budget détaillé'!$BY$12:INDEX('Budget détaillé'!$BY:$BY, $Z$1),\n      'Budget détaillé'!$F$12:INDEX('Budget détaillé'!$F:$F, $Z$1), A78,\n      'Budget détaillé'!$A$12:INDEX('Budget détaillé'!$A:$A, $Z$1), \"Coût\"\n    )\n  )","v":0},{"$f":"SUM(B78:F78)","v":0},"",{"$f":"_xlfn.LET(\n_xlpm.x,IF($Z$1<12,0,\n    SUMIFS(\n      'Budget détaillé'!$BZ$12:INDEX('Budget détaillé'!$BZ:$BZ,$Z$1),\n      'Budget détaillé'!$F$12:INDEX('Budget détaillé'!$F:$F,$Z$1),A78,\n      'Budget détaillé'!$A$12:INDEX('Budget détaillé'!$A:$A,$Z$1),\"Coût\"\n    )\n),\nIF(_xlpm.x=G78,\"OK\",\"Vérifier\")\n)","v":"OK"}]
["CDC",{"$f":"IF($Z$1<12,0,\n    SUMIFS(\n      'Budget détaillé'!$Y$12:INDEX('Budget détaillé'!$Y:$Y, $Z$1),\n      'Budget détaillé'!$F$12:INDEX('Budget détaillé'!$F:$F, $Z$1), A79,\n      'Budget détaillé'!$A$12:INDEX('Budget détaillé'!$A:$A, $Z$1), \"Coût\"\n    )\n  )","v":0},{"$f":"IF($Z$1<12,0,\n    SUMIFS(\n      'Budget détaillé'!$AL$12:INDEX('Budget détaillé'!$AL:$AL, $Z$1),\n      'Budget détaillé'!$F$12:INDEX('Budget détaillé'!$F:$F, $Z$1), A79,\n      'Budget détaillé'!$A$12:INDEX('Budget détaillé'!$A:$A, $Z$1), \"Coût\"\n    )\n  )","v":0},{"$f":"IF($Z$1<12,0,\n    SUMIFS(\n      'Budget détaillé'!$AY$12:INDEX('Budget détaillé'!$AY:$AY, $Z$1),\n      'Budget détaillé'!$F$12:INDEX('Budget détaillé'!$F:$F, $Z$1), A79,\n      'Budget détaillé'!$A$12:INDEX('Budget détaillé'!$A:$A, $Z$1), \"Coût\"\n    )\n  )","v":0},{"$f":"IF($Z$1<12,0,\n    SUMIFS(\n      'Budget détaillé'!$BL$12:INDEX('Budget détaillé'!$BL:$BL, $Z$1),\n      'Budget détaillé'!$F$12:INDEX('Budget détaillé'!$F:$F, $Z$1), A79,\n      'Budget détaillé'!$A$12:INDEX('Budget détaillé'!$A:$A, $Z$1), \"Coût\"\n    )\n  )","v":0},{"$f":"IF($Z$1<12,0,\n    SUMIFS(\n      'Budget détaillé'!$BY$12:INDEX('Budget détaillé'!$BY:$BY, $Z$1),\n      'Budget détaillé'!$F$12:INDEX('Budget détaillé'!$F:$F, $Z$1), A79,\n      'Budget détaillé'!$A$12:INDEX('Budget détaillé'!$A:$A, $Z$1), \"Coût\"\n    )\n  )","v":0},{"$f":"SUM(B79:F79)","v":0},"",{"$f":"_xlfn.LET(\n_xlpm.x,IF($Z$1<12,0,\n    SUMIFS(\n      'Budget détaillé'!$BZ$12:INDEX('Budget détaillé'!$BZ:$BZ,$Z$1),\n      'Budget détaillé'!$F$12:INDEX('Budget détaillé'!$F:$F,$Z$1),A79,\n      'Budget détaillé'!$A$12:INDEX('Budget détaillé'!$A:$A,$Z$1),\"Coût\"\n    )\n),\nIF(_xlpm.x=G79,\"OK\",\"Vérifier\")\n)","v":"OK"}]
["Fondation CDC",{"$f":"IF($Z$1<12,0,\n    SUMIFS(\n      'Budget détaillé'!$Y$12:INDEX('Budget détaillé'!$Y:$Y, $Z$1),\n      'Budget détaillé'!$F$12:INDEX('Budget détaillé'!$F:$F, $Z$1), A80,\n      'Budget détaillé'!$A$12:INDEX('Budget détaillé'!$A:$A, $Z$1), \"Coût\"\n    )\n  )","v":0},{"$f":"IF($Z$1<12,0,\n    SUMIFS(\n      'Budget détaillé'!$AL$12:INDEX('Budget détaillé'!$AL:$AL, $Z$1),\n      'Budget détaillé'!$F$12:INDEX('Budget détaillé'!$F:$F, $Z$1), A80,\n      'Budget détaillé'!$A$12:INDEX('Budget détaillé'!$A:$A, $Z$1), \"Coût\"\n    )\n  )","v":0},{"$f":"IF($Z$1<12,0,\n    SUMIFS(\n      'Budget détaillé'!$AY$12:INDEX('Budget détaillé'!$AY:$AY, $Z$1),\n      'Budget détaillé'!$F$12:INDEX('Budget détaillé'!$F:$F, $Z$1), A80,\n      'Budget détaillé'!$A$12:INDEX('Budget détaillé'!$A:$A, $Z$1), \"Coût\"\n    )\n  )","v":0},{"$f":"IF($Z$1<12,0,\n    SUMIFS(\n      'Budget détaillé'!$BL$12:INDEX('Budget détaillé'!$BL:$BL, $Z$1),\n      'Budget détaillé'!$F$12:INDEX('Budget détaillé'!$F:$F, $Z$1), A80,\n      'Budget détaillé'!$A$12:INDEX('Budget détaillé'!$A:$A, $Z$1), \"Coût\"\n    )\n  )","v":0},{"$f":"IF($Z$1<12,0,\n    SUMIFS(\n      'Budget détaillé'!$BY$12:INDEX('Budget détaillé'!$BY:$BY, $Z$1),\n      'Budget détaillé'!$F$12:INDEX('Budget détaillé'!$F:$F, $Z$1), A80,\n      'Budget détaillé'!$A$12:INDEX('Budget détaillé'!$A:$A, $Z$1), \"Coût\"\n    )\n  )","v":0},{"$f":"SUM(B80:F80)","v":0},"",{"$f":"_xlfn.LET(\n_xlpm.x,IF($Z$1<12,0,\n    SUMIFS(\n      'Budget détaillé'!$BZ$12:INDEX('Budget détaillé'!$BZ:$BZ,$Z$1),\n      'Budget détaillé'!$F$12:INDEX('Budget détaillé'!$F:$F,$Z$1),A80,\n      'Budget détaillé'!$A$12:INDEX('Budget détaillé'!$A:$A,$Z$1),\"Coût\"\n    )\n),\nIF(_xlpm.x=G80,\"OK\",\"Vérifier\")\n)","v":"OK"}]
["Banque mondiale",{"$f":"IF($Z$1<12,0,\n    SUMIFS(\n      'Budget détaillé'!$Y$12:INDEX('Budget détaillé'!$Y:$Y, $Z$1),\n      'Budget détaillé'!$F$12:INDEX('Budget détaillé'!$F:$F, $Z$1), A81,\n      'Budget détaillé'!$A$12:INDEX('Budget détaillé'!$A:$A, $Z$1), \"Coût\"\n    )\n  )","v":0},{"$f":"IF($Z$1<12,0,\n    SUMIFS(\n      'Budget détaillé'!$AL$12:INDEX('Budget détaillé'!$AL:$AL, $Z$1),\n      'Budget détaillé'!$F$12:INDEX('Budget détaillé'!$F:$F, $Z$1), A81,\n      'Budget détaillé'!$A$12:INDEX('Budget détaillé'!$A:$A, $Z$1), \"Coût\"\n    )\n  )","v":0},{"$f":"IF($Z$1<12,0,\n    SUMIFS(\n      'Budget détaillé'!$AY$12:INDEX('Budget détaillé'!$AY:$AY, $Z$1),\n      'Budget détaillé'!$F$12:INDEX('Budget détaillé'!$F:$F, $Z$1), A81,\n      'Budget détaillé'!$A$12:INDEX('Budget détaillé'!$A:$A, $Z$1), \"Coût\"\n    )\n  )","v":0},{"$f":"IF($Z$1<12,0,\n    SUMIFS(\n      'Budget détaillé'!$BL$12:INDEX('Budget détaillé'!$BL:$BL, $Z$1),\n      'Budget détaillé'!$F$12:INDEX('Budget détaillé'!$F:$F, $Z$1), A81,\n      'Budget détaillé'!$A$12:INDEX('Budget détaillé'!$A:$A, $Z$1), \"Coût\"\n    )\n  )","v":0},{"$f":"IF($Z$1<12,0,\n    SUMIFS(\n      'Budget détaillé'!$BY$12:INDEX('Budget détaillé'!$BY:$BY, $Z$1),\n      'Budget détaillé'!$F$12:INDEX('Budget détaillé'!$F:$F, $Z$1), A81,\n      'Budget détaillé'!$A$12:INDEX('Budget détaillé'!$A:$A, $Z$1), \"Coût\"\n    )\n  )","v":0},0,"",{"$f":"_xlfn.LET(\n_xlpm.x,IF($Z$1<12,0,\n    SUMIFS(\n      'Budget détaillé'!$BZ$12:INDEX('Budget détaillé'!$BZ:$BZ,$Z$1),\n      'Budget détaillé'!$F$12:INDEX('Budget détaillé'!$F:$F,$Z$1),A81,\n      'Budget détaillé'!$A$12:INDEX('Budget détaillé'!$A:$A,$Z$1),\"Coût\"\n    )\n),\nIF(_xlpm.x=G81,\"OK\",\"Vérifier\")\n)","v":"OK"}]
["TBD",{"$f":"IF($Z$1<12,0,\n    SUMIFS(\n      'Budget détaillé'!$Y$12:INDEX('Budget détaillé'!$Y:$Y, $Z$1),\n      'Budget détaillé'!$F$12:INDEX('Budget détaillé'!$F:$F, $Z$1), A82,\n      'Budget détaillé'!$A$12:INDEX('Budget détaillé'!$A:$A, $Z$1), \"Coût\"\n    )\n  )","v":0},{"$f":"IF($Z$1<12,0,\n    SUMIFS(\n      'Budget détaillé'!$AL$12:INDEX('Budget détaillé'!$AL:$AL, $Z$1),\n      'Budget détaillé'!$F$12:INDEX('Budget détaillé'!$F:$F, $Z$1), A82,\n      'Budget détaillé'!$A$12:INDEX('Budget détaillé'!$A:$A, $Z$1), \"Coût\"\n    )\n  )","v":0},{"$f":"IF($Z$1<12,0,\n    SUMIFS(\n      'Budget détaillé'!$AY$12:INDEX('Budget détaillé'!$AY:$AY, $Z$1),\n      'Budget détaillé'!$F$12:INDEX('Budget détaillé'!$F:$F, $Z$1), A82,\n      'Budget détaillé'!$A$12:INDEX('Budget détaillé'!$A:$A, $Z$1), \"Coût\"\n    )\n  )","v":0},{"$f":"IF($Z$1<12,0,\n    SUMIFS(\n      'Budget détaillé'!$BL$12:INDEX('Budget détaillé'!$BL:$BL, $Z$1),\n      'Budget détaillé'!$F$12:INDEX('Budget détaillé'!$F:$F, $Z$1), A82,\n      'Budget détaillé'!$A$12:INDEX('Budget détaillé'!$A:$A, $Z$1), \"Coût\"\n    )\n  )","v":0},{"$f":"IF($Z$1<12,0,\n    SUMIFS(\n      'Budget détaillé'!$BY$12:INDEX('Budget détaillé'!$BY:$BY, $Z$1),\n      'Budget détaillé'!$F$12:INDEX('Budget détaillé'!$F:$F, $Z$1), A82,\n      'Budget détaillé'!$A$12:INDEX('Budget détaillé'!$A:$A, $Z$1), \"Coût\"\n    )\n  )","v":0},0,"",{"$f":"_xlfn.LET(\n_xlpm.x,IF($Z$1<12,0,\n    SUMIFS(\n      'Budget détaillé'!$BZ$12:INDEX('Budget détaillé'!$BZ:$BZ,$Z$1),\n      'Budget détaillé'!$F$12:INDEX('Budget détaillé'!$F:$F,$Z$1),A82,\n      'Budget détaillé'!$A$12:INDEX('Budget détaillé'!$A:$A,$Z$1),\"Coût\"\n    )\n),\nIF(_xlpm.x=G82,\"OK\",\"Vérifier\")\n)","v":"OK"}]
["Total",{"$f":"SUM(B75:B82)","v":0},{"$f":"SUM(C75:C82)","v":0},0,0,0,0,""]
[null,null,null,null,null,null,{"$f":"IF(G83<=Subvention!C21,\"OK\",\"Vérifier\")","v":"OK"}]

{"sheet":"Budget détaillé","index":6,"n_rows":265,"n_cols":79,"rows_kept":265,"cut":false,"hidden":true,"merged":[[9,6,9,8]]}
[]
[]
[]
[]
[null,null,null,"Total disponible",{"$f":"Subvention!$C$21","v":0},null,null,null,null,null,null,null,null,null,{"$f":"O11","v":"Trimestre 1 1900"},null,null,{"$f":"R11","v":"Trimestre 2 1900"},null,null,{"$f":"U11","v":"Trimestre 3 1900"},null,null,{"$f":"X11","v":"Trimestre 4 1900"},{"$f":"Y11","v":"Année 1 "},null,null,{"$f":"AB11","v":"Trimestre 1 1901"},null,null,{"$f":"AE11","v":"Trimestre 2 1901"},null,null,{"$f":"AH11","v":"Trimestre 3 1901"},null,null,{"$f":"AK11","v":"Trimestre 4 1901"},{"$f":"AL11","v":"Année 2"},null,null,{"$f":"AO11","v":"Trimestre 1 1902"},null,null,{"$f":"AR11","v":"Trimestre 2 1902"},null,null,{"$f":"AU11","v":"Trimestre 3 1902"},null,null,{"$f":"AX11","v":"Trimestre 4 1902"},{"$f":"AY11","v":"Année 3"},null,null,{"$f":"BB11","v":"Trimestre 1 1903"},null,null,{"$f":"BE11","v":"Trimestre 2 1903"},null,null,{"$f":"BH11","v":"Trimestre 3 1903"},null,null,{"$f":"BK11","v":"Trimestre 4 1903"},{"$f":"BL11","v":"Année 4"},null,null,{"$f":"BO11","v":"Trimestre 1 1904"},null,null,{"$f":"BR11","v":"Trimestre 2 1904"},null,null,{"$f":"BU11","v":"Trimestre 3 1904"},null,null,{"$f":"BX11","v":"Trimestre 4 1904"},{"$f":"BY11","v":"Année 5"},"Budget total sur 5 ans"]
[null,null,null,"Montant total budgété",{"$f":"$BZ$9","v":0},null,null,null,null,null,"Date de début pour chaque année",{"$f":"Subvention!C11","v":"00:00:00"},null,null,{"$f":"L6","v":"00:00:00"},null,null,{"$f":"L6","v":"00:00:00"},null,null,{"$f":"R7+1","v":"1900-06-30"},null,null,{"$f":"R7+1","v":"1900-06-30"},{"$f":"O6","v":"00:00:00"},null,null,{"$f":"X7+1","v":"1900-12-30"},null,null,{"$f":"Y7+1","v":"1900-12-30"},null,null,{"$f":"AE7+1","v":"1901-06-30"},null,null,{"$f":"AE7+1","v":"1901-06-30"},{"$f":"AB6","v":"1900-12-30"},null,null,{"$f":"AK7+1","v":"1901-12-30"},null,null,{"$f":"AL7+1","v":"1901-12-30"},null,null,{"$f":"AR7+1","v":"1902-06-30"},null,null,{"$f":"AR7+1","v":"1902-06-30"},{"$f":"AO6","v":"1901-12-30"},null,null,{"$f":"AX7+1","v":"1902-12-30"},null,null,{"$f":"AY7+1","v":"1902-12-30"},null,null,{"$f":"BE7+1","v":"1903-06-30"},null,null,{"$f":"BE7+1","v":"1903-06-30"},{"$f":"BB6","v":"1902-12-30"},null,null,{"$f":"BK7+1","v":"1903-09-30"},null,null,{"$f":"BO7+1","v":"1903-12-30"},null,null,{"$f":"BR7+1","v":"1904-06-30"},null,null,{"$f":"BR7+1","v":"1904-06-30"},{"$f":"BR6","v":"1903-12-30"},{"$f":"L6","v":"00:00:00"}]
[null,null,"Apparel","Ecart",{"$f":"$E$5-$E$6","v":0},null,"Placeholder",null,null,null,"Date de fin pour chaque année",{"$f":"Subvention!C12","v":"00:00:00"},null,null,{"$f":"EDATE(O6,3)-1","v":"1900-03-30"},null,null,{"$f":"EDATE(R6,6)-1","v":"1900-06-29"},null,null,{"$f":"EDATE(U6,3)-1","v":"1900-09-29"},null,null,{"$f":"EDATE(X6,6)-1","v":"1900-12-29"},{"$f":"X7","v":"1900-12-29"},null,null,{"$f":"EDATE(AB6,3)-1","v":"1901-03-29"},null,null,{"$f":"EDATE(AE6,6)-1","v":"1901-06-29"},null,null,{"$f":"EDATE(AH6,3)-1","v":"1901-09-29"},null,null,{"$f":"EDATE(AK6,6)-1","v":"1901-12-29"},{"$f":"AK7","v":"1901-12-29"},null,null,{"$f":"EDATE(AO6,3)-1","v":"1902-03-29"},null,null,{"$f":"EDATE(AR6,6)-1","v":"1902-06-29"},null,null,{"$f":"EDATE(AU6,3)-1","v":"1902-09-29"},null,null,{"$f":"EDATE(AX6,6)-1","v":"1902-12-29"},{"$f":"AX7","v":"1902-12-29"},null,null,{"$f":"EDATE(BB6,3)-1","v":"1903-03-29"},null,null,{"$f":"EDATE(BE6,6)-1","v":"1903-06-29"},null,null,{"$f":"EDATE(BH6,3)-1","v":"1903-09-29"},null,null,{"$f":"EDATE(BK6,3)-1","v":"1903-09-29"},{"$f":"BK7","v":"1903-09-29"},null,null,{"$f":"EDATE(BO6,3)-1","v":"1903-12-29"},null,null,{"$f":"EDATE(BR6,6)-1","v":"1904-06-29"},null,null,{"$f":"EDATE(BU6,3)-1","v":"1904-09-29"},null,null,{"$f":"EDATE(BX6,6)-1","v":"1904-12-29"},{"$f":"BX7","v":"1904-12-29"},{"$f":"L7","v":"00:00:00"}]
[null,null,null,null,{"$f":"IF($E$7>0,\"Dans le budget\",\"Dépassement budgétaire\")","v":"Dépassement budgétaire"}]
[null,null,null,null,null,null,null,null,null,null,null,null,null,null,{"$f":"SUMIF($A$12:$A$951,\"Activité\",O12:O951)","v":0},null,null,{"$f":"SUMIF($A$12:$A$951,\"Activité\",R12:R951)","v":0},null,null,{"$f":"SUMIF($A$12:$A$951,\"Activité\",U12:U951)","v":0},null,null,{"$f":"SUMIF($A$12:$A$951,\"Activité\",X12:X951)","v":0},{"$f":"SUMIF($A$12:$A$951,\"Activité\",Y12:Y951)","v":0},null,null,{"$f":"SUMIF($A$12:$A$951,\"Activité\",AB12:AB951)","v":0},null,null,{"$f":"SUMIF($A$12:$A$951,\"Activité\",AE12:AE951)","v":0},null,null,{"$f":"SUMIF($A$12:$A$951,\"Activité\",AH12:AH951)","v":0},null,null,{"$f":"SUMIF($A$12:$A$951,\"Activité\",AK12:AK951)","v":0},{"$f":"SUMIF($A$12:$A$951,\"Activité\",AL12:AL951)","v":0},null,null,{"$f":"SUMIF($A$12:$A$951,\"Activité\",AO12:AO951)","v":0},null,null,{"$f":"SUMIF($A$12:$A$951,\"Activité\",AR12:AR951)","v":0},null,null,{"$f":"SUMIF($A$12:$A$951,\"Activité\",AU12:AU951)","v":0},null,null,{"$f":"SUMIF($A$12:$A$951,\"Activité\",AX12:AX951)","v":0},{"$f":"SUMIF($A$12:$A$951,\"Activité\",AY12:AY951)","v":0},null,null,{"$f":"SUMIF($A$12:$A$951,\"Activité\",BB12:BB951)","v":0},null,null,{"$f":"SUMIF($A$12:$A$951,\"Activité\",BE12:BE951)","v":0},null,null,{"$f":"SUMIF($A$12:$A$951,\"Activité\",BH12:BH951)","v":0},null,null,{"$f":"SUMIF($A$12:$A$951,\"Activité\",BK12:BK951)","v":0},{"$f":"SUMIF($A$12:$A$951,\"Activité\",BL12:BL951)","v":0},null,null,{"$f":"SUMIF($A$12:$A$951,\"Activité\",BO12:BO951)","v":0},null,null,{"$f":"SUMIF($A$12:$A$951,\"Activité\",BR12:BR951)","v":0},null,null,{"$f":"SUMIF($A$12:$A$951,\"Activité\",BU12:BU951)","v":0},null,null,{"$f":"SUMIF($A$12:$A$951,\"Activité\",BX12:BX951)","v":0},{"$f":"SUMIF($A$12:$A$951,\"Activité\",BY12:BY951)","v":0},{"$f":"SUMIF($A$12:$A$951,\"Activité\",BZ12:BZ951)","v":0}]
[null,null,null,null,null,null,"Dimensions programmatiques"]
["Détail","Ref. n°","Description de l'activité","Type de partenaire","Canal de financement CSO","Décaissement de GAVI","Objectifs stratégiques","Domaines d'investissement","Marquage","Réf. Ligne de coût","Description des coûts","Catégorie de coût","Prix unitaire","Quantité",{"$f":"\"Trimestre 1\" & \" \" & YEAR(L6)","v":"Trimestre 1 1900"},"Prix unitaire","Quantité",{"$f":"\"Trimestre 2\" & \" \" & YEAR(L6)","v":"Trimestre 2 1900"},"Prix unitaire","Quantité",{"$f":"\"Trimestre 3\" & \" \" & YEAR(L6)","v":"Trimestre 3 1900"},"Prix unitaire","Quantité",{"$f":"\"Trimestre 4\" & \" \" & YEAR(L6)","v":"Trimestre 4 1900"},"Année 1 ","Prix unitaire","Quantité",{"$f":"\"Trimestre 1\" & \" \" & (YEAR(L6)+1)","v":"Trimestre 1 1901"},"Prix unitaire","Quantité",{"$f":"\"Trimestre 2\" & \" \" & (YEAR(L6)+1)","v":"Trimestre 2 1901"},"Prix unitaire","Quantité",{"$f":"\"Trimestre 3\" & \" \" & (YEAR(L6)+1)","v":"Trimestre 3 1901"},"Prix unitaire","Quantité",{"$f":"\"Trimestre 4\" & \" \" & (YEAR(L6)+1)","v":"Trimestre 4 1901"},"Année 2","Prix unitaire","Quantité",{"$f":"\"Trimestre 1\" & \" \" & (YEAR(L6)+2)","v":"Trimestre 1 1902"},"Prix unitaire","Quantité",{"$f":"\"Trimestre 2\" & \" \" & (YEAR(L6)+2)","v":"Trimestre 2 1902"},"Prix unitaire","Quantité",{"$f":"\"Trimestre 3\" & \" \" & (YEAR(L6)+2)","v":"Trimestre 3 1902"},"Prix unitaire","Quantité",{"$f":"\"Trimestre 4\" & \" \" & (YEAR(L6)+2)","v":"Trimestre 4 1902"},"Année 3","Prix unitaire","Quantité",{"$f":"\"Trimestre 1\" & \" \" & (YEAR(L6)+3)","v":"Trimestre 1 1903"},"Prix unitaire","Quantité",{"$f":"\"Trimestre 2\" & \" \" & (YEAR(L6)+3)","v":"Trimestre 2 1903"},"Prix unitaire","Quantité",{"$f":"\"Trimestre 3\" & \" \" & (YEAR(L6)+3)","v":"Trimestre 3 1903"},"Prix unitaire","Quantité",{"$f":"\"Trimestre 4\" & \" \" & (YEAR(L6)+3)","v":"Trimestre 4 1903"},"Année 4","Prix unitaire","Quantité",{"$f":"\"Trimestre 1\" & \" \" & (YEAR(L6)+4)","v":"Trimestre 1 1904"},"Prix unitaire","Quantité",{"$f":"\"Trimestre 2\" & \" \" & (YEAR(L6)+4)","v":"Trimestre 2 1904"},"Prix unitaire","Quantité",{"$f":"\"Trimestre 3\" & \" \" & (YEAR(L6)+4)","v":"Trimestre 3 1904"},"Prix unitaire","Quantité",{"$f":"\"Trimestre 4\" & \" \" & (YEAR(L6)+4)","v":"Trimestre 4 1904"},"Année 5","Total","Hypothèses budgétaires"]
[null,{"$f":"IF(A12 =\"Activité\",1,\"\")","v":""}]
["Activité",{"$f":"IF(A13=\"Activité\",MAX($B$12:B12)+1,\"\")","v":1},null,null,null,null,null,null,null,{"$f":"B13","v":1},{"$f":"IF(A13=\"Activité\",\"Veuillez trouver les détails ci-dessous\",\"\")","v":"Veuillez trouver les détails ci-dessous"},null,null,null,{"$f":"SUM(O14:O16)","v":0},null,null,{"$f":"SUM(R14:R16)","v":0},null,null,{"$f":"SUM(U14:U16)","v":0},null,null,{"$f":"SUM(X14:X16)","v":0},{"$f":"SUM(Y14:Y16)","v":0},null,null,{"$f":"SUM(AB14:AB16)","v":0},null,null,{"$f":"SUM(AE14:AE16)","v":0},null,null,{"$f":"SUM(AH14:AH16)","v":0},null,null,{"$f":"SUM(AK14:AK16)","v":0},{"$f":"SUM(AL14:AL16)","v":0},null,null,{"$f":"SUM(AO14:AO16)","v":0},null,null,{"$f":"SUM(AR14:AR16)","v":0},null,null,{"$f":"SUM(AU14:AU16)","v":0},null,null,{"$f":"SUM(AX14:AX16)","v":0},{"$f":"SUM(AY14:AY16)","v":0},null,null,{"$f":"SUM(BB14:BB16)","v":0},null,null,{"$f":"SUM(BE14:BE16)","v":0},null,null,{"$f":"SUM(BH14:BH16)","v":0},null,null,{"$f":"SUM(BK14:BK16)","v":0},{"$f":"SUM(BL14:BL16)","v":0},null,null,{"$f":"SUM(BO14:BO16)","v":0},null,null,{"$f":"SUM(BR14:BR16)","v":0},null,null,{"$f":"SUM(BU14:BU16)","v":0},null,null,{"$f":"SUM(BX14:BX16)","v":0},{"$f":"SUM(BY14:BY16)","v":0},{"$f":"Y13+AL13+AY13+BL13+BY13","v":0}]
["Coût",{"$f":"IF(A14=\"Activité\",MAX($B$12:B13)+1,\"\")","v":""},{"$f":"C13","v":0},null,null,null,{"$f":"G13","v":0},{"$f":"H13","v":0},null,null,null,null,null,null,{"$f":"M14*N14","v":0},null,null,{"$f":"P14*Q14","v":0},null,null,{"$f":"S14*T14","v":0},null,null,{"$f":"V14*W14","v":0},{"$f":"SUM(O14,R14,U14,X14)","v":0},null,null,{"$f":"Z14*AA14","v":0},null,null,{"$f":"AC14*AD14","v":0},null,null,{"$f":"AF14*AG14","v":0},null,null,{"$f":"AI14*AJ14","v":0},{"$f":"SUM(AB14,AE14,AH14,AK14)","v":0},null,null,{"$f":"AM14*AN14","v":0},null,null,{"$f":"AP14*AQ14","v":0},null,null,{"$f":"AS14*AT14","v":0},null,null,{"$f":"AV14*AW14","v":0},{"$f":"SUM(AO14,AR14,AU14,AX14)","v":0},null,null,{"$f":"AZ14*BA14","v":0},null,null,{"$f":"BC14*BD14","v":0},null,null,{"$f":"BF14*BG14","v":0},null,null,{"$f":"BI14*BJ14","v":0},{"$f":"SUM(BB14,BE14,BH14,BK14)","v":0},null,null,{"$f":"BM14*BN14","v":0},null,null,{"$f":"BP14*BQ14","v":0},null,null,{"$f":"BS14*BT14","v":0},null,null,{"$f":"BV14*BW14","v":0},{"$f":"SUM(BO14,BR14,BU14,BX14)","v":0},{"$f":"Y14+AL14+AY14+BL14+BY14","v":0}]
["Coût",{"$f":"IF(A15=\"Activité\",MAX($B$12:B14)+1,\"\")","v":""},{"$f":"C13","v":0},null,null,null,{"$f":"G13","v":0},{"$f":"H13","v":0},null,null,null,null,null,null,{"$f":"M15*N15","v":0},null,null,{"$f":"P15*Q15","v":0},null,null,{"$f":"S15*T15","v":0},null,null,{"$f":"V15*W15","v":0},{"$f":"SUM(O15,R15,U15,X15)","v":0},null,null,{"$f":"Z15*AA15","v":0},null,null,{"$f":"AC15*AD15","v":0},null,null,{"$f":"AF15*AG15","v":0},null,null,{"$f":"AI15*AJ15","v":0},{"$f":"SUM(AB15,AE15,AH15,AK15)","v":0},null,null,{"$f":"AM15*AN15","v":0},null,null,{"$f":"AP15*AQ15","v":0},null,null,{"$f":"AS15*AT15","v":0},null,null,{"$f":"AV15*AW15","v":0},{"$f":"SUM(AO15,AR15,AU15,AX15)","v":0},null,null,{"$f":"AZ15*BA15","v":0},null,null,{"$f":"BC15*BD15","v":0},null,null,{"$f":"BF15*BG15","v":0},null,null,{"$f":"BI15*BJ15","v":0},{"$f":"SUM(BB15,BE15,BH15,BK15)","v":0},null,null,{"$f":"BM15*BN15","v":0},null,null,{"$f":"BP15*BQ15","v":0},null,null,{"$f":"BS15*BT15","v":0},null,null,{"$f":"BV15*BW15","v":0},{"$f":"SUM(BO15,BR15,BU15,BX15)","v":0},{"$f":"Y15+AL15+AY15+BL15+BY15","v":0}]
["Coût",{"$f":"IF(A16=\"Activité\",MAX($B$12:B15)+1,\"\")","v":""},{"$f":"C13","v":0},null,null,null,{"$f":"G13","v":0},{"$f":"H13","v":0},null,null,null,null,null,null,{"$f":"M16*N16","v":0},null,null,{"$f":"P16*Q16","v":0},null,null,{"$f":"S16*T16","v":0},null,null,{"$f":"V16*W16","v":0},{"$f":"SUM(O16,R16,U16,X16)","v":0},null,null,{"$f":"Z16*AA16","v":0},null,null,{"$f":"AC16*AD16","v":0},null,null,{"$f":"AF16*AG16","v":0},null,null,{"$f":"AI16*AJ16","v":0},{"$f":"SUM(AB16,AE16,AH16,AK16)","v":0},null,null,{"$f":"AM16*AN16","v":0},null,null,{"$f":"AP16*AQ16","v":0},null,null,{"$f":"AS16*AT16","v":0},null,null,{"$f":"AV16*AW16","v":0},{"$f":"SUM(AO16,AR16,AU16,AX16)","v":0},null,null,{"$f":"AZ16*BA16","v":0},null,null,{"$f":"BC16*BD16","v":0},null,null,{"$f":"BF16*BG16","v":0},null,null,{"$f":"BI16*BJ16","v":0},{"$f":"SUM(BB16,BE16,BH16,BK16)","v":0},null,null,{"$f":"BM16*BN16","v":0},null,null,{"$f":"BP16*BQ16","v":0},null,null,{"$f":"BS16*BT16","v":0},null,null,{"$f":"BV16*BW16","v":0},{"$f":"SUM(BO16,BR16,BU16,BX16)","v":0},{"$f":"Y16+AL16+AY16+BL16+BY16","v":0}]
[null,{"$f":"IF(A17=\"Activité\",MAX($B$12:B16)+1,\"\")","v":""}]
["Activité",{"$f":"IF(A18=\"Activité\",MAX($B$12:B17)+1,\"\")","v":2},null,null,null,null,null,null,null,{"$f":"B18","v":2},{"$f":"IF(A18=\"Activité\",\"Veuillez trouver les détails ci-dessous\",\"\")","v":"Veuillez trouver les détails ci-dessous"},null,null,null,{"$f":"SUM(O19:O21)","v":0},null,null,{"$f":"SUM(R19:R21)","v":0},null,null,{"$f":"SUM(U19:U21)","v":0},null,null,{"$f":"SUM(X19:X21)","v":0},{"$f":"SUM(Y19:Y21)","v":0},null,null,{"$f":"SUM(AB19:AB21)","v":0},null,null,{"$f":"SUM(AE19:AE21)","v":0},null,null,{"$f":"SUM(AH19:AH21)","v":0},null,null,{"$f":"SUM(AK19:AK21)","v":0},{"$f":"SUM(AL19:AL21)","v":0},null,null,{"$f":"SUM(AO19:AO21)","v":0},null,null,{"$f":"SUM(AR19:AR21)","v":0},null,null,{"$f":"SUM(AU19:AU21)","v":0},null,null,{"$f":"SUM(AX19:AX21)","v":0},{"$f":"SUM(AY19:AY21)","v":0},null,null,{"$f":"SUM(BB19:BB21)","v":0},null,null,{"$f":"SUM(BE19:BE21)","v":0},null,null,{"$f":"SUM(BH19:BH21)","v":0},null,null,{"$f":"SUM(BK19:BK21)","v":0},{"$f":"SUM(BL19:BL21)","v":0},null,null,{"$f":"SUM(BO19:BO21)","v":0},null,null,{"$f":"SUM(BR19:BR21)","v":0},null,null,{"$f":"SUM(BU19:BU21)","v":0},null,null,{"$f":"SUM(BX19:BX21)","v":0},{"$f":"SUM(BY19:BY21)","v":0},{"$f":"Y18+AL18+AY18+BL18+BY18","v":0}]
["Coût",{"$f":"IF(A19=\"Activité\",MAX($B$12:B18)+1,\"\")","v":""},{"$f":"C18","v":0},null,null,null,{"$f":"G18","v":0},{"$f":"H18","v":0},null,null,null,null,null,null,{"$f":"M19*N19","v":0},null,null,{"$f":"P19*Q19","v":0},null,null,{"$f":"S19*T19","v":0},null,null,{"$f":"V19*W19","v":0},{"$f":"SUM(O19,R19,U19,X19)","v":0},null,null,{"$f":"Z19*AA19","v":0},null,null,{"$f":"AC19*AD19","v":0},null,null,{"$f":"AF19*AG19","v":0},null,null,{"$f":"AI19*AJ19","v":0},{"$f":"SUM(AB19,AE19,AH19,AK19)","v":0},null,null,{"$f":"AM19*AN19","v":0},null,null,{"$f":"AP19*AQ19","v":0},null,null,{"$f":"AS19*AT19","v":0},null,null,{"$f":"AV19*AW19","v":0},{"$f":"SUM(AO19,AR19,AU19,AX19)","v":0},null,null,{"$f":"AZ19*BA19","v":0},null,null,{"$f":"BC19*BD19","v":0},null,null,{"$f":"BF19*BG19","v":0},null,null,{"$f":"BI19*BJ19","v":0},{"$f":"SUM(BB19,BE19,BH19,BK19)","v":0},null,null,{"$f":"BM19*BN19","v":0},null,null,{"$f":"BP19*BQ19","v":0},null,null,{"$f":"BS19*BT19","v":0},null,null,{"$f":"BV19*BW19","v":0},{"$f":"SUM(BO19,BR19,BU19,BX19)","v":0},{"$f":"Y19+AL19+AY19+BL19+BY19","v":0}]
["Coût",{"$f":"IF(A20=\"Activité\",MAX($B$12:B19)+1,\"\")","v":""},{"$f":"C18","v":0},null,null,null,{"$f":"G18","v":0},{"$f":"H18","v":0},null,null,null,null,null,null,{"$f":"M20*N20","v":0},null,null,{"$f":"P20*Q20","v":0},null,null,{"$f":"S20*T20","v":0},null,null,{"$f":"V20*W20","v":0},{"$f":"SUM(O20,R20,U20,X20)","v":0},null,null,{"$f":"Z20*AA20","v":0},null,null,{"$f":"AC20*AD20","v":0},null,null,{"$f":"AF20*AG20","v":0},null,null,{"$f":"AI20*AJ20","v":0},{"$f":"SUM(AB20,AE20,AH20,AK20)","v":0},null,null,{"$f":"AM20*AN20","v":0},null,null,{"$f":"AP20*AQ20","v":0},null,null,{"$f":"AS20*AT20","v":0},null,null,{"$f":"AV20*AW20","v":0},{"$f":"SUM(AO20,AR20,AU20,AX20)","v":0},null,null,{"$f":"AZ20*BA20","v":0},null,null,{"$f":"BC20*BD20","v":0},null,null,{"$f":"BF20*BG20","v":0},null,null,{"$f":"BI20*BJ20","v":0},{"$f":"SUM(BB20,BE20,BH20,BK20)","v":0},null,null,{"$f":"BM20*BN20","v":0},null,null,{"$f":"BP20*BQ20","v":0},null,null,{"$f":"BS20*BT20","v":0},null,null,{"$f":"BV20*BW20","v":0},{"$f":"SUM(BO20,BR20,BU20,BX20)","v":0},{"$f":"Y20+AL20+AY20+BL20+BY20","v":0}]
["Coût",{"$f":"IF(A21=\"Activité\",MAX($B$12:B20)+1,\"\")","v":""},{"$f":"C18","v":0},null,null,null,{"$f":"G18","v":0},{"$f":"H18","v":0},null,null,null,null,null,null,{"$f":"M21*N21","v":0},null,null,{"$f":"P21*Q21","v":0},null,null,{"$f":"S21*T21","v":0},null,null,{"$f":"V21*W21","v":0},{"$f":"SUM(O21,R21,U21,X21)","v":0},null,null,{"$f":"Z21*AA21","v":0},null,null,{"$f":"AC21*AD21","v":0},null,null,{"$f":"AF21*AG21","v":0},null,null,{"$f":"AI21*AJ21","v":0},{"$f":"SUM(AB21,AE21,AH21,AK21)","v":0},null,null,{"$f":"AM21*AN21","v":0},null,null,{"$f":"AP21*AQ21","v":0},null,null,{"$f":"AS21*AT21","v":0},null,null,{"$f":"AV21*AW21","v":0},{"$f":"SUM(AO21,AR21,AU21,AX21)","v":0},null,null,{"$f":"AZ21*BA21","v":0},null,null,{"$f":"BC21*BD21","v":0},null,null,{"$f":"BF21*BG21","v":0},null,null,{"$f":"BI21*BJ21","v":0},{"$f":"SUM(BB21,BE21,BH21,BK21)","v":0},null,null,{"$f":"BM21*BN21","v":0},null,null,{"$f":"BP21*BQ21","v":0},null,null,{"$f":"BS21*BT21","v":0},null,null,{"$f":"BV21*BW21","v":0},{"$f":"SUM(BO21,BR21,BU21,BX21)","v":0},{"$f":"Y21+AL21+AY21+BL21+BY21","v":0}]
[null,{"$f":"IF(A22=\"Activité\",MAX($B$12:B21)+1,\"\")","v":""}]
["Activité",{"$f":"IF(A23=\"Activité\",MAX($B$12:B22)+1,\"\")","v":3},null,null,null,null,null,null,null,{"$f":"B23","v":3},{"$f":"IF(A23=\"Activité\",\"Veuillez trouver les détails ci-dessous\",\"\")","v":"Veuillez trouver les détails ci-dessous"},null,null,null,{"$f":"SUM(O24:O26)","v":0},null,null,{"$f":"SUM(R24:R26)","v":0},null,null,{"$f":"SUM(U24:U26)","v":0},null,null,{"$f":"SUM(X24:X26)","v":0},{"$f":"SUM(Y24:Y26)","v":0},null,null,{"$f":"SUM(AB24:AB26)","v":0},null,null,{"$f":"SUM(AE24:AE26)","v":0},null,null,{"$f":"SUM(AH24:AH26)","v":0},null,null,{"$f":"SUM(AK24:AK26)","v":0},{"$f":"SUM(AL24:AL26)","v":0},null,null,{"$f":"SUM(AO24:AO26)","v":0},null,null,{"$f":"SUM(AR24:AR26)","v":0},null,null,{"$f":"SUM(AU24:AU26)","v":0},null,null,{"$f":"SUM(AX24:AX26)","v":0},{"$f":"SUM(AY24:AY26)","v":0},null,null,{"$f":"SUM(BB24:BB26)","v":0},null,null,{"$f":"SUM(BE24:BE26)","v":0},null,null,{"$f":"SUM(BH24:BH26)","v":0},null,null,{"$f":"SUM(BK24:BK26)","v":0},{"$f":"SUM(BL24:BL26)","v":0},null,null,{"$f":"SUM(BO24:BO26)","v":0},null,null,{"$f":"SUM(BR24:BR26)","v":0},null,null,{"$f":"SUM(BU24:BU26)","v":0},null,null,{"$f":"SUM(BX24:BX26)","v":0},{"$f":"SUM(BY24:BY26)","v":0},{"$f":"Y23+AL23+AY23+BL23+BY23","v":0}]
["Coût",{"$f":"IF(A24=\"Activité\",MAX($B$12:B23)+1,\"\")","v":""},{"$f":"C23","v":0},null,null,null,{"$f":"G23","v":0},{"$f":"H23","v":0},null,null,null,null,null,null,{"$f":"M24*N24","v":0},null,null,{"$f":"P24*Q24","v":0},null,null,{"$f":"S24*T24","v":0},null,null,{"$f":"V24*W24","v":0},{"$f":"SUM(O24,R24,U24,X24)","v":0},null,null,{"$f":"Z24*AA24","v":0},null,null,{"$f":"AC24*AD24","v":0},null,null,{"$f":"AF24*AG24","v":0},null,null,{"$f":"AI24*AJ24","v":0},{"$f":"SUM(AB24,AE24,AH24,AK24)","v":0},null,null,{"$f":"AM24*AN24","v":0},null,null,{"$f":"AP24*AQ24","v":0},null,null,{"$f":"AS24*AT24","v":0},null,null,{"$f":"AV24*AW24","v":0},{"$f":"SUM(AO24,AR24,AU24,AX24)","v":0},null,null,{"$f":"AZ24*BA24","v":0},null,null,{"$f":"BC24*BD24","v":0},null,null,{"$f":"BF24*BG24","v":0},null,null,{"$f":"BI24*BJ24","v":0},{"$f":"SUM(BB24,BE24,BH24,BK24)","v":0},null,null,{"$f":"BM24*BN24","v":0},null,null,{"$f":"BP24*BQ24","v":0},null,null,{"$f":"BS24*BT24","v":0},null,null,{"$f":"BV24*BW24","v":0},{"$f":"SUM(BO24,BR24,BU24,BX24)","v":0},{"$f":"Y24+AL24+AY24+BL24+BY24","v":0}]
["Coût",{"$f":"IF(A25=\"Activité\",MAX($B$12:B24)+1,\"\")","v":""},{"$f":"C23","v":0},null,null,null,{"$f":"G23","v":0},{"$f":"H23","v":0},null,null,null,null,null,null,{"$f":"M25*N25","v":0},null,null,{"$f":"P25*Q25","v":0},null,null,{"$f":"S25*T25","v":0},null,null,{"$f":"V25*W25","v":0},{"$f":"SUM(O25,R25,U25,X25)","v":0},null,null,{"$f":"Z25*AA25","v":0},null,null,{"$f":"AC25*AD25","v":0},null,null,{"$f":"AF25*AG25","v":0},null,null,{"$f":"AI25*AJ25","v":0},{"$f":"SUM(AB25,AE25,AH25,AK25)","v":0},null,null,{"$f":"AM25*AN25","v":0},null,null,{"$f":"AP25*AQ25","v":0},null,null,{"$f":"AS25*AT25","v":0},null,null,{"$f":"AV25*AW25","v":0},{"$f":"SUM(AO25,AR25,AU25,AX25)","v":0},null,null,{"$f":"AZ25*BA25","v":0},null,null,{"$f":"BC25*BD25","v":0},null,null,{"$f":"BF25*BG25","v":0},null,null,{"$f":"BI25*BJ25","v":0},{"$f":"SUM(BB25,BE25,BH25,BK25)","v":0},null,null,{"$f":"BM25*BN25","v":0},null,null,{"$f":"BP25*BQ25","v":0},null,null,{"$f":"BS25*BT25","v":0},null,null,{"$f":"BV25*BW25","v":0},{"$f":"SUM(BO25,BR25,BU25,BX25)","v":0},{"$f":"Y25+AL25+AY25+BL25+BY25","v":0}]
["Coût",{"$f":"IF(A26=\"Activité\",MAX($B$12:B25)+1,\"\")","v":""},{"$f":"C23","v":0},null,null,null,{"$f":"G23","v":0},{"$f":"H23","v":0},null,null,null,null,null,null,{"$f":"M26*N26","v":0},null,null,{"$f":"P26*Q26","v":0},null,null,{"$f":"S26*T26","v":0},null,null,{"$f":"V26*W26","v":0},{"$f":"SUM(O26,R26,U26,X26)","v":0},null,null,{"$f":"Z26*AA26","v":0},null,null,{"$f":"AC26*AD26","v":0},null,null,{"$f":"AF26*AG26","v":0},null,null,{"$f":"AI26*AJ26","v":0},{"$f":"SUM(AB26,AE26,AH26,AK26)","v":0},null,null,{"$f":"AM26*AN26","v":0},null,null,{"$f":"AP26*AQ26","v":0},null,null,{"$f":"AS26*AT26","v":0},null,null,{"$f":"AV26*AW26","v":0},{"$f":"SUM(AO26,AR26,AU26,AX26)","v":0},null,null,{"$f":"AZ26*BA26","v":0},null,null,{"$f":"BC26*BD26","v":0},null,null,{"$f":"BF26*BG26","v":0},null,null,{"$f":"BI26*BJ26","v":0},{"$f":"SUM(BB26,BE26,BH26,BK26)","v":0},null,null,{"$f":"BM26*BN26","v":0},null,null,{"$f":"BP26*BQ26","v":0},null,null,{"$f":"BS26*BT26","v":0},null,null,{"$f":"BV26*BW26","v":0},{"$f":"SUM(BO26,BR26,BU26,BX26)","v":0},{"$f":"Y26+AL26+AY26+BL26+BY26","v":0}]
[null,{"$f":"IF(A27=\"Activité\",MAX($B$12:B26)+1,\"\")","v":""}]
["Activité",{"$f":"IF(A28=\"Activité\",MAX($B$12:B27)+1,\"\")","v":4},null,null,null,null,null,null,null,{"$f":"B28","v":4},{"$f":"IF(A28=\"Activité\",\"Veuillez trouver les détails ci-dessous\",\"\")","v":"Veuillez trouver les détails ci-dessous"},null,null,null,{"$f":"SUM(O29:O31)","v":0},null,null,{"$f":"SUM(R29:R31)","v":0},null,null,{"$f":"SUM(U29:U31)","v":0},null,null,{"$f":"SUM(X29:X31)","v":0},{"$f":"SUM(Y29:Y31)","v":0},null,null,{"$f":"SUM(AB29:AB31)","v":0},null,null,{"$f":"SUM(AE29:AE31)","v":0},null,null,{"$f":"SUM(AH29:AH31)","v":0},null,null,{"$f":"SUM(AK29:AK31)","v":0},{"$f":"SUM(AL29:AL31)","v":0},null,null,{"$f":"SUM(AO29:AO31)","v":0},null,null,{"$f":"SUM(AR29:AR31)","v":0},null,null,{"$f":"SUM(AU29:AU31)","v":0},null,null,{"$f":"SUM(AX29:AX31)","v":0},{"$f":"SUM(AY29:AY31)","v":0},null,null,{"$f":"SUM(BB29:BB31)","v":0},null,null,{"$f":"SUM(BE29:BE31)","v":0},null,null,{"$f":"SUM(BH29:BH31)","v":0},null,null,{"$f":"SUM(BK29:BK31)","v":0},{"$f":"SUM(BL29:BL31)","v":0},null,null,{"$f":"SUM(BO29:BO31)","v":0},null,null,{"$f":"SUM(BR29:BR31)","v":0},null,null,{"$f":"SUM(BU29:BU31)","v":0},null,null,{"$f":"SUM(BX29:BX31)","v":0},{"$f":"SUM(BY29:BY31)","v":0},{"$f":"Y28+AL28+AY28+BL28+BY28","v":0}]
["Coût",{"$f":"IF(A29=\"Activité\",MAX($B$12:B28)+1,\"\")","v":""},{"$f":"C28","v":0},null,null,null,{"$f":"G28","v":0},{"$f":"H28","v":0},null,null,null,null,null,null,{"$f":"M29*N29","v":0},null,null,{"$f":"P29*Q29","v":0},null,null,{"$f":"S29*T29","v":0},null,null,{"$f":"V29*W29","v":0},{"$f":"SUM(O29,R29,U29,X29)","v":0},null,null,{"$f":"Z29*AA29","v":0},null,null,{"$f":"AC29*AD29","v":0},null,null,{"$f":"AF29*AG29","v":0},null,null,{"$f":"AI29*AJ29","v":0},{"$f":"SUM(AB29,AE29,AH29,AK29)","v":0},null,null,{"$f":"AM29*AN29","v":0},null,null,{"$f":"AP29*AQ29","v":0},null,null,{"$f":"AS29*AT29","v":0},null,null,{"$f":"AV29*AW29","v":0},{"$f":"SUM(AO29,AR29,AU29,AX29)","v":0},null,null,{"$f":"AZ29*BA29","v":0},null,null,{"$f":"BC29*BD29","v":0},null,null,{"$f":"BF29*BG29","v":0},null,null,{"$f":"BI29*BJ29","v":0},{"$f":"SUM(BB29,BE29,BH29,BK29)","v":0},null,null,{"$f":"BM29*BN29","v":0},null,null,{"$f":"BP29*BQ29","v":0},null,null,{"$f":"BS29*BT29","v":0},null,null,{"$f":"BV29*BW29","v":0},{"$f":"SUM(BO29,BR29,BU29,BX29)","v":0},{"$f":"Y29+AL29+AY29+BL29+BY29","v":0}]
["Coût",{"$f":"IF(A30=\"Activité\",MAX($B$12:B29)+1,\"\")","v":""},{"$f":"C28","v":0},null,null,null,{"$f":"G28","v":0},{"$f":"H28","v":0},null,null,null,null,null,null,{"$f":"M30*N30","v":0},null,null,{"$f":"P30*Q30","v":0},null,null,{"$f":"S30*T30","v":0},null,null,{"$f":"V30*W30","v":0},{"$f":"SUM(O30,R30,U30,X30)","v":0},null,null,{"$f":"Z30*AA30","v":0},null,null,{"$f":"AC30*AD30","v":0},null,null,{"$f":"AF30*AG30","v":0},null,null,{"$f":"AI30*AJ30","v":0},{"$f":"SUM(AB30,AE30,AH30,AK30)","v":0},null,null,{"$f":"AM30*AN30","v":0},null,null,{"$f":"AP30*AQ30","v":0},null,null,{"$f":"AS30*AT30","v":0},null,null,{"$f":"AV30*AW30","v":0},{"$f":"SUM(AO30,AR30,AU30,AX30)","v":0},null,null,{"$f":"AZ30*BA30","v":0},null,null,{"$f":"BC30*BD30","v":0},null,null,{"$f":"BF30*BG30","v":0},null,null,{"$f":"BI30*BJ30","v":0},{"$f":"SUM(BB30,BE30,BH30,BK30)","v":0},null,null,{"$f":"BM30*BN30","v":0},null,null,{"$f":"BP30*BQ30","v":0},null,null,{"$f":"BS30*BT30","v":0},null,null,{"$f":"BV30*BW30","v":0},{"$f":"SUM(BO30,BR30,BU30,BX30)","v":0},{"$f":"Y30+AL30+AY30+BL30+BY30","v":0}]
["Coût",{"$f":"IF(A31=\"Activité\",MAX($B$12:B30)+1,\"\")","v":""},{"$f":"C28","v":0},null,null,null,{"$f":"G28","v":0},{"$f":"H28","v":0},null,null,null,null,null,null,{"$f":"M31*N31","v":0},null,null,{"$f":"P31*Q31","v":0},null,null,{"$f":"S31*T31","v":0},null,null,{"$f":"V31*W31","v":0},{"$f":"SUM(O31,R31,U31,X31)","v":0},null,null,{"$f":"Z31*AA31","v":0},null,null,{"$f":"AC31*AD31","v":0},null,null,{"$f":"AF31*AG31","v":0},null,null,{"$f":"AI31*AJ31","v":0},{"$f":"SUM(AB31,AE31,AH31,AK31)","v":0},null,null,{"$f":"AM31*AN31","v":0},null,null,{"$f":"AP31*AQ31","v":0},null,null,{"$f":"AS31*AT31","v":0},null,null,{"$f":"AV31*AW31","v":0},{"$f":"SUM(AO31,AR31,AU31,AX31)","v":0},null,null,{"$f":"AZ31*BA31","v":0},null,null,{"$f":"BC31*BD31","v":0},null,null,{"$f":"BF31*BG31","v":0},null,null,{"$f":"BI31*BJ31","v":0},{"$f":"SUM(BB31,BE31,BH31,BK31)","v":0},null,null,{"$f":"BM31*BN31","v":0},null,null,{"$f":"BP31*BQ31","v":0},null,null,{"$f":"BS31*BT31","v":0},null,null,{"$f":"BV31*BW31","v":0},{"$f":"SUM(BO31,BR31,BU31,BX31)","v":0},{"$f":"Y31+AL31+AY31+BL31+BY31","v":0}]
[null,{"$f":"IF(A32=\"Activité\",MAX($B$12:B31)+1,\"\")","v":""}]
["Activité",{"$f":"IF(A33=\"Activité\",MAX($B$12:B32)+1,\"\")","v":5},null,null,null,null,null,null,null,{"$f":"B33","v":5},{"$f":"IF(A33=\"Activité\",\"Veuillez trouver les détails ci-dessous\",\"\")","v":"Veuillez trouver les détails ci-dessous"},null,null,null,{"$f":"SUM(O34:O36)","v":0},null,null,{"$f":"SUM(R34:R36)","v":0},null,null,{"$f":"SUM(U34:U36)","v":0},null,null,{"$f":"SUM(X34:X36)","v":0},{"$f":"SUM(Y34:Y36)","v":0},null,null,{"$f":"SUM(AB34:AB36)","v":0},null,null,{"$f":"SUM(AE34:AE36)","v":0},null,null,{"$f":"SUM(AH34:AH36)","v":0},null,null,{"$f":"SUM(AK34:AK36)","v":0},{"$f":"SUM(AL34:AL36)","v":0},null,null,{"$f":"SUM(AO34:AO36)","v":0},null,null,{"$f":"SUM(AR34:AR36)","v":0},null,null,{"$f":"SUM(AU34:AU36)","v":0},null,null,{"$f":"SUM(AX34:AX36)","v":0},{"$f":"SUM(AY34:AY36)","v":0},null,null,{"$f":"SUM(BB34:BB36)","v":0},null,null,{"$f":"SUM(BE34:BE36)","v":0},null,null,{"$f":"SUM(BH34:BH36)","v":0},null,null,{"$f":"SUM(BK34:BK36)","v":0},{"$f":"SUM(BL34:BL36)","v":0},null,null,{"$f":"SUM(BO34:BO36)","v":0},null,null,{"$f":"SUM(BR34:BR36)","v":0},null,null,{"$f":"SUM(BU34:BU36)","v":0},null,null,{"$f":"SUM(BX34:BX36)","v":0},{"$f":"SUM(BY34:BY36)","v":0},{"$f":"Y33+AL33+AY33+BL33+BY33","v":0}]
["Coût",{"$f":"IF(A34=\"Activité\",MAX($B$12:B33)+1,\"\")","v":""},{"$f":"C33","v":0},null,null,null,{"$f":"G33","v":0},{"$f":"H33","v":0},null,null,null,null,null,null,{"$f":"M34*N34","v":0},null,null,{"$f":"P34*Q34","v":0},null,null,{"$f":"S34*T34","v":0},null,null,{"$f":"V34*W34","v":0},{"$f":"SUM(O34,R34,U34,X34)","v":0},null,null,{"$f":"Z34*AA34","v":0},null,null,{"$f":"AC34*AD34","v":0},null,null,{"$f":"AF34*AG34","v":0},null,null,{"$f":"AI34*AJ34","v":0},{"$f":"SUM(AB34,AE34,AH34,AK34)","v":0},null,null,{"$f":"AM34*AN34","v":0},null,null,{"$f":"AP34*AQ34","v":0},null,null,{"$f":"AS34*AT34","v":0},null,null,{"$f":"AV34*AW34","v":0},{"$f":"SUM(AO34,AR34,AU34,AX34)","v":0},null,null,{"$f":"AZ34*BA34","v":0},null,null,{"$f":"BC34*BD34","v":0},null,null,{"$f":"BF34*BG34","v":0},null,null,{"$f":"BI34*BJ34","v":0},{"$f":"SUM(BB34,BE34,BH34,BK34)","v":0},null,null,{"$f":"BM34*BN34","v":0},null,null,{"$f":"BP34*BQ34","v":0},null,null,{"$f":"BS34*BT34","v":0},null,null,{"$f":"BV34*BW34","v":0},{"$f":"SUM(BO34,BR34,BU34,BX34)","v":0},{"$f":"Y34+AL34+AY34+BL34+BY34","v":0}]
["Coût",{"$f":"IF(A35=\"Activité\",MAX($B$12:B34)+1,\"\")","v":""},{"$f":"C33","v":0},null,null,null,{"$f":"G33","v":0},{"$f":"H33","v":0},null,null,null,null,null,null,{"$f":"M35*N35","v":0},null,null,{"$f":"P35*Q35","v":0},null,null,{"$f":"S35*T35","v":0},null,null,{"$f":"V35*W35","v":0},{"$f":"SUM(O35,R35,U35,X35)","v":0},null,null,{"$f":"Z35*AA35","v":0},null,null,{"$f":"AC35*AD35","v":0},null,null,{"$f":"AF35*AG35","v":0},null,null,{"$f":"AI35*AJ35","v":0},{"$f":"SUM(AB35,AE35,AH35,AK35)","v":0},null,null,{"$f":"AM35*AN35","v":0},null,null,{"$f":"AP35*AQ35","v":0},null,null,{"$f":"AS35*AT35","v":0},null,null,{"$f":"AV35*AW35","v":0},{"$f":"SUM(AO35,AR35,AU35,AX35)","v":0},null,null,{"$f":"AZ35*BA35","v":0},null,null,{"$f":"BC35*BD35","v":0},null,null,{"$f":"BF35*BG35","v":0},null,null,{"$f":"BI35*BJ35","v":0},{"$f":"SUM(BB35,BE35,BH35,BK35)","v":0},null,null,{"$f":"BM35*BN35","v":0},null,null,{"$f":"BP35*BQ35","v":0},null,null,{"$f":"BS35*BT35","v":0},null,null,{"$f":"BV35*BW35","v":0},{"$f":"SUM(BO35,BR35,BU35,BX35)","v":0},{"$f":"Y35+AL35+AY35+BL35+BY35","v":0}]
["Coût",{"$f":"IF(A36=\"Activité\",MAX($B$12:B35)+1,\"\")","v":""},{"$f":"C33","v":0},null,null,null,{"$f":"G33","v":0},{"$f":"H33","v":0},null,null,null,null,null,null,{"$f":"M36*N36","v":0},null,null,{"$f":"P36*Q36","v":0},null,null,{"$f":"S36*T36","v":0},null,null,{"$f":"V36*W36","v":0},{"$f":"SUM(O36,R36,U36,X36)","v":0},null,null,{"$f":"Z36*AA36","v":0},null,null,{"$f":"AC36*AD36","v":0},null,null,{"$f":"AF36*AG36","v":0},null,null,{"$f":"AI36*AJ36","v":0},{"$f":"SUM(AB36,AE36,AH36,AK36)","v":0},null,null,{"$f":"AM36*AN36","v":0},null,null,{"$f":"AP36*AQ36","v":0},null,null,{"$f":"AS36*AT36","v":0},null,null,{"$f":"AV36*AW36","v":0},{"$f":"SUM(AO36,AR36,AU36,AX36)","v":0},null,null,{"$f":"AZ36*BA36","v":0},null,null,{"$f":"BC36*BD36","v":0},null,null,{"$f":"BF36*BG36","v":0},null,null,{"$f":"BI36*BJ36","v":0},{"$f":"SUM(BB36,BE36,BH36,BK36)","v":0},null,null,{"$f":"BM36*BN36","v":0},null,null,{"$f":"BP36*BQ36","v":0},null,null,{"$f":"BS36*BT36","v":0},null,null,{"$f":"BV36*BW36","v":0},{"$f":"SUM(BO36,BR36,BU36,BX36)","v":0},{"$f":"Y36+AL36+AY36+BL36+BY36","v":0}]
[null,{"$f":"IF(A37=\"Activité\",MAX($B$12:B36)+1,\"\")","v":""}]
["Activité",{"$f":"IF(A38=\"Activité\",MAX($B$12:B37)+1,\"\")","v":6},null,null,null,null,null,null,null,{"$f":"B38","v":6},{"$f":"IF(A38=\"Activité\",\"Veuillez trouver les détails ci-dessous\",\"\")","v":"Veuillez trouver les détails ci-dessous"},null,null,null,{"$f":"SUM(O39:O41)","v":0},null,null,{"$f":"SUM(R39:R41)","v":0},null,null,{"$f":"SUM(U39:U41)","v":0},null,null,{"$f":"SUM(X39:X41)","v":0},{"$f":"SUM(Y39:Y41)","v":0},null,null,{"$f":"SUM(AB39:AB41)","v":0},null,null,{"$f":"SUM(AE39:AE41)","v":0},null,null,{"$f":"SUM(AH39:AH41)","v":0},null,null,{"$f":"SUM(AK39:AK41)","v":0},{"$f":"SUM(AL39:AL41)","v":0},null,null,{"$f":"SUM(AO39:AO41)","v":0},null,null,{"$f":"SUM(AR39:AR41)","v":0},null,null,{"$f":"SUM(AU39:AU41)","v":0},null,null,{"$f":"SUM(AX39:AX41)","v":0},{"$f":"SUM(AY39:AY41)","v":0},null,null,{"$f":"SUM(BB39:BB41)","v":0},null,null,{"$f":"SUM(BE39:BE41)","v":0},null,null,{"$f":"SUM(BH39:BH41)","v":0},null,null,{"$f":"SUM(BK39:BK41)","v":0},{"$f":"SUM(BL39:BL41)","v":0},null,null,{"$f":"SUM(BO39:BO41)","v":0},null,null,{"$f":"SUM(BR39:BR41)","v":0},null,null,{"$f":"SUM(BU39:BU41)","v":0},null,null,{"$f":"SUM(BX39:BX41)","v":0},{"$f":"SUM(BY39:BY41)","v":0},{"$f":"Y38+AL38+AY38+BL38+BY38","v":0}]
["Coût",{"$f":"IF(A39=\"Activité\",MAX($B$12:B38)+1,\"\")","v":""},{"$f":"C38","v":0},null,null,null,{"$f":"G38","v":0},{"$f":"H38","v":0},null,null,null,null,null,null,{"$f":"M39*N39","v":0},null,null,{"$f":"P39*Q39","v":0},null,null,{"$f":"S39*T39","v":0},null,null,{"$f":"V39*W39","v":0},{"$f":"SUM(O39,R39,U39,X39)","v":0},null,null,{"$f":"Z39*AA39","v":0},null,null,{"$f":"AC39*AD39","v":0},null,null,{"$f":"AF39*AG39","v":0},null,null,{"$f":"AI39*AJ39","v":0},{"$f":"SUM(AB39,AE39,AH39,AK39)","v":0},null,null,{"$f":"AM39*AN39","v":0},null,null,{"$f":"AP39*AQ39","v":0},null,null,{"$f":"AS39*AT39","v":0},null,null,{"$f":"AV39*AW39","v":0},{"$f":"SUM(AO39,AR39,AU39,AX39)","v":0},null,null,{"$f":"AZ39*BA39","v":0},null,null,{"$f":"BC39*BD39","v":0},null,null,{"$f":"BF39*BG39","v":0},null,null,{"$f":"BI39*BJ39","v":0},{"$f":"SUM(BB39,BE39,BH39,BK39)","v":0},null,null,{"$f":"BM39*BN39","v":0},null,null,{"$f":"BP39*BQ39","v":0},null,null,{"$f":"BS39*BT39","v":0},null,null,{"$f":"BV39*BW39","v":0},{"$f":"SUM(BO39,BR39,BU39,BX39)","v":0},{"$f":"Y39+AL39+AY39+BL39+BY39","v":0}]
["Coût",{"$f":"IF(A40=\"Activité\",MAX($B$12:B39)+1,\"\")","v":""},{"$f":"C38","v":0},null,null,null,{"$f":"G38","v":0},{"$f":"H38","v":0},null,null,null,null,null,null,{"$f":"M40*N40","v":0},null,null,{"$f":"P40*Q40","v":0},null,null,{"$f":"S40*T40","v":0},null,null,{"$f":"V40*W40","v":0},{"$f":"SUM(O40,R40,U40,X40)","v":0},null,null,{"$f":"Z40*AA40","v":0},null,null,{"$f":"AC40*AD40","v":0},null,null,{"$f":"AF40*AG40","v":0},null,null,{"$f":"AI40*AJ40","v":0},{"$f":"SUM(AB40,AE40,AH40,AK40)","v":0},null,null,{"$f":"AM40*AN40","v":0},null,null,{"$f":"AP40*AQ40","v":0},null,null,{"$f":"AS40*AT40","v":0},null,null,{"$f":"AV40*AW40","v":0},{"$f":"SUM(AO40,AR40,AU40,AX40)","v":0},null,null,{"$f":"AZ40*BA40","v":0},null,null,{"$f":"BC40*BD40","v":0},null,null,{"$f":"BF40*BG40","v":0},null,null,{"$f":"BI40*BJ40","v":0},{"$f":"SUM(BB40,BE40,BH40,BK40)","v":0},null,null,{"$f":"BM40*BN40","v":0},null,null,{"$f":"BP40*BQ40","v":0},null,null,{"$f":"BS40*BT40","v":0},null,null,{"$f":"BV40*BW40","v":0},{"$f":"SUM(BO40,BR40,BU40,BX40)","v":0},{"$f":"Y40+AL40+AY40+BL40+BY40","v":0}]
["Coût",{"$f":"IF(A41=\"Activité\",MAX($B$12:B40)+1,\"\")","v":""},{"$f":"C38","v":0},null,null,null,{"$f":"G38","v":0},{"$f":"H38","v":0},null,null,null,null,null,null,{"$f":"M41*N41","v":0},null,null,{"$f":"P41*Q41","v":0},null,null,{"$f":"S41*T41","v":0},null,null,{"$f":"V41*W41","v":0},{"$f":"SUM(O41,R41,U41,X41)","v":0},null,null,{"$f":"Z41*AA41","v":0},null,null,{"$f":"AC41*AD41","v":0},null,null,{"$f":"AF41*AG41","v":0},null,null,{"$f":"AI41*AJ41","v":0},{"$f":"SUM(AB41,AE41,AH41,AK41)","v":0},null,null,{"$f":"AM41*AN41","v":0},null,null,{"$f":"AP41*AQ41","v":0},null,null,{"$f":"AS41*AT41","v":0},null,null,{"$f":"AV41*AW41","v":0},{"$f":"SUM(AO41,AR41,AU41,AX41)","v":0},null,null,{"$f":"AZ41*BA41","v":0},null,null,{"$f":"BC41*BD41","v":0},null,null,{"$f":"BF41*BG41","v":0},null,null,{"$f":"BI41*BJ41","v":0},{"$f":"SUM(BB41,BE41,BH41,BK41)","v":0},null,null,{"$f":"BM41*BN41","v":0},null,null,{"$f":"BP41*BQ41","v":0},null,null,{"$f":"BS41*BT41","v":0},null,null,{"$f":"BV41*BW41","v":0},{"$f":"SUM(BO41,BR41,BU41,BX41)","v":0},{"$f":"Y41+AL41+AY41+BL41+BY41","v":0}]
[null,{"$f":"IF(A42=\"Activité\",MAX($B$12:B41)+1,\"\")","v":""}]
["Activité",{"$f":"IF(A43=\"Activité\",MAX($B$12:B42)+1,\"\")","v":7},null,null,null,null,null,null,null,{"$f":"B43","v":7},{"$f":"IF(A43=\"Activité\",\"Veuillez trouver les détails ci-dessous\",\"\")","v":"Veuillez trouver les détails ci-dessous"},null,null,null,{"$f":"SUM(O44:O46)","v":0},null,null,{"$f":"SUM(R44:R46)","v":0},null,null,{"$f":"SUM(U44:U46)","v":0},null,null,{"$f":"SUM(X44:X46)","v":0},{"$f":"SUM(Y44:Y46)","v":0},null,null,{"$f":"SUM(AB44:AB46)","v":0},null,null,{"$f":"SUM(AE44:AE46)","v":0},null,null,{"$f":"SUM(AH44:AH46)","v":0},null,null,{"$f":"SUM(AK44:AK46)","v":0},{"$f":"SUM(AL44:AL46)","v":0},null,null,{"$f":"SUM(AO44:AO46)","v":0},null,null,{"$f":"SUM(AR44:AR46)","v":0},null,null,{"$f":"SUM(AU44:AU46)","v":0},null,null,{"$f":"SUM(AX44:AX46)","v":0},{"$f":"SUM(AY44:AY46)","v":0},null,null,{"$f":"SUM(BB44:BB46)","v":0},null,null,{"$f":"SUM(BE44:BE46)","v":0},null,null,{"$f":"SUM(BH44:BH46)","v":0},null,null,{"$f":"SUM(BK44:BK46)","v":0},{"$f":"SUM(BL44:BL46)","v":0},null,null,{"$f":"SUM(BO44:BO46)","v":0},null,null,{"$f":"SUM(BR44:BR46)","v":0},null,null,{"$f":"SUM(BU44:BU46)","v":0},null,null,{"$f":"SUM(BX44:BX46)","v":0},{"$f":"SUM(BY44:BY46)","v":0},{"$f":"Y43+AL43+AY43+BL43+BY43","v":0}]
["Coût",{"$f":"IF(A44=\"Activité\",MAX($B$12:B43)+1,\"\")","v":""},{"$f":"C43","v":0},null,null,null,{"$f":"G43","v":0},{"$f":"H43","v":0},null,null,null,null,null,null,{"$f":"M44*N44","v":0},null,null,{"$f":"P44*Q44","v":0},null,null,{"$f":"S44*T44","v":0},null,null,{"$f":"V44*W44","v":0},{"$f":"SUM(O44,R44,U44,X44)","v":0},null,null,{"$f":"Z44*AA44","v":0},null,null,{"$f":"AC44*AD44","v":0},null,null,{"$f":"AF44*AG44","v":0},null,null,{"$f":"AI44*AJ44","v":0},{"$f":"SUM(AB44,AE44,AH44,AK44)","v":0},null,null,{"$f":"AM44*AN44","v":0},null,null,{"$f":"AP44*AQ44","v":0},null,null,{"$f":"AS44*AT44","v":0},null,null,{"$f":"AV44*AW44","v":0},{"$f":"SUM(AO44,AR44,AU44,AX44)","v":0},null,null,{"$f":"AZ44*BA44","v":0},null,null,{"$f":"BC44*BD44","v":0},null,null,{"$f":"BF44*BG44","v":0},null,null,{"$f":"BI44*BJ44","v":0},{"$f":"SUM(BB44,BE44,BH44,BK44)","v":0},null,null,{"$f":"BM44*BN44","v":0},null,null,{"$f":"BP44*BQ44","v":0},null,null,{"$f":"BS44*BT44","v":0},null,null,{"$f":"BV44*BW44","v":0},{"$f":"SUM(BO44,BR44,BU44,BX44)","v":0},{"$f":"Y44+AL44+AY44+BL44+BY44","v":0}]
["Coût",{"$f":"IF(A45=\"Activité\",MAX($B$12:B44)+1,\"\")","v":""},{"$f":"C43","v":0},null,null,null,{"$f":"G43","v":0},{"$f":"H43","v":0},null,null,null,null,null,null,{"$f":"M45*N45","v":0},null,null,{"$f":"P45*Q45","v":0},null,null,{"$f":"S45*T45","v":0},null,null,{"$f":"V45*W45","v":0},{"$f":"SUM(O45,R45,U45,X45)","v":0},null,null,{"$f":"Z45*AA45","v":0},null,null,{"$f":"AC45*AD45","v":0},null,null,{"$f":"AF45*AG45","v":0},null,null,{"$f":"AI45*AJ45","v":0},{"$f":"SUM(AB45,AE45,AH45,AK45)","v":0},null,null,{"$f":"AM45*AN45","v":0},null,null,{"$f":"AP45*AQ45","v":0},null,null,{"$f":"AS45*AT45","v":0},null,null,{"$f":"AV45*AW45","v":0},{"$f":"SUM(AO45,AR45,AU45,AX45)","v":0},null,null,{"$f":"AZ45*BA45","v":0},null,null,{"$f":"BC45*BD45","v":0},null,null,{"$f":"BF45*BG45","v":0},null,null,{"$f":"BI45*BJ45","v":0},{"$f":"SUM(BB45,BE45,BH45,BK45)","v":0},null,null,{"$f":"BM45*BN45","v":0},null,null,{"$f":"BP45*BQ45","v":0},null,null,{"$f":"BS45*BT45","v":0},null,null,{"$f":"BV45*BW45","v":0},{"$f":"SUM(BO45,BR45,BU45,BX45)","v":0},{"$f":"Y45+AL45+AY45+BL45+BY45","v":0}]
["Coût",{"$f":"IF(A46=\"Activité\",MAX($B$12:B45)+1,\"\")","v":""},{"$f":"C43","v":0},null,null,null,{"$f":"G43","v":0},{"$f":"H43","v":0},null,null,null,null,null,null,{"$f":"M46*N46","v":0},null,null,{"$f":"P46*Q46","v":0},null,null,{"$f":"S46*T46","v":0},null,null,{"$f":"V46*W46","v":0},{"$f":"SUM(O46,R46,U46,X46)","v":0},null,null,{"$f":"Z46*AA46","v":0},null,null,{"$f":"AC46*AD46","v":0},null,null,{"$f":"AF46*AG46","v":0},null,null,{"$f":"AI46*AJ46","v":0},{"$f":"SUM(AB46,AE46,AH46,AK46)","v":0},null,null,{"$f":"AM46*AN46","v":0},null,null,{"$f":"AP46*AQ46","v":0},null,null,{"$f":"AS46*AT46","v":0},null,null,{"$f":"AV46*AW46","v":0},{"$f":"SUM(AO46,AR46,AU46,AX46)","v":0},null,null,{"$f":"AZ46*BA46","v":0},null,null,{"$f":"BC46*BD46","v":0},null,null,{"$f":"BF46*BG46","v":0},null,null,{"$f":"BI46*BJ46","v":0},{"$f":"SUM(BB46,BE46,BH46,BK46)","v":0},null,null,{"$f":"BM46*BN46","v":0},null,null,{"$f":"BP46*BQ46","v":0},null,null,{"$f":"BS46*BT46","v":0},null,null,{"$f":"BV46*BW46","v":0},{"$f":"SUM(BO46,BR46,BU46,BX46)","v":0},{"$f":"Y46+AL46+AY46+BL46+BY46","v":0}]
[null,{"$f":"IF(A47=\"Activité\",MAX($B$12:B46)+1,\"\")","v":""}]
["Activité",{"$f":"IF(A48=\"Activité\",MAX($B$12:B47)+1,\"\")","v":8},null,null,null,null,null,null,null,{"$f":"B48","v":8},{"$f":"IF(A48=\"Activité\",\"Veuillez trouver les détails ci-dessous\",\"\")","v":"Veuillez trouver les détails ci-dessous"},null,null,null,{"$f":"SUM(O49:O51)","v":0},null,null,{"$f":"SUM(R49:R51)","v":0},null,null,{"$f":"SUM(U49:U51)","v":0},null,null,{"$f":"SUM(X49:X51)","v":0},{"$f":"SUM(Y49:Y51)","v":0},null,null,{"$f":"SUM(AB49:AB51)","v":0},null,null,{"$f":"SUM(AE49:AE51)","v":0},null,null,{"$f":"SUM(AH49:AH51)","v":0},null,null,{"$f":"SUM(AK49:AK51)","v":0},{"$f":"SUM(AL49:AL51)","v":0},null,null,{"$f":"SUM(AO49:AO51)","v":0},null,null,{"$f":"SUM(AR49:AR51)","v":0},null,null,{"$f":"SUM(AU49:AU51)","v":0},null,null,{"$f":"SUM(AX49:AX51)","v":0},{"$f":"SUM(AY49:AY51)","v":0},null,null,{"$f":"SUM(BB49:BB51)","v":0},null,null,{"$f":"SUM(BE49:BE51)","v":0},null,null,{"$f":"SUM(BH49:BH51)","v":0},null,null,{"$f":"SUM(BK49:BK51)","v":0},{"$f":"SUM(BL49:BL51)","v":0},null,null,{"$f":"SUM(BO49:BO51)","v":0},null,null,{"$f":"SUM(BR49:BR51)","v":0},null,null,{"$f":"SUM(BU49:BU51)","v":0},null,null,{"$f":"SUM(BX49:BX51)","v":0},{"$f":"SUM(BY49:BY51)","v":0},{"$f":"Y48+AL48+AY48+BL48+BY48","v":0}]
["Coût",{"$f":"IF(A49=\"Activité\",MAX($B$12:B48)+1,\"\")","v":""},{"$f":"C48","v":0},null,null,null,{"$f":"G48","v":0},{"$f":"H48","v":0},null,null,null,null,null,null,{"$f":"M49*N49","v":0},null,null,{"$f":"P49*Q49","v":0},null,null,{"$f":"S49*T49","v":0},null,null,{"$f":"V49*W49","v":0},{"$f":"SUM(O49,R49,U49,X49)","v":0},null,null,{"$f":"Z49*AA49","v":0},null,null,{"$f":"AC49*AD49","v":0},null,null,{"$f":"AF49*AG49","v":0},null,null,{"$f":"AI49*AJ49","v":0},{"$f":"SUM(AB49,AE49,AH49,AK49)","v":0},null,null,{"$f":"AM49*AN49","v":0},null,null,{"$f":"AP49*AQ49","v":0},null,null,{"$f":"AS49*AT49","v":0},null,null,{"$f":"AV49*AW49","v":0},{"$f":"SUM(AO49,AR49,AU49,AX49)","v":0},null,null,{"$f":"AZ49*BA49","v":0},null,null,{"$f":"BC49*BD49","v":0},null,null,{"$f":"BF49*BG49","v":0},null,null,{"$f":"BI49*BJ49","v":0},{"$f":"SUM(BB49,BE49,BH49,BK49)","v":0},null,null,{"$f":"BM49*BN49","v":0},null,null,{"$f":"BP49*BQ49","v":0},null,null,{"$f":"BS49*BT49","v":0},null,null,{"$f":"BV49*BW49","v":0},{"$f":"SUM(BO49,BR49,BU49,BX49)","v":0},{"$f":"Y49+AL49+AY49+BL49+BY49","v":0}]
["Coût",{"$f":"IF(A50=\"Activité\",MAX($B$12:B49)+1,\"\")","v":""},{"$f":"C48","v":0},null,null,null,{"$f":"G48","v":0},{"$f":"H48","v":0},null,null,null,null,null,null,{"$f":"M50*N50","v":0},null,null,{"$f":"P50*Q50","v":0},null,null,{"$f":"S50*T50","v":0},null,null,{"$f":"V50*W50","v":0},{"$f":"SUM(O50,R50,U50,X50)","v":0},null,null,{"$f":"Z50*AA50","v":0},null,null,{"$f":"AC50*AD50","v":0},null,null,{"$f":"AF50*AG50","v":0},null,null,{"$f":"AI50*AJ50","v":0},{"$f":"SUM(AB50,AE50,AH50,AK50)","v":0},null,null,{"$f":"AM50*AN50","v":0},null,null,{"$f":"AP50*AQ50","v":0},null,null,{"$f":"AS50*AT50","v":0},null,null,{"$f":"AV50*AW50","v":0},{"$f":"SUM(AO50,AR50,AU50,AX50)","v":0},null,null,{"$f":"AZ50*BA50","v":0},null,null,{"$f":"BC50*BD50","v":0},null,null,{"$f":"BF50*BG50","v":0},null,null,{"$f":"BI50*BJ50","v":0},{"$f":"SUM(BB50,BE50,BH50,BK50)","v":0},null,null,{"$f":"BM50*BN50","v":0},null,null,{"$f":"BP50*BQ50","v":0},null,null,{"$f":"BS50*BT50","v":0},null,null,{"$f":"BV50*BW50","v":0},{"$f":"SUM(BO50,BR50,BU50,BX50)","v":0},{"$f":"Y50+AL50+AY50+BL50+BY50","v":0}]
["Coût",{"$f":"IF(A51=\"Activité\",MAX($B$12:B50)+1,\"\")","v":""},{"$f":"C48","v":0},null,null,null,{"$f":"G48","v":0},{"$f":"H48","v":0},null,null,null,null,null,null,{"$f":"M51*N51","v":0},null,null,{"$f":"P51*Q51","v":0},null,null,{"$f":"S51*T51","v":0},null,null,{"$f":"V51*W51","v":0},{"$f":"SUM(O51,R51,U51,X51)","v":0},null,null,{"$f":"Z51*AA51","v":0},null,null,{"$f":"AC51*AD51","v":0},null,null,{"$f":"AF51*AG51","v":0},null,null,{"$f":"AI51*AJ51","v":0},{"$f":"SUM(AB51,AE51,AH51,AK51)","v":0},null,null,{"$f":"AM51*AN51","v":0},null,null,{"$f":"AP51*AQ51","v":0},null,null,{"$f":"AS51*AT51","v":0},null,null,{"$f":"AV51*AW51","v":0},{"$f":"SUM(AO51,AR51,AU51,AX51)","v":0},null,null,{"$f":"AZ51*BA51","v":0},null,null,{"$f":"BC51*BD51","v":0},null,null,{"$f":"BF51*BG51","v":0},null,null,{"$f":"BI51*BJ51","v":0},{"$f":"SUM(BB51,BE51,BH51,BK51)","v":0},null,null,{"$f":"BM51*BN51","v":0},null,null,{"$f":"BP51*BQ51","v":0},null,null,{"$f":"BS51*BT51","v":0},null,null,{"$f":"BV51*BW51","v":0},{"$f":"SUM(BO51,BR51,BU51,BX51)","v":0},{"$f":"Y51+AL51+AY51+BL51+BY51","v":0}]
[null,{"$f":"IF(A52=\"Activité\",MAX($B$12:B51)+1,\"\")","v":""}]
["Activité",{"$f":"IF(A53=\"Activité\",MAX($B$12:B52)+1,\"\")","v":9},null,null,null,null,null,null,null,{"$f":"B53","v":9},{"$f":"IF(A53=\"Activité\",\"Veuillez trouver les détails ci-dessous\",\"\")","v":"Veuillez trouver les détails ci-dessous"},null,null,null,{"$f":"SUM(O54:O56)","v":0},null,null,{"$f":"SUM(R54:R56)","v":0},null,null,{"$f":"SUM(U54:U56)","v":0},null,null,{"$f":"SUM(X54:X56)","v":0},{"$f":"SUM(Y54:Y56)","v":0},null,null,{"$f":"SUM(AB54:AB56)","v":0},null,null,{"$f":"SUM(AE54:AE56)","v":0},null,null,{"$f":"SUM(AH54:AH56)","v":0},null,null,{"$f":"SUM(AK54:AK56)","v":0},{"$f":"SUM(AL54:AL56)","v":0},null,null,{"$f":"SUM(AO54:AO56)","v":0},null,null,{"$f":"SUM(AR54:AR56)","v":0},null,null,{"$f":"SUM(AU54:AU56)","v":0},null,null,{"$f":"SUM(AX54:AX56)","v":0},{"$f":"SUM(AY54:AY56)","v":0},null,null,{"$f":"SUM(BB54:BB56)","v":0},null,null,{"$f":"SUM(BE54:BE56)","v":0},null,null,{"$f":"SUM(BH54:BH56)","v":0},null,null,{"$f":"SUM(BK54:BK56)","v":0},{"$f":"SUM(BL54:BL56)","v":0},null,null,{"$f":"SUM(BO54:BO56)","v":0},null,null,{"$f":"SUM(BR54:BR56)","v":0},null,null,{"$f":"SUM(BU54:BU56)","v":0},null,null,{"$f":"SUM(BX54:BX56)","v":0},{"$f":"SUM(BY54:BY56)","v":0},{"$f":"Y53+AL53+AY53+BL53+BY53","v":0}]
["Coût",{"$f":"IF(A54=\"Activité\",MAX($B$12:B53)+1,\"\")","v":""},{"$f":"C53","v":0},null,null,null,{"$f":"G53","v":0},{"$f":"H53","v":0},null,null,null,null,null,null,{"$f":"M54*N54","v":0},null,null,{"$f":"P54*Q54","v":0},null,null,{"$f":"S54*T54","v":0},null,null,{"$f":"V54*W54","v":0},{"$f":"SUM(O54,R54,U54,X54)","v":0},null,null,{"$f":"Z54*AA54","v":0},null,null,{"$f":"AC54*AD54","v":0},null,null,{"$f":"AF54*AG54","v":0},null,null,{"$f":"AI54*AJ54","v":0},{"$f":"SUM(AB54,AE54,AH54,AK54)","v":0},null,null,{"$f":"AM54*AN54","v":0},null,null,{"$f":"AP54*AQ54","v":0},null,null,{"$f":"AS54*AT54","v":0},null,null,{"$f":"AV54*AW54","v":0},{"$f":"SUM(AO54,AR54,AU54,AX54)","v":0},null,null,{"$f":"AZ54*BA54","v":0},null,null,{"$f":"BC54*BD54","v":0},null,null,{"$f":"BF54*BG54","v":0},null,null,{"$f":"BI54*BJ54","v":0},{"$f":"SUM(BB54,BE54,BH54,BK54)","v":0},null,null,{"$f":"BM54*BN54","v":0},null,null,{"$f":"BP54*BQ54","v":0},null,null,{"$f":"BS54*BT54","v":0},null,null,{"$f":"BV54*BW54","v":0},{"$f":"SUM(BO54,BR54,BU54,BX54)","v":0},{"$f":"Y54+AL54+AY54+BL54+BY54","v":0}]
["Coût",{"$f":"IF(A55=\"Activité\",MAX($B$12:B54)+1,\"\")","v":""},{"$f":"C53","v":0},null,null,null,{"$f":"G53","v":0},{"$f":"H53","v":0},null,null,null,null,null,null,{"$f":"M55*N55","v":0},null,null,{"$f":"P55*Q55","v":0},null,null,{"$f":"S55*T55","v":0},null,null,{"$f":"V55*W55","v":0},{"$f":"SUM(O55,R55,U55,X55)","v":0},null,null,{"$f":"Z55*AA55","v":0},null,null,{"$f":"AC55*AD55","v":0},null,null,{"$f":"AF55*AG55","v":0},null,null,{"$f":"AI55*AJ55","v":0},{"$f":"SUM(AB55,AE55,AH55,AK55)","v":0},null,null,{"$f":"AM55*AN55","v":0},null,null,{"$f":"AP55*AQ55","v":0},null,null,{"$f":"AS55*AT55","v":0},null,null,{"$f":"AV55*AW55","v":0},{"$f":"SUM(AO55,AR55,AU55,AX55)","v":0},null,null,{"$f":"AZ55*BA55","v":0},null,null,{"$f":"BC55*BD55","v":0},null,null,{"$f":"BF55*BG55","v":0},null,null,{"$f":"BI55*BJ55","v":0},{"$f":"SUM(BB55,BE55,BH55,BK55)","v":0},null,null,{"$f":"BM55*BN55","v":0},null,null,{"$f":"BP55*BQ55","v":0},null,null,{"$f":"BS55*BT55","v":0},null,null,{"$f":"BV55*BW55","v":0},{"$f":"SUM(BO55,BR55,BU55,BX55)","v":0},{"$f":"Y55+AL55+AY55+BL55+BY55","v":0}]
["Coût",{"$f":"IF(A56=\"Activité\",MAX($B$12:B55)+1,\"\")","v":""},{"$f":"C53","v":0},null,null,null,{"$f":"G53","v":0},{"$f":"H53","v":0},null,null,null,null,null,null,{"$f":"M56*N56","v":0},null,null,{"$f":"P56*Q56","v":0},null,null,{"$f":"S56*T56","v":0},null,null,{"$f":"V56*W56","v":0},{"$f":"SUM(O56,R56,U56,X56)","v":0},null,null,{"$f":"Z56*AA56","v":0},null,null,{"$f":"AC56*AD56","v":0},null,null,{"$f":"AF56*AG56","v":0},null,null,{"$f":"AI56*AJ56","v":0},{"$f":"SUM(AB56,AE56,AH56,AK56)","v":0},null,null,{"$f":"AM56*AN56","v":0},null,null,{"$f":"AP56*AQ56","v":0},null,null,{"$f":"AS56*AT56","v":0},null,null,{"$f":"AV56*AW56","v":0},{"$f":"SUM(AO56,AR56,AU56,AX56)","v":0},null,null,{"$f":"AZ56*BA56","v":0},null,null,{"$f":"BC56*BD56","v":0},null,null,{"$f":"BF56*BG56","v":0},null,null,{"$f":"BI56*BJ56","v":0},{"$f":"SUM(BB56,BE56,BH56,BK56)","v":0},null,null,{"$f":"BM56*BN56","v":0},null,null,{"$f":"BP56*BQ56","v":0},null,null,{"$f":"BS56*BT56","v":0},null,null,{"$f":"BV56*BW56","v":0},{"$f":"SUM(BO56,BR56,BU56,BX56)","v":0},{"$f":"Y56+AL56+AY56+BL56+BY56","v":0}]
[null,{"$f":"IF(A57=\"Activité\",MAX($B$12:B56)+1,\"\")","v":""}]
["Activité",{"$f":"IF(A58=\"Activité\",MAX($B$12:B57)+1,\"\")","v":10},null,null,null,null,null,null,null,{"$f":"B58","v":10},{"$f":"IF(A58=\"Activité\",\"Veuillez trouver les détails ci-dessous\",\"\")","v":"Veuillez trouver les détails ci-dessous"},null,null,null,{"$f":"SUM(O59:O61)","v":0},null,null,{"$f":"SUM(R59:R61)","v":0},null,null,{"$f":"SUM(U59:U61)","v":0},null,null,{"$f":"SUM(X59:X61)","v":0},{"$f":"SUM(Y59:Y61)","v":0},null,null,{"$f":"SUM(AB59:AB61)","v":0},null,null,{"$f":"SUM(AE59:AE61)","v":0},null,null,{"$f":"SUM(AH59:AH61)","v":0},null,null,{"$f":"SUM(AK59:AK61)","v":0},{"$f":"SUM(AL59:AL61)","v":0},null,null,{"$f":"SUM(AO59:AO61)","v":0},null,null,{"$f":"SUM(AR59:AR61)","v":0},null,null,{"$f":"SUM(AU59:AU61)","v":0},null,null,{"$f":"SUM(AX59:AX61)","v":0},{"$f":"SUM(AY59:AY61)","v":0},null,null,{"$f":"SUM(BB59:BB61)","v":0},null,null,{"$f":"SUM(BE59:BE61)","v":0},null,null,{"$f":"SUM(BH59:BH61)","v":0},null,null,{"$f":"SUM(BK59:BK61)","v":0},{"$f":"SUM(BL59:BL61)","v":0},null,null,{"$f":"SUM(BO59:BO61)","v":0},null,null,{"$f":"SUM(BR59:BR61)","v":0},null,null,{"$f":"SUM(BU59:BU61)","v":0},null,null,{"$f":"SUM(BX59:BX61)","v":0},{"$f":"SUM(BY59:BY61)","v":0},{"$f":"Y58+AL58+AY58+BL58+BY58","v":0}]
["Coût",{"$f":"IF(A59=\"Activité\",MAX($B$12:B58)+1,\"\")","v":""},{"$f":"C58","v":0},null,null,null,{"$f":"G58","v":0},{"$f":"H58","v":0},null,null,null,null,null,null,{"$f":"M59*N59","v":0},null,null,{"$f":"P59*Q59","v":0},null,null,{"$f":"S59*T59","v":0},null,null,{"$f":"V59*W59","v":0},{"$f":"SUM(O59,R59,U59,X59)","v":0},null,null,{"$f":"Z59*AA59","v":0},null,null,{"$f":"AC59*AD59","v":0},null,null,{"$f":"AF59*AG59","v":0},null,null,{"$f":"AI59*AJ59","v":0},{"$f":"SUM(AB59,AE59,AH59,AK59)","v":0},null,null,{"$f":"AM59*AN59","v":0},null,null,{"$f":"AP59*AQ59","v":0},null,null,{"$f":"AS59*AT59","v":0},null,null,{"$f":"AV59*AW59","v":0},{"$f":"SUM(AO59,AR59,AU59,AX59)","v":0},null,null,{"$f":"AZ59*BA59","v":0},null,null,{"$f":"BC59*BD59","v":0},null,null,{"$f":"BF59*BG59","v":0},null,null,{"$f":"BI59*BJ59","v":0},{"$f":"SUM(BB59,BE59,BH59,BK59)","v":0},null,null,{"$f":"BM59*BN59","v":0},null,null,{"$f":"BP59*BQ59","v":0},null,null,{"$f":"BS59*BT59","v":0},null,null,{"$f":"BV59*BW59","v":0},{"$f":"SUM(BO59,BR59,BU59,BX59)","v":0},{"$f":"Y59+AL59+AY59+BL59+BY59","v":0}]
["Coût",{"$f":"IF(A60=\"Activité\",MAX($B$12:B59)+1,\"\")","v":""},{"$f":"C58","v":0},null,null,null,{"$f":"G58","v":0},{"$f":"H58","v":0},null,null,null,null,null,null,{"$f":"M60*N60","v":0},null,null,{"$f":"P60*Q60","v":0},null,null,{"$f":"S60*T60","v":0},null,null,{"$f":"V60*W60","v":0},{"$f":"SUM(O60,R60,U60,X60)","v":0},null,null,{"$f":"Z60*AA60","v":0},null,null,{"$f":"AC60*AD60","v":0},null,null,{"$f":"AF60*AG60","v":0},null,null,{"$f":"AI60*AJ60","v":0},{"$f":"SUM(AB60,AE60,AH60,AK60)","v":0},null,null,{"$f":"AM60*AN60","v":0},null,null,{"$f":"AP60*AQ60","v":0},null,null,{"$f":"AS60*AT60","v":0},null,null,{"$f":"AV60*AW60","v":0},{"$f":"SUM(AO60,AR60,AU60,AX60)","v":0},null,null,{"$f":"AZ60*BA60","v":0},null,null,{"$f":"BC60*BD60","v":0},null,null,{"$f":"BF60*BG60","v":0},null,null,{"$f":"BI60*BJ60","v":0},{"$f":"SUM(BB60,BE60,BH60,BK60)","v":0},null,null,{"$f":"BM60*BN60","v":0},null,null,{"$f":"BP60*BQ60","v":0},null,null,{"$f":"BS60*BT60","v":0},null,null,{"$f":"BV60*BW60","v":0},{"$f":"SUM(BO60,BR60,BU60,BX60)","v":0},{"$f":"Y60+AL60+AY60+BL60+BY60","v":0}]
["Coût",{"$f":"IF(A61=\"Activité\",MAX($B$12:B60)+1,\"\")","v":""},{"$f":"C58","v":0},null,null,null,{"$f":"G58","v":0},{"$f":"H58","v":0},null,null,null,null,null,null,{"$f":"M61*N61","v":0},null,null,{"$f":"P61*Q61","v":0},null,null,{"$f":"S61*T61","v":0},null,null,{"$f":"V61*W61","v":0},{"$f":"SUM(O61,R61,U61,X61)","v":0},null,null,{"$f":"Z61*AA61","v":0},null,null,{"$f":"AC61*AD61","v":0},null,null,{"$f":"AF61*AG61","v":0},null,null,{"$f":"AI61*AJ61","v":0},{"$f":"SUM(AB61,AE61,AH61,AK61)","v":0},null,null,{"$f":"AM61*AN61","v":0},null,null,{"$f":"AP61*AQ61","v":0},null,null,{"$f":"AS61*AT61","v":0},null,null,{"$f":"AV61*AW61","v":0},{"$f":"SUM(AO61,AR61,AU61,AX61)","v":0},null,null,{"$f":"AZ61*BA61","v":0},null,null,{"$f":"BC61*BD61","v":0},null,null,{"$f":"BF61*BG61","v":0},null,null,{"$f":"BI61*BJ61","v":0},{"$f":"SUM(BB61,BE61,BH61,BK61)","v":0},null,null,{"$f":"BM61*BN61","v":0},null,null,{"$f":"BP61*BQ61","v":0},null,null,{"$f":"BS61*BT61","v":0},null,null,{"$f":"BV61*BW61","v":0},{"$f":"SUM(BO61,BR61,BU61,BX61)","v":0},{"$f":"Y61+AL61+AY61+BL61+BY61","v":0}]
[null,{"$f":"IF(A62=\"Activité\",MAX($B$12:B61)+1,\"\")","v":""}]
["Activité",{"$f":"IF(A63=\"Activité\",MAX($B$12:B62)+1,\"\")","v":11},null,null,null,null,null,null,null,{"$f":"B63","v":11},{"$f":"IF(A63=\"Activité\",\"Veuillez trouver les détails ci-dessous\",\"\")","v":"Veuillez trouver les détails ci-dessous"},null,null,null,{"$f":"SUM(O64:O66)","v":0},null,null,{"$f":"SUM(R64:R66)","v":0},null,null,{"$f":"SUM(U64:U66)","v":0},null,null,{"$f":"SUM(X64:X66)","v":0},{"$f":"SUM(Y64:Y66)","v":0},null,null,{"$f":"SUM(AB64:AB66)","v":0},null,null,{"$f":"SUM(AE64:AE66)","v":0},null,null,{"$f":"SUM(AH64:AH66)","v":0},null,null,{"$f":"SUM(AK64:AK66)","v":0},{"$f":"SUM(AL64:AL66)","v":0},null,null,{"$f":"SUM(AO64:AO66)","v":0},null,null,{"$f":"SUM(AR64:AR66)","v":0},null,null,{"$f":"SUM(AU64:AU66)","v":0},null,null,{"$f":"SUM(AX64:AX66)","v":0},{"$f":"SUM(AY64:AY66)","v":0},null,null,{"$f":"SUM(BB64:BB66)","v":0},null,null,{"$f":"SUM(BE64:BE66)","v":0},null,null,{"$f":"SUM(BH64:BH66)","v":0},null,null,{"$f":"SUM(BK64:BK66)","v":0},{"$f":"SUM(BL64:BL66)","v":0},null,null,{"$f":"SUM(BO64:BO66)","v":0},null,null,{"$f":"SUM(BR64:BR66)","v":0},null,null,{"$f":"SUM(BU64:BU66)","v":0},null,null,{"$f":"SUM(BX64:BX66)","v":0},{"$f":"SUM(BY64:BY66)","v":0},{"$f":"Y63+AL63+AY63+BL63+BY63","v":0}]
["Coût",{"$f":"IF(A64=\"Activité\",MAX($B$12:B63)+1,\"\")","v":""},{"$f":"C63","v":0},null,null,null,{"$f":"G63","v":0},{"$f":"H63","v":0},null,null,null,null,null,null,{"$f":"M64*N64","v":0},null,null,{"$f":"P64*Q64","v":0},null,null,{"$f":"S64*T64","v":0},null,null,{"$f":"V64*W64","v":0},{"$f":"SUM(O64,R64,U64,X64)","v":0},null,null,{"$f":"Z64*AA64","v":0},null,null,{"$f":"AC64*AD64","v":0},null,null,{"$f":"AF64*AG64","v":0},null,null,{"$f":"AI64*AJ64","v":0},{"$f":"SUM(AB64,AE64,AH64,AK64)","v":0},null,null,{"$f":"AM64*AN64","v":0},null,null,{"$f":"AP64*AQ64","v":0},null,null,{"$f":"AS64*AT64","v":0},null,null,{"$f":"AV64*AW64","v":0},{"$f":"SUM(AO64,AR64,AU64,AX64)","v":0},null,null,{"$f":"AZ64*BA64","v":0},null,null,{"$f":"BC64*BD64","v":0},null,null,{"$f":"BF64*BG64","v":0},null,null,{"$f":"BI64*BJ64","v":0},{"$f":"SUM(BB64,BE64,BH64,BK64)","v":0},null,null,{"$f":"BM64*BN64","v":0},null,null,{"$f":"BP64*BQ64","v":0},null,null,{"$f":"BS64*BT64","v":0},null,null,{"$f":"BV64*BW64","v":0},{"$f":"SUM(BO64,BR64,BU64,BX64)","v":0},{"$f":"Y64+AL64+AY64+BL64+BY64","v":0}]
["Coût",{"$f":"IF(A65=\"Activité\",MAX($B$12:B64)+1,\"\")","v":""},{"$f":"C63","v":0},null,null,null,{"$f":"G63","v":0},{"$f":"H63","v":0},null,null,null,null,null,null,{"$f":"M65*N65","v":0},null,null,{"$f":"P65*Q65","v":0},null,null,{"$f":"S65*T65","v":0},null,null,{"$f":"V65*W65","v":0},{"$f":"SUM(O65,R65,U65,X65)","v":0},null,null,{"$f":"Z65*AA65","v":0},null,null,{"$f":"AC65*AD65","v":0},null,null,{"$f":"AF65*AG65","v":0},null,null,{"$f":"AI65*AJ65","v":0},{"$f":"SUM(AB65,AE65,AH65,AK65)","v":0},null,null,{"$f":"AM65*AN65","v":0},null,null,{"$f":"AP65*AQ65","v":0},null,null,{"$f":"AS65*AT65","v":0},null,null,{"$f":"AV65*AW65","v":0},{"$f":"SUM(AO65,AR65,AU65,AX65)","v":0},null,null,{"$f":"AZ65*BA65","v":0},null,null,{"$f":"BC65*BD65","v":0},null,null,{"$f":"BF65*BG65","v":0},null,null,{"$f":"BI65*BJ65","v":0},{"$f":"SUM(BB65,BE65,BH65,BK65)","v":0},null,null,{"$f":"BM65*BN65","v":0},null,null,{"$f":"BP65*BQ65","v":0},null,null,{"$f":"BS65*BT65","v":0},null,null,{"$f":"BV65*BW65","v":0},{"$f":"SUM(BO65,BR65,BU65,BX65)","v":0},{"$f":"Y65+AL65+AY65+BL65+BY65","v":0}]
["Coût",{"$f":"IF(A66=\"Activité\",MAX($B$12:B65)+1,\"\")","v":""},{"$f":"C63","v":0},null,null,null,{"$f":"G63","v":0},{"$f":"H63","v":0},null,null,null,null,null,null,{"$f":"M66*N66","v":0},null,null,{"$f":"P66*Q66","v":0},null,null,{"$f":"S66*T66","v":0},null,null,{"$f":"V66*W66","v":0},{"$f":"SUM(O66,R66,U66,X66)","v":0},null,null,{"$f":"Z66*AA66","v":0},null,null,{"$f":"AC66*AD66","v":0},null,null,{"$f":"AF66*AG66","v":0},null,null,{"$f":"AI66*AJ66","v":0},{"$f":"SUM(AB66,AE66,AH66,AK66)","v":0},null,null,{"$f":"AM66*AN66","v":0},null,null,{"$f":"AP66*AQ66","v":0},null,null,{"$f":"AS66*AT66","v":0},null,null,{"$f":"AV66*AW66","v":0},{"$f":"SUM(AO66,AR66,AU66,AX66)","v":0},null,null,{"$f":"AZ66*BA66","v":0},null,null,{"$f":"BC66*BD66","v":0},null,null,{"$f":"BF66*BG66","v":0},null,null,{"$f":"BI66*BJ66","v":0},{"$f":"SUM(BB66,BE66,BH66,BK66)","v":0},null,null,{"$f":"BM66*BN66","v":0},null,null,{"$f":"BP66*BQ66","v":0},null,null,{"$f":"BS66*BT66","v":0},null,null,{"$f":"BV66*BW66","v":0},{"$f":"SUM(BO66,BR66,BU66,BX66)","v":0},{"$f":"Y66+AL66+AY66+BL66+BY66","v":0}]
[null,{"$f":"IF(A67=\"Activité\",MAX($B$12:B66)+1,\"\")","v":""}]
["Activité",{"$f":"IF(A68=\"Activité\",MAX($B$12:B67)+1,\"\")","v":12},null,null,null,null,null,null,null,{"$f":"B68","v":12},{"$f":"IF(A68=\"Activité\",\"Veuillez trouver les détails ci-dessous\",\"\")","v":"Veuillez trouver les détails ci-dessous"},null,null,null,{"$f":"SUM(O69:O71)","v":0},null,null,{"$f":"SUM(R69:R71)","v":0},null,null,{"$f":"SUM(U69:U71)","v":0},null,null,{"$f":"SUM(X69:X71)","v":0},{"$f":"SUM(Y69:Y71)","v":0},null,null,{"$f":"SUM(AB69:AB71)","v":0},null,null,{"$f":"SUM(AE69:AE71)","v":0},null,null,{"$f":"SUM(AH69:AH71)","v":0},null,null,{"$f":"SUM(AK69:AK71)","v":0},{"$f":"SUM(AL69:AL71)","v":0},null,null,{"$f":"SUM(AO69:AO71)","v":0},null,null,{"$f":"SUM(AR69:AR71)","v":0},null,null,{"$f":"SUM(AU69:AU71)","v":0},null,null,{"$f":"SUM(AX69:AX71)","v":0},{"$f":"SUM(AY69:AY71)","v":0},null,null,{"$f":"SUM(BB69:BB71)","v":0},null,null,{"$f":"SUM(BE69:BE71)","v":0},null,null,{"$f":"SUM(BH69:BH71)","v":0},null,null,{"$f":"SUM(BK69:BK71)","v":0},{"$f":"SUM(BL69:BL71)","v":0},null,null,{"$f":"SUM(BO69:BO71)","v":0},null,null,{"$f":"SUM(BR69:BR71)","v":0},null,null,{"$f":"SUM(BU69:BU71)","v":0},null,null,{"$f":"SUM(BX69:BX71)","v":0},{"$f":"SUM(BY69:BY71)","v":0},{"$f":"Y68+AL68+AY68+BL68+BY68","v":0}]
["Coût",{"$f":"IF(A69=\"Activité\",MAX($B$12:B68)+1,\"\")","v":""},{"$f":"C68","v":0},null,null,null,{"$f":"G68","v":0},{"$f":"H68","v":0},null,null,null,null,null,null,{"$f":"M69*N69","v":0},null,null,{"$f":"P69*Q69","v":0},null,null,{"$f":"S69*T69","v":0},null,null,{"$f":"V69*W69","v":0},{"$f":"SUM(O69,R69,U69,X69)","v":0},null,null,{"$f":"Z69*AA69","v":0},null,null,{"$f":"AC69*AD69","v":0},null,null,{"$f":"AF69*AG69","v":0},null,null,{"$f":"AI69*AJ69","v":0},{"$f":"SUM(AB69,AE69,AH69,AK69)","v":0},null,null,{"$f":"AM69*AN69","v":0},null,null,{"$f":"AP69*AQ69","v":0},null,null,{"$f":"AS69*AT69","v":0},null,null,{"$f":"AV69*AW69","v":0},{"$f":"SUM(AO69,AR69,AU69,AX69)","v":0},null,null,{"$f":"AZ69*BA69","v":0},null,null,{"$f":"BC69*BD69","v":0},null,null,{"$f":"BF69*BG69","v":0},null,null,{"$f":"BI69*BJ69","v":0},{"$f":"SUM(BB69,BE69,BH69,BK69)","v":0},null,null,{"$f":"BM69*BN69","v":0},null,null,{"$f":"BP69*BQ69","v":0},null,null,{"$f":"BS69*BT69","v":0},null,null,{"$f":"BV69*BW69","v":0},{"$f":"SUM(BO69,BR69,BU69,BX69)","v":0},{"$f":"Y69+AL69+AY69+BL69+BY69","v":0}]
["Coût",{"$f":"IF(A70=\"Activité\",MAX($B$12:B69)+1,\"\")","v":""},{"$f":"C68","v":0},null,null,null,{"$f":"G68","v":0},{"$f":"H68","v":0},null,null,null,null,null,null,{"$f":"M70*N70","v":0},null,null,{"$f":"P70*Q70","v":0},null,null,{"$f":"S70*T70","v":0},null,null,{"$f":"V70*W70","v":0},{"$f":"SUM(O70,R70,U70,X70)","v":0},null,null,{"$f":"Z70*AA70","v":0},null,null,{"$f":"AC70*AD70","v":0},null,null,{"$f":"AF70*AG70","v":0},null,null,{"$f":"AI70*AJ70","v":0},{"$f":"SUM(AB70,AE70,AH70,AK70)","v":0},null,null,{"$f":"AM70*AN70","v":0},null,null,{"$f":"AP70*AQ70","v":0},null,null,{"$f":"AS70*AT70","v":0},null,null,{"$f":"AV70*AW70","v":0},{"$f":"SUM(AO70,AR70,AU70,AX70)","v":0},null,null,{"$f":"AZ70*BA70","v":0},null,null,{"$f":"BC70*BD70","v":0},null,null,{"$f":"BF70*BG70","v":0},null,null,{"$f":"BI70*BJ70","v":0},{"$f":"SUM(BB70,BE70,BH70,BK70)","v":0},null,null,{"$f":"BM70*BN70","v":0},null,null,{"$f":"BP70*BQ70","v":0},null,null,{"$f":"BS70*BT70","v":0},null,null,{"$f":"BV70*BW70","v":0},{"$f":"SUM(BO70,BR70,BU70,BX70)","v":0},{"$f":"Y70+AL70+AY70+BL70+BY70","v":0}]
["Coût",{"$f":"IF(A71=\"Activité\",MAX($B$12:B70)+1,\"\")","v":""},{"$f":"C68","v":0},null,null,null,{"$f":"G68","v":0},{"$f":"H68","v":0},null,null,null,null,null,null,{"$f":"M71*N71","v":0},null,null,{"$f":"P71*Q71","v":0},null,null,{"$f":"S71*T71","v":0},null,null,{"$f":"V71*W71","v":0},{"$f":"SUM(O71,R71,U71,X71)","v":0},null,null,{"$f":"Z71*AA71","v":0},null,null,{"$f":"AC71*AD71","v":0},null,null,{"$f":"AF71*AG71","v":0},null,null,{"$f":"AI71*AJ71","v":0},{"$f":"SUM(AB71,AE71,AH71,AK71)","v":0},null,null,{"$f":"AM71*AN71","v":0},null,null,{"$f":"AP71*AQ71","v":0},null,null,{"$f":"AS71*AT71","v":0},null,null,{"$f":"AV71*AW71","v":0},{"$f":"SUM(AO71,AR71,AU71,AX71)","v":0},null,null,{"$f":"AZ71*BA71","v":0},null,null,{"$f":"BC71*BD71","v":0},null,null,{"$f":"BF71*BG71","v":0},null,null,{"$f":"BI71*BJ71","v":0},{"$f":"SUM(BB71,BE71,BH71,BK71)","v":0},null,null,{"$f":"BM71*BN71","v":0},null,null,{"$f":"BP71*BQ71","v":0},null,null,{"$f":"BS71*BT71","v":0},null,null,{"$f":"BV71*BW71","v":0},{"$f":"SUM(BO71,BR71,BU71,BX71)","v":0},{"$f":"Y71+AL71+AY71+BL71+BY71","v":0}]
[null,{"$f":"IF(A72=\"Activité\",MAX($B$12:B71)+1,\"\")","v":""}]
["Activité",{"$f":"IF(A73=\"Activité\",MAX($B$12:B72)+1,\"\")","v":13},null,null,null,null,null,null,null,{"$f":"B73","v":13},{"$f":"IF(A73=\"Activité\",\"Veuillez trouver les détails ci-dessous\",\"\")","v":"Veuillez trouver les détails ci-dessous"},null,null,null,{"$f":"SUM(O74:O76)","v":0},null,null,{"$f":"SUM(R74:R76)","v":0},null,null,{"$f":"SUM(U74:U76)","v":0},null,null,{"$f":"SUM(X74:X76)","v":0},{"$f":"SUM(Y74:Y76)","v":0},null,null,{"$f":"SUM(AB74:AB76)","v":0},null,null,{"$f":"SUM(AE74:AE76)","v":0},null,null,{"$f":"SUM(AH74:AH76)","v":0},null,null,{"$f":"SUM(AK74:AK76)","v":0},{"$f":"SUM(AL74:AL76)","v":0},null,null,{"$f":"SUM(AO74:AO76)","v":0},null,null,{"$f":"SUM(AR74:AR76)","v":0},null,null,{"$f":"SUM(AU74:AU76)","v":0},null,null,{"$f":"SUM(AX74:AX76)","v":0},{"$f":"SUM(AY74:AY76)","v":0},null,null,{"$f":"SUM(BB74:BB76)","v":0},null,null,{"$f":"SUM(BE74:BE76)","v":0},null,null,{"$f":"SUM(BH74:BH76)","v":0},null,null,{"$f":"SUM(BK74:BK76)","v":0},{"$f":"SUM(BL74:BL76)","v":0},null,null,{"$f":"SUM(BO74:BO76)","v":0},null,null,{"$f":"SUM(BR74:BR76)","v":0},null,null,{"$f":"SUM(BU74:BU76)","v":0},null,null,{"$f":"SUM(BX74:BX76)","v":0},{"$f":"SUM(BY74:BY76)","v":0},{"$f":"Y73+AL73+AY73+BL73+BY73","v":0}]
["Coût",{"$f":"IF(A74=\"Activité\",MAX($B$12:B73)+1,\"\")","v":""},{"$f":"C73","v":0},null,null,null,{"$f":"G73","v":0},{"$f":"H73","v":0},null,null,null,null,null,null,{"$f":"M74*N74","v":0},null,null,{"$f":"P74*Q74","v":0},null,null,{"$f":"S74*T74","v":0},null,null,{"$f":"V74*W74","v":0},{"$f":"SUM(O74,R74,U74,X74)","v":0},null,null,{"$f":"Z74*AA74","v":0},null,null,{"$f":"AC74*AD74","v":0},null,null,{"$f":"AF74*AG74","v":0},null,null,{"$f":"AI74*AJ74","v":0},{"$f":"SUM(AB74,AE74,AH74,AK74)","v":0},null,null,{"$f":"AM74*AN74","v":0},null,null,{"$f":"AP74*AQ74","v":0},null,null,{"$f":"AS74*AT74","v":0},null,null,{"$f":"AV74*AW74","v":0},{"$f":"SUM(AO74,AR74,AU74,AX74)","v":0},null,null,{"$f":"AZ74*BA74","v":0},null,null,{"$f":"BC74*BD74","v":0},null,null,{"$f":"BF74*BG74","v":0},null,null,{"$f":"BI74*BJ74","v":0},{"$f":"SUM(BB74,BE74,BH74,BK74)","v":0},null,null,{"$f":"BM74*BN74","v":0},null,null,{"$f":"BP74*BQ74","v":0},null,null,{"$f":"BS74*BT74","v":0},null,null,{"$f":"BV74*BW74","v":0},{"$f":"SUM(BO74,BR74,BU74,BX74)","v":0},{"$f":"Y74+AL74+AY74+BL74+BY74","v":0}]
["Coût",{"$f":"IF(A75=\"Activité\",MAX($B$12:B74)+1,\"\")","v":""},{"$f":"C73","v":0},null,null,null,{"$f":"G73","v":0},{"$f":"H73","v":0},null,null,null,null,null,null,{"$f":"M75*N75","v":0},null,null,{"$f":"P75*Q75","v":0},null,null,{"$f":"S75*T75","v":0},null,null,{"$f":"V75*W75","v":0},{"$f":"SUM(O75,R75,U75,X75)","v":0},null,null,{"$f":"Z75*AA75","v":0},null,null,{"$f":"AC75*AD75","v":0},null,null,{"$f":"AF75*AG75","v":0},null,null,{"$f":"AI75*AJ75","v":0},{"$f":"SUM(AB75,AE75,AH75,AK75)","v":0},null,null,{"$f":"AM75*AN75","v":0},null,null,{"$f":"AP75*AQ75","v":0},null,null,{"$f":"AS75*AT75","v":0},null,null,{"$f":"AV75*AW75","v":0},{"$f":"SUM(AO75,AR75,AU75,AX75)","v":0},null,null,{"$f":"AZ75*BA75","v":0},null,null,{"$f":"BC75*BD75","v":0},null,null,{"$f":"BF75*BG75","v":0},null,null,{"$f":"BI75*BJ75","v":0},{"$f":"SUM(BB75,BE75,BH75,BK75)","v":0},null,null,{"$f":"BM75*BN75","v":0},null,null,{"$f":"BP75*BQ75","v":0},null,null,{"$f":"BS75*BT75","v":0},null,null,{"$f":"BV75*BW75","v":0},{"$f":"SUM(BO75,BR75,BU75,BX75)","v":0},{"$f":"Y75+AL75+AY75+BL75+BY75","v":0}]
["Coût",{"$f":"IF(A76=\"Activité\",MAX($B$12:B75)+1,\"\")","v":""},{"$f":"C73","v":0},null,null,null,{"$f":"G73","v":0},{"$f":"H73","v":0},null,null,null,null,null,null,{"$f":"M76*N76","v":0},null,null,{"$f":"P76*Q76","v":0},null,null,{"$f":"S76*T76","v":0},null,null,{"$f":"V76*W76","v":0},{"$f":"SUM(O76,R76,U76,X76)","v":0},null,null,{"$f":"Z76*AA76","v":0},null,null,{"$f":"AC76*AD76","v":0},null,null,{"$f":"AF76*AG76","v":0},null,null,{"$f":"AI76*AJ76","v":0},{"$f":"SUM(AB76,AE76,AH76,AK76)","v":0},null,null,{"$f":"AM76*AN76","v":0},null,null,{"$f":"AP76*AQ76","v":0},null,null,{"$f":"AS76*AT76","v":0},null,null,{"$f":"AV76*AW76","v":0},{"$f":"SUM(AO76,AR76,AU76,AX76)","v":0},null,null,{"$f":"AZ76*BA76","v":0},null,null,{"$f":"BC76*BD76","v":0},null,null,{"$f":"BF76*BG76","v":0},null,null,{"$f":"BI76*BJ76","v":0},{"$f":"SUM(BB76,BE76,BH76,BK76)","v":0},null,null,{"$f":"BM76*BN76","v":0},null,null,{"$f":"BP76*BQ76","v":0},null,null,{"$f":"BS76*BT76","v":0},null,null,{"$f":"BV76*BW76","v":0},{"$f":"SUM(BO76,BR76,BU76,BX76)","v":0},{"$f":"Y76+AL76+AY76+BL76+BY76","v":0}]
[null,{"$f":"IF(A77=\"Activité\",MAX($B$12:B76)+1,\"\")","v":""}]
["Activité",{"$f":"IF(A78=\"Activité\",MAX($B$12:B77)+1,\"\")","v":14},null,null,null,null,null,null,null,{"$f":"B78","v":14},{"$f":"IF(A78=\"Activité\",\"Veuillez trouver les détails ci-dessous\",\"\")","v":"Veuillez trouver les détails ci-dessous"},null,null,null,{"$f":"SUM(O79:O81)","v":0},null,null,{"$f":"SUM(R79:R81)","v":0},null,null,{"$f":"SUM(U79:U81)","v":0},null,null,{"$f":"SUM(X79:X81)","v":0},{"$f":"SUM(Y79:Y81)","v":0},null,null,{"$f":"SUM(AB79:AB81)","v":0},null,null,{"$f":"SUM(AE79:AE81)","v":0},null,null,{"$f":"SUM(AH79:AH81)","v":0},null,null,{"$f":"SUM(AK79:AK81)","v":0},{"$f":"SUM(AL79:AL81)","v":0},null,null,{"$f":"SUM(AO79:AO81)","v":0},null,null,{"$f":"SUM(AR79:AR81)","v":0},null,null,{"$f":"SUM(AU79:AU81)","v":0},null,null,{"$f":"SUM(AX79:AX81)","v":0},{"$f":"SUM(AY79:AY81)","v":0},null,null,{"$f":"SUM(BB79:BB81)","v":0},null,null,{"$f":"SUM(BE79:BE81)","v":0},null,null,{"$f":"SUM(BH79:BH81)","v":0},null,null,{"$f":"SUM(BK79:BK81)","v":0},{"$f":"SUM(BL79:BL81)","v":0},null,null,{"$f":"SUM(BO79:BO81)","v":0},null,null,{"$f":"SUM(BR79:BR81)","v":0},null,null,{"$f":"SUM(BU79:BU81)","v":0},null,null,{"$f":"SUM(BX79:BX81)","v":0},{"$f":"SUM(BY79:BY81)","v":0},{"$f":"Y78+AL78+AY78+BL78+BY78","v":0}]
["Coût",{"$f":"IF(A79=\"Activité\",MAX($B$12:B78)+1,\"\")","v":""},{"$f":"C78","v":0},null,null,null,{"$f":"G78","v":0},{"$f":"H78","v":0},null,null,null,null,null,null,{"$f":"M79*N79","v":0},null,null,{"$f":"P79*Q79","v":0},null,null,{"$f":"S79*T79","v":0},null,null,{"$f":"V79*W79","v":0},{"$f":"SUM(O79,R79,U79,X79)","v":0},null,null,{"$f":"Z79*AA79","v":0},null,null,{"$f":"AC79*AD79","v":0},null,null,{"$f":"AF79*AG79","v":0},null,null,{"$f":"AI79*AJ79","v":0},{"$f":"SUM(AB79,AE79,AH79,AK79)","v":0},null,null,{"$f":"AM79*AN79","v":0},null,null,{"$f":"AP79*AQ79","v":0},null,null,{"$f":"AS79*AT79","v":0},null,null,{"$f":"AV79*AW79","v":0},{"$f":"SUM(AO79,AR79,AU79,AX79)","v":0},null,null,{"$f":"AZ79*BA79","v":0},null,null,{"$f":"BC79*BD79","v":0},null,null,{"$f":"BF79*BG79","v":0},null,null,{"$f":"BI79*BJ79","v":0},{"$f":"SUM(BB79,BE79,BH79,BK79)","v":0},null,null,{"$f":"BM79*BN79","v":0},null,null,{"$f":"BP79*BQ79","v":0},null,null,{"$f":"BS79*BT79","v":0},null,null,{"$f":"BV79*BW79","v":0},{"$f":"SUM(BO79,BR79,BU79,BX79)","v":0},{"$f":"Y79+AL79+AY79+BL79+BY79","v":0}]
["Coût",{"$f":"IF(A80=\"Activité\",MAX($B$12:B79)+1,\"\")","v":""},{"$f":"C78","v":0},null,null,null,{"$f":"G78","v":0},{"$f":"H78","v":0},null,null,null,null,null,null,{"$f":"M80*N80","v":0},null,null,{"$f":"P80*Q80","v":0},null,null,{"$f":"S80*T80","v":0},null,null,{"$f":"V80*W80","v":0},{"$f":"SUM(O80,R80,U80,X80)","v":0},null,null,{"$f":"Z80*AA80","v":0},null,null,{"$f":"AC80*AD80","v":0},null,null,{"$f":"AF80*AG80","v":0},null,null,{"$f":"AI80*AJ80","v":0},{"$f":"SUM(AB80,AE80,AH80,AK80)","v":0},null,null,{"$f":"AM80*AN80","v":0},null,null,{"$f":"AP80*AQ80","v":0},null,null,{"$f":"AS80*AT80","v":0},null,null,{"$f":"AV80*AW80","v":0},{"$f":"SUM(AO80,AR80,AU80,AX80)","v":0},null,null,{"$f":"AZ80*BA80","v":0},null,null,{"$f":"BC80*BD80","v":0},null,null,{"$f":"BF80*BG80","v":0},null,null,{"$f":"BI80*BJ80","v":0},{"$f":"SUM(BB80,BE80,BH80,BK80)","v":0},null,null,{"$f":"BM80*BN80","v":0},null,null,{"$f":"BP80*BQ80","v":0},null,null,{"$f":"BS80*BT80","v":0},null,null,{"$f":"BV80*BW80","v":0},{"$f":"SUM(BO80,BR80,BU80,BX80)","v":0},{"$f":"Y80+AL80+AY80+BL80+BY80","v":0}]
["Coût",{"$f":"IF(A81=\"Activité\",MAX($B$12:B80)+1,\"\")","v":""},{"$f":"C78","v":0},null,null,null,{"$f":"G78","v":0},{"$f":"H78","v":0},null,null,null,null,null,null,{"$f":"M81*N81","v":0},null,null,{"$f":"P81*Q81","v":0},null,null,{"$f":"S81*T81","v":0},null,null,{"$f":"V81*W81","v":0},{"$f":"SUM(O81,R81,U81,X81)","v":0},null,null,{"$f":"Z81*AA81","v":0},null,null,{"$f":"AC81*AD81","v":0},null,null,{"$f":"AF81*AG81","v":0},null,null,{"$f":"AI81*AJ81","v":0},{"$f":"SUM(AB81,AE81,AH81,AK81)","v":0},null,null,{"$f":"AM81*AN81","v":0},null,null,{"$f":"AP81*AQ81","v":0},null,null,{"$f":"AS81*AT81","v":0},null,null,{"$f":"AV81*AW81","v":0},{"$f":"SUM(AO81,AR81,AU81,AX81)","v":0},null,null,{"$f":"AZ81*BA81","v":0},null,null,{"$f":"BC81*BD81","v":0},null,null,{"$f":"BF81*BG81","v":0},null,null,{"$f":"BI81*BJ81","v":0},{"$f":"SUM(BB81,BE81,BH81,BK81)","v":0},null,null,{"$f":"BM81*BN81","v":0},null,null,{"$f":"BP81*BQ81","v":0},null,null,{"$f":"BS81*BT81","v":0},null,null,{"$f":"BV81*BW81","v":0},{"$f":"SUM(BO81,BR81,BU81,BX81)","v":0},{"$f":"Y81+AL81+AY81+BL81+BY81","v":0}]
[null,{"$f":"IF(A82=\"Activité\",MAX($B$12:B81)+1,\"\")","v":""}]
["Activité",{"$f":"IF(A83=\"Activité\",MAX($B$12:B82)+1,\"\")","v":15},null,null,null,null,null,null,null,{"$f":"B83","v":15},{"$f":"IF(A83=\"Activité\",\"Veuillez trouver les détails ci-dessous\",\"\")","v":"Veuillez trouver les détails ci-dessous"},null,null,null,{"$f":"SUM(O84:O86)","v":0},null,null,{"$f":"SUM(R84:R86)","v":0},null,null,{"$f":"SUM(U84:U86)","v":0},null,null,{"$f":"SUM(X84:X86)","v":0},{"$f":"SUM(Y84:Y86)","v":0},null,null,{"$f":"SUM(AB84:AB86)","v":0},null,null,{"$f":"SUM(AE84:AE86)","v":0},null,null,{"$f":"SUM(AH84:AH86)","v":0},null,null,{"$f":"SUM(AK84:AK86)","v":0},{"$f":"SUM(AL84:AL86)","v":0},null,null,{"$f":"SUM(AO84:AO86)","v":0},null,null,{"$f":"SUM(AR84:AR86)","v":0},null,null,{"$f":"SUM(AU84:AU86)","v":0},null,null,{"$f":"SUM(AX84:AX86)","v":0},{"$f":"SUM(AY84:AY86)","v":0},null,null,{"$f":"SUM(BB84:BB86)","v":0},null,null,{"$f":"SUM(BE84:BE86)","v":0},null,null,{"$f":"SUM(BH84:BH86)","v":0},null,null,{"$f":"SUM(BK84:BK86)","v":0},{"$f":"SUM(BL84:BL86)","v":0},null,null,{"$f":"SUM(BO84:BO86)","v":0},null,null,{"$f":"SUM(BR84:BR86)","v":0},null,null,{"$f":"SUM(BU84:BU86)","v":0},null,null,{"$f":"SUM(BX84:BX86)","v":0},{"$f":"SUM(BY84:BY86)","v":0},{"$f":"Y83+AL83+AY83+BL83+BY83","v":0}]
["Coût",{"$f":"IF(A84=\"Activité\",MAX($B$12:B83)+1,\"\")","v":""},{"$f":"C83","v":0},null,null,null,{"$f":"G83","v":0},{"$f":"H83","v":0},null,null,null,null,null,null,{"$f":"M84*N84","v":0},null,null,{"$f":"P84*Q84","v":0},null,null,{"$f":"S84*T84","v":0},null,null,{"$f":"V84*W84","v":0},{"$f":"SUM(O84,R84,U84,X84)","v":0},null,null,{"$f":"Z84*AA84","v":0},null,null,{"$f":"AC84*AD84","v":0},null,null,{"$f":"AF84*AG84","v":0},null,null,{"$f":"AI84*AJ84","v":0},{"$f":"SUM(AB84,AE84,AH84,AK84)","v":0},null,null,{"$f":"AM84*AN84","v":0},null,null,{"$f":"AP84*AQ84","v":0},null,null,{"$f":"AS84*AT84","v":0},null,null,{"$f":"AV84*AW84","v":0},{"$f":"SUM(AO84,AR84,AU84,AX84)","v":0},null,null,{"$f":"AZ84*BA84","v":0},null,null,{"$f":"BC84*BD84","v":0},null,null,{"$f":"BF84*BG84","v":0},null,null,{"$f":"BI84*BJ84","v":0},{"$f":"SUM(BB84,BE84,BH84,BK84)","v":0},null,null,{"$f":"BM84*BN84","v":0},null,null,{"$f":"BP84*BQ84","v":0},null,null,{"$f":"BS84*BT84","v":0},null,null,{"$f":"BV84*BW84","v":0},{"$f":"SUM(BO84,BR84,BU84,BX84)","v":0},{"$f":"Y84+AL84+AY84+BL84+BY84","v":0}]
["Coût",{"$f":"IF(A85=\"Activité\",MAX($B$12:B84)+1,\"\")","v":""},{"$f":"C83","v":0},null,null,null,{"$f":"G83","v":0},{"$f":"H83","v":0},null,null,null,null,null,null,{"$f":"M85*N85","v":0},null,null,{"$f":"P85*Q85","v":0},null,null,{"$f":"S85*T85","v":0},null,null,{"$f":"V85*W85","v":0},{"$f":"SUM(O85,R85,U85,X85)","v":0},null,null,{"$f":"Z85*AA85","v":0},null,null,{"$f":"AC85*AD85","v":0},null,null,{"$f":"AF85*AG85","v":0},null,null,{"$f":"AI85*AJ85","v":0},{"$f":"SUM(AB85,AE85,AH85,AK85)","v":0},null,null,{"$f":"AM85*AN85","v":0},null,null,{"$f":"AP85*AQ85","v":0},null,null,{"$f":"AS85*AT85","v":0},null,null,{"$f":"AV85*AW85","v":0},{"$f":"SUM(AO85,AR85,AU85,AX85)","v":0},null,null,{"$f":"AZ85*BA85","v":0},null,null,{"$f":"BC85*BD85","v":0},null,null,{"$f":"BF85*BG85","v":0},null,null,{"$f":"BI85*BJ85","v":0},{"$f":"SUM(BB85,BE85,BH85,BK85)","v":0},null,null,{"$f":"BM85*BN85","v":0},null,null,{"$f":"BP85*BQ85","v":0},null,null,{"$f":"BS85*BT85","v":0},null,null,{"$f":"BV85*BW85","v":0},{"$f":"SUM(BO85,BR85,BU85,BX85)","v":0},{"$f":"Y85+AL85+AY85+BL85+BY85","v":0}]
["Coût",{"$f":"IF(A86=\"Activité\",MAX($B$12:B85)+1,\"\")","v":""},{"$f":"C83","v":0},null,null,null,{"$f":"G83","v":0},{"$f":"H83","v":0},null,null,null,null,null,null,{"$f":"M86*N86","v":0},null,null,{"$f":"P86*Q86","v":0},null,null,{"$f":"S86*T86","v":0},null,null,{"$f":"V86*W86","v":0},{"$f":"SUM(O86,R86,U86,X86)","v":0},null,null,{"$f":"Z86*AA86","v":0},null,null,{"$f":"AC86*AD86","v":0},null,null,{"$f":"AF86*AG86","v":0},null,null,{"$f":"AI86*AJ86","v":0},{"$f":"SUM(AB86,AE86,AH86,AK86)","v":0},null,null,{"$f":"AM86*AN86","v":0},null,null,{"$f":"AP86*AQ86","v":0},null,null,{"$f":"AS86*AT86","v":0},null,null,{"$f":"AV86*AW86","v":0},{"$f":"SUM(AO86,AR86,AU86,AX86)","v":0},null,null,{"$f":"AZ86*BA86","v":0},null,null,{"$f":"BC86*BD86","v":0},null,null,{"$f":"BF86*BG86","v":0},null,null,{"$f":"BI86*BJ86","v":0},{"$f":"SUM(BB86,BE86,BH86,BK86)","v":0},null,null,{"$f":"BM86*BN86","v":0},null,null,{"$f":"BP86*BQ86","v":0},null,null,{"$f":"BS86*BT86","v":0},null,null,{"$f":"BV86*BW86","v":0},{"$f":"SUM(BO86,BR86,BU86,BX86)","v":0},{"$f":"Y86+AL86+AY86+BL86+BY86","v":0}]
[null,{"$f":"IF(A87=\"Activité\",MAX($B$12:B86)+1,\"\")","v":""}]
["Activité",{"$f":"IF(A88=\"Activité\",MAX($B$12:B87)+1,\"\")","v":16},null,null,null,null,null,null,null,{"$f":"B88","v":16},{"$f":"IF(A88=\"Activité\",\"Veuillez trouver les détails ci-dessous\",\"\")","v":"Veuillez trouver les détails ci-dessous"},null,null,null,{"$f":"SUM(O89:O91)","v":0},null,null,{"$f":"SUM(R89:R91)","v":0},null,null,{"$f":"SUM(U89:U91)","v":0},null,null,{"$f":"SUM(X89:X91)","v":0},{"$f":"SUM(Y89:Y91)","v":0},null,null,{"$f":"SUM(AB89:AB91)","v":0},null,null,{"$f":"SUM(AE89:AE91)","v":0},null,null,{"$f":"SUM(AH89:AH91)","v":0},null,null,{"$f":"SUM(AK89:AK91)","v":0},{"$f":"SUM(AL89:AL91)","v":0},null,null,{"$f":"SUM(AO89:AO91)","v":0},null,null,{"$f":"SUM(AR89:AR91)","v":0},null,null,{"$f":"SUM(AU89:AU91)","v":0},null,null,{"$f":"SUM(AX89:AX91)","v":0},{"$f":"SUM(AY89:AY91)","v":0},null,null,{"$f":"SUM(BB89:BB91)","v":0},null,null,{"$f":"SUM(BE89:BE91)","v":0},null,null,{"$f":"SUM(BH89:BH91)","v":0},null,null,{"$f":"SUM(BK89:BK91)","v":0},{"$f":"SUM(BL89:BL91)","v":0},null,null,{"$f":"SUM(BO89:BO91)","v":0},null,null,{"$f":"SUM(BR89:BR91)","v":0},null,null,{"$f":"SUM(BU89:BU91)","v":0},null,null,{"$f":"SUM(BX89:BX91)","v":0},{"$f":"SUM(BY89:BY91)","v":0},{"$f":"Y88+AL88+AY88+BL88+BY88","v":0}]
["Coût",{"$f":"IF(A89=\"Activité\",MAX($B$12:B88)+1,\"\")","v":""},{"$f":"C88","v":0},null,null,null,{"$f":"G88","v":0},{"$f":"H88","v":0},null,null,null,null,null,null,{"$f":"M89*N89","v":0},null,null,{"$f":"P89*Q89","v":0},null,null,{"$f":"S89*T89","v":0},null,null,{"$f":"V89*W89","v":0},{"$f":"SUM(O89,R89,U89,X89)","v":0},null,null,{"$f":"Z89*AA89","v":0},null,null,{"$f":"AC89*AD89","v":0},null,null,{"$f":"AF89*AG89","v":0},null,null,{"$f":"AI89*AJ89","v":0},{"$f":"SUM(AB89,AE89,AH89,AK89)","v":0},null,null,{"$f":"AM89*AN89","v":0},null,null,{"$f":"AP89*AQ89","v":0},null,null,{"$f":"AS89*AT89","v":0},null,null,{"$f":"AV89*AW89","v":0},{"$f":"SUM(AO89,AR89,AU89,AX89)","v":0},null,null,{"$f":"AZ89*BA89","v":0},null,null,{"$f":"BC89*BD89","v":0},null,null,{"$f":"BF89*BG89","v":0},null,null,{"$f":"BI89*BJ89","v":0},{"$f":"SUM(BB89,BE89,BH89,BK89)","v":0},null,null,{"$f":"BM89*BN89","v":0},null,null,{"$f":"BP89*BQ89","v":0},null,null,{"$f":"BS89*BT89","v":0},null,null,{"$f":"BV89*BW89","v":0},{"$f":"SUM(BO89,BR89,BU89,BX89)","v":0},{"$f":"Y89+AL89+AY89+BL89+BY89","v":0}]
["Coût",{"$f":"IF(A90=\"Activité\",MAX($B$12:B89)+1,\"\")","v":""},{"$f":"C88","v":0},null,null,null,{"$f":"G88","v":0},{"$f":"H88","v":0},null,null,null,null,null,null,{"$f":"M90*N90","v":0},null,null,{"$f":"P90*Q90","v":0},null,null,{"$f":"S90*T90","v":0},null,null,{"$f":"V90*W90","v":0},{"$f":"SUM(O90,R90,U90,X90)","v":0},null,null,{"$f":"Z90*AA90","v":0},null,null,{"$f":"AC90*AD90","v":0},null,null,{"$f":"AF90*AG90","v":0},null,null,{"$f":"AI90*AJ90","v":0},{"$f":"SUM(AB90,AE90,AH90,AK90)","v":0},null,null,{"$f":"AM90*AN90","v":0},null,null,{"$f":"AP90*AQ90","v":0},null,null,{"$f":"AS90*AT90","v":0},null,null,{"$f":"AV90*AW90","v":0},{"$f":"SUM(AO90,AR90,AU90,AX90)","v":0},null,null,{"$f":"AZ90*BA90","v":0},null,null,{"$f":"BC90*BD90","v":0},null,null,{"$f":"BF90*BG90","v":0},null,null,{"$f":"BI90*BJ90","v":0},{"$f":"SUM(BB90,BE90,BH90,BK90)","v":0},null,null,{"$f":"BM90*BN90","v":0},null,null,{"$f":"BP90*BQ90","v":0},null,null,{"$f":"BS90*BT90","v":0},null,null,{"$f":"BV90*BW90","v":0},{"$f":"SUM(BO90,BR90,BU90,BX90)","v":0},{"$f":"Y90+AL90+AY90+BL90+BY90","v":0}]
["Coût",{"$f":"IF(A91=\"Activité\",MAX($B$12:B90)+1,\"\")","v":""},{"$f":"C88","v":0},null,null,null,{"$f":"G88","v":0},{"$f":"H88","v":0},null,null,null,null,null,null,{"$f":"M91*N91","v":0},null,null,{"$f":"P91*Q91","v":0},null,null,{"$f":"S91*T91","v":0},null,null,{"$f":"V91*W91","v":0},{"$f":"SUM(O91,R91,U91,X91)","v":0},null,null,{"$f":"Z91*AA91","v":0},null,null,{"$f":"AC91*AD91","v":0},null,null,{"$f":"AF91*AG91","v":0},null,null,{"$f":"AI91*AJ91","v":0},{"$f":"SUM(AB91,AE91,AH91,AK91)","v":0},null,null,{"$f":"AM91*AN91","v":0},null,null,{"$f":"AP91*AQ91","v":0},null,null,{"$f":"AS91*AT91","v":0},null,null,{"$f":"AV91*AW91","v":0},{"$f":"SUM(AO91,AR91,AU91,AX91)","v":0},null,null,{"$f":"AZ91*BA91","v":0},null,null,{"$f":"BC91*BD91","v":0},null,null,{"$f":"BF91*BG91","v":0},null,null,{"$f":"BI91*BJ91","v":0},{"$f":"SUM(BB91,BE91,BH91,BK91)","v":0},null,null,{"$f":"BM91*BN91","v":0},null,null,{"$f":"BP91*BQ91","v":0},null,null,{"$f":"BS91*BT91","v":0},null,null,{"$f":"BV91*BW91","v":0},{"$f":"SUM(BO91,BR91,BU91,BX91)","v":0},{"$f":"Y91+AL91+AY91+BL91+BY91","v":0}]
[null,{"$f":"IF(A92=\"Activité\",MAX($B$12:B91)+1,\"\")","v":""}]
["Activité",{"$f":"IF(A93=\"Activité\",MAX($B$12:B92)+1,\"\")","v":17},null,null,null,null,null,null,null,{"$f":"B93","v":17},{"$f":"IF(A93=\"Activité\",\"Veuillez trouver les détails ci-dessous\",\"\")","v":"Veuillez trouver les détails ci-dessous"},null,null,null,{"$f":"SUM(O94:O96)","v":0},null,null,{"$f":"SUM(R94:R96)","v":0},null,null,{"$f":"SUM(U94:U96)","v":0},null,null,{"$f":"SUM(X94:X96)","v":0},{"$f":"SUM(Y94:Y96)","v":0},null,null,{"$f":"SUM(AB94:AB96)","v":0},null,null,{"$f":"SUM(AE94:AE96)","v":0},null,null,{"$f":"SUM(AH94:AH96)","v":0},null,null,{"$f":"SUM(AK94:AK96)","v":0},{"$f":"SUM(AL94:AL96)","v":0},null,null,{"$f":"SUM(AO94:AO96)","v":0},null,null,{"$f":"SUM(AR94:AR96)","v":0},null,null,{"$f":"SUM(AU94:AU96)","v":0},null,null,{"$f":"SUM(AX94:AX96)","v":0},{"$f":"SUM(AY94:AY96)","v":0},null,null,{"$f":"SUM(BB94:BB96)","v":0},null,null,{"$f":"SUM(BE94:BE96)","v":0},null,null,{"$f":"SUM(BH94:BH96)","v":0},null,null,{"$f":"SUM(BK94:BK96)","v":0},{"$f":"SUM(BL94:BL96)","v":0},null,null,{"$f":"SUM(BO94:BO96)","v":0},null,null,{"$f":"SUM(BR94:BR96)","v":0},null,null,{"$f":"SUM(BU94:BU96)","v":0},null,null,{"$f":"SUM(BX94:BX96)","v":0},{"$f":"SUM(BY94:BY96)","v":0},{"$f":"Y93+AL93+AY93+BL93+BY93","v":0}]
["Coût",{"$f":"IF(A94=\"Activité\",MAX($B$12:B93)+1,\"\")","v":""},{"$f":"C93","v":0},null,null,null,{"$f":"G93","v":0},{"$f":"H93","v":0},null,null,null,null,null,null,{"$f":"M94*N94","v":0},null,null,{"$f":"P94*Q94","v":0},null,null,{"$f":"S94*T94","v":0},null,null,{"$f":"V94*W94","v":0},{"$f":"SUM(O94,R94,U94,X94)","v":0},null,null,{"$f":"Z94*AA94","v":0},null,null,{"$f":"AC94*AD94","v":0},null,null,{"$f":"AF94*AG94","v":0},null,null,{"$f":"AI94*AJ94","v":0},{"$f":"SUM(AB94,AE94,AH94,AK94)","v":0},null,null,{"$f":"AM94*AN94","v":0},null,null,{"$f":"AP94*AQ94","v":0},null,null,{"$f":"AS94*AT94","v":0},null,null,{"$f":"AV94*AW94","v":0},{"$f":"SUM(AO94,AR94,AU94,AX94)","v":0},null,null,{"$f":"AZ94*BA94","v":0},null,null,{"$f":"BC94*BD94","v":0},null,null,{"$f":"BF94*BG94","v":0},null,null,{"$f":"BI94*BJ94","v":0},{"$f":"SUM(BB94,BE94,BH94,BK94)","v":0},null,null,{"$f":"BM94*BN94","v":0},null,null,{"$f":"BP94*BQ94","v":0},null,null,{"$f":"BS94*BT94","v":0},null,null,{"$f":"BV94*BW94","v":0},{"$f":"SUM(BO94,BR94,BU94,BX94)","v":0},{"$f":"Y94+AL94+AY94+BL94+BY94","v":0}]
["Coût",{"$f":"IF(A95=\"Activité\",MAX($B$12:B94)+1,\"\")","v":""},{"$f":"C93","v":0},null,null,null,{"$f":"G93","v":0},{"$f":"H93","v":0},null,null,null,null,null,null,{"$f":"M95*N95","v":0},null,null,{"$f":"P95*Q95","v":0},null,null,{"$f":"S95*T95","v":0},null,null,{"$f":"V95*W95","v":0},{"$f":"SUM(O95,R95,U95,X95)","v":0},null,null,{"$f":"Z95*AA95","v":0},null,null,{"$f":"AC95*AD95","v":0},null,null,{"$f":"AF95*AG95","v":0},null,null,{"$f":"AI95*AJ95","v":0},{"$f":"SUM(AB95,AE95,AH95,AK95)","v":0},null,null,{"$f":"AM95*AN95","v":0},null,null,{"$f":"AP95*AQ95","v":0},null,null,{"$f":"AS95*AT95","v":0},null,null,{"$f":"AV95*AW95","v":0},{"$f":"SUM(AO95,AR95,AU95,AX95)","v":0},null,null,{"$f":"AZ95*BA95","v":0},null,null,{"$f":"BC95*BD95","v":0},null,null,{"$f":"BF95*BG95","v":0},null,null,{"$f":"BI95*BJ95","v":0},{"$f":"SUM(BB95,BE95,BH95,BK95)","v":0},null,null,{"$f":"BM95*BN95","v":0},null,null,{"$f":"BP95*BQ95","v":0},null,null,{"$f":"BS95*BT95","v":0},null,null,{"$f":"BV95*BW95","v":0},{"$f":"SUM(BO95,BR95,BU95,BX95)","v":0},{"$f":"Y95+AL95+AY95+BL95+BY95","v":0}]
["Coût",{"$f":"IF(A96=\"Activité\",MAX($B$12:B95)+1,\"\")","v":""},{"$f":"C93","v":0},null,null,null,{"$f":"G93","v":0},{"$f":"H93","v":0},null,null,null,null,null,null,{"$f":"M96*N96","v":0},null,null,{"$f":"P96*Q96","v":0},null,null,{"$f":"S96*T96","v":0},null,null,{"$f":"V96*W96","v":0},{"$f":"SUM(O96,R96,U96,X96)","v":0},null,null,{"$f":"Z96*AA96","v":0},null,null,{"$f":"AC96*AD96","v":0},null,null,{"$f":"AF96*AG96","v":0},null,null,{"$f":"AI96*AJ96","v":0},{"$f":"SUM(AB96,AE96,AH96,AK96)","v":0},null,null,{"$f":"AM96*AN96","v":0},null,null,{"$f":"AP96*AQ96","v":0},null,null,{"$f":"AS96*AT96","v":0},null,null,{"$f":"AV96*AW96","v":0},{"$f":"SUM(AO96,AR96,AU96,AX96)","v":0},null,null,{"$f":"AZ96*BA96","v":0},null,null,{"$f":"BC96*BD96","v":0},null,null,{"$f":"BF96*BG96","v":0},null,null,{"$f":"BI96*BJ96","v":0},{"$f":"SUM(BB96,BE96,BH96,BK96)","v":0},null,null,{"$f":"BM96*BN96","v":0},null,null,{"$f":"BP96*BQ96","v":0},null,null,{"$f":"BS96*BT96","v":0},null,null,{"$f":"BV96*BW96","v":0},{"$f":"SUM(BO96,BR96,BU96,BX96)","v":0},{"$f":"Y96+AL96+AY96+BL96+BY96","v":0}]
[null,{"$f":"IF(A97=\"Activité\",MAX($B$12:B96)+1,\"\")","v":""}]
["Activité",{"$f":"IF(A98=\"Activité\",MAX($B$12:B97)+1,\"\")","v":18},null,null,null,null,null,null,null,{"$f":"B98","v":18},{"$f":"IF(A98=\"Activité\",\"Veuillez trouver les détails ci-dessous\",\"\")","v":"Veuillez trouver les détails ci-dessous"},null,null,null,{"$f":"SUM(O99:O101)","v":0},null,null,{"$f":"SUM(R99:R101)","v":0},null,null,{"$f":"SUM(U99:U101)","v":0},null,null,{"$f":"SUM(X99:X101)","v":0},{"$f":"SUM(Y99:Y101)","v":0},null,null,{"$f":"SUM(AB99:AB101)","v":0},null,null,{"$f":"SUM(AE99:AE101)","v":0},null,null,{"$f":"SUM(AH99:AH101)","v":0},null,null,{"$f":"SUM(AK99:AK101)","v":0},{"$f":"SUM(AL99:AL101)","v":0},null,null,{"$f":"SUM(AO99:AO101)","v":0},null,null,{"$f":"SUM(AR99:AR101)","v":0},null,null,{"$f":"SUM(AU99:AU101)","v":0},null,null,{"$f":"SUM(AX99:AX101)","v":0},{"$f":"SUM(AY99:AY101)","v":0},null,null,{"$f":"SUM(BB99:BB101)","v":0},null,null,{"$f":"SUM(BE99:BE101)","v":0},null,null,{"$f":"SUM(BH99:BH101)","v":0},null,null,{"$f":"SUM(BK99:BK101)","v":0},{"$f":"SUM(BL99:BL101)","v":0},null,null,{"$f":"SUM(BO99:BO101)","v":0},null,null,{"$f":"SUM(BR99:BR101)","v":0},null,null,{"$f":"SUM(BU99:BU101)","v":0},null,null,{"$f":"SUM(BX99:BX101)","v":0},{"$f":"SUM(BY99:BY101)","v":0},{"$f":"Y98+AL98+AY98+BL98+BY98","v":0}]
["Coût",{"$f":"IF(A99=\"Activité\",MAX($B$12:B98)+1,\"\")","v":""},{"$f":"C98","v":0},null,null,null,{"$f":"G98","v":0},{"$f":"H98","v":0},null,null,null,null,null,null,{"$f":"M99*N99","v":0},null,null,{"$f":"P99*Q99","v":0},null,null,{"$f":"S99*T99","v":0},null,null,{"$f":"V99*W99","v":0},{"$f":"SUM(O99,R99,U99,X99)","v":0},null,null,{"$f":"Z99*AA99","v":0},null,null,{"$f":"AC99*AD99","v":0},null,null,{"$f":"AF99*AG99","v":0},null,null,{"$f":"AI99*AJ99","v":0},{"$f":"SUM(AB99,AE99,AH99,AK99)","v":0},null,null,{"$f":"AM99*AN99","v":0},null,null,{"$f":"AP99*AQ99","v":0},null,null,{"$f":"AS99*AT99","v":0},null,null,{"$f":"AV99*AW99","v":0},{"$f":"SUM(AO99,AR99,AU99,AX99)","v":0},null,null,{"$f":"AZ99*BA99","v":0},null,null,{"$f":"BC99*BD99","v":0},null,null,{"$f":"BF99*BG99","v":0},null,null,{"$f":"BI99*BJ99","v":0},{"$f":"SUM(BB99,BE99,BH99,BK99)","v":0},null,null,{"$f":"BM99*BN99","v":0},null,null,{"$f":"BP99*BQ99","v":0},null,null,{"$f":"BS99*BT99","v":0},null,null,{"$f":"BV99*BW99","v":0},{"$f":"SUM(BO99,BR99,BU99,BX99)","v":0},{"$f":"Y99+AL99+AY99+BL99+BY99","v":0}]
["Coût",{"$f":"IF(A100=\"Activité\",MAX($B$12:B99)+1,\"\")","v":""},{"$f":"C98","v":0},null,null,null,{"$f":"G98","v":0},{"$f":"H98","v":0},null,null,null,null,null,null,{"$f":"M100*N100","v":0},null,null,{"$f":"P100*Q100","v":0},null,null,{"$f":"S100*T100","v":0},null,null,{"$f":"V100*W100","v":0},{"$f":"SUM(O100,R100,U100,X100)","v":0},null,null,{"$f":"Z100*AA100","v":0},null,null,{"$f":"AC100*AD100","v":0},null,null,{"$f":"AF100*AG100","v":0},null,null,{"$f":"AI100*AJ100","v":0},{"$f":"SUM(AB100,AE100,AH100,AK100)","v":0},null,null,{"$f":"AM100*AN100","v":0},null,null,{"$f":"AP100*AQ100","v":0},null,null,{"$f":"AS100*AT100","v":0},null,null,{"$f":"AV100*AW100","v":0},{"$f":"SUM(AO100,AR100,AU100,AX100)","v":0},null,null,{"$f":"AZ100*BA100","v":0},null,null,{"$f":"BC100*BD100","v":0},null,null,{"$f":"BF100*BG100","v":0},null,null,{"$f":"BI100*BJ100","v":0},{"$f":"SUM(BB100,BE100,BH100,BK100)","v":0},null,null,{"$f":"BM100*BN100","v":0},null,null,{"$f":"BP100*BQ100","v":0},null,null,{"$f":"BS100*BT100","v":0},null,null,{"$f":"BV100*BW100","v":0},{"$f":"SUM(BO100,BR100,BU100,BX100)","v":0},{"$f":"Y100+AL100+AY100+BL100+BY100","v":0}]
["Coût",{"$f":"IF(A101=\"Activité\",MAX($B$12:B100)+1,\"\")","v":""},{"$f":"C98","v":0},null,null,null,{"$f":"G98","v":0},{"$f":"H98","v":0},null,null,null,null,null,null,{"$f":"M101*N101","v":0},null,null,{"$f":"P101*Q101","v":0},null,null,{"$f":"S101*T101","v":0},null,null,{"$f":"V101*W101","v":0},{"$f":"SUM(O101,R101,U101,X101)","v":0},null,null,{"$f":"Z101*AA101","v":0},null,null,{"$f":"AC101*AD101","v":0},null,null,{"$f":"AF101*AG101","v":0},null,null,{"$f":"AI101*AJ101","v":0},{"$f":"SUM(AB101,AE101,AH101,AK101)","v":0},null,null,{"$f":"AM101*AN101","v":0},null,null,{"$f":"AP101*AQ101","v":0},null,null,{"$f":"AS101*AT101","v":0},null,null,{"$f":"AV101*AW101","v":0},{"$f":"SUM(AO101,AR101,AU101,AX101)","v":0},null,null,{"$f":"AZ101*BA101","v":0},null,null,{"$f":"BC101*BD101","v":0},null,null,{"$f":"BF101*BG101","v":0},null,null,{"$f":"BI101*BJ101","v":0},{"$f":"SUM(BB101,BE101,BH101,BK101)","v":0},null,null,{"$f":"BM101*BN101","v":0},null,null,{"$f":"BP101*BQ101","v":0},null,null,{"$f":"BS101*BT101","v":0},null,null,{"$f":"BV101*BW101","v":0},{"$f":"SUM(BO101,BR101,BU101,BX101)","v":0},{"$f":"Y101+AL101+AY101+BL101+BY101","v":0}]
[null,{"$f":"IF(A102=\"Activité\",MAX($B$12:B101)+1,\"\")","v":""}]
["Activité",{"$f":"IF(A103=\"Activité\",MAX($B$12:B102)+1,\"\")","v":19},null,null,null,null,null,null,null,{"$f":"B103","v":19},{"$f":"IF(A103=\"Activité\",\"Veuillez trouver les détails ci-dessous\",\"\")","v":"Veuillez trouver les détails ci-dessous"},null,null,null,{"$f":"SUM(O104:O106)","v":0},null,null,{"$f":"SUM(R104:R106)","v":0},null,null,{"$f":"SUM(U104:U106)","v":0},null,null,{"$f":"SUM(X104:X106)","v":0},{"$f":"SUM(Y104:Y106)","v":0},null,null,{"$f":"SUM(AB104:AB106)","v":0},null,null,{"$f":"SUM(AE104:AE106)","v":0},null,null,{"$f":"SUM(AH104:AH106)","v":0},null,null,{"$f":"SUM(AK104:AK106)","v":0},{"$f":"SUM(AL104:AL106)","v":0},null,null,{"$f":"SUM(AO104:AO106)","v":0},null,null,{"$f":"SUM(AR104:AR106)","v":0},null,null,{"$f":"SUM(AU104:AU106)","v":0},null,null,{"$f":"SUM(AX104:AX106)","v":0},{"$f":"SUM(AY104:AY106)","v":0},null,null,{"$f":"SUM(BB104:BB106)","v":0},null,null,{"$f":"SUM(BE104:BE106)","v":0},null,null,{"$f":"SUM(BH104:BH106)","v":0},null,null,{"$f":"SUM(BK104:BK106)","v":0},{"$f":"SUM(BL104:BL106)","v":0},null,null,{"$f":"SUM(BO104:BO106)","v":0},null,null,{"$f":"SUM(BR104:BR106)","v":0},null,null,{"$f":"SUM(BU104:BU106)","v":0},null,null,{"$f":"SUM(BX104:BX106)","v":0},{"$f":"SUM(BY104:BY106)","v":0},{"$f":"Y103+AL103+AY103+BL103+BY103","v":0}]
["Coût",{"$f":"IF(A104=\"Activité\",MAX($B$12:B103)+1,\"\")","v":""},{"$f":"C103","v":0},null,null,null,{"$f":"G103","v":0},{"$f":"H103","v":0},null,null,null,null,null,null,{"$f":"M104*N104","v":0},null,null,{"$f":"P104*Q104","v":0},null,null,{"$f":"S104*T104","v":0},null,null,{"$f":"V104*W104","v":0},{"$f":"SUM(O104,R104,U104,X104)","v":0},null,null,{"$f":"Z104*AA104","v":0},null,null,{"$f":"AC104*AD104","v":0},null,null,{"$f":"AF104*AG104","v":0},null,null,{"$f":"AI104*AJ104","v":0},{"$f":"SUM(AB104,AE104,AH104,AK104)","v":0},null,null,{"$f":"AM104*AN104","v":0},null,null,{"$f":"AP104*AQ104","v":0},null,null,{"$f":"AS104*AT104","v":0},null,null,{"$f":"AV104*AW104","v":0},{"$f":"SUM(AO104,AR104,AU104,AX104)","v":0},null,null,{"$f":"AZ104*BA104","v":0},null,null,{"$f":"BC104*BD104","v":0},null,null,{"$f":"BF104*BG104","v":0},null,null,{"$f":"BI104*BJ104","v":0},{"$f":"SUM(BB104,BE104,BH104,BK104)","v":0},null,null,{"$f":"BM104*BN104","v":0},null,null,{"$f":"BP104*BQ104","v":0},null,null,{"$f":"BS104*BT104","v":0},null,null,{"$f":"BV104*BW104","v":0},{"$f":"SUM(BO104,BR104,BU104,BX104)","v":0},{"$f":"Y104+AL104+AY104+BL104+BY104","v":0}]
["Coût",{"$f":"IF(A105=\"Activité\",MAX($B$12:B104)+1,\"\")","v":""},{"$f":"C103","v":0},null,null,null,{"$f":"G103","v":0},{"$f":"H103","v":0},null,null,null,null,null,null,{"$f":"M105*N105","v":0},null,null,{"$f":"P105*Q105","v":0},null,null,{"$f":"S105*T105","v":0},null,null,{"$f":"V105*W105","v":0},{"$f":"SUM(O105,R105,U105,X105)","v":0},null,null,{"$f":"Z105*AA105","v":0},null,null,{"$f":"AC105*AD105","v":0},null,null,{"$f":"AF105*AG105","v":0},null,null,{"$f":"AI105*AJ105","v":0},{"$f":"SUM(AB105,AE105,AH105,AK105)","v":0},null,null,{"$f":"AM105*AN105","v":0},null,null,{"$f":"AP105*AQ105","v":0},null,null,{"$f":"AS105*AT105","v":0},null,null,{"$f":"AV105*AW105","v":0},{"$f":"SUM(AO105,AR105,AU105,AX105)","v":0},null,null,{"$f":"AZ105*BA105","v":0},null,null,{"$f":"BC105*BD105","v":0},null,null,{"$f":"BF105*BG105","v":0},null,null,{"$f":"BI105*BJ105","v":0},{"$f":"SUM(BB105,BE105,BH105,BK105)","v":0},null,null,{"$f":"BM105*BN105","v":0},null,null,{"$f":"BP105*BQ105","v":0},null,null,{"$f":"BS105*BT105","v":0},null,null,{"$f":"BV105*BW105","v":0},{"$f":"SUM(BO105,BR105,BU105,BX105)","v":0},{"$f":"Y105+AL105+AY105+BL105+BY105","v":0}]
["Coût",{"$f":"IF(A106=\"Activité\",MAX($B$12:B105)+1,\"\")","v":""},{"$f":"C103","v":0},null,null,null,{"$f":"G103","v":0},{"$f":"H103","v":0},null,null,null,null,null,null,{"$f":"M106*N106","v":0},null,null,{"$f":"P106*Q106","v":0},null,null,{"$f":"S106*T106","v":0},null,null,{"$f":"V106*W106","v":0},{"$f":"SUM(O106,R106,U106,X106)","v":0},null,null,{"$f":"Z106*AA106","v":0},null,null,{"$f":"AC106*AD106","v":0},null,null,{"$f":"AF106*AG106","v":0},null,null,{"$f":"AI106*AJ106","v":0},{"$f":"SUM(AB106,AE106,AH106,AK106)","v":0},null,null,{"$f":"AM106*AN106","v":0},null,null,{"$f":"AP106*AQ106","v":0},null,null,{"$f":"AS106*AT106","v":0},null,null,{"$f":"AV106*AW106","v":0},{"$f":"SUM(AO106,AR106,AU106,AX106)","v":0},null,null,{"$f":"AZ106*BA106","v":0},null,null,{"$f":"BC106*BD106","v":0},null,null,{"$f":"BF106*BG106","v":0},null,null,{"$f":"BI106*BJ106","v":0},{"$f":"SUM(BB106,BE106,BH106,BK106)","v":0},null,null,{"$f":"BM106*BN106","v":0},null,null,{"$f":"BP106*BQ106","v":0},null,null,{"$f":"BS106*BT106","v":0},null,null,{"$f":"BV106*BW106","v":0},{"$f":"SUM(BO106,BR106,BU106,BX106)","v":0},{"$f":"Y106+AL106+AY106+BL106+BY106","v":0}]
[null,{"$f":"IF(A107=\"Activité\",MAX($B$12:B106)+1,\"\")","v":""}]
["Activité",{"$f":"IF(A108=\"Activité\",MAX($B$12:B107)+1,\"\")","v":20},null,null,null,null,null,null,null,{"$f":"B108","v":20},{"$f":"IF(A108=\"Activité\",\"Veuillez trouver les détails ci-dessous\",\"\")","v":"Veuillez trouver les détails ci-dessous"},null,null,null,{"$f":"SUM(O109:O111)","v":0},null,null,{"$f":"SUM(R109:R111)","v":0},null,null,{"$f":"SUM(U109:U111)","v":0},null,null,{"$f":"SUM(X109:X111)","v":0},{"$f":"SUM(Y109:Y111)","v":0},null,null,{"$f":"SUM(AB109:AB111)","v":0},null,null,{"$f":"SUM(AE109:AE111)","v":0},null,null,{"$f":"SUM(AH109:AH111)","v":0},null,null,{"$f":"SUM(AK109:AK111)","v":0},{"$f":"SUM(AL109:AL111)","v":0},null,null,{"$f":"SUM(AO109:AO111)","v":0},null,null,{"$f":"SUM(AR109:AR111)","v":0},null,null,{"$f":"SUM(AU109:AU111)","v":0},null,null,{"$f":"SUM(AX109:AX111)","v":0},{"$f":"SUM(AY109:AY111)","v":0},null,null,{"$f":"SUM(BB109:BB111)","v":0},null,null,{"$f":"SUM(BE109:BE111)","v":0},null,null,{"$f":"SUM(BH109:BH111)","v":0},null,null,{"$f":"SUM(BK109:BK111)","v":0},{"$f":"SUM(BL109:BL111)","v":0},null,null,{"$f":"SUM(BO109:BO111)","v":0},null,null,{"$f":"SUM(BR109:BR111)","v":0},null,null,{"$f":"SUM(BU109:BU111)","v":0},null,null,{"$f":"SUM(BX109:BX111)","v":0},{"$f":"SUM(BY109:BY111)","v":0},{"$f":"Y108+AL108+AY108+BL108+BY108","v":0}]
["Coût",{"$f":"IF(A109=\"Activité\",MAX($B$12:B108)+1,\"\")","v":""},{"$f":"C108","v":0},null,null,null,{"$f":"G108","v":0},{"$f":"H108","v":0},null,null,null,null,null,null,{"$f":"M109*N109","v":0},null,null,{"$f":"P109*Q109","v":0},null,null,{"$f":"S109*T109","v":0},null,null,{"$f":"V109*W109","v":0},{"$f":"SUM(O109,R109,U109,X109)","v":0},null,null,{"$f":"Z109*AA109","v":0},null,null,{"$f":"AC109*AD109","v":0},null,null,{"$f":"AF109*AG109","v":0},null,null,{"$f":"AI109*AJ109","v":0},{"$f":"SUM(AB109,AE109,AH109,AK109)","v":0},null,null,{"$f":"AM109*AN109","v":0},null,null,{"$f":"AP109*AQ109","v":0},null,null,{"$f":"AS109*AT109","v":0},null,null,{"$f":"AV109*AW109","v":0},{"$f":"SUM(AO109,AR109,AU109,AX109)","v":0},null,null,{"$f":"AZ109*BA109","v":0},null,null,{"$f":"BC109*BD109","v":0},null,null,{"$f":"BF109*BG109","v":0},null,null,{"$f":"BI109*BJ109","v":0},{"$f":"SUM(BB109,BE109,BH109,BK109)","v":0},null,null,{"$f":"BM109*BN109","v":0},null,null,{"$f":"BP109*BQ109","v":0},null,null,{"$f":"BS109*BT109","v":0},null,null,{"$f":"BV109*BW109","v":0},{"$f":"SUM(BO109,BR109,BU109,BX109)","v":0},{"$f":"Y109+AL109+AY109+BL109+BY109","v":0}]
["Coût",{"$f":"IF(A110=\"Activité\",MAX($B$12:B109)+1,\"\")","v":""},{"$f":"C108","v":0},null,null,null,{"$f":"G108","v":0},{"$f":"H108","v":0},null,null,null,null,null,null,{"$f":"M110*N110","v":0},null,null,{"$f":"P110*Q110","v":0},null,null,{"$f":"S110*T110","v":0},null,null,{"$f":"V110*W110","v":0},{"$f":"SUM(O110,R110,U110,X110)","v":0},null,null,{"$f":"Z110*AA110","v":0},null,null,{"$f":"AC110*AD110","v":0},null,null,{"$f":"AF110*AG110","v":0},null,null,{"$f":"AI110*AJ110","v":0},{"$f":"SUM(AB110,AE110,AH110,AK110)","v":0},null,null,{"$f":"AM110*AN110","v":0},null,null,{"$f":"AP110*AQ110","v":0},null,null,{"$f":"AS110*AT110","v":0},null,null,{"$f":"AV110*AW110","v":0},{"$f":"SUM(AO110,AR110,AU110,AX110)","v":0},null,null,{"$f":"AZ110*BA110","v":0},null,null,{"$f":"BC110*BD110","v":0},null,null,{"$f":"BF110*BG110","v":0},null,null,{"$f":"BI110*BJ110","v":0},{"$f":"SUM(BB110,BE110,BH110,BK110)","v":0},null,null,{"$f":"BM110*BN110","v":0},null,null,{"$f":"BP110*BQ110","v":0},null,null,{"$f":"BS110*BT110","v":0},null,null,{"$f":"BV110*BW110","v":0},{"$f":"SUM(BO110,BR110,BU110,BX110)","v":0},{"$f":"Y110+AL110+AY110+BL110+BY110","v":0}]
["Coût",{"$f":"IF(A111=\"Activité\",MAX($B$12:B110)+1,\"\")","v":""},{"$f":"C108","v":0},null,null,null,{"$f":"G108","v":0},{"$f":"H108","v":0},null,null,null,null,null,null,{"$f":"M111*N111","v":0},null,null,{"$f":"P111*Q111","v":0},null,null,{"$f":"S111*T111","v":0},null,null,{"$f":"V111*W111","v":0},{"$f":"SUM(O111,R111,U111,X111)","v":0},null,null,{"$f":"Z111*AA111","v":0},null,null,{"$f":"AC111*AD111","v":0},null,null,{"$f":"AF111*AG111","v":0},null,null,{"$f":"AI111*AJ111","v":0},{"$f":"SUM(AB111,AE111,AH111,AK111)","v":0},null,null,{"$f":"AM111*AN111","v":0},null,null,{"$f":"AP111*AQ111","v":0},null,null,{"$f":"AS111*AT111","v":0},null,null,{"$f":"AV111*AW111","v":0},{"$f":"SUM(AO111,AR111,AU111,AX111)","v":0},null,null,{"$f":"AZ111*BA111","v":0},null,null,{"$f":"BC111*BD111","v":0},null,null,{"$f":"BF111*BG111","v":0},null,null,{"$f":"BI111*BJ111","v":0},{"$f":"SUM(BB111,BE111,BH111,BK111)","v":0},null,null,{"$f":"BM111*BN111","v":0},null,null,{"$f":"BP111*BQ111","v":0},null,null,{"$f":"BS111*BT111","v":0},null,null,{"$f":"BV111*BW111","v":0},{"$f":"SUM(BO111,BR111,BU111,BX111)","v":0},{"$f":"Y111+AL111+AY111+BL111+BY111","v":0}]
[null,{"$f":"IF(A112=\"Activité\",MAX($B$12:B111)+1,\"\")","v":""}]
["Activité",{"$f":"IF(A113=\"Activité\",MAX($B$12:B112)+1,\"\")","v":21},null,null,null,null,null,null,null,{"$f":"B113","v":21},{"$f":"IF(A113=\"Activité\",\"Veuillez trouver les détails ci-dessous\",\"\")","v":"Veuillez trouver les détails ci-dessous"},null,null,null,{"$f":"SUM(O114:O116)","v":0},null,null,{"$f":"SUM(R114:R116)","v":0},null,null,{"$f":"SUM(U114:U116)","v":0},null,null,{"$f":"SUM(X114:X116)","v":0},{"$f":"SUM(Y114:Y116)","v":0},null,null,{"$f":"SUM(AB114:AB116)","v":0},null,null,{"$f":"SUM(AE114:AE116)","v":0},null,null,{"$f":"SUM(AH114:AH116)","v":0},null,null,{"$f":"SUM(AK114:AK116)","v":0},{"$f":"SUM(AL114:AL116)","v":0},null,null,{"$f":"SUM(AO114:AO116)","v":0},null,null,{"$f":"SUM(AR114:AR116)","v":0},null,null,{"$f":"SUM(AU114:AU116)","v":0},null,null,{"$f":"SUM(AX114:AX116)","v":0},{"$f":"SUM(AY114:AY116)","v":0},null,null,{"$f":"SUM(BB114:BB116)","v":0},null,null,{"$f":"SUM(BE114:BE116)","v":0},null,null,{"$f":"SUM(BH114:BH116)","v":0},null,null,{"$f":"SUM(BK114:BK116)","v":0},{"$f":"SUM(BL114:BL116)","v":0},null,null,{"$f":"SUM(BO114:BO116)","v":0},null,null,{"$f":"SUM(BR114:BR116)","v":0},null,null,{"$f":"SUM(BU114:BU116)","v":0},null,null,{"$f":"SUM(BX114:BX116)","v":0},{"$f":"SUM(BY114:BY116)","v":0},{"$f":"Y113+AL113+AY113+BL113+BY113","v":0}]
["Coût",{"$f":"IF(A114=\"Activité\",MAX($B$12:B113)+1,\"\")","v":""},{"$f":"C113","v":0},null,null,null,{"$f":"G113","v":0},{"$f":"H113","v":0},null,null,null,null,null,null,{"$f":"M114*N114","v":0},null,null,{"$f":"P114*Q114","v":0},null,null,{"$f":"S114*T114","v":0},null,null,{"$f":"V114*W114","v":0},{"$f":"SUM(O114,R114,U114,X114)","v":0},null,null,{"$f":"Z114*AA114","v":0},null,null,{"$f":"AC114*AD114","v":0},null,null,{"$f":"AF114*AG114","v":0},null,null,{"$f":"AI114*AJ114","v":0},{"$f":"SUM(AB114,AE114,AH114,AK114)","v":0},null,null,{"$f":"AM114*AN114","v":0},null,null,{"$f":"AP114*AQ114","v":0},null,null,{"$f":"AS114*AT114","v":0},null,null,{"$f":"AV114*AW114","v":0},{"$f":"SUM(AO114,AR114,AU114,AX114)","v":0},null,null,{"$f":"AZ114*BA114","v":0},null,null,{"$f":"BC114*BD114","v":0},null,null,{"$f":"BF114*BG114","v":0},null,null,{"$f":"BI114*BJ114","v":0},{"$f":"SUM(BB114,BE114,BH114,BK114)","v":0},null,null,{"$f":"BM114*BN114","v":0},null,null,{"$f":"BP114*BQ114","v":0},null,null,{"$f":"BS114*BT114","v":0},null,null,{"$f":"BV114*BW114","v":0},{"$f":"SUM(BO114,BR114,BU114,BX114)","v":0},{"$f":"Y114+AL114+AY114+BL114+BY114","v":0}]
["Coût",{"$f":"IF(A115=\"Activité\",MAX($B$12:B114)+1,\"\")","v":""},{"$f":"C113","v":0},null,null,null,{"$f":"G113","v":0},{"$f":"H113","v":0},null,null,null,null,null,null,{"$f":"M115*N115","v":0},null,null,{"$f":"P115*Q115","v":0},null,null,{"$f":"S115*T115","v":0},null,null,{"$f":"V115*W115","v":0},{"$f":"SUM(O115,R115,U115,X115)","v":0},null,null,{"$f":"Z115*AA115","v":0},null,null,{"$f":"AC115*AD115","v":0},null,null,{"$f":"AF115*AG115","v":0},null,null,{"$f":"AI115*AJ115","v":0},{"$f":"SUM(AB115,AE115,AH115,AK115)","v":0},null,null,{"$f":"AM115*AN115","v":0},null,null,{"$f":"AP115*AQ115","v":0},null,null,{"$f":"AS115*AT115","v":0},null,null,{"$f":"AV115*AW115","v":0},{"$f":"SUM(AO115,AR115,AU115,AX115)","v":0},null,null,{"$f":"AZ115*BA115","v":0},null,null,{"$f":"BC115*BD115","v":0},null,null,{"$f":"BF115*BG115","v":0},null,null,{"$f":"BI115*BJ115","v":0},{"$f":"SUM(BB115,BE115,BH115,BK115)","v":0},null,null,{"$f":"BM115*BN115","v":0},null,null,{"$f":"BP115*BQ115","v":0},null,null,{"$f":"BS115*BT115","v":0},null,null,{"$f":"BV115*BW115","v":0},{"$f":"SUM(BO115,BR115,BU115,BX115)","v":0},{"$f":"Y115+AL115+AY115+BL115+BY115","v":0}]
["Coût",{"$f":"IF(A116=\"Activité\",MAX($B$12:B115)+1,\"\")","v":""},{"$f":"C113","v":0},null,null,null,{"$f":"G113","v":0},{"$f":"H113","v":0},null,null,null,null,null,null,{"$f":"M116*N116","v":0},null,null,{"$f":"P116*Q116","v":0},null,null,{"$f":"S116*T116","v":0},null,null,{"$f":"V116*W116","v":0},{"$f":"SUM(O116,R116,U116,X116)","v":0},null,null,{"$f":"Z116*AA116","v":0},null,null,{"$f":"AC116*AD116","v":0},null,null,{"$f":"AF116*AG116","v":0},null,null,{"$f":"AI116*AJ116","v":0},{"$f":"SUM(AB116,AE116,AH116,AK116)","v":0},null,null,{"$f":"AM116*AN116","v":0},null,null,{"$f":"AP116*AQ116","v":0},null,null,{"$f":"AS116*AT116","v":0},null,null,{"$f":"AV116*AW116","v":0},{"$f":"SUM(AO116,AR116,AU116,AX116)","v":0},null,null,{"$f":"AZ116*BA116","v":0},null,null,{"$f":"BC116*BD116","v":0},null,null,{"$f":"BF116*BG116","v":0},null,null,{"$f":"BI116*BJ116","v":0},{"$f":"SUM(BB116,BE116,BH116,BK116)","v":0},null,null,{"$f":"BM116*BN116","v":0},null,null,{"$f":"BP116*BQ116","v":0},null,null,{"$f":"BS116*BT116","v":0},null,null,{"$f":"BV116*BW116","v":0},{"$f":"SUM(BO116,BR116,BU116,BX116)","v":0},{"$f":"Y116+AL116+AY116+BL116+BY116","v":0}]
[null,{"$f":"IF(A117=\"Activité\",MAX($B$12:B116)+1,\"\")","v":""}]
["Activité",{"$f":"IF(A118=\"Activité\",MAX($B$12:B117)+1,\"\")","v":22},null,null,null,null,null,null,null,{"$f":"B118","v":22},{"$f":"IF(A118=\"Activité\",\"Veuillez trouver les détails ci-dessous\",\"\")","v":"Veuillez trouver les détails ci-dessous"},null,null,null,{"$f":"SUM(O119:O121)","v":0},null,null,{"$f":"SUM(R119:R121)","v":0},null,null,{"$f":"SUM(U119:U121)","v":0},null,null,{"$f":"SUM(X119:X121)","v":0},{"$f":"SUM(Y119:Y121)","v":0},null,null,{"$f":"SUM(AB119:AB121)","v":0},null,null,{"$f":"SUM(AE119:AE121)","v":0},null,null,{"$f":"SUM(AH119:AH121)","v":0},null,null,{"$f":"SUM(AK119:AK121)","v":0},{"$f":"SUM(AL119:AL121)","v":0},null,null,{"$f":"SUM(AO119:AO121)","v":0},null,null,{"$f":"SUM(AR119:AR121)","v":0},null,null,{"$f":"SUM(AU119:AU121)","v":0},null,null,{"$f":"SUM(AX119:AX121)","v":0},{"$f":"SUM(AY119:AY121)","v":0},null,null,{"$f":"SUM(BB119:BB121)","v":0},null,null,{"$f":"SUM(BE119:BE121)","v":0},null,null,{"$f":"SUM(BH119:BH121)","v":0},null,null,{"$f":"SUM(BK119:BK121)","v":0},{"$f":"SUM(BL119:BL121)","v":0},null,null,{"$f":"SUM(BO119:BO121)","v":0},null,null,{"$f":"SUM(BR119:BR121)","v":0},null,null,{"$f":"SUM(BU119:BU121)","v":0},null,null,{"$f":"SUM(BX119:BX121)","v":0},{"$f":"SUM(BY119:BY121)","v":0},{"$f":"Y118+AL118+AY118+BL118+BY118","v":0}]
["Coût",{"$f":"IF(A119=\"Activité\",MAX($B$12:B118)+1,\"\")","v":""},{"$f":"C118","v":0},null,null,null,{"$f":"G118","v":0},{"$f":"H118","v":0},null,null,null,null,null,null,{"$f":"M119*N119","v":0},null,null,{"$f":"P119*Q119","v":0},null,null,{"$f":"S119*T119","v":0},null,null,{"$f":"V119*W119","v":0},{"$f":"SUM(O119,R119,U119,X119)","v":0},null,null,{"$f":"Z119*AA119","v":0},null,null,{"$f":"AC119*AD119","v":0},null,null,{"$f":"AF119*AG119","v":0},null,null,{"$f":"AI119*AJ119","v":0},{"$f":"SUM(AB119,AE119,AH119,AK119)","v":0},null,null,{"$f":"AM119*AN119","v":0},null,null,{"$f":"AP119*AQ119","v":0},null,null,{"$f":"AS119*AT119","v":0},null,null,{"$f":"AV119*AW119","v":0},{"$f":"SUM(AO119,AR119,AU119,AX119)","v":0},null,null,{"$f":"AZ119*BA119","v":0},null,null,{"$f":"BC119*BD119","v":0},null,null,{"$f":"BF119*BG119","v":0},null,null,{"$f":"BI119*BJ119","v":0},{"$f":"SUM(BB119,BE119,BH119,BK119)","v":0},null,null,{"$f":"BM119*BN119","v":0},null,null,{"$f":"BP119*BQ119","v":0},null,null,{"$f":"BS119*BT119","v":0},null,null,{"$f":"BV119*BW119","v":0},{"$f":"SUM(BO119,BR119,BU119,BX119)","v":0},{"$f":"Y119+AL119+AY119+BL119+BY119","v":0}]
["Coût",{"$f":"IF(A120=\"Activité\",MAX($B$12:B119)+1,\"\")","v":""},{"$f":"C118","v":0},null,null,null,{"$f":"G118","v":0},{"$f":"H118","v":0},null,null,null,null,null,null,{"$f":"M120*N120","v":0},null,null,{"$f":"P120*Q120","v":0},null,null,{"$f":"S120*T120","v":0},null,null,{"$f":"V120*W120","v":0},{"$f":"SUM(O120,R120,U120,X120)","v":0},null,null,{"$f":"Z120*AA120","v":0},null,null,{"$f":"AC120*AD120","v":0},null,null,{"$f":"AF120*AG120","v":0},null,null,{"$f":"AI120*AJ120","v":0},{"$f":"SUM(AB120,AE120,AH120,AK120)","v":0},null,null,{"$f":"AM120*AN120","v":0},null,null,{"$f":"AP120*AQ120","v":0},null,null,{"$f":"AS120*AT120","v":0},null,null,{"$f":"AV120*AW120","v":0},{"$f":"SUM(AO120,AR120,AU120,AX120)","v":0},null,null,{"$f":"AZ120*BA120","v":0},null,null,{"$f":"BC120*BD120","v":0},null,null,{"$f":"BF120*BG120","v":0},null,null,{"$f":"BI120*BJ120","v":0},{"$f":"SUM(BB120,BE120,BH120,BK120)","v":0},null,null,{"$f":"BM120*BN120","v":0},null,null,{"$f":"BP120*BQ120","v":0},null,null,{"$f":"BS120*BT120","v":0},null,null,{"$f":"BV120*BW120","v":0},{"$f":"SUM(BO120,BR120,BU120,BX120)","v":0},{"$f":"Y120+AL120+AY120+BL120+BY120","v":0}]
["Coût",{"$f":"IF(A121=\"Activité\",MAX($B$12:B120)+1,\"\")","v":""},{"$f":"C118","v":0},null,null,null,{"$f":"G118","v":0},{"$f":"H118","v":0},null,null,null,null,null,null,{"$f":"M121*N121","v":0},null,null,{"$f":"P121*Q121","v":0},null,null,{"$f":"S121*T121","v":0},null,null,{"$f":"V121*W121","v":0},{"$f":"SUM(O121,R121,U121,X121)","v":0},null,null,{"$f":"Z121*AA121","v":0},null,null,{"$f":"AC121*AD121","v":0},null,null,{"$f":"AF121*AG121","v":0},null,null,{"$f":"AI121*AJ121","v":0},{"$f":"SUM(AB121,AE121,AH121,AK121)","v":0},null,null,{"$f":"AM121*AN121","v":0},null,null,{"$f":"AP121*AQ121","v":0},null,null,{"$f":"AS121*AT121","v":0},null,null,{"$f":"AV121*AW121","v":0},{"$f":"SUM(AO121,AR121,AU121,AX121)","v":0},null,null,{"$f":"AZ121*BA121","v":0},null,null,{"$f":"BC121*BD121","v":0},null,null,{"$f":"BF121*BG121","v":0},null,null,{"$f":"BI121*BJ121","v":0},{"$f":"SUM(BB121,BE121,BH121,BK121)","v":0},null,null,{"$f":"BM121*BN121","v":0},null,null,{"$f":"BP121*BQ121","v":0},null,null,{"$f":"BS121*BT121","v":0},null,null,{"$f":"BV121*BW121","v":0},{"$f":"SUM(BO121,BR121,BU121,BX121)","v":0},{"$f":"Y121+AL121+AY121+BL121+BY121","v":0}]
[null,{"$f":"IF(A122=\"Activité\",MAX($B$12:B121)+1,\"\")","v":""}]
["Activité",{"$f":"IF(A123=\"Activité\",MAX($B$12:B122)+1,\"\")","v":23},null,null,null,null,null,null,null,{"$f":"B123","v":23},{"$f":"IF(A123=\"Activité\",\"Veuillez trouver les détails ci-dessous\",\"\")","v":"Veuillez trouver les détails ci-dessous"},null,null,null,{"$f":"SUM(O124:O126)","v":0},null,null,{"$f":"SUM(R124:R126)","v":0},null,null,{"$f":"SUM(U124:U126)","v":0},null,null,{"$f":"SUM(X124:X126)","v":0},{"$f":"SUM(Y124:Y126)","v":0},null,null,{"$f":"SUM(AB124:AB126)","v":0},null,null,{"$f":"SUM(AE124:AE126)","v":0},null,null,{"$f":"SUM(AH124:AH126)","v":0},null,null,{"$f":"SUM(AK124:AK126)","v":0},{"$f":"SUM(AL124:AL126)","v":0},null,null,{"$f":"SUM(AO124:AO126)","v":0},null,null,{"$f":"SUM(AR124:AR126)","v":0},null,null,{"$f":"SUM(AU124:AU126)","v":0},null,null,{"$f":"SUM(AX124:AX126)","v":0},{"$f":"SUM(AY124:AY126)","v":0},null,null,{"$f":"SUM(BB124:BB126)","v":0},null,null,{"$f":"SUM(BE124:BE126)","v":0},null,null,{"$f":"SUM(BH124:BH126)","v":0},null,null,{"$f":"SUM(BK124:BK126)","v":0},{"$f":"SUM(BL124:BL126)","v":0},null,null,{"$f":"SUM(BO124:BO126)","v":0},null,null,{"$f":"SUM(BR124:BR126)","v":0},null,null,{"$f":"SUM(BU124:BU126)","v":0},null,null,{"$f":"SUM(BX124:BX126)","v":0},{"$f":"SUM(BY124:BY126)","v":0},{"$f":"Y123+AL123+AY123+BL123+BY123","v":0}]
["Coût",{"$f":"IF(A124=\"Activité\",MAX($B$12:B123)+1,\"\")","v":""},{"$f":"C123","v":0},null,null,null,{"$f":"G123","v":0},{"$f":"H123","v":0},null,null,null,null,null,null,{"$f":"M124*N124","v":0},null,null,{"$f":"P124*Q124","v":0},null,null,{"$f":"S124*T124","v":0},null,null,{"$f":"V124*W124","v":0},{"$f":"SUM(O124,R124,U124,X124)","v":0},null,null,{"$f":"Z124*AA124","v":0},null,null,{"$f":"AC124*AD124","v":0},null,null,{"$f":"AF124*AG124","v":0},null,null,{"$f":"AI124*AJ124","v":0},{"$f":"SUM(AB124,AE124,AH124,AK124)","v":0},null,null,{"$f":"AM124*AN124","v":0},null,null,{"$f":"AP124*AQ124","v":0},null,null,{"$f":"AS124*AT124","v":0},null,null,{"$f":"AV124*AW124","v":0},{"$f":"SUM(AO124,AR124,AU124,AX124)","v":0},null,null,{"$f":"AZ124*BA124","v":0},null,null,{"$f":"BC124*BD124","v":0},null,null,{"$f":"BF124*BG124","v":0},null,null,{"$f":"BI124*BJ124","v":0},{"$f":"SUM(BB124,BE124,BH124,BK124)","v":0},null,null,{"$f":"BM124*BN124","v":0},null,null,{"$f":"BP124*BQ124","v":0},null,null,{"$f":"BS124*BT124","v":0},null,null,{"$f":"BV124*BW124","v":0},{"$f":"SUM(BO124,BR124,BU124,BX124)","v":0},{"$f":"Y124+AL124+AY124+BL124+BY124","v":0}]
["Coût",{"$f":"IF(A125=\"Activité\",MAX($B$12:B124)+1,\"\")","v":""},{"$f":"C123","v":0},null,null,null,{"$f":"G123","v":0},{"$f":"H123","v":0},null,null,null,null,null,null,{"$f":"M125*N125","v":0},null,null,{"$f":"P125*Q125","v":0},null,null,{"$f":"S125*T125","v":0},null,null,{"$f":"V125*W125","v":0},{"$f":"SUM(O125,R125,U125,X125)","v":0},null,null,{"$f":"Z125*AA125","v":0},null,null,{"$f":"AC125*AD125","v":0},null,null,{"$f":"AF125*AG125","v":0},null,null,{"$f":"AI125*AJ125","v":0},{"$f":"SUM(AB125,AE125,AH125,AK125)","v":0},null,null,{"$f":"AM125*AN125","v":0},null,null,{"$f":"AP125*AQ125","v":0},null,null,{"$f":"AS125*AT125","v":0},null,null,{"$f":"AV125*AW125","v":0},{"$f":"SUM(AO125,AR125,AU125,AX125)","v":0},null,null,{"$f":"AZ125*BA125","v":0},null,null,{"$f":"BC125*BD125","v":0},null,null,{"$f":"BF125*BG125","v":0},null,null,{"$f":"BI125*BJ125","v":0},{"$f":"SUM(BB125,BE125,BH125,BK125)","v":0},null,null,{"$f":"BM125*BN125","v":0},null,null,{"$f":"BP125*BQ125","v":0},null,null,{"$f":"BS125*BT125","v":0},null,null,{"$f":"BV125*BW125","v":0},{"$f":"SUM(BO125,BR125,BU125,BX125)","v":0},{"$f":"Y125+AL125+AY125+BL125+BY125","v":0}]
["Coût",{"$f":"IF(A126=\"Activité\",MAX($B$12:B125)+1,\"\")","v":""},{"$f":"C123","v":0},null,null,null,{"$f":"G123","v":0},{"$f":"H123","v":0},null,null,null,null,null,null,{"$f":"M126*N126","v":0},null,null,{"$f":"P126*Q126","v":0},null,null,{"$f":"S126*T126","v":0},null,null,{"$f":"V126*W126","v":0},{"$f":"SUM(O126,R126,U126,X126)","v":0},null,null,{"$f":"Z126*AA126","v":0},null,null,{"$f":"AC126*AD126","v":0},null,null,{"$f":"AF126*AG126","v":0},null,null,{"$f":"AI126*AJ126","v":0},{"$f":"SUM(AB126,AE126,AH126,AK126)","v":0},null,null,{"$f":"AM126*AN126","v":0},null,null,{"$f":"AP126*AQ126","v":0},null,null,{"$f":"AS126*AT126","v":0},null,null,{"$f":"AV126*AW126","v":0},{"$f":"SUM(AO126,AR126,AU126,AX126)","v":0},null,null,{"$f":"AZ126*BA126","v":0},null,null,{"$f":"BC126*BD126","v":0},null,null,{"$f":"BF126*BG126","v":0},null,null,{"$f":"BI126*BJ126","v":0},{"$f":"SUM(BB126,BE126,BH126,BK126)","v":0},null,null,{"$f":"BM126*BN126","v":0},null,null,{"$f":"BP126*BQ126","v":0},null,null,{"$f":"BS126*BT126","v":0},null,null,{"$f":"BV126*BW126","v":0},{"$f":"SUM(BO126,BR126,BU126,BX126)","v":0},{"$f":"Y126+AL126+AY126+BL126+BY126","v":0}]
[null,{"$f":"IF(A127=\"Activité\",MAX($B$12:B126)+1,\"\")","v":""}]
["Activité",{"$f":"IF(A128=\"Activité\",MAX($B$12:B127)+1,\"\")","v":24},null,null,null,null,null,null,null,{"$f":"B128","v":24},{"$f":"IF(A128=\"Activité\",\"Veuillez trouver les détails ci-dessous\",\"\")","v":"Veuillez trouver les détails ci-dessous"},null,null,null,{"$f":"SUM(O129:O131)","v":0},null,null,{"$f":"SUM(R129:R131)","v":0},null,null,{"$f":"SUM(U129:U131)","v":0},null,null,{"$f":"SUM(X129:X131)","v":0},{"$f":"SUM(Y129:Y131)","v":0},null,null,{"$f":"SUM(AB129:AB131)","v":0},null,null,{"$f":"SUM(AE129:AE131)","v":0},null,null,{"$f":"SUM(AH129:AH131)","v":0},null,null,{"$f":"SUM(AK129:AK131)","v":0},{"$f":"SUM(AL129:AL131)","v":0},null,null,{"$f":"SUM(AO129:AO131)","v":0},null,null,{"$f":"SUM(AR129:AR131)","v":0},null,null,{"$f":"SUM(AU129:AU131)","v":0},null,null,{"$f":"SUM(AX129:AX131)","v":0},{"$f":"SUM(AY129:AY131)","v":0},null,null,{"$f":"SUM(BB129:BB131)","v":0},null,null,{"$f":"SUM(BE129:BE131)","v":0},null,null,{"$f":"SUM(BH129:BH131)","v":0},null,null,{"$f":"SUM(BK129:BK131)","v":0},{"$f":"SUM(BL129:BL131)","v":0},null,null,{"$f":"SUM(BO129:BO131)","v":0},null,null,{"$f":"SUM(BR129:BR131)","v":0},null,null,{"$f":"SUM(BU129:BU131)","v":0},null,null,{"$f":"SUM(BX129:BX131)","v":0},{"$f":"SUM(BY129:BY131)","v":0},{"$f":"Y128+AL128+AY128+BL128+BY128","v":0}]
["Coût",{"$f":"IF(A129=\"Activité\",MAX($B$12:B128)+1,\"\")","v":""},{"$f":"C128","v":0},null,null,null,{"$f":"G128","v":0},{"$f":"H128","v":0},null,null,null,null,null,null,{"$f":"M129*N129","v":0},null,null,{"$f":"P129*Q129","v":0},null,null,{"$f":"S129*T129","v":0},null,null,{"$f":"V129*W129","v":0},{"$f":"SUM(O129,R129,U129,X129)","v":0},null,null,{"$f":"Z129*AA129","v":0},null,null,{"$f":"AC129*AD129","v":0},null,null,{"$f":"AF129*AG129","v":0},null,null,{"$f":"AI129*AJ129","v":0},{"$f":"SUM(AB129,AE129,AH129,AK129)","v":0},null,null,{"$f":"AM129*AN129","v":0},null,null,{"$f":"AP129*AQ129","v":0},null,null,{"$f":"AS129*AT129","v":0},null,null,{"$f":"AV129*AW129","v":0},{"$f":"SUM(AO129,AR129,AU129,AX129)","v":0},null,null,{"$f":"AZ129*BA129","v":0},null,null,{"$f":"BC129*BD129","v":0},null,null,{"$f":"BF129*BG129","v":0},null,null,{"$f":"BI129*BJ129","v":0},{"$f":"SUM(BB129,BE129,BH129,BK129)","v":0},null,null,{"$f":"BM129*BN129","v":0},null,null,{"$f":"BP129*BQ129","v":0},null,null,{"$f":"BS129*BT129","v":0},null,null,{"$f":"BV129*BW129","v":0},{"$f":"SUM(BO129,BR129,BU129,BX129)","v":0},{"$f":"Y129+AL129+AY129+BL129+BY129","v":0}]
["Coût",{"$f":"IF(A130=\"Activité\",MAX($B$12:B129)+1,\"\")","v":""},{"$f":"C128","v":0},null,null,null,{"$f":"G128","v":0},{"$f":"H128","v":0},null,null,null,null,null,null,{"$f":"M130*N130","v":0},null,null,{"$f":"P130*Q130","v":0},null,null,{"$f":"S130*T130","v":0},null,null,{"$f":"V130*W130","v":0},{"$f":"SUM(O130,R130,U130,X130)","v":0},null,null,{"$f":"Z130*AA130","v":0},null,null,{"$f":"AC130*AD130","v":0},null,null,{"$f":"AF130*AG130","v":0},null,null,{"$f":"AI130*AJ130","v":0},{"$f":"SUM(AB130,AE130,AH130,AK130)","v":0},null,null,{"$f":"AM130*AN130","v":0},null,null,{"$f":"AP130*AQ130","v":0},null,null,{"$f":"AS130*AT130","v":0},null,null,{"$f":"AV130*AW130","v":0},{"$f":"SUM(AO130,AR130,AU130,AX130)","v":0},null,null,{"$f":"AZ130*BA130","v":0},null,null,{"$f":"BC130*BD130","v":0},null,null,{"$f":"BF130*BG130","v":0},null,null,{"$f":"BI130*BJ130","v":0},{"$f":"SUM(BB130,BE130,BH130,BK130)","v":0},null,null,{"$f":"BM130*BN130","v":0},null,null,{"$f":"BP130*BQ130","v":0},null,null,{"$f":"BS130*BT130","v":0},null,null,{"$f":"BV130*BW130","v":0},{"$f":"SUM(BO130,BR130,BU130,BX130)","v":0},{"$f":"Y130+AL130+AY130+BL130+BY130","v":0}]
["Coût",{"$f":"IF(A131=\"Activité\",MAX($B$12:B130)+1,\"\")","v":""},{"$f":"C128","v":0},null,null,null,{"$f":"G128","v":0},{"$f":"H128","v":0},null,null,null,null,null,null,{"$f":"M131*N131","v":0},null,null,{"$f":"P131*Q131","v":0},null,null,{"$f":"S131*T131","v":0},null,null,{"$f":"V131*W131","v":0},{"$f":"SUM(O131,R131,U131,X131)","v":0},null,null,{"$f":"Z131*AA131","v":0},null,null,{"$f":"AC131*AD131","v":0},null,null,{"$f":"AF131*AG131","v":0},null,null,{"$f":"AI131*AJ131","v":0},{"$f":"SUM(AB131,AE131,AH131,AK131)","v":0},null,null,{"$f":"AM131*AN131","v":0},null,null,{"$f":"AP131*AQ131","v":0},null,null,{"$f":"AS131*AT131","v":0},null,null,{"$f":"AV131*AW131","v":0},{"$f":"SUM(AO131,AR131,AU131,AX131)","v":0},null,null,{"$f":"AZ131*BA131","v":0},null,null,{"$f":"BC131*BD131","v":0},null,null,{"$f":"BF131*BG131","v":0},null,null,{"$f":"BI131*BJ131","v":0},{"$f":"SUM(BB131,BE131,BH131,BK131)","v":0},null,null,{"$f":"BM131*BN131","v":0},null,null,{"$f":"BP131*BQ131","v":0},null,null,{"$f":"BS131*BT131","v":0},null,null,{"$f":"BV131*BW131","v":0},{"$f":"SUM(BO131,BR131,BU131,BX131)","v":0},{"$f":"Y131+AL131+AY131+BL131+BY131","v":0}]
[null,{"$f":"IF(A132=\"Activité\",MAX($B$12:B131)+1,\"\")","v":""}]
["Activité",{"$f":"IF(A133=\"Activité\",MAX($B$12:B132)+1,\"\")","v":25},null,null,null,null,null,null,null,{"$f":"B133","v":25},{"$f":"IF(A133=\"Activité\",\"Veuillez trouver les détails ci-dessous\",\"\")","v":"Veuillez trouver les détails ci-dessous"},null,null,null,{"$f":"SUM(O134:O136)","v":0},null,null,{"$f":"SUM(R134:R136)","v":0},null,null,{"$f":"SUM(U134:U136)","v":0},null,null,{"$f":"SUM(X134:X136)","v":0},{"$f":"SUM(Y134:Y136)","v":0},null,null,{"$f":"SUM(AB134:AB136)","v":0},null,null,{"$f":"SUM(AE134:AE136)","v":0},null,null,{"$f":"SUM(AH134:AH136)","v":0},null,null,{"$f":"SUM(AK134:AK136)","v":0},{"$f":"SUM(AL134:AL136)","v":0},null,null,{"$f":"SUM(AO134:AO136)","v":0},null,null,{"$f":"SUM(AR134:AR136)","v":0},null,null,{"$f":"SUM(AU134:AU136)","v":0},null,null,{"$f":"SUM(AX134:AX136)","v":0},{"$f":"SUM(AY134:AY136)","v":0},null,null,{"$f":"SUM(BB134:BB136)","v":0},null,null,{"$f":"SUM(BE134:BE136)","v":0},null,null,{"$f":"SUM(BH134:BH136)","v":0},null,null,{"$f":"SUM(BK134:BK136)","v":0},{"$f":"SUM(BL134:BL136)","v":0},null,null,{"$f":"SUM(BO134:BO136)","v":0},null,null,{"$f":"SUM(BR134:BR136)","v":0},null,null,{"$f":"SUM(BU134:BU136)","v":0},null,null,{"$f":"SUM(BX134:BX136)","v":0},{"$f":"SUM(BY134:BY136)","v":0},{"$f":"Y133+AL133+AY133+BL133+BY133","v":0}]
["Coût",{"$f":"IF(A134=\"Activité\",MAX($B$12:B133)+1,\"\")","v":""},{"$f":"C133","v":0},null,null,null,{"$f":"G133","v":0},{"$f":"H133","v":0},null,null,null,null,null,null,{"$f":"M134*N134","v":0},null,null,{"$f":"P134*Q134","v":0},null,null,{"$f":"S134*T134","v":0},null,null,{"$f":"V134*W134","v":0},{"$f":"SUM(O134,R134,U134,X134)","v":0},null,null,{"$f":"Z134*AA134","v":0},null,null,{"$f":"AC134*AD134","v":0},null,null,{"$f":"AF134*AG134","v":0},null,null,{"$f":"AI134*AJ134","v":0},{"$f":"SUM(AB134,AE134,AH134,AK134)","v":0},null,null,{"$f":"AM134*AN134","v":0},null,null,{"$f":"AP134*AQ134","v":0},null,null,{"$f":"AS134*AT134","v":0},null,null,{"$f":"AV134*AW134","v":0},{"$f":"SUM(AO134,AR134,AU134,AX134)","v":0},null,null,{"$f":"AZ134*BA134","v":0},null,null,{"$f":"BC134*BD134","v":0},null,null,{"$f":"BF134*BG134","v":0},null,null,{"$f":"BI134*BJ134","v":0},{"$f":"SUM(BB134,BE134,BH134,BK134)","v":0},null,null,{"$f":"BM134*BN134","v":0},null,null,{"$f":"BP134*BQ134","v":0},null,null,{"$f":"BS134*BT134","v":0},null,null,{"$f":"BV134*BW134","v":0},{"$f":"SUM(BO134,BR134,BU134,BX134)","v":0},{"$f":"Y134+AL134+AY134+BL134+BY134","v":0}]
["Coût",{"$f":"IF(A135=\"Activité\",MAX($B$12:B134)+1,\"\")","v":""},{"$f":"C133","v":0},null,null,null,{"$f":"G133","v":0},{"$f":"H133","v":0},null,null,null,null,null,null,{"$f":"M135*N135","v":0},null,null,{"$f":"P135*Q135","v":0},null,null,{"$f":"S135*T135","v":0},null,null,{"$f":"V135*W135","v":0},{"$f":"SUM(O135,R135,U135,X135)","v":0},null,null,{"$f":"Z135*AA135","v":0},null,null,{"$f":"AC135*AD135","v":0},null,null,{"$f":"AF135*AG135","v":0},null,null,{"$f":"AI135*AJ135","v":0},{"$f":"SUM(AB135,AE135,AH135,AK135)","v":0},null,null,{"$f":"AM135*AN135","v":0},null,null,{"$f":"AP135*AQ135","v":0},null,null,{"$f":"AS135*AT135","v":0},null,null,{"$f":"AV135*AW135","v":0},{"$f":"SUM(AO135,AR135,AU135,AX135)","v":0},null,null,{"$f":"AZ135*BA135","v":0},null,null,{"$f":"BC135*BD135","v":0},null,null,{"$f":"BF135*BG135","v":0},null,null,{"$f":"BI135*BJ135","v":0},{"$f":"SUM(BB135,BE135,BH135,BK135)","v":0},null,null,{"$f":"BM135*BN135","v":0},null,null,{"$f":"BP135*BQ135","v":0},null,null,{"$f":"BS135*BT135","v":0},null,null,{"$f":"BV135*BW135","v":0},{"$f":"SUM(BO135,BR135,BU135,BX135)","v":0},{"$f":"Y135+AL135+AY135+BL135+BY135","v":0}]
["Coût",{"$f":"IF(A136=\"Activité\",MAX($B$12:B135)+1,\"\")","v":""},{"$f":"C133","v":0},null,null,null,{"$f":"G133","v":0},{"$f":"H133","v":0},null,null,null,null,null,null,{"$f":"M136*N136","v":0},null,null,{"$f":"P136*Q136","v":0},null,null,{"$f":"S136*T136","v":0},null,null,{"$f":"V136*W136","v":0},{"$f":"SUM(O136,R136,U136,X136)","v":0},null,null,{"$f":"Z136*AA136","v":0},null,null,{"$f":"AC136*AD136","v":0},null,null,{"$f":"AF136*AG136","v":0},null,null,{"$f":"AI136*AJ136","v":0},{"$f":"SUM(AB136,AE136,AH136,AK136)","v":0},null,null,{"$f":"AM136*AN136","v":0},null,null,{"$f":"AP136*AQ136","v":0},null,null,{"$f":"AS136*AT136","v":0},null,null,{"$f":"AV136*AW136","v":0},{"$f":"SUM(AO136,AR136,AU136,AX136)","v":0},null,null,{"$f":"AZ136*BA136","v":0},null,null,{"$f":"BC136*BD136","v":0},null,null,{"$f":"BF136*BG136","v":0},null,null,{"$f":"BI136*BJ136","v":0},{"$f":"SUM(BB136,BE136,BH136,BK136)","v":0},null,null,{"$f":"BM136*BN136","v":0},null,null,{"$f":"BP136*BQ136","v":0},null,null,{"$f":"BS136*BT136","v":0},null,null,{"$f":"BV136*BW136","v":0},{"$f":"SUM(BO136,BR136,BU136,BX136)","v":0},{"$f":"Y136+AL136+AY136+BL136+BY136","v":0}]
[null,{"$f":"IF(A137=\"Activité\",MAX($B$12:B136)+1,\"\")","v":""}]
["Activité",{"$f":"IF(A138=\"Activité\",MAX($B$12:B137)+1,\"\")","v":26},null,null,null,null,null,null,null,{"$f":"B138","v":26},{"$f":"IF(A138=\"Activité\",\"Veuillez trouver les détails ci-dessous\",\"\")","v":"Veuillez trouver les détails ci-dessous"},null,null,null,{"$f":"SUM(O139:O141)","v":0},null,null,{"$f":"SUM(R139:R141)","v":0},null,null,{"$f":"SUM(U139:U141)","v":0},null,null,{"$f":"SUM(X139:X141)","v":0},{"$f":"SUM(Y139:Y141)","v":0},null,null,{"$f":"SUM(AB139:AB141)","v":0},null,null,{"$f":"SUM(AE139:AE141)","v":0},null,null,{"$f":"SUM(AH139:AH141)","v":0},null,null,{"$f":"SUM(AK139:AK141)","v":0},{"$f":"SUM(AL139:AL141)","v":0},null,null,{"$f":"SUM(AO139:AO141)","v":0},null,null,{"$f":"SUM(AR139:AR141)","v":0},null,null,{"$f":"SUM(AU139:AU141)","v":0},null,null,{"$f":"SUM(AX139:AX141)","v":0},{"$f":"SUM(AY139:AY141)","v":0},null,null,{"$f":"SUM(BB139:BB141)","v":0},null,null,{"$f":"SUM(BE139:BE141)","v":0},null,null,{"$f":"SUM(BH139:BH141)","v":0},null,null,{"$f":"SUM(BK139:BK141)","v":0},{"$f":"SUM(BL139:BL141)","v":0},null,null,{"$f":"SUM(BO139:BO141)","v":0},null,null,{"$f":"SUM(BR139:BR141)","v":0},null,null,{"$f":"SUM(BU139:BU141)","v":0},null,null,{"$f":"SUM(BX139:BX141)","v":0},{"$f":"SUM(BY139:BY141)","v":0},{"$f":"Y138+AL138+AY138+BL138+BY138","v":0}]
["Coût",{"$f":"IF(A139=\"Activité\",MAX($B$12:B138)+1,\"\")","v":""},{"$f":"C138","v":0},null,null,null,{"$f":"G138","v":0},{"$f":"H138","v":0},null,null,null,null,null,null,{"$f":"M139*N139","v":0},null,null,{"$f":"P139*Q139","v":0},null,null,{"$f":"S139*T139","v":0},null,null,{"$f":"V139*W139","v":0},{"$f":"SUM(O139,R139,U139,X139)","v":0},null,null,{"$f":"Z139*AA139","v":0},null,null,{"$f":"AC139*AD139","v":0},null,null,{"$f":"AF139*AG139","v":0},null,null,{"$f":"AI139*AJ139","v":0},{"$f":"SUM(AB139,AE139,AH139,AK139)","v":0},null,null,{"$f":"AM139*AN139","v":0},null,null,{"$f":"AP139*AQ139","v":0},null,null,{"$f":"AS139*AT139","v":0},null,null,{"$f":"AV139*AW139","v":0},{"$f":"SUM(AO139,AR139,AU139,AX139)","v":0},null,null,{"$f":"AZ139*BA139","v":0},null,null,{"$f":"BC139*BD139","v":0},null,null,{"$f":"BF139*BG139","v":0},null,null,{"$f":"BI139*BJ139","v":0},{"$f":"SUM(BB139,BE139,BH139,BK139)","v":0},null,null,{"$f":"BM139*BN139","v":0},null,null,{"$f":"BP139*BQ139","v":0},null,null,{"$f":"BS139*BT139","v":0},null,null,{"$f":"BV139*BW139","v":0},{"$f":"SUM(BO139,BR139,BU139,BX139)","v":0},{"$f":"Y139+AL139+AY139+BL139+BY139","v":0}]
["Coût",{"$f":"IF(A140=\"Activité\",MAX($B$12:B139)+1,\"\")","v":""},{"$f":"C138","v":0},null,null,null,{"$f":"G138","v":0},{"$f":"H138","v":0},null,null,null,null,null,null,{"$f":"M140*N140","v":0},null,null,{"$f":"P140*Q140","v":0},null,null,{"$f":"S140*T140","v":0},null,null,{"$f":"V140*W140","v":0},{"$f":"SUM(O140,R140,U140,X140)","v":0},null,null,{"$f":"Z140*AA140","v":0},null,null,{"$f":"AC140*AD140","v":0},null,null,{"$f":"AF140*AG140","v":0},null,null,{"$f":"AI140*AJ140","v":0},{"$f":"SUM(AB140,AE140,AH140,AK140)","v":0},null,null,{"$f":"AM140*AN140","v":0},null,null,{"$f":"AP140*AQ140","v":0},null,null,{"$f":"AS140*AT140","v":0},null,null,{"$f":"AV140*AW140","v":0},{"$f":"SUM(AO140,AR140,AU140,AX140)","v":0},null,null,{"$f":"AZ140*BA140","v":0},null,null,{"$f":"BC140*BD140","v":0},null,null,{"$f":"BF140*BG140","v":0},null,null,{"$f":"BI140*BJ140","v":0},{"$f":"SUM(BB140,BE140,BH140,BK140)","v":0},null,null,{"$f":"BM140*BN140","v":0},null,null,{"$f":"BP140*BQ140","v":0},null,null,{"$f":"BS140*BT140","v":0},null,null,{"$f":"BV140*BW140","v":0},{"$f":"SUM(BO140,BR140,BU140,BX140)","v":0},{"$f":"Y140+AL140+AY140+BL140+BY140","v":0}]
["Coût",{"$f":"IF(A141=\"Activité\",MAX($B$12:B140)+1,\"\")","v":""},{"$f":"C138","v":0},null,null,null,{"$f":"G138","v":0},{"$f":"H138","v":0},null,null,null,null,null,null,{"$f":"M141*N141","v":0},null,null,{"$f":"P141*Q141","v":0},null,null,{"$f":"S141*T141","v":0},null,null,{"$f":"V141*W141","v":0},{"$f":"SUM(O141,R141,U141,X141)","v":0},null,null,{"$f":"Z141*AA141","v":0},null,null,{"$f":"AC141*AD141","v":0},null,null,{"$f":"AF141*AG141","v":0},null,null,{"$f":"AI141*AJ141","v":0},{"$f":"SUM(AB141,AE141,AH141,AK141)","v":0},null,null,{"$f":"AM141*AN141","v":0},null,null,{"$f":"AP141*AQ141","v":0},null,null,{"$f":"AS141*AT141","v":0},null,null,{"$f":"AV141*AW141","v":0},{"$f":"SUM(AO141,AR141,AU141,AX141)","v":0},null,null,{"$f":"AZ141*BA141","v":0},null,null,{"$f":"BC141*BD141","v":0},null,null,{"$f":"BF141*BG141","v":0},null,null,{"$f":"BI141*BJ141","v":0},{"$f":"SUM(BB141,BE141,BH141,BK141)","v":0},null,null,{"$f":"BM141*BN141","v":0},null,null,{"$f":"BP141*BQ141","v":0},null,null,{"$f":"BS141*BT141","v":0},null,null,{"$f":"BV141*BW141","v":0},{"$f":"SUM(BO141,BR141,BU141,BX141)","v":0},{"$f":"Y141+AL141+AY141+BL141+BY141","v":0}]
[null,{"$f":"IF(A142=\"Activité\",MAX($B$12:B141)+1,\"\")","v":""}]
["Activité",{"$f":"IF(A143=\"Activité\",MAX($B$12:B142)+1,\"\")","v":27},null,null,null,null,null,null,null,{"$f":"B143","v":27},{"$f":"IF(A143=\"Activité\",\"Veuillez trouver les détails ci-dessous\",\"\")","v":"Veuillez trouver les détails ci-dessous"},null,null,null,{"$f":"SUM(O144:O146)","v":0},null,null,{"$f":"SUM(R144:R146)","v":0},null,null,{"$f":"SUM(U144:U146)","v":0},null,null,{"$f":"SUM(X144:X146)","v":0},{"$f":"SUM(Y144:Y146)","v":0},null,null,{"$f":"SUM(AB144:AB146)","v":0},null,null,{"$f":"SUM(AE144:AE146)","v":0},null,null,{"$f":"SUM(AH144:AH146)","v":0},null,null,{"$f":"SUM(AK144:AK146)","v":0},{"$f":"SUM(AL144:AL146)","v":0},null,null,{"$f":"SUM(AO144:AO146)","v":0},null,null,{"$f":"SUM(AR144:AR146)","v":0},null,null,{"$f":"SUM(AU144:AU146)","v":0},null,null,{"$f":"SUM(AX144:AX146)","v":0},{"$f":"SUM(AY144:AY146)","v":0},null,null,{"$f":"SUM(BB144:BB146)","v":0},null,null,{"$f":"SUM(BE144:BE146)","v":0},null,null,{"$f":"SUM(BH144:BH146)","v":0},null,null,{"$f":"SUM(BK144:BK146)","v":0},{"$f":"SUM(BL144:BL146)","v":0},null,null,{"$f":"SUM(BO144:BO146)","v":0},null,null,{"$f":"SUM(BR144:BR146)","v":0},null,null,{"$f":"SUM(BU144:BU146)","v":0},null,null,{"$f":"SUM(BX144:BX146)","v":0},{"$f":"SUM(BY144:BY146)","v":0},{"$f":"Y143+AL143+AY143+BL143+BY143","v":0}]
["Coût",{"$f":"IF(A144=\"Activité\",MAX($B$12:B143)+1,\"\")","v":""},{"$f":"C143","v":0},null,null,null,{"$f":"G143","v":0},{"$f":"H143","v":0},null,null,null,null,null,null,{"$f":"M144*N144","v":0},null,null,{"$f":"P144*Q144","v":0},null,null,{"$f":"S144*T144","v":0},null,null,{"$f":"V144*W144","v":0},{"$f":"SUM(O144,R144,U144,X144)","v":0},null,null,{"$f":"Z144*AA144","v":0},null,null,{"$f":"AC144*AD144","v":0},null,null,{"$f":"AF144*AG144","v":0},null,null,{"$f":"AI144*AJ144","v":0},{"$f":"SUM(AB144,AE144,AH144,AK144)","v":0},null,null,{"$f":"AM144*AN144","v":0},null,null,{"$f":"AP144*AQ144","v":0},null,null,{"$f":"AS144*AT144","v":0},null,null,{"$f":"AV144*AW144","v":0},{"$f":"SUM(AO144,AR144,AU144,AX144)","v":0},null,null,{"$f":"AZ144*BA144","v":0},null,null,{"$f":"BC144*BD144","v":0},null,null,{"$f":"BF144*BG144","v":0},null,null,{"$f":"BI144*BJ144","v":0},{"$f":"SUM(BB144,BE144,BH144,BK144)","v":0},null,null,{"$f":"BM144*BN144","v":0},null,null,{"$f":"BP144*BQ144","v":0},null,null,{"$f":"BS144*BT144","v":0},null,null,{"$f":"BV144*BW144","v":0},{"$f":"SUM(BO144,BR144,BU144,BX144)","v":0},{"$f":"Y144+AL144+AY144+BL144+BY144","v":0}]
["Coût",{"$f":"IF(A145=\"Activité\",MAX($B$12:B144)+1,\"\")","v":""},{"$f":"C143","v":0},null,null,null,{"$f":"G143","v":0},{"$f":"H143","v":0},null,null,null,null,null,null,{"$f":"M145*N145","v":0},null,null,{"$f":"P145*Q145","v":0},null,null,{"$f":"S145*T145","v":0},null,null,{"$f":"V145*W145","v":0},{"$f":"SUM(O145,R145,U145,X145)","v":0},null,null,{"$f":"Z145*AA145","v":0},null,null,{"$f":"AC145*AD145","v":0},null,null,{"$f":"AF145*AG145","v":0},null,null,{"$f":"AI145*AJ145","v":0},{"$f":"SUM(AB145,AE145,AH145,AK145)","v":0},null,null,{"$f":"AM145*AN145","v":0},null,null,{"$f":"AP145*AQ145","v":0},null,null,{"$f":"AS145*AT145","v":0},null,null,{"$f":"AV145*AW145","v":0},{"$f":"SUM(AO145,AR145,AU145,AX145)","v":0},null,null,{"$f":"AZ145*BA145","v":0},null,null,{"$f":"BC145*BD145","v":0},null,null,{"$f":"BF145*BG145","v":0},null,null,{"$f":"BI145*BJ145","v":0},{"$f":"SUM(BB145,BE145,BH145,BK145)","v":0},null,null,{"$f":"BM145*BN145","v":0},null,null,{"$f":"BP145*BQ145","v":0},null,null,{"$f":"BS145*BT145","v":0},null,null,{"$f":"BV145*BW145","v":0},{"$f":"SUM(BO145,BR145,BU145,BX145)","v":0},{"$f":"Y145+AL145+AY145+BL145+BY145","v":0}]
["Coût",{"$f":"IF(A146=\"Activité\",MAX($B$12:B145)+1,\"\")","v":""},{"$f":"C143","v":0},null,null,null,{"$f":"G143","v":0},{"$f":"H143","v":0},null,null,null,null,null,null,{"$f":"M146*N146","v":0},null,null,{"$f":"P146*Q146","v":0},null,null,{"$f":"S146*T146","v":0},null,null,{"$f":"V146*W146","v":0},{"$f":"SUM(O146,R146,U146,X146)","v":0},null,null,{"$f":"Z146*AA146","v":0},null,null,{"$f":"AC146*AD146","v":0},null,null,{"$f":"AF146*AG146","v":0},null,null,{"$f":"AI146*AJ146","v":0},{"$f":"SUM(AB146,AE146,AH146,AK146)","v":0},null,null,{"$f":"AM146*AN146","v":0},null,null,{"$f":"AP146*AQ146","v":0},null,null,{"$f":"AS146*AT146","v":0},null,null,{"$f":"AV146*AW146","v":0},{"$f":"SUM(AO146,AR146,AU146,AX146)","v":0},null,null,{"$f":"AZ146*BA146","v":0},null,null,{"$f":"BC146*BD146","v":0},null,null,{"$f":"BF146*BG146","v":0},null,null,{"$f":"BI146*BJ146","v":0},{"$f":"SUM(BB146,BE146,BH146,BK146)","v":0},null,null,{"$f":"BM146*BN146","v":0},null,null,{"$f":"BP146*BQ146","v":0},null,null,{"$f":"BS146*BT146","v":0},null,null,{"$f":"BV146*BW146","v":0},{"$f":"SUM(BO146,BR146,BU146,BX146)","v":0},{"$f":"Y146+AL146+AY146+BL146+BY146","v":0}]
[null,{"$f":"IF(A147=\"Activité\",MAX($B$12:B146)+1,\"\")","v":""}]
["Activité",{"$f":"IF(A148=\"Activité\",MAX($B$12:B147)+1,\"\")","v":28},null,null,null,null,null,null,null,{"$f":"B148","v":28},{"$f":"IF(A148=\"Activité\",\"Veuillez trouver les détails ci-dessous\",\"\")","v":"Veuillez trouver les détails ci-dessous"},null,null,null,{"$f":"SUM(O149:O151)","v":0},null,null,{"$f":"SUM(R149:R151)","v":0},null,null,{"$f":"SUM(U149:U151)","v":0},null,null,{"$f":"SUM(X149:X151)","v":0},{"$f":"SUM(Y149:Y151)","v":0},null,null,{"$f":"SUM(AB149:AB151)","v":0},null,null,{"$f":"SUM(AE149:AE151)","v":0},null,null,{"$f":"SUM(AH149:AH151)","v":0},null,null,{"$f":"SUM(AK149:AK151)","v":0},{"$f":"SUM(AL149:AL151)","v":0},null,null,{"$f":"SUM(AO149:AO151)","v":0},null,null,{"$f":"SUM(AR149:AR151)","v":0},null,null,{"$f":"SUM(AU149:AU151)","v":0},null,null,{"$f":"SUM(AX149:AX151)","v":0},{"$f":"SUM(AY149:AY151)","v":0},null,null,{"$f":"SUM(BB149:BB151)","v":0},null,null,{"$f":"SUM(BE149:BE151)","v":0},null,null,{"$f":"SUM(BH149:BH151)","v":0},null,null,{"$f":"SUM(BK149:BK151)","v":0},{"$f":"SUM(BL149:BL151)","v":0},null,null,{"$f":"SUM(BO149:BO151)","v":0},null,null,{"$f":"SUM(BR149:BR151)","v":0},null,null,{"$f":"SUM(BU149:BU151)","v":0},null,null,{"$f":"SUM(BX149:BX151)","v":0},{"$f":"SUM(BY149:BY151)","v":0},{"$f":"Y148+AL148+AY148+BL148+BY148","v":0}]
["Coût",{"$f":"IF(A149=\"Activité\",MAX($B$12:B148)+1,\"\")","v":""},{"$f":"C148","v":0},null,null,null,{"$f":"G148","v":0},{"$f":"H148","v":0},null,null,null,null,null,null,{"$f":"M149*N149","v":0},null,null,{"$f":"P149*Q149","v":0},null,null,{"$f":"S149*T149","v":0},null,null,{"$f":"V149*W149","v":0},{"$f":"SUM(O149,R149,U149,X149)","v":0},null,null,{"$f":"Z149*AA149","v":0},null,null,{"$f":"AC149*AD149","v":0},null,null,{"$f":"AF149*AG149","v":0},null,null,{"$f":"AI149*AJ149","v":0},{"$f":"SUM(AB149,AE149,AH149,AK149)","v":0},null,null,{"$f":"AM149*AN149","v":0},null,null,{"$f":"AP149*AQ149","v":0},null,null,{"$f":"AS149*AT149","v":0},null,null,{"$f":"AV149*AW149","v":0},{"$f":"SUM(AO149,AR149,AU149,AX149)","v":0},null,null,{"$f":"AZ149*BA149","v":0},null,null,{"$f":"BC149*BD149","v":0},null,null,{"$f":"BF149*BG149","v":0},null,null,{"$f":"BI149*BJ149","v":0},{"$f":"SUM(BB149,BE149,BH149,BK149)","v":0},null,null,{"$f":"BM149*BN149","v":0},null,null,{"$f":"BP149*BQ149","v":0},null,null,{"$f":"BS149*BT149","v":0},null,null,{"$f":"BV149*BW149","v":0},{"$f":"SUM(BO149,BR149,BU149,BX149)","v":0},{"$f":"Y149+AL149+AY149+BL149+BY149","v":0}]
["Coût",{"$f":"IF(A150=\"Activité\",MAX($B$12:B149)+1,\"\")","v":""},{"$f":"C148","v":0},null,null,null,{"$f":"G148","v":0},{"$f":"H148","v":0},null,null,null,null,null,null,{"$f":"M150*N150","v":0},null,null,{"$f":"P150*Q150","v":0},null,null,{"$f":"S150*T150","v":0},null,null,{"$f":"V150*W150","v":0},{"$f":"SUM(O150,R150,U150,X150)","v":0},null,null,{"$f":"Z150*AA150","v":0},null,null,{"$f":"AC150*AD150","v":0},null,null,{"$f":"AF150*AG150","v":0},null,null,{"$f":"AI150*AJ150","v":0},{"$f":"SUM(AB150,AE150,AH150,AK150)","v":0},null,null,{"$f":"AM150*AN150","v":0},null,null,{"$f":"AP150*AQ150","v":0},null,null,{"$f":"AS150*AT150","v":0},null,null,{"$f":"AV150*AW150","v":0},{"$f":"SUM(AO150,AR150,AU150,AX150)","v":0},null,null,{"$f":"AZ150*BA150","v":0},null,null,{"$f":"BC150*BD150","v":0},null,null,{"$f":"BF150*BG150","v":0},null,null,{"$f":"BI150*BJ150","v":0},{"$f":"SUM(BB150,BE150,BH150,BK150)","v":0},null,null,{"$f":"BM150*BN150","v":0},null,null,{"$f":"BP150*BQ150","v":0},null,null,{"$f":"BS150*BT150","v":0},null,null,{"$f":"BV150*BW150","v":0},{"$f":"SUM(BO150,BR150,BU150,BX150)","v":0},{"$f":"Y150+AL150+AY150+BL150+BY150","v":0}]
["Coût",{"$f":"IF(A151=\"Activité\",MAX($B$12:B150)+1,\"\")","v":""},{"$f":"C148","v":0},null,null,null,{"$f":"G148","v":0},{"$f":"H148","v":0},null,null,null,null,null,null,{"$f":"M151*N151","v":0},null,null,{"$f":"P151*Q151","v":0},null,null,{"$f":"S151*T151","v":0},null,null,{"$f":"V151*W151","v":0},{"$f":"SUM(O151,R151,U151,X151)","v":0},null,null,{"$f":"Z151*AA151","v":0},null,null,{"$f":"AC151*AD151","v":0},null,null,{"$f":"AF151*AG151","v":0},null,null,{"$f":"AI151*AJ151","v":0},{"$f":"SUM(AB151,AE151,AH151,AK151)","v":0},null,null,{"$f":"AM151*AN151","v":0},null,null,{"$f":"AP151*AQ151","v":0},null,null,{"$f":"AS151*AT151","v":0},null,null,{"$f":"AV151*AW151","v":0},{"$f":"SUM(AO151,AR151,AU151,AX151)","v":0},null,null,{"$f":"AZ151*BA151","v":0},null,null,{"$f":"BC151*BD151","v":0},null,null,{"$f":"BF151*BG151","v":0},null,null,{"$f":"BI151*BJ151","v":0},{"$f":"SUM(BB151,BE151,BH151,BK151)","v":0},null,null,{"$f":"BM151*BN151","v":0},null,null,{"$f":"BP151*BQ151","v":0},null,null,{"$f":"BS151*BT151","v":0},null,null,{"$f":"BV151*BW151","v":0},{"$f":"SUM(BO151,BR151,BU151,BX151)","v":0},{"$f":"Y151+AL151+AY151+BL151+BY151","v":0}]
[null,{"$f":"IF(A152=\"Activité\",MAX($B$12:B151)+1,\"\")","v":""}]
[null,{"$f":"IF(A153=\"Activité\",MAX($B$12:B152)+1,\"\")","v":""}]
[null,{"$f":"IF(A154=\"Activité\",MAX($B$12:B153)+1,\"\")","v":""}]
[null,{"$f":"IF(A155=\"Activité\",MAX($B$12:B154)+1,\"\")","v":""}]
["Activité",{"$f":"IF(A156=\"Activité\",MAX($B$12:B155)+1,\"\")","v":29},null,null,null,null,null,null,null,{"$f":"B156","v":29},{"$f":"IF(A156=\"Activité\",\"Veuillez trouver les détails ci-dessous\",\"\")","v":"Veuillez trouver les détails ci-dessous"},null,null,null,{"$f":"SUM(O157:O159)","v":0},null,null,{"$f":"SUM(R157:R159)","v":0},null,null,{"$f":"SUM(U157:U159)","v":0},null,null,{"$f":"SUM(X157:X159)","v":0},{"$f":"SUM(Y157:Y159)","v":0},null,null,{"$f":"SUM(AB157:AB159)","v":0},null,null,{"$f":"SUM(AE157:AE159)","v":0},null,null,{"$f":"SUM(AH157:AH159)","v":0},null,null,{"$f":"SUM(AK157:AK159)","v":0},{"$f":"SUM(AL157:AL159)","v":0},null,null,{"$f":"SUM(AO157:AO159)","v":0},null,null,{"$f":"SUM(AR157:AR159)","v":0},null,null,{"$f":"SUM(AU157:AU159)","v":0},null,null,{"$f":"SUM(AX157:AX159)","v":0},{"$f":"SUM(AY157:AY159)","v":0},null,null,{"$f":"SUM(BB157:BB159)","v":0},null,null,{"$f":"SUM(BE157:BE159)","v":0},null,null,{"$f":"SUM(BH157:BH159)","v":0},null,null,{"$f":"SUM(BK157:BK159)","v":0},{"$f":"SUM(BL157:BL159)","v":0},null,null,{"$f":"SUM(BO157:BO159)","v":0},null,null,{"$f":"SUM(BR157:BR159)","v":0},null,null,{"$f":"SUM(BU157:BU159)","v":0},null,null,{"$f":"SUM(BX157:BX159)","v":0},{"$f":"SUM(BY157:BY159)","v":0},{"$f":"Y156+AL156+AY156+BL156+BY156","v":0}]
["Coût",{"$f":"IF(A157=\"Activité\",MAX($B$12:B156)+1,\"\")","v":""},{"$f":"C156","v":0},null,null,null,{"$f":"G156","v":0},{"$f":"H156","v":0},null,null,null,null,null,null,{"$f":"M157*N157","v":0},null,null,{"$f":"P157*Q157","v":0},null,null,{"$f":"S157*T157","v":0},null,null,{"$f":"V157*W157","v":0},{"$f":"SUM(O157,R157,U157,X157)","v":0},null,null,{"$f":"Z157*AA157","v":0},null,null,{"$f":"AC157*AD157","v":0},null,null,{"$f":"AF157*AG157","v":0},null,null,{"$f":"AI157*AJ157","v":0},{"$f":"SUM(AB157,AE157,AH157,AK157)","v":0},null,null,{"$f":"AM157*AN157","v":0},null,null,{"$f":"AP157*AQ157","v":0},null,null,{"$f":"AS157*AT157","v":0},null,null,{"$f":"AV157*AW157","v":0},{"$f":"SUM(AO157,AR157,AU157,AX157)","v":0},null,null,{"$f":"AZ157*BA157","v":0},null,null,{"$f":"BC157*BD157","v":0},null,null,{"$f":"BF157*BG157","v":0},null,null,{"$f":"BI157*BJ157","v":0},{"$f":"SUM(BB157,BE157,BH157,BK157)","v":0},null,null,{"$f":"BM157*BN157","v":0},null,null,{"$f":"BP157*BQ157","v":0},null,null,{"$f":"BS157*BT157","v":0},null,null,{"$f":"BV157*BW157","v":0},{"$f":"SUM(BO157,BR157,BU157,BX157)","v":0},{"$f":"Y157+AL157+AY157+BL157+BY157","v":0}]
["Coût",{"$f":"IF(A158=\"Activité\",MAX($B$12:B157)+1,\"\")","v":""},{"$f":"C156","v":0},null,null,null,{"$f":"G156","v":0},{"$f":"H156","v":0},null,null,null,null,null,null,{"$f":"M158*N158","v":0},null,null,{"$f":"P158*Q158","v":0},null,null,{"$f":"S158*T158","v":0},null,null,{"$f":"V158*W158","v":0},{"$f":"SUM(O158,R158,U158,X158)","v":0},null,null,{"$f":"Z158*AA158","v":0},null,null,{"$f":"AC158*AD158","v":0},null,null,{"$f":"AF158*AG158","v":0},null,null,{"$f":"AI158*AJ158","v":0},{"$f":"SUM(AB158,AE158,AH158,AK158)","v":0},null,null,{"$f":"AM158*AN158","v":0},null,null,{"$f":"AP158*AQ158","v":0},null,null,{"$f":"AS158*AT158","v":0},null,null,{"$f":"AV158*AW158","v":0},{"$f":"SUM(AO158,AR158,AU158,AX158)","v":0},null,null,{"$f":"AZ158*BA158","v":0},null,null,{"$f":"BC158*BD158","v":0},null,null,{"$f":"BF158*BG158","v":0},null,null,{"$f":"BI158*BJ158","v":0},{"$f":"SUM(BB158,BE158,BH158,BK158)","v":0},null,null,{"$f":"BM158*BN158","v":0},null,null,{"$f":"BP158*BQ158","v":0},null,null,{"$f":"BS158*BT158","v":0},null,null,{"$f":"BV158*BW158","v":0},{"$f":"SUM(BO158,BR158,BU158,BX158)","v":0},{"$f":"Y158+AL158+AY158+BL158+BY158","v":0}]
["Coût",{"$f":"IF(A159=\"Activité\",MAX($B$12:B158)+1,\"\")","v":""},{"$f":"C156","v":0},null,null,null,{"$f":"G156","v":0},{"$f":"H156","v":0},null,null,null,null,null,null,{"$f":"M159*N159","v":0},null,null,{"$f":"P159*Q159","v":0},null,null,{"$f":"S159*T159","v":0},null,null,{"$f":"V159*W159","v":0},{"$f":"SUM(O159,R159,U159,X159)","v":0},null,null,{"$f":"Z159*AA159","v":0},null,null,{"$f":"AC159*AD159","v":0},null,null,{"$f":"AF159*AG159","v":0},null,null,{"$f":"AI159*AJ159","v":0},{"$f":"SUM(AB159,AE159,AH159,AK159)","v":0},null,null,{"$f":"AM159*AN159","v":0},null,null,{"$f":"AP159*AQ159","v":0},null,null,{"$f":"AS159*AT159","v":0},null,null,{"$f":"AV159*AW159","v":0},{"$f":"SUM(AO159,AR159,AU159,AX159)","v":0},null,null,{"$f":"AZ159*BA159","v":0},null,null,{"$f":"BC159*BD159","v":0},null,null,{"$f":"BF159*BG159","v":0},null,null,{"$f":"BI159*BJ159","v":0},{"$f":"SUM(BB159,BE159,BH159,BK159)","v":0},null,null,{"$f":"BM159*BN159","v":0},null,null,{"$f":"BP159*BQ159","v":0},null,null,{"$f":"BS159*BT159","v":0},null,null,{"$f":"BV159*BW159","v":0},{"$f":"SUM(BO159,BR159,BU159,BX159)","v":0},{"$f":"Y159+AL159+AY159+BL159+BY159","v":0}]
[null,{"$f":"IF(A160=\"Activité\",MAX($B$12:B159)+1,\"\")","v":""}]
["Activité",{"$f":"IF(A161=\"Activité\",MAX($B$12:B160)+1,\"\")","v":30},null,null,null,null,null,null,null,{"$f":"B161","v":30},{"$f":"IF(A161=\"Activité\",\"Veuillez trouver les détails ci-dessous\",\"\")","v":"Veuillez trouver les détails ci-dessous"},null,null,null,{"$f":"SUM(O162:O164)","v":0},null,null,{"$f":"SUM(R162:R164)","v":0},null,null,{"$f":"SUM(U162:U164)","v":0},null,null,{"$f":"SUM(X162:X164)","v":0},{"$f":"SUM(Y162:Y164)","v":0},null,null,{"$f":"SUM(AB162:AB164)","v":0},null,null,{"$f":"SUM(AE162:AE164)","v":0},null,null,{"$f":"SUM(AH162:AH164)","v":0},null,null,{"$f":"SUM(AK162:AK164)","v":0},{"$f":"SUM(AL162:AL164)","v":0},null,null,{"$f":"SUM(AO162:AO164)","v":0},null,null,{"$f":"SUM(AR162:AR164)","v":0},null,null,{"$f":"SUM(AU162:AU164)","v":0},null,null,{"$f":"SUM(AX162:AX164)","v":0},{"$f":"SUM(AY162:AY164)","v":0},null,null,{"$f":"SUM(BB162:BB164)","v":0},null,null,{"$f":"SUM(BE162:BE164)","v":0},null,null,{"$f":"SUM(BH162:BH164)","v":0},null,null,{"$f":"SUM(BK162:BK164)","v":0},{"$f":"SUM(BL162:BL164)","v":0},null,null,{"$f":"SUM(BO162:BO164)","v":0},null,null,{"$f":"SUM(BR162:BR164)","v":0},null,null,{"$f":"SUM(BU162:BU164)","v":0},null,null,{"$f":"SUM(BX162:BX164)","v":0},{"$f":"SUM(BY162:BY164)","v":0},{"$f":"Y161+AL161+AY161+BL161+BY161","v":0}]
["Coût",{"$f":"IF(A162=\"Activité\",MAX($B$12:B161)+1,\"\")","v":""},{"$f":"C161","v":0},null,null,null,{"$f":"G161","v":0},{"$f":"H161","v":0},null,null,null,null,null,null,{"$f":"M162*N162","v":0},null,null,{"$f":"P162*Q162","v":0},null,null,{"$f":"S162*T162","v":0},null,null,{"$f":"V162*W162","v":0},{"$f":"SUM(O162,R162,U162,X162)","v":0},null,null,{"$f":"Z162*AA162","v":0},null,null,{"$f":"AC162*AD162","v":0},null,null,{"$f":"AF162*AG162","v":0},null,null,{"$f":"AI162*AJ162","v":0},{"$f":"SUM(AB162,AE162,AH162,AK162)","v":0},null,null,{"$f":"AM162*AN162","v":0},null,null,{"$f":"AP162*AQ162","v":0},null,null,{"$f":"AS162*AT162","v":0},null,null,{"$f":"AV162*AW162","v":0},{"$f":"SUM(AO162,AR162,AU162,AX162)","v":0},null,null,{"$f":"AZ162*BA162","v":0},null,null,{"$f":"BC162*BD162","v":0},null,null,{"$f":"BF162*BG162","v":0},null,null,{"$f":"BI162*BJ162","v":0},{"$f":"SUM(BB162,BE162,BH162,BK162)","v":0},null,null,{"$f":"BM162*BN162","v":0},null,null,{"$f":"BP162*BQ162","v":0},null,null,{"$f":"BS162*BT162","v":0},null,null,{"$f":"BV162*BW162","v":0},{"$f":"SUM(BO162,BR162,BU162,BX162)","v":0},{"$f":"Y162+AL162+AY162+BL162+BY162","v":0}]
["Coût",{"$f":"IF(A163=\"Activité\",MAX($B$12:B162)+1,\"\")","v":""},{"$f":"C161","v":0},null,null,null,{"$f":"G161","v":0},{"$f":"H161","v":0},null,null,null,null,null,null,{"$f":"M163*N163","v":0},null,null,{"$f":"P163*Q163","v":0},null,null,{"$f":"S163*T163","v":0},null,null,{"$f":"V163*W163","v":0},{"$f":"SUM(O163,R163,U163,X163)","v":0},null,null,{"$f":"Z163*AA163","v":0},null,null,{"$f":"AC163*AD163","v":0},null,null,{"$f":"AF163*AG163","v":0},null,null,{"$f":"AI163*AJ163","v":0},{"$f":"SUM(AB163,AE163,AH163,AK163)","v":0},null,null,{"$f":"AM163*AN163","v":0},null,null,{"$f":"AP163*AQ163","v":0},null,null,{"$f":"AS163*AT163","v":0},null,null,{"$f":"AV163*AW163","v":0},{"$f":"SUM(AO163,AR163,AU163,AX163)","v":0},null,null,{"$f":"AZ163*BA163","v":0},null,null,{"$f":"BC163*BD163","v":0},null,null,{"$f":"BF163*BG163","v":0},null,null,{"$f":"BI163*BJ163","v":0},{"$f":"SUM(BB163,BE163,BH163,BK163)","v":0},null,null,{"$f":"BM163*BN163","v":0},null,null,{"$f":"BP163*BQ163","v":0},null,null,{"$f":"BS163*BT163","v":0},null,null,{"$f":"BV163*BW163","v":0},{"$f":"SUM(BO163,BR163,BU163,BX163)","v":0},{"$f":"Y163+AL163+AY163+BL163+BY163","v":0}]
["Coût",{"$f":"IF(A164=\"Activité\",MAX($B$12:B163)+1,\"\")","v":""},{"$f":"C161","v":0},null,null,null,{"$f":"G161","v":0},{"$f":"H161","v":0},null,null,null,null,null,null,{"$f":"M164*N164","v":0},null,null,{"$f":"P164*Q164","v":0},null,null,{"$f":"S164*T164","v":0},null,null,{"$f":"V164*W164","v":0},{"$f":"SUM(O164,R164,U164,X164)","v":0},null,null,{"$f":"Z164*AA164","v":0},null,null,{"$f":"AC164*AD164","v":0},null,null,{"$f":"AF164*AG164","v":0},null,null,{"$f":"AI164*AJ164","v":0},{"$f":"SUM(AB164,AE164,AH164,AK164)","v":0},null,null,{"$f":"AM164*AN164","v":0},null,null,{"$f":"AP164*AQ164","v":0},null,null,{"$f":"AS164*AT164","v":0},null,null,{"$f":"AV164*AW164","v":0},{"$f":"SUM(AO164,AR164,AU164,AX164)","v":0},null,null,{"$f":"AZ164*BA164","v":0},null,null,{"$f":"BC164*BD164","v":0},null,null,{"$f":"BF164*BG164","v":0},null,null,{"$f":"BI164*BJ164","v":0},{"$f":"SUM(BB164,BE164,BH164,BK164)","v":0},null,null,{"$f":"BM164*BN164","v":0},null,null,{"$f":"BP164*BQ164","v":0},null,null,{"$f":"BS164*BT164","v":0},null,null,{"$f":"BV164*BW164","v":0},{"$f":"SUM(BO164,BR164,BU164,BX164)","v":0},{"$f":"Y164+AL164+AY164+BL164+BY164","v":0}]
[null,{"$f":"IF(A165=\"Activité\",MAX($B$12:B164)+1,\"\")","v":""}]
["Activité",{"$f":"IF(A166=\"Activité\",MAX($B$12:B165)+1,\"\")","v":31},null,null,null,null,null,null,null,{"$f":"B166","v":31},{"$f":"IF(A166=\"Activité\",\"Veuillez trouver les détails ci-dessous\",\"\")","v":"Veuillez trouver les détails ci-dessous"},null,null,null,{"$f":"SUM(O167:O169)","v":0},null,null,{"$f":"SUM(R167:R169)","v":0},null,null,{"$f":"SUM(U167:U169)","v":0},null,null,{"$f":"SUM(X167:X169)","v":0},{"$f":"SUM(Y167:Y169)","v":0},null,null,{"$f":"SUM(AB167:AB169)","v":0},null,null,{"$f":"SUM(AE167:AE169)","v":0},null,null,{"$f":"SUM(AH167:AH169)","v":0},null,null,{"$f":"SUM(AK167:AK169)","v":0},{"$f":"SUM(AL167:AL169)","v":0},null,null,{"$f":"SUM(AO167:AO169)","v":0},null,null,{"$f":"SUM(AR167:AR169)","v":0},null,null,{"$f":"SUM(AU167:AU169)","v":0},null,null,{"$f":"SUM(AX167:AX169)","v":0},{"$f":"SUM(AY167:AY169)","v":0},null,null,{"$f":"SUM(BB167:BB169)","v":0},null,null,{"$f":"SUM(BE167:BE169)","v":0},null,null,{"$f":"SUM(BH167:BH169)","v":0},null,null,{"$f":"SUM(BK167:BK169)","v":0},{"$f":"SUM(BL167:BL169)","v":0},null,null,{"$f":"SUM(BO167:BO169)","v":0},null,null,{"$f":"SUM(BR167:BR169)","v":0},null,null,{"$f":"SUM(BU167:BU169)","v":0},null,null,{"$f":"SUM(BX167:BX169)","v":0},{"$f":"SUM(BY167:BY169)","v":0},{"$f":"Y166+AL166+AY166+BL166+BY166","v":0}]
["Coût",{"$f":"IF(A167=\"Activité\",MAX($B$12:B166)+1,\"\")","v":""},{"$f":"C166","v":0},null,null,null,{"$f":"G166","v":0},{"$f":"H166","v":0},null,null,null,null,null,null,{"$f":"M167*N167","v":0},null,null,{"$f":"P167*Q167","v":0},null,null,{"$f":"S167*T167","v":0},null,null,{"$f":"V167*W167","v":0},{"$f":"SUM(O167,R167,U167,X167)","v":0},null,null,{"$f":"Z167*AA167","v":0},null,null,{"$f":"AC167*AD167","v":0},null,null,{"$f":"AF167*AG167","v":0},null,null,{"$f":"AI167*AJ167","v":0},{"$f":"SUM(AB167,AE167,AH167,AK167)","v":0},null,null,{"$f":"AM167*AN167","v":0},null,null,{"$f":"AP167*AQ167","v":0},null,null,{"$f":"AS167*AT167","v":0},null,null,{"$f":"AV167*AW167","v":0},{"$f":"SUM(AO167,AR167,AU167,AX167)","v":0},null,null,{"$f":"AZ167*BA167","v":0},null,null,{"$f":"BC167*BD167","v":0},null,null,{"$f":"BF167*BG167","v":0},null,null,{"$f":"BI167*BJ167","v":0},{"$f":"SUM(BB167,BE167,BH167,BK167)","v":0},null,null,{"$f":"BM167*BN167","v":0},null,null,{"$f":"BP167*BQ167","v":0},null,null,{"$f":"BS167*BT167","v":0},null,null,{"$f":"BV167*BW167","v":0},{"$f":"SUM(BO167,BR167,BU167,BX167)","v":0},{"$f":"Y167+AL167+AY167+BL167+BY167","v":0}]
["Coût",{"$f":"IF(A168=\"Activité\",MAX($B$12:B167)+1,\"\")","v":""},{"$f":"C166","v":0},null,null,null,{"$f":"G166","v":0},{"$f":"H166","v":0},null,null,null,null,null,null,{"$f":"M168*N168","v":0},null,null,{"$f":"P168*Q168","v":0},null,null,{"$f":"S168*T168","v":0},null,null,{"$f":"V168*W168","v":0},{"$f":"SUM(O168,R168,U168,X168)","v":0},null,null,{"$f":"Z168*AA168","v":0},null,null,{"$f":"AC168*AD168","v":0},null,null,{"$f":"AF168*AG168","v":0},null,null,{"$f":"AI168*AJ168","v":0},{"$f":"SUM(AB168,AE168,AH168,AK168)","v":0},null,null,{"$f":"AM168*AN168","v":0},null,null,{"$f":"AP168*AQ168","v":0},null,null,{"$f":"AS168*AT168","v":0},null,null,{"$f":"AV168*AW168","v":0},{"$f":"SUM(AO168,AR168,AU168,AX168)","v":0},null,null,{"$f":"AZ168*BA168","v":0},null,null,{"$f":"BC168*BD168","v":0},null,null,{"$f":"BF168*BG168","v":0},null,null,{"$f":"BI168*BJ168","v":0},{"$f":"SUM(BB168,BE168,BH168,BK168)","v":0},null,null,{"$f":"BM168*BN168","v":0},null,null,{"$f":"BP168*BQ168","v":0},null,null,{"$f":"BS168*BT168","v":0},null,null,{"$f":"BV168*BW168","v":0},{"$f":"SUM(BO168,BR168,BU168,BX168)","v":0},{"$f":"Y168+AL168+AY168+BL168+BY168","v":0}]
["Coût",{"$f":"IF(A169=\"Activité\",MAX($B$12:B168)+1,\"\")","v":""},{"$f":"C166","v":0},null,null,null,{"$f":"G166","v":0},{"$f":"H166","v":0},null,null,null,null,null,null,{"$f":"M169*N169","v":0},null,null,{"$f":"P169*Q169","v":0},null,null,{"$f":"S169*T169","v":0},null,null,{"$f":"V169*W169","v":0},{"$f":"SUM(O169,R169,U169,X169)","v":0},null,null,{"$f":"Z169*AA169","v":0},null,null,{"$f":"AC169*AD169","v":0},null,null,{"$f":"AF169*AG169","v":0},null,null,{"$f":"AI169*AJ169","v":0},{"$f":"SUM(AB169,AE169,AH169,AK169)","v":0},null,null,{"$f":"AM169*AN169","v":0},null,null,{"$f":"AP169*AQ169","v":0},null,null,{"$f":"AS169*AT169","v":0},null,null,{"$f":"AV169*AW169","v":0},{"$f":"SUM(AO169,AR169,AU169,AX169)","v":0},null,null,{"$f":"AZ169*BA169","v":0},null,null,{"$f":"BC169*BD169","v":0},null,null,{"$f":"BF169*BG169","v":0},null,null,{"$f":"BI169*BJ169","v":0},{"$f":"SUM(BB169,BE169,BH169,BK169)","v":0},null,null,{"$f":"BM169*BN169","v":0},null,null,{"$f":"BP169*BQ169","v":0},null,null,{"$f":"BS169*BT169","v":0},null,null,{"$f":"BV169*BW169","v":0},{"$f":"SUM(BO169,BR169,BU169,BX169)","v":0},{"$f":"Y169+AL169+AY169+BL169+BY169","v":0}]
[null,{"$f":"IF(A170=\"Activité\",MAX($B$12:B169)+1,\"\")","v":""}]
["Activité",{"$f":"IF(A171=\"Activité\",MAX($B$12:B170)+1,\"\")","v":32},null,null,null,null,null,null,null,{"$f":"B171","v":32},{"$f":"IF(A171=\"Activité\",\"Veuillez trouver les détails ci-dessous\",\"\")","v":"Veuillez trouver les détails ci-dessous"},null,null,null,{"$f":"SUM(O172:O174)","v":0},null,null,{"$f":"SUM(R172:R174)","v":0},null,null,{"$f":"SUM(U172:U174)","v":0},null,null,{"$f":"SUM(X172:X174)","v":0},{"$f":"SUM(Y172:Y174)","v":0},null,null,{"$f":"SUM(AB172:AB174)","v":0},null,null,{"$f":"SUM(AE172:AE174)","v":0},null,null,{"$f":"SUM(AH172:AH174)","v":0},null,null,{"$f":"SUM(AK172:AK174)","v":0},{"$f":"SUM(AL172:AL174)","v":0},null,null,{"$f":"SUM(AO172:AO174)","v":0},null,null,{"$f":"SUM(AR172:AR174)","v":0},null,null,{"$f":"SUM(AU172:AU174)","v":0},null,null,{"$f":"SUM(AX172:AX174)","v":0},{"$f":"SUM(AY172:AY174)","v":0},null,null,{"$f":"SUM(BB172:BB174)","v":0},null,null,{"$f":"SUM(BE172:BE174)","v":0},null,null,{"$f":"SUM(BH172:BH174)","v":0},null,null,{"$f":"SUM(BK172:BK174)","v":0},{"$f":"SUM(BL172:BL174)","v":0},null,null,{"$f":"SUM(BO172:BO174)","v":0},null,null,{"$f":"SUM(BR172:BR174)","v":0},null,null,{"$f":"SUM(BU172:BU174)","v":0},null,null,{"$f":"SUM(BX172:BX174)","v":0},{"$f":"SUM(BY172:BY174)","v":0},{"$f":"Y171+AL171+AY171+BL171+BY171","v":0}]
["Coût",{"$f":"IF(A172=\"Activité\",MAX($B$12:B171)+1,\"\")","v":""},{"$f":"C171","v":0},null,null,null,{"$f":"G171","v":0},{"$f":"H171","v":0},null,null,null,null,null,null,{"$f":"M172*N172","v":0},null,null,{"$f":"P172*Q172","v":0},null,null,{"$f":"S172*T172","v":0},null,null,{"$f":"V172*W172","v":0},{"$f":"SUM(O172,R172,U172,X172)","v":0},null,null,{"$f":"Z172*AA172","v":0},null,null,{"$f":"AC172*AD172","v":0},null,null,{"$f":"AF172*AG172","v":0},null,null,{"$f":"AI172*AJ172","v":0},{"$f":"SUM(AB172,AE172,AH172,AK172)","v":0},null,null,{"$f":"AM172*AN172","v":0},null,null,{"$f":"AP172*AQ172","v":0},null,null,{"$f":"AS172*AT172","v":0},null,null,{"$f":"AV172*AW172","v":0},{"$f":"SUM(AO172,AR172,AU172,AX172)","v":0},null,null,{"$f":"AZ172*BA172","v":0},null,null,{"$f":"BC172*BD172","v":0},null,null,{"$f":"BF172*BG172","v":0},null,null,{"$f":"BI172*BJ172","v":0},{"$f":"SUM(BB172,BE172,BH172,BK172)","v":0},null,null,{"$f":"BM172*BN172","v":0},null,null,{"$f":"BP172*BQ172","v":0},null,null,{"$f":"BS172*BT172","v":0},null,null,{"$f":"BV172*BW172","v":0},{"$f":"SUM(BO172,BR172,BU172,BX172)","v":0},{"$f":"Y172+AL172+AY172+BL172+BY172","v":0}]
["Coût",{"$f":"IF(A173=\"Activité\",MAX($B$12:B172)+1,\"\")","v":""},{"$f":"C171","v":0},null,null,null,{"$f":"G171","v":0},{"$f":"H171","v":0},null,null,null,null,null,null,{"$f":"M173*N173","v":0},null,null,{"$f":"P173*Q173","v":0},null,null,{"$f":"S173*T173","v":0},null,null,{"$f":"V173*W173","v":0},{"$f":"SUM(O173,R173,U173,X173)","v":0},null,null,{"$f":"Z173*AA173","v":0},null,null,{"$f":"AC173*AD173","v":0},null,null,{"$f":"AF173*AG173","v":0},null,null,{"$f":"AI173*AJ173","v":0},{"$f":"SUM(AB173,AE173,AH173,AK173)","v":0},null,null,{"$f":"AM173*AN173","v":0},null,null,{"$f":"AP173*AQ173","v":0},null,null,{"$f":"AS173*AT173","v":0},null,null,{"$f":"AV173*AW173","v":0},{"$f":"SUM(AO173,AR173,AU173,AX173)","v":0},null,null,{"$f":"AZ173*BA173","v":0},null,null,{"$f":"BC173*BD173","v":0},null,null,{"$f":"BF173*BG173","v":0},null,null,{"$f":"BI173*BJ173","v":0},{"$f":"SUM(BB173,BE173,BH173,BK173)","v":0},null,null,{"$f":"BM173*BN173","v":0},null,null,{"$f":"BP173*BQ173","v":0},null,null,{"$f":"BS173*BT173","v":0},null,null,{"$f":"BV173*BW173","v":0},{"$f":"SUM(BO173,BR173,BU173,BX173)","v":0},{"$f":"Y173+AL173+AY173+BL173+BY173","v":0}]
["Coût",{"$f":"IF(A174=\"Activité\",MAX($B$12:B173)+1,\"\")","v":""},{"$f":"C171","v":0},null,null,null,{"$f":"G171","v":0},{"$f":"H171","v":0},null,null,null,null,null,null,{"$f":"M174*N174","v":0},null,null,{"$f":"P174*Q174","v":0},null,null,{"$f":"S174*T174","v":0},null,null,{"$f":"V174*W174","v":0},{"$f":"SUM(O174,R174,U174,X174)","v":0},null,null,{"$f":"Z174*AA174","v":0},null,null,{"$f":"AC174*AD174","v":0},null,null,{"$f":"AF174*AG174","v":0},null,null,{"$f":"AI174*AJ174","v":0},{"$f":"SUM(AB174,AE174,AH174,AK174)","v":0},null,null,{"$f":"AM174*AN174","v":0},null,null,{"$f":"AP174*AQ174","v":0},null,null,{"$f":"AS174*AT174","v":0},null,null,{"$f":"AV174*AW174","v":0},{"$f":"SUM(AO174,AR174,AU174,AX174)","v":0},null,null,{"$f":"AZ174*BA174","v":0},null,null,{"$f":"BC174*BD174","v":0},null,null,{"$f":"BF174*BG174","v":0},null,null,{"$f":"BI174*BJ174","v":0},{"$f":"SUM(BB174,BE174,BH174,BK174)","v":0},null,null,{"$f":"BM174*BN174","v":0},null,null,{"$f":"BP174*BQ174","v":0},null,null,{"$f":"BS174*BT174","v":0},null,null,{"$f":"BV174*BW174","v":0},{"$f":"SUM(BO174,BR174,BU174,BX174)","v":0},{"$f":"Y174+AL174+AY174+BL174+BY174","v":0}]
[null,{"$f":"IF(A175=\"Activité\",MAX($B$12:B174)+1,\"\")","v":""}]
["Activité",{"$f":"IF(A176=\"Activité\",MAX($B$12:B175)+1,\"\")","v":33},null,null,null,null,null,null,null,{"$f":"B176","v":33},{"$f":"IF(A176=\"Activité\",\"Veuillez trouver les détails ci-dessous\",\"\")","v":"Veuillez trouver les détails ci-dessous"},null,null,null,{"$f":"SUM(O177:O179)","v":0},null,null,{"$f":"SUM(R177:R179)","v":0},null,null,{"$f":"SUM(U177:U179)","v":0},null,null,{"$f":"SUM(X177:X179)","v":0},{"$f":"SUM(Y177:Y179)","v":0},null,null,{"$f":"SUM(AB177:AB179)","v":0},null,null,{"$f":"SUM(AE177:AE179)","v":0},null,null,{"$f":"SUM(AH177:AH179)","v":0},null,null,{"$f":"SUM(AK177:AK179)","v":0},{"$f":"SUM(AL177:AL179)","v":0},null,null,{"$f":"SUM(AO177:AO179)","v":0},null,null,{"$f":"SUM(AR177:AR179)","v":0},null,null,{"$f":"SUM(AU177:AU179)","v":0},null,null,{"$f":"SUM(AX177:AX179)","v":0},{"$f":"SUM(AY177:AY179)","v":0},null,null,{"$f":"SUM(BB177:BB179)","v":0},null,null,{"$f":"SUM(BE177:BE179)","v":0},null,null,{"$f":"SUM(BH177:BH179)","v":0},null,null,{"$f":"SUM(BK177:BK179)","v":0},{"$f":"SUM(BL177:BL179)","v":0},null,null,{"$f":"SUM(BO177:BO179)","v":0},null,null,{"$f":"SUM(BR177:BR179)","v":0},null,null,{"$f":"SUM(BU177:BU179)","v":0},null,null,{"$f":"SUM(BX177:BX179)","v":0},{"$f":"SUM(BY177:BY179)","v":0},{"$f":"Y176+AL176+AY176+BL176+BY176","v":0}]
["Coût",{"$f":"IF(A177=\"Activité\",MAX($B$12:B176)+1,\"\")","v":""},{"$f":"C176","v":0},null,null,null,{"$f":"G176","v":0},{"$f":"H176","v":0},null,null,null,null,null,null,{"$f":"M177*N177","v":0},null,null,{"$f":"P177*Q177","v":0},null,null,{"$f":"S177*T177","v":0},null,null,{"$f":"V177*W177","v":0},{"$f":"SUM(O177,R177,U177,X177)","v":0},null,null,{"$f":"Z177*AA177","v":0},null,null,{"$f":"AC177*AD177","v":0},null,null,{"$f":"AF177*AG177","v":0},null,null,{"$f":"AI177*AJ177","v":0},{"$f":"SUM(AB177,AE177,AH177,AK177)","v":0},null,null,{"$f":"AM177*AN177","v":0},null,null,{"$f":"AP177*AQ177","v":0},null,null,{"$f":"AS177*AT177","v":0},null,null,{"$f":"AV177*AW177","v":0},{"$f":"SUM(AO177,AR177,AU177,AX177)","v":0},null,null,{"$f":"AZ177*BA177","v":0},null,null,{"$f":"BC177*BD177","v":0},null,null,{"$f":"BF177*BG177","v":0},null,null,{"$f":"BI177*BJ177","v":0},{"$f":"SUM(BB177,BE177,BH177,BK177)","v":0},null,null,{"$f":"BM177*BN177","v":0},null,null,{"$f":"BP177*BQ177","v":0},null,null,{"$f":"BS177*BT177","v":0},null,null,{"$f":"BV177*BW177","v":0},{"$f":"SUM(BO177,BR177,BU177,BX177)","v":0},{"$f":"Y177+AL177+AY177+BL177+BY177","v":0}]
["Coût",{"$f":"IF(A178=\"Activité\",MAX($B$12:B177)+1,\"\")","v":""},{"$f":"C176","v":0},null,null,null,{"$f":"G176","v":0},{"$f":"H176","v":0},null,null,null,null,null,null,{"$f":"M178*N178","v":0},null,null,{"$f":"P178*Q178","v":0},null,null,{"$f":"S178*T178","v":0},null,null,{"$f":"V178*W178","v":0},{"$f":"SUM(O178,R178,U178,X178)","v":0},null,null,{"$f":"Z178*AA178","v":0},null,null,{"$f":"AC178*AD178","v":0},null,null,{"$f":"AF178*AG178","v":0},null,null,{"$f":"AI178*AJ178","v":0},{"$f":"SUM(AB178,AE178,AH178,AK178)","v":0},null,null,{"$f":"AM178*AN178","v":0},null,null,{"$f":"AP178*AQ178","v":0},null,null,{"$f":"AS178*AT178","v":0},null,null,{"$f":"AV178*AW178","v":0},{"$f":"SUM(AO178,AR178,AU178,AX178)","v":0},null,null,{"$f":"AZ178*BA178","v":0},null,null,{"$f":"BC178*BD178","v":0},null,null,{"$f":"BF178*BG178","v":0},null,null,{"$f":"BI178*BJ178","v":0},{"$f":"SUM(BB178,BE178,BH178,BK178)","v":0},null,null,{"$f":"BM178*BN178","v":0},null,null,{"$f":"BP178*BQ178","v":0},null,null,{"$f":"BS178*BT178","v":0},null,null,{"$f":"BV178*BW178","v":0},{"$f":"SUM(BO178,BR178,BU178,BX178)","v":0},{"$f":"Y178+AL178+AY178+BL178+BY178","v":0}]
["Coût",{"$f":"IF(A179=\"Activité\",MAX($B$12:B178)+1,\"\")","v":""},{"$f":"C176","v":0},null,null,null,{"$f":"G176","v":0},{"$f":"H176","v":0},null,null,null,null,null,null,{"$f":"M179*N179","v":0},null,null,{"$f":"P179*Q179","v":0},null,null,{"$f":"S179*T179","v":0},null,null,{"$f":"V179*W179","v":0},{"$f":"SUM(O179,R179,U179,X179)","v":0},null,null,{"$f":"Z179*AA179","v":0},null,null,{"$f":"AC179*AD179","v":0},null,null,{"$f":"AF179*AG179","v":0},null,null,{"$f":"AI179*AJ179","v":0},{"$f":"SUM(AB179,AE179,AH179,AK179)","v":0},null,null,{"$f":"AM179*AN179","v":0},null,null,{"$f":"AP179*AQ179","v":0},null,null,{"$f":"AS179*AT179","v":0},null,null,{"$f":"AV179*AW179","v":0},{"$f":"SUM(AO179,AR179,AU179,AX179)","v":0},null,null,{"$f":"AZ179*BA179","v":0},null,null,{"$f":"BC179*BD179","v":0},null,null,{"$f":"BF179*BG179","v":0},null,null,{"$f":"BI179*BJ179","v":0},{"$f":"SUM(BB179,BE179,BH179,BK179)","v":0},null,null,{"$f":"BM179*BN179","v":0},null,null,{"$f":"BP179*BQ179","v":0},null,null,{"$f":"BS179*BT179","v":0},null,null,{"$f":"BV179*BW179","v":0},{"$f":"SUM(BO179,BR179,BU179,BX179)","v":0},{"$f":"Y179+AL179+AY179+BL179+BY179","v":0}]
[null,{"$f":"IF(A180=\"Activité\",MAX($B$12:B179)+1,\"\")","v":""}]
["Activité",{"$f":"IF(A181=\"Activité\",MAX($B$12:B180)+1,\"\")","v":34},null,null,null,null,null,null,null,{"$f":"B181","v":34},{"$f":"IF(A181=\"Activité\",\"Veuillez trouver les détails ci-dessous\",\"\")","v":"Veuillez trouver les détails ci-dessous"},null,null,null,{"$f":"SUM(O182:O184)","v":0},null,null,{"$f":"SUM(R182:R184)","v":0},null,null,{"$f":"SUM(U182:U184)","v":0},null,null,{"$f":"SUM(X182:X184)","v":0},{"$f":"SUM(Y182:Y184)","v":0},null,null,{"$f":"SUM(AB182:AB184)","v":0},null,null,{"$f":"SUM(AE182:AE184)","v":0},null,null,{"$f":"SUM(AH182:AH184)","v":0},null,null,{"$f":"SUM(AK182:AK184)","v":0},{"$f":"SUM(AL182:AL184)","v":0},null,null,{"$f":"SUM(AO182:AO184)","v":0},null,null,{"$f":"SUM(AR182:AR184)","v":0},null,null,{"$f":"SUM(AU182:AU184)","v":0},null,null,{"$f":"SUM(AX182:AX184)","v":0},{"$f":"SUM(AY182:AY184)","v":0},null,null,{"$f":"SUM(BB182:BB184)","v":0},null,null,{"$f":"SUM(BE182:BE184)","v":0},null,null,{"$f":"SUM(BH182:BH184)","v":0},null,null,{"$f":"SUM(BK182:BK184)","v":0},{"$f":"SUM(BL182:BL184)","v":0},null,null,{"$f":"SUM(BO182:BO184)","v":0},null,null,{"$f":"SUM(BR182:BR184)","v":0},null,null,{"$f":"SUM(BU182:BU184)","v":0},null,null,{"$f":"SUM(BX182:BX184)","v":0},{"$f":"SUM(BY182:BY184)","v":0},{"$f":"Y181+AL181+AY181+BL181+BY181","v":0}]
["Coût",{"$f":"IF(A182=\"Activité\",MAX($B$12:B181)+1,\"\")","v":""},{"$f":"C181","v":0},null,null,null,{"$f":"G181","v":0},{"$f":"H181","v":0},null,null,null,null,null,null,{"$f":"M182*N182","v":0},null,null,{"$f":"P182*Q182","v":0},null,null,{"$f":"S182*T182","v":0},null,null,{"$f":"V182*W182","v":0},{"$f":"SUM(O182,R182,U182,X182)","v":0},null,null,{"$f":"Z182*AA182","v":0},null,null,{"$f":"AC182*AD182","v":0},null,null,{"$f":"AF182*AG182","v":0},null,null,{"$f":"AI182*AJ182","v":0},{"$f":"SUM(AB182,AE182,AH182,AK182)","v":0},null,null,{"$f":"AM182*AN182","v":0},null,null,{"$f":"AP182*AQ182","v":0},null,null,{"$f":"AS182*AT182","v":0},null,null,{"$f":"AV182*AW182","v":0},{"$f":"SUM(AO182,AR182,AU182,AX182)","v":0},null,null,{"$f":"AZ182*BA182","v":0},null,null,{"$f":"BC182*BD182","v":0},null,null,{"$f":"BF182*BG182","v":0},null,null,{"$f":"BI182*BJ182","v":0},{"$f":"SUM(BB182,BE182,BH182,BK182)","v":0},null,null,{"$f":"BM182*BN182","v":0},null,null,{"$f":"BP182*BQ182","v":0},null,null,{"$f":"BS182*BT182","v":0},null,null,{"$f":"BV182*BW182","v":0},{"$f":"SUM(BO182,BR182,BU182,BX182)","v":0},{"$f":"Y182+AL182+AY182+BL182+BY182","v":0}]
["Coût",{"$f":"IF(A183=\"Activité\",MAX($B$12:B182)+1,\"\")","v":""},{"$f":"C181","v":0},null,null,null,{"$f":"G181","v":0},{"$f":"H181","v":0},null,null,null,null,null,null,{"$f":"M183*N183","v":0},null,null,{"$f":"P183*Q183","v":0},null,null,{"$f":"S183*T183","v":0},null,null,{"$f":"V183*W183","v":0},{"$f":"SUM(O183,R183,U183,X183)","v":0},null,null,{"$f":"Z183*AA183","v":0},null,null,{"$f":"AC183*AD183","v":0},null,null,{"$f":"AF183*AG183","v":0},null,null,{"$f":"AI183*AJ183","v":0},{"$f":"SUM(AB183,AE183,AH183,AK183)","v":0},null,null,{"$f":"AM183*AN183","v":0},null,null,{"$f":"AP183*AQ183","v":0},null,null,{"$f":"AS183*AT183","v":0},null,null,{"$f":"AV183*AW183","v":0},{"$f":"SUM(AO183,AR183,AU183,AX183)","v":0},null,null,{"$f":"AZ183*BA183","v":0},null,null,{"$f":"BC183*BD183","v":0},null,null,{"$f":"BF183*BG183","v":0},null,null,{"$f":"BI183*BJ183","v":0},{"$f":"SUM(BB183,BE183,BH183,BK183)","v":0},null,null,{"$f":"BM183*BN183","v":0},null,null,{"$f":"BP183*BQ183","v":0},null,null,{"$f":"BS183*BT183","v":0},null,null,{"$f":"BV183*BW183","v":0},{"$f":"SUM(BO183,BR183,BU183,BX183)","v":0},{"$f":"Y183+AL183+AY183+BL183+BY183","v":0}]
["Coût",{"$f":"IF(A184=\"Activité\",MAX($B$12:B183)+1,\"\")","v":""},{"$f":"C181","v":0},null,null,null,{"$f":"G181","v":0},{"$f":"H181","v":0},null,null,null,null,null,null,{"$f":"M184*N184","v":0},null,null,{"$f":"P184*Q184","v":0},null,null,{"$f":"S184*T184","v":0},null,null,{"$f":"V184*W184","v":0},{"$f":"SUM(O184,R184,U184,X184)","v":0},null,null,{"$f":"Z184*AA184","v":0},null,null,{"$f":"AC184*AD184","v":0},null,null,{"$f":"AF184*AG184","v":0},null,null,{"$f":"AI184*AJ184","v":0},{"$f":"SUM(AB184,AE184,AH184,AK184)","v":0},null,null,{"$f":"AM184*AN184","v":0},null,null,{"$f":"AP184*AQ184","v":0},null,null,{"$f":"AS184*AT184","v":0},null,null,{"$f":"AV184*AW184","v":0},{"$f":"SUM(AO184,AR184,AU184,AX184)","v":0},null,null,{"$f":"AZ184*BA184","v":0},null,null,{"$f":"BC184*BD184","v":0},null,null,{"$f":"BF184*BG184","v":0},null,null,{"$f":"BI184*BJ184","v":0},{"$f":"SUM(BB184,BE184,BH184,BK184)","v":0},null,null,{"$f":"BM184*BN184","v":0},null,null,{"$f":"BP184*BQ184","v":0},null,null,{"$f":"BS184*BT184","v":0},null,null,{"$f":"BV184*BW184","v":0},{"$f":"SUM(BO184,BR184,BU184,BX184)","v":0},{"$f":"Y184+AL184+AY184+BL184+BY184","v":0}]
[null,{"$f":"IF(A185=\"Activité\",MAX($B$12:B184)+1,\"\")","v":""}]
["Activité",{"$f":"IF(A186=\"Activité\",MAX($B$12:B185)+1,\"\")","v":35},null,null,null,null,null,null,null,{"$f":"B186","v":35},{"$f":"IF(A186=\"Activité\",\"Veuillez trouver les détails ci-dessous\",\"\")","v":"Veuillez trouver les détails ci-dessous"},null,null,null,{"$f":"SUM(O187:O189)","v":0},null,null,{"$f":"SUM(R187:R189)","v":0},null,null,{"$f":"SUM(U187:U189)","v":0},null,null,{"$f":"SUM(X187:X189)","v":0},{"$f":"SUM(Y187:Y189)","v":0},null,null,{"$f":"SUM(AB187:AB189)","v":0},null,null,{"$f":"SUM(AE187:AE189)","v":0},null,null,{"$f":"SUM(AH187:AH189)","v":0},null,null,{"$f":"SUM(AK187:AK189)","v":0},{"$f":"SUM(AL187:AL189)","v":0},null,null,{"$f":"SUM(AO187:AO189)","v":0},null,null,{"$f":"SUM(AR187:AR189)","v":0},null,null,{"$f":"SUM(AU187:AU189)","v":0},null,null,{"$f":"SUM(AX187:AX189)","v":0},{"$f":"SUM(AY187:AY189)","v":0},null,null,{"$f":"SUM(BB187:BB189)","v":0},null,null,{"$f":"SUM(BE187:BE189)","v":0},null,null,{"$f":"SUM(BH187:BH189)","v":0},null,null,{"$f":"SUM(BK187:BK189)","v":0},{"$f":"SUM(BL187:BL189)","v":0},null,null,{"$f":"SUM(BO187:BO189)","v":0},null,null,{"$f":"SUM(BR187:BR189)","v":0},null,null,{"$f":"SUM(BU187:BU189)","v":0},null,null,{"$f":"SUM(BX187:BX189)","v":0},{"$f":"SUM(BY187:BY189)","v":0},{"$f":"Y186+AL186+AY186+BL186+BY186","v":0}]
["Coût",{"$f":"IF(A187=\"Activité\",MAX($B$12:B186)+1,\"\")","v":""},{"$f":"C186","v":0},null,null,null,{"$f":"G186","v":0},{"$f":"H186","v":0},null,null,null,null,null,null,{"$f":"M187*N187","v":0},null,null,{"$f":"P187*Q187","v":0},null,null,{"$f":"S187*T187","v":0},null,null,{"$f":"V187*W187","v":0},{"$f":"SUM(O187,R187,U187,X187)","v":0},null,null,{"$f":"Z187*AA187","v":0},null,null,{"$f":"AC187*AD187","v":0},null,null,{"$f":"AF187*AG187","v":0},null,null,{"$f":"AI187*AJ187","v":0},{"$f":"SUM(AB187,AE187,AH187,AK187)","v":0},null,null,{"$f":"AM187*AN187","v":0},null,null,{"$f":"AP187*AQ187","v":0},null,null,{"$f":"AS187*AT187","v":0},null,null,{"$f":"AV187*AW187","v":0},{"$f":"SUM(AO187,AR187,AU187,AX187)","v":0},null,null,{"$f":"AZ187*BA187","v":0},null,null,{"$f":"BC187*BD187","v":0},null,null,{"$f":"BF187*BG187","v":0},null,null,{"$f":"BI187*BJ187","v":0},{"$f":"SUM(BB187,BE187,BH187,BK187)","v":0},null,null,{"$f":"BM187*BN187","v":0},null,null,{"$f":"BP187*BQ187","v":0},null,null,{"$f":"BS187*BT187","v":0},null,null,{"$f":"BV187*BW187","v":0},{"$f":"SUM(BO187,BR187,BU187,BX187)","v":0},{"$f":"Y187+AL187+AY187+BL187+BY187","v":0}]
["Coût",{"$f":"IF(A188=\"Activité\",MAX($B$12:B187)+1,\"\")","v":""},{"$f":"C186","v":0},null,null,null,{"$f":"G186","v":0},{"$f":"H186","v":0},null,null,null,null,null,null,{"$f":"M188*N188","v":0},null,null,{"$f":"P188*Q188","v":0},null,null,{"$f":"S188*T188","v":0},null,null,{"$f":"V188*W188","v":0},{"$f":"SUM(O188,R188,U188,X188)","v":0},null,null,{"$f":"Z188*AA188","v":0},null,null,{"$f":"AC188*AD188","v":0},null,null,{"$f":"AF188*AG188","v":0},null,null,{"$f":"AI188*AJ188","v":0},{"$f":"SUM(AB188,AE188,AH188,AK188)","v":0},null,null,{"$f":"AM188*AN188","v":0},null,null,{"$f":"AP188*AQ188","v":0},null,null,{"$f":"AS188*AT188","v":0},null,null,{"$f":"AV188*AW188","v":0},{"$f":"SUM(AO188,AR188,AU188,AX188)","v":0},null,null,{"$f":"AZ188*BA188","v":0},null,null,{"$f":"BC188*BD188","v":0},null,null,{"$f":"BF188*BG188","v":0},null,null,{"$f":"BI188*BJ188","v":0},{"$f":"SUM(BB188,BE188,BH188,BK188)","v":0},null,null,{"$f":"BM188*BN188","v":0},null,null,{"$f":"BP188*BQ188","v":0},null,null,{"$f":"BS188*BT188","v":0},null,null,{"$f":"BV188*BW188","v":0},{"$f":"SUM(BO188,BR188,BU188,BX188)","v":0},{"$f":"Y188+AL188+AY188+BL188+BY188","v":0}]
["Coût",{"$f":"IF(A189=\"Activité\",MAX($B$12:B188)+1,\"\")","v":""},{"$f":"C186","v":0},null,null,null,{"$f":"G186","v":0},{"$f":"H186","v":0},null,null,null,null,null,null,{"$f":"M189*N189","v":0},null,null,{"$f":"P189*Q189","v":0},null,null,{"$f":"S189*T189","v":0},null,null,{"$f":"V189*W189","v":0},{"$f":"SUM(O189,R189,U189,X189)","v":0},null,null,{"$f":"Z189*AA189","v":0},null,null,{"$f":"AC189*AD189","v":0},null,null,{"$f":"AF189*AG189","v":0},null,null,{"$f":"AI189*AJ189","v":0},{"$f":"SUM(AB189,AE189,AH189,AK189)","v":0},null,null,{"$f":"AM189*AN189","v":0},null,null,{"$f":"AP189*AQ189","v":0},null,null,{"$f":"AS189*AT189","v":0},null,null,{"$f":"AV189*AW189","v":0},{"$f":"SUM(AO189,AR189,AU189,AX189)","v":0},null,null,{"$f":"AZ189*BA189","v":0},null,null,{"$f":"BC189*BD189","v":0},null,null,{"$f":"BF189*BG189","v":0},null,null,{"$f":"BI189*BJ189","v":0},{"$f":"SUM(BB189,BE189,BH189,BK189)","v":0},null,null,{"$f":"BM189*BN189","v":0},null,null,{"$f":"BP189*BQ189","v":0},null,null,{"$f":"BS189*BT189","v":0},null,null,{"$f":"BV189*BW189","v":0},{"$f":"SUM(BO189,BR189,BU189,BX189)","v":0},{"$f":"Y189+AL189+AY189+BL189+BY189","v":0}]
[null,{"$f":"IF(A190=\"Activité\",MAX($B$12:B189)+1,\"\")","v":""}]
["Activité",{"$f":"IF(A191=\"Activité\",MAX($B$12:B190)+1,\"\")","v":36},null,null,null,null,null,null,null,{"$f":"B191","v":36},{"$f":"IF(A191=\"Activité\",\"Veuillez trouver les détails ci-dessous\",\"\")","v":"Veuillez trouver les détails ci-dessous"},null,null,null,{"$f":"SUM(O192:O194)","v":0},null,null,{"$f":"SUM(R192:R194)","v":0},null,null,{"$f":"SUM(U192:U194)","v":0},null,null,{"$f":"SUM(X192:X194)","v":0},{"$f":"SUM(Y192:Y194)","v":0},null,null,{"$f":"SUM(AB192:AB194)","v":0},null,null,{"$f":"SUM(AE192:AE194)","v":0},null,null,{"$f":"SUM(AH192:AH194)","v":0},null,null,{"$f":"SUM(AK192:AK194)","v":0},{"$f":"SUM(AL192:AL194)","v":0},null,null,{"$f":"SUM(AO192:AO194)","v":0},null,null,{"$f":"SUM(AR192:AR194)","v":0},null,null,{"$f":"SUM(AU192:AU194)","v":0},null,null,{"$f":"SUM(AX192:AX194)","v":0},{"$f":"SUM(AY192:AY194)","v":0},null,null,{"$f":"SUM(BB192:BB194)","v":0},null,null,{"$f":"SUM(BE192:BE194)","v":0},null,null,{"$f":"SUM(BH192:BH194)","v":0},null,null,{"$f":"SUM(BK192:BK194)","v":0},{"$f":"SUM(BL192:BL194)","v":0},null,null,{"$f":"SUM(BO192:BO194)","v":0},null,null,{"$f":"SUM(BR192:BR194)","v":0},null,null,{"$f":"SUM(BU192:BU194)","v":0},null,null,{"$f":"SUM(BX192:BX194)","v":0},{"$f":"SUM(BY192:BY194)","v":0},{"$f":"Y191+AL191+AY191+BL191+BY191","v":0}]
["Coût",{"$f":"IF(A192=\"Activité\",MAX($B$12:B191)+1,\"\")","v":""},{"$f":"C191","v":0},null,null,null,{"$f":"G191","v":0},{"$f":"H191","v":0},null,null,null,null,null,null,{"$f":"M192*N192","v":0},null,null,{"$f":"P192*Q192","v":0},null,null,{"$f":"S192*T192","v":0},null,null,{"$f":"V192*W192","v":0},{"$f":"SUM(O192,R192,U192,X192)","v":0},null,null,{"$f":"Z192*AA192","v":0},null,null,{"$f":"AC192*AD192","v":0},null,null,{"$f":"AF192*AG192","v":0},null,null,{"$f":"AI192*AJ192","v":0},{"$f":"SUM(AB192,AE192,AH192,AK192)","v":0},null,null,{"$f":"AM192*AN192","v":0},null,null,{"$f":"AP192*AQ192","v":0},null,null,{"$f":"AS192*AT192","v":0},null,null,{"$f":"AV192*AW192","v":0},{"$f":"SUM(AO192,AR192,AU192,AX192)","v":0},null,null,{"$f":"AZ192*BA192","v":0},null,null,{"$f":"BC192*BD192","v":0},null,null,{"$f":"BF192*BG192","v":0},null,null,{"$f":"BI192*BJ192","v":0},{"$f":"SUM(BB192,BE192,BH192,BK192)","v":0},null,null,{"$f":"BM192*BN192","v":0},null,null,{"$f":"BP192*BQ192","v":0},null,null,{"$f":"BS192*BT192","v":0},null,null,{"$f":"BV192*BW192","v":0},{"$f":"SUM(BO192,BR192,BU192,BX192)","v":0},{"$f":"Y192+AL192+AY192+BL192+BY192","v":0}]
["Coût",{"$f":"IF(A193=\"Activité\",MAX($B$12:B192)+1,\"\")","v":""},{"$f":"C191","v":0},null,null,null,{"$f":"G191","v":0},{"$f":"H191","v":0},null,null,null,null,null,null,{"$f":"M193*N193","v":0},null,null,{"$f":"P193*Q193","v":0},null,null,{"$f":"S193*T193","v":0},null,null,{"$f":"V193*W193","v":0},{"$f":"SUM(O193,R193,U193,X193)","v":0},null,null,{"$f":"Z193*AA193","v":0},null,null,{"$f":"AC193*AD193","v":0},null,null,{"$f":"AF193*AG193","v":0},null,null,{"$f":"AI193*AJ193","v":0},{"$f":"SUM(AB193,AE193,AH193,AK193)","v":0},null,null,{"$f":"AM193*AN193","v":0},null,null,{"$f":"AP193*AQ193","v":0},null,null,{"$f":"AS193*AT193","v":0},null,null,{"$f":"AV193*AW193","v":0},{"$f":"SUM(AO193,AR193,AU193,AX193)","v":0},null,null,{"$f":"AZ193*BA193","v":0},null,null,{"$f":"BC193*BD193","v":0},null,null,{"$f":"BF193*BG193","v":0},null,null,{"$f":"BI193*BJ193","v":0},{"$f":"SUM(BB193,BE193,BH193,BK193)","v":0},null,null,{"$f":"BM193*BN193","v":0},null,null,{"$f":"BP193*BQ193","v":0},null,null,{"$f":"BS193*BT193","v":0},null,null,{"$f":"BV193*BW193","v":0},{"$f":"SUM(BO193,BR193,BU193,BX193)","v":0},{"$f":"Y193+AL193+AY193+BL193+BY193","v":0}]
["Coût",{"$f":"IF(A194=\"Activité\",MAX($B$12:B193)+1,\"\")","v":""},{"$f":"C191","v":0},null,null,null,{"$f":"G191","v":0},{"$f":"H191","v":0},null,null,null,null,null,null,{"$f":"M194*N194","v":0},null,null,{"$f":"P194*Q194","v":0},null,null,{"$f":"S194*T194","v":0},null,null,{"$f":"V194*W194","v":0},{"$f":"SUM(O194,R194,U194,X194)","v":0},null,null,{"$f":"Z194*AA194","v":0},null,null,{"$f":"AC194*AD194","v":0},null,null,{"$f":"AF194*AG194","v":0},null,null,{"$f":"AI194*AJ194","v":0},{"$f":"SUM(AB194,AE194,AH194,AK194)","v":0},null,null,{"$f":"AM194*AN194","v":0},null,null,{"$f":"AP194*AQ194","v":0},null,null,{"$f":"AS194*AT194","v":0},null,null,{"$f":"AV194*AW194","v":0},{"$f":"SUM(AO194,AR194,AU194,AX194)","v":0},null,null,{"$f":"AZ194*BA194","v":0},null,null,{"$f":"BC194*BD194","v":0},null,null,{"$f":"BF194*BG194","v":0},null,null,{"$f":"BI194*BJ194","v":0},{"$f":"SUM(BB194,BE194,BH194,BK194)","v":0},null,null,{"$f":"BM194*BN194","v":0},null,null,{"$f":"BP194*BQ194","v":0},null,null,{"$f":"BS194*BT194","v":0},null,null,{"$f":"BV194*BW194","v":0},{"$f":"SUM(BO194,BR194,BU194,BX194)","v":0},{"$f":"Y194+AL194+AY194+BL194+BY194","v":0}]
[null,{"$f":"IF(A195=\"Activité\",MAX($B$12:B194)+1,\"\")","v":""}]
["Activité",{"$f":"IF(A196=\"Activité\",MAX($B$12:B195)+1,\"\")","v":37},null,null,null,null,null,null,null,{"$f":"B196","v":37},{"$f":"IF(A196=\"Activité\",\"Veuillez trouver les détails ci-dessous\",\"\")","v":"Veuillez trouver les détails ci-dessous"},null,null,null,{"$f":"SUM(O197:O199)","v":0},null,null,{"$f":"SUM(R197:R199)","v":0},null,null,{"$f":"SUM(U197:U199)","v":0},null,null,{"$f":"SUM(X197:X199)","v":0},{"$f":"SUM(Y197:Y199)","v":0},null,null,{"$f":"SUM(AB197:AB199)","v":0},null,null,{"$f":"SUM(AE197:AE199)","v":0},null,null,{"$f":"SUM(AH197:AH199)","v":0},null,null,{"$f":"SUM(AK197:AK199)","v":0},{"$f":"SUM(AL197:AL199)","v":0},null,null,{"$f":"SUM(AO197:AO199)","v":0},null,null,{"$f":"SUM(AR197:AR199)","v":0},null,null,{"$f":"SUM(AU197:AU199)","v":0},null,null,{"$f":"SUM(AX197:AX199)","v":0},{"$f":"SUM(AY197:AY199)","v":0},null,null,{"$f":"SUM(BB197:BB199)","v":0},null,null,{"$f":"SUM(BE197:BE199)","v":0},null,null,{"$f":"SUM(BH197:BH199)","v":0},null,null,{"$f":"SUM(BK197:BK199)","v":0},{"$f":"SUM(BL197:BL199)","v":0},null,null,{"$f":"SUM(BO197:BO199)","v":0},null,null,{"$f":"SUM(BR197:BR199)","v":0},null,null,{"$f":"SUM(BU197:BU199)","v":0},null,null,{"$f":"SUM(BX197:BX199)","v":0},{"$f":"SUM(BY197:BY199)","v":0},{"$f":"Y196+AL196+AY196+BL196+BY196","v":0}]
["Coût",{"$f":"IF(A197=\"Activité\",MAX($B$12:B196)+1,\"\")","v":""},{"$f":"C196","v":0},null,null,null,{"$f":"G196","v":0},{"$f":"H196","v":0},null,null,null,null,null,null,{"$f":"M197*N197","v":0},null,null,{"$f":"P197*Q197","v":0},null,null,{"$f":"S197*T197","v":0},null,null,{"$f":"V197*W197","v":0},{"$f":"SUM(O197,R197,U197,X197)","v":0},null,null,{"$f":"Z197*AA197","v":0},null,null,{"$f":"AC197*AD197","v":0},null,null,{"$f":"AF197*AG197","v":0},null,null,{"$f":"AI197*AJ197","v":0},{"$f":"SUM(AB197,AE197,AH197,AK197)","v":0},null,null,{"$f":"AM197*AN197","v":0},null,null,{"$f":"AP197*AQ197","v":0},null,null,{"$f":"AS197*AT197","v":0},null,null,{"$f":"AV197*AW197","v":0},{"$f":"SUM(AO197,AR197,AU197,AX197)","v":0},null,null,{"$f":"AZ197*BA197","v":0},null,null,{"$f":"BC197*BD197","v":0},null,null,{"$f":"BF197*BG197","v":0},null,null,{"$f":"BI197*BJ197","v":0},{"$f":"SUM(BB197,BE197,BH197,BK197)","v":0},null,null,{"$f":"BM197*BN197","v":0},null,null,{"$f":"BP197*BQ197","v":0},null,null,{"$f":"BS197*BT197","v":0},null,null,{"$f":"BV197*BW197","v":0},{"$f":"SUM(BO197,BR197,BU197,BX197)","v":0},{"$f":"Y197+AL197+AY197+BL197+BY197","v":0}]
["Coût",{"$f":"IF(A198=\"Activité\",MAX($B$12:B197)+1,\"\")","v":""},{"$f":"C196","v":0},null,null,null,{"$f":"G196","v":0},{"$f":"H196","v":0},null,null,null,null,null,null,{"$f":"M198*N198","v":0},null,null,{"$f":"P198*Q198","v":0},null,null,{"$f":"S198*T198","v":0},null,null,{"$f":"V198*W198","v":0},{"$f":"SUM(O198,R198,U198,X198)","v":0},null,null,{"$f":"Z198*AA198","v":0},null,null,{"$f":"AC198*AD198","v":0},null,null,{"$f":"AF198*AG198","v":0},null,null,{"$f":"AI198*AJ198","v":0},{"$f":"SUM(AB198,AE198,AH198,AK198)","v":0},null,null,{"$f":"AM198*AN198","v":0},null,null,{"$f":"AP198*AQ198","v":0},null,null,{"$f":"AS198*AT198","v":0},null,null,{"$f":"AV198*AW198","v":0},{"$f":"SUM(AO198,AR198,AU198,AX198)","v":0},null,null,{"$f":"AZ198*BA198","v":0},null,null,{"$f":"BC198*BD198","v":0},null,null,{"$f":"BF198*BG198","v":0},null,null,{"$f":"BI198*BJ198","v":0},{"$f":"SUM(BB198,BE198,BH198,BK198)","v":0},null,null,{"$f":"BM198*BN198","v":0},null,null,{"$f":"BP198*BQ198","v":0},null,null,{"$f":"BS198*BT198","v":0},null,null,{"$f":"BV198*BW198","v":0},{"$f":"SUM(BO198,BR198,BU198,BX198)","v":0},{"$f":"Y198+AL198+AY198+BL198+BY198","v":0}]
["Coût",{"$f":"IF(A199=\"Activité\",MAX($B$12:B198)+1,\"\")","v":""},{"$f":"C196","v":0},null,null,null,{"$f":"G196","v":0},{"$f":"H196","v":0},null,null,null,null,null,null,{"$f":"M199*N199","v":0},null,null,{"$f":"P199*Q199","v":0},null,null,{"$f":"S199*T199","v":0},null,null,{"$f":"V199*W199","v":0},{"$f":"SUM(O199,R199,U199,X199)","v":0},null,null,{"$f":"Z199*AA199","v":0},null,null,{"$f":"AC199*AD199","v":0},null,null,{"$f":"AF199*AG199","v":0},null,null,{"$f":"AI199*AJ199","v":0},{"$f":"SUM(AB199,AE199,AH199,AK199)","v":0},null,null,{"$f":"AM199*AN199","v":0},null,null,{"$f":"AP199*AQ199","v":0},null,null,{"$f":"AS199*AT199","v":0},null,null,{"$f":"AV199*AW199","v":0},{"$f":"SUM(AO199,AR199,AU199,AX199)","v":0},null,null,{"$f":"AZ199*BA199","v":0},null,null,{"$f":"BC199*BD199","v":0},null,null,{"$f":"BF199*BG199","v":0},null,null,{"$f":"BI199*BJ199","v":0},{"$f":"SUM(BB199,BE199,BH199,BK199)","v":0},null,null,{"$f":"BM199*BN199","v":0},null,null,{"$f":"BP199*BQ199","v":0},null,null,{"$f":"BS199*BT199","v":0},null,null,{"$f":"BV199*BW199","v":0},{"$f":"SUM(BO199,BR199,BU199,BX199)","v":0},{"$f":"Y199+AL199+AY199+BL199+BY199","v":0}]
[null,{"$f":"IF(A200=\"Activité\",MAX($B$12:B199)+1,\"\")","v":""}]
["Activité",{"$f":"IF(A201=\"Activité\",MAX($B$12:B200)+1,\"\")","v":38},null,null,null,null,null,null,null,{"$f":"B201","v":38},{"$f":"IF(A201=\"Activité\",\"Veuillez trouver les détails ci-dessous\",\"\")","v":"Veuillez trouver les détails ci-dessous"},null,null,null,{"$f":"SUM(O202:O204)","v":0},null,null,{"$f":"SUM(R202:R204)","v":0},null,null,{"$f":"SUM(U202:U204)","v":0},null,null,{"$f":"SUM(X202:X204)","v":0},{"$f":"SUM(Y202:Y204)","v":0},null,null,{"$f":"SUM(AB202:AB204)","v":0},null,null,{"$f":"SUM(AE202:AE204)","v":0},null,null,{"$f":"SUM(AH202:AH204)","v":0},null,null,{"$f":"SUM(AK202:AK204)","v":0},{"$f":"SUM(AL202:AL204)","v":0},null,null,{"$f":"SUM(AO202:AO204)","v":0},null,null,{"$f":"SUM(AR202:AR204)","v":0},null,null,{"$f":"SUM(AU202:AU204)","v":0},null,null,{"$f":"SUM(AX202:AX204)","v":0},{"$f":"SUM(AY202:AY204)","v":0},null,null,{"$f":"SUM(BB202:BB204)","v":0},null,null,{"$f":"SUM(BE202:BE204)","v":0},null,null,{"$f":"SUM(BH202:BH204)","v":0},null,null,{"$f":"SUM(BK202:BK204)","v":0},{"$f":"SUM(BL202:BL204)","v":0},null,null,{"$f":"SUM(BO202:BO204)","v":0},null,null,{"$f":"SUM(BR202:BR204)","v":0},null,null,{"$f":"SUM(BU202:BU204)","v":0},null,null,{"$f":"SUM(BX202:BX204)","v":0},{"$f":"SUM(BY202:BY204)","v":0},{"$f":"Y201+AL201+AY201+BL201+BY201","v":0}]
["Coût",{"$f":"IF(A202=\"Activité\",MAX($B$12:B201)+1,\"\")","v":""},{"$f":"C201","v":0},null,null,null,{"$f":"G201","v":0},{"$f":"H201","v":0},null,null,null,null,null,null,{"$f":"M202*N202","v":0},null,null,{"$f":"P202*Q202","v":0},null,null,{"$f":"S202*T202","v":0},null,null,{"$f":"V202*W202","v":0},{"$f":"SUM(O202,R202,U202,X202)","v":0},null,null,{"$f":"Z202*AA202","v":0},null,null,{"$f":"AC202*AD202","v":0},null,null,{"$f":"AF202*AG202","v":0},null,null,{"$f":"AI202*AJ202","v":0},{"$f":"SUM(AB202,AE202,AH202,AK202)","v":0},null,null,{"$f":"AM202*AN202","v":0},null,null,{"$f":"AP202*AQ202","v":0},null,null,{"$f":"AS202*AT202","v":0},null,null,{"$f":"AV202*AW202","v":0},{"$f":"SUM(AO202,AR202,AU202,AX202)","v":0},null,null,{"$f":"AZ202*BA202","v":0},null,null,{"$f":"BC202*BD202","v":0},null,null,{"$f":"BF202*BG202","v":0},null,null,{"$f":"BI202*BJ202","v":0},{"$f":"SUM(BB202,BE202,BH202,BK202)","v":0},null,null,{"$f":"BM202*BN202","v":0},null,null,{"$f":"BP202*BQ202","v":0},null,null,{"$f":"BS202*BT202","v":0},null,null,{"$f":"BV202*BW202","v":0},{"$f":"SUM(BO202,BR202,BU202,BX202)","v":0},{"$f":"Y202+AL202+AY202+BL202+BY202","v":0}]
["Coût",{"$f":"IF(A203=\"Activité\",MAX($B$12:B202)+1,\"\")","v":""},{"$f":"C201","v":0},null,null,null,{"$f":"G201","v":0},{"$f":"H201","v":0},null,null,null,null,null,null,{"$f":"M203*N203","v":0},null,null,{"$f":"P203*Q203","v":0},null,null,{"$f":"S203*T203","v":0},null,null,{"$f":"V203*W203","v":0},{"$f":"SUM(O203,R203,U203,X203)","v":0},null,null,{"$f":"Z203*AA203","v":0},null,null,{"$f":"AC203*AD203","v":0},null,null,{"$f":"AF203*AG203","v":0},null,null,{"$f":"AI203*AJ203","v":0},{"$f":"SUM(AB203,AE203,AH203,AK203)","v":0},null,null,{"$f":"AM203*AN203","v":0},null,null,{"$f":"AP203*AQ203","v":0},null,null,{"$f":"AS203*AT203","v":0},null,null,{"$f":"AV203*AW203","v":0},{"$f":"SUM(AO203,AR203,AU203,AX203)","v":0},null,null,{"$f":"AZ203*BA203","v":0},null,null,{"$f":"BC203*BD203","v":0},null,null,{"$f":"BF203*BG203","v":0},null,null,{"$f":"BI203*BJ203","v":0},{"$f":"SUM(BB203,BE203,BH203,BK203)","v":0},null,null,{"$f":"BM203*BN203","v":0},null,null,{"$f":"BP203*BQ203","v":0},null,null,{"$f":"BS203*BT203","v":0},null,null,{"$f":"BV203*BW203","v":0},{"$f":"SUM(BO203,BR203,BU203,BX203)","v":0},{"$f":"Y203+AL203+AY203+BL203+BY203","v":0}]
["Coût",{"$f":"IF(A204=\"Activité\",MAX($B$12:B203)+1,\"\")","v":""},{"$f":"C201","v":0},null,null,null,{"$f":"G201","v":0},{"$f":"H201","v":0},null,null,null,null,null,null,{"$f":"M204*N204","v":0},null,null,{"$f":"P204*Q204","v":0},null,null,{"$f":"S204*T204","v":0},null,null,{"$f":"V204*W204","v":0},{"$f":"SUM(O204,R204,U204,X204)","v":0},null,null,{"$f":"Z204*AA204","v":0},null,null,{"$f":"AC204*AD204","v":0},null,null,{"$f":"AF204*AG204","v":0},null,null,{"$f":"AI204*AJ204","v":0},{"$f":"SUM(AB204,AE204,AH204,AK204)","v":0},null,null,{"$f":"AM204*AN204","v":0},null,null,{"$f":"AP204*AQ204","v":0},null,null,{"$f":"AS204*AT204","v":0},null,null,{"$f":"AV204*AW204","v":0},{"$f":"SUM(AO204,AR204,AU204,AX204)","v":0},null,null,{"$f":"AZ204*BA204","v":0},null,null,{"$f":"BC204*BD204","v":0},null,null,{"$f":"BF204*BG204","v":0},null,null,{"$f":"BI204*BJ204","v":0},{"$f":"SUM(BB204,BE204,BH204,BK204)","v":0},null,null,{"$f":"BM204*BN204","v":0},null,null,{"$f":"BP204*BQ204","v":0},null,null,{"$f":"BS204*BT204","v":0},null,null,{"$f":"BV204*BW204","v":0},{"$f":"SUM(BO204,BR204,BU204,BX204)","v":0},{"$f":"Y204+AL204+AY204+BL204+BY204","v":0}]
[null,{"$f":"IF(A205=\"Activité\",MAX($B$12:B204)+1,\"\")","v":""}]
["Activité",{"$f":"IF(A206=\"Activité\",MAX($B$12:B205)+1,\"\")","v":39},null,null,null,null,null,null,null,{"$f":"B206","v":39},{"$f":"IF(A206=\"Activité\",\"Veuillez trouver les détails ci-dessous\",\"\")","v":"Veuillez trouver les détails ci-dessous"},null,null,null,{"$f":"SUM(O207:O209)","v":0},null,null,{"$f":"SUM(R207:R209)","v":0},null,null,{"$f":"SUM(U207:U209)","v":0},null,null,{"$f":"SUM(X207:X209)","v":0},{"$f":"SUM(Y207:Y209)","v":0},null,null,{"$f":"SUM(AB207:AB209)","v":0},null,null,{"$f":"SUM(AE207:AE209)","v":0},null,null,{"$f":"SUM(AH207:AH209)","v":0},null,null,{"$f":"SUM(AK207:AK209)","v":0},{"$f":"SUM(AL207:AL209)","v":0},null,null,{"$f":"SUM(AO207:AO209)","v":0},null,null,{"$f":"SUM(AR207:AR209)","v":0},null,null,{"$f":"SUM(AU207:AU209)","v":0},null,null,{"$f":"SUM(AX207:AX209)","v":0},{"$f":"SUM(AY207:AY209)","v":0},null,null,{"$f":"SUM(BB207:BB209)","v":0},null,null,{"$f":"SUM(BE207:BE209)","v":0},null,null,{"$f":"SUM(BH207:BH209)","v":0},null,null,{"$f":"SUM(BK207:BK209)","v":0},{"$f":"SUM(BL207:BL209)","v":0},null,null,{"$f":"SUM(BO207:BO209)","v":0},null,null,{"$f":"SUM(BR207:BR209)","v":0},null,null,{"$f":"SUM(BU207:BU209)","v":0},null,null,{"$f":"SUM(BX207:BX209)","v":0},{"$f":"SUM(BY207:BY209)","v":0},{"$f":"Y206+AL206+AY206+BL206+BY206","v":0}]
["Coût",{"$f":"IF(A207=\"Activité\",MAX($B$12:B206)+1,\"\")","v":""},{"$f":"C206","v":0},null,null,null,{"$f":"G206","v":0},{"$f":"H206","v":0},null,null,null,null,null,null,{"$f":"M207*N207","v":0},null,null,{"$f":"P207*Q207","v":0},null,null,{"$f":"S207*T207","v":0},null,null,{"$f":"V207*W207","v":0},{"$f":"SUM(O207,R207,U207,X207)","v":0},null,null,{"$f":"Z207*AA207","v":0},null,null,{"$f":"AC207*AD207","v":0},null,null,{"$f":"AF207*AG207","v":0},null,null,{"$f":"AI207*AJ207","v":0},{"$f":"SUM(AB207,AE207,AH207,AK207)","v":0},null,null,{"$f":"AM207*AN207","v":0},null,null,{"$f":"AP207*AQ207","v":0},null,null,{"$f":"AS207*AT207","v":0},null,null,{"$f":"AV207*AW207","v":0},{"$f":"SUM(AO207,AR207,AU207,AX207)","v":0},null,null,{"$f":"AZ207*BA207","v":0},null,null,{"$f":"BC207*BD207","v":0},null,null,{"$f":"BF207*BG207","v":0},null,null,{"$f":"BI207*BJ207","v":0},{"$f":"SUM(BB207,BE207,BH207,BK207)","v":0},null,null,{"$f":"BM207*BN207","v":0},null,null,{"$f":"BP207*BQ207","v":0},null,null,{"$f":"BS207*BT207","v":0},null,null,{"$f":"BV207*BW207","v":0},{"$f":"SUM(BO207,BR207,BU207,BX207)","v":0},{"$f":"Y207+AL207+AY207+BL207+BY207","v":0}]
["Coût",{"$f":"IF(A208=\"Activité\",MAX($B$12:B207)+1,\"\")","v":""},{"$f":"C206","v":0},null,null,null,{"$f":"G206","v":0},{"$f":"H206","v":0},null,null,null,null,null,null,{"$f":"M208*N208","v":0},null,null,{"$f":"P208*Q208","v":0},null,null,{"$f":"S208*T208","v":0},null,null,{"$f":"V208*W208","v":0},{"$f":"SUM(O208,R208,U208,X208)","v":0},null,null,{"$f":"Z208*AA208","v":0},null,null,{"$f":"AC208*AD208","v":0},null,null,{"$f":"AF208*AG208","v":0},null,null,{"$f":"AI208*AJ208","v":0},{"$f":"SUM(AB208,AE208,AH208,AK208)","v":0},null,null,{"$f":"AM208*AN208","v":0},null,null,{"$f":"AP208*AQ208","v":0},null,null,{"$f":"AS208*AT208","v":0},null,null,{"$f":"AV208*AW208","v":0},{"$f":"SUM(AO208,AR208,AU208,AX208)","v":0},null,null,{"$f":"AZ208*BA208","v":0},null,null,{"$f":"BC208*BD208","v":0},null,null,{"$f":"BF208*BG208","v":0},null,null,{"$f":"BI208*BJ208","v":0},{"$f":"SUM(BB208,BE208,BH208,BK208)","v":0},null,null,{"$f":"BM208*BN208","v":0},null,null,{"$f":"BP208*BQ208","v":0},null,null,{"$f":"BS208*BT208","v":0},null,null,{"$f":"BV208*BW208","v":0},{"$f":"SUM(BO208,BR208,BU208,BX208)","v":0},{"$f":"Y208+AL208+AY208+BL208+BY208","v":0}]
["Coût",{"$f":"IF(A209=\"Activité\",MAX($B$12:B208)+1,\"\")","v":""},{"$f":"C206","v":0},null,null,null,{"$f":"G206","v":0},{"$f":"H206","v":0},null,null,null,null,null,null,{"$f":"M209*N209","v":0},null,null,{"$f":"P209*Q209","v":0},null,null,{"$f":"S209*T209","v":0},null,null,{"$f":"V209*W209","v":0},{"$f":"SUM(O209,R209,U209,X209)","v":0},null,null,{"$f":"Z209*AA209","v":0},null,null,{"$f":"AC209*AD209","v":0},null,null,{"$f":"AF209*AG209","v":0},null,null,{"$f":"AI209*AJ209","v":0},{"$f":"SUM(AB209,AE209,AH209,AK209)","v":0},null,null,{"$f":"AM209*AN209","v":0},null,null,{"$f":"AP209*AQ209","v":0},null,null,{"$f":"AS209*AT209","v":0},null,null,{"$f":"AV209*AW209","v":0},{"$f":"SUM(AO209,AR209,AU209,AX209)","v":0},null,null,{"$f":"AZ209*BA209","v":0},null,null,{"$f":"BC209*BD209","v":0},null,null,{"$f":"BF209*BG209","v":0},null,null,{"$f":"BI209*BJ209","v":0},{"$f":"SUM(BB209,BE209,BH209,BK209)","v":0},null,null,{"$f":"BM209*BN209","v":0},null,null,{"$f":"BP209*BQ209","v":0},null,null,{"$f":"BS209*BT209","v":0},null,null,{"$f":"BV209*BW209","v":0},{"$f":"SUM(BO209,BR209,BU209,BX209)","v":0},{"$f":"Y209+AL209+AY209+BL209+BY209","v":0}]
[null,{"$f":"IF(A210=\"Activité\",MAX($B$12:B209)+1,\"\")","v":""}]
["Activité",{"$f":"IF(A211=\"Activité\",MAX($B$12:B210)+1,\"\")","v":40},null,null,null,null,null,null,null,{"$f":"B211","v":40},{"$f":"IF(A211=\"Activité\",\"Veuillez trouver les détails ci-dessous\",\"\")","v":"Veuillez trouver les détails ci-dessous"},null,null,null,{"$f":"SUM(O212:O214)","v":0},null,null,{"$f":"SUM(R212:R214)","v":0},null,null,{"$f":"SUM(U212:U214)","v":0},null,null,{"$f":"SUM(X212:X214)","v":0},{"$f":"SUM(Y212:Y214)","v":0},null,null,{"$f":"SUM(AB212:AB214)","v":0},null,null,{"$f":"SUM(AE212:AE214)","v":0},null,null,{"$f":"SUM(AH212:AH214)","v":0},null,null,{"$f":"SUM(AK212:AK214)","v":0},{"$f":"SUM(AL212:AL214)","v":0},null,null,{"$f":"SUM(AO212:AO214)","v":0},null,null,{"$f":"SUM(AR212:AR214)","v":0},null,null,{"$f":"SUM(AU212:AU214)","v":0},null,null,{"$f":"SUM(AX212:AX214)","v":0},{"$f":"SUM(AY212:AY214)","v":0},null,null,{"$f":"SUM(BB212:BB214)","v":0},null,null,{"$f":"SUM(BE212:BE214)","v":0},null,null,{"$f":"SUM(BH212:BH214)","v":0},null,null,{"$f":"SUM(BK212:BK214)","v":0},{"$f":"SUM(BL212:BL214)","v":0},null,null,{"$f":"SUM(BO212:BO214)","v":0},null,null,{"$f":"SUM(BR212:BR214)","v":0},null,null,{"$f":"SUM(BU212:BU214)","v":0},null,null,{"$f":"SUM(BX212:BX214)","v":0},{"$f":"SUM(BY212:BY214)","v":0},{"$f":"Y211+AL211+AY211+BL211+BY211","v":0}]
["Coût",{"$f":"IF(A212=\"Activité\",MAX($B$12:B211)+1,\"\")","v":""},{"$f":"C211","v":0},null,null,null,{"$f":"G211","v":0},{"$f":"H211","v":0},null,null,null,null,null,null,{"$f":"M212*N212","v":0},null,null,{"$f":"P212*Q212","v":0},null,null,{"$f":"S212*T212","v":0},null,null,{"$f":"V212*W212","v":0},{"$f":"SUM(O212,R212,U212,X212)","v":0},null,null,{"$f":"Z212*AA212","v":0},null,null,{"$f":"AC212*AD212","v":0},null,null,{"$f":"AF212*AG212","v":0},null,null,{"$f":"AI212*AJ212","v":0},{"$f":"SUM(AB212,AE212,AH212,AK212)","v":0},null,null,{"$f":"AM212*AN212","v":0},null,null,{"$f":"AP212*AQ212","v":0},null,null,{"$f":"AS212*AT212","v":0},null,null,{"$f":"AV212*AW212","v":0},{"$f":"SUM(AO212,AR212,AU212,AX212)","v":0},null,null,{"$f":"AZ212*BA212","v":0},null,null,{"$f":"BC212*BD212","v":0},null,null,{"$f":"BF212*BG212","v":0},null,null,{"$f":"BI212*BJ212","v":0},{"$f":"SUM(BB212,BE212,BH212,BK212)","v":0},null,null,{"$f":"BM212*BN212","v":0},null,null,{"$f":"BP212*BQ212","v":0},null,null,{"$f":"BS212*BT212","v":0},null,null,{"$f":"BV212*BW212","v":0},{"$f":"SUM(BO212,BR212,BU212,BX212)","v":0},{"$f":"Y212+AL212+AY212+BL212+BY212","v":0}]
["Coût",{"$f":"IF(A213=\"Activité\",MAX($B$12:B212)+1,\"\")","v":""},{"$f":"C211","v":0},null,null,null,{"$f":"G211","v":0},{"$f":"H211","v":0},null,null,null,null,null,null,{"$f":"M213*N213","v":0},null,null,{"$f":"P213*Q213","v":0},null,null,{"$f":"S213*T213","v":0},null,null,{"$f":"V213*W213","v":0},{"$f":"SUM(O213,R213,U213,X213)","v":0},null,null,{"$f":"Z213*AA213","v":0},null,null,{"$f":"AC213*AD213","v":0},null,null,{"$f":"AF213*AG213","v":0},null,null,{"$f":"AI213*AJ213","v":0},{"$f":"SUM(AB213,AE213,AH213,AK213)","v":0},null,null,{"$f":"AM213*AN213","v":0},null,null,{"$f":"AP213*AQ213","v":0},null,null,{"$f":"AS213*AT213","v":0},null,null,{"$f":"AV213*AW213","v":0},{"$f":"SUM(AO213,AR213,AU213,AX213)","v":0},null,null,{"$f":"AZ213*BA213","v":0},null,null,{"$f":"BC213*BD213","v":0},null,null,{"$f":"BF213*BG213","v":0},null,null,{"$f":"BI213*BJ213","v":0},{"$f":"SUM(BB213,BE213,BH213,BK213)","v":0},null,null,{"$f":"BM213*BN213","v":0},null,null,{"$f":"BP213*BQ213","v":0},null,null,{"$f":"BS213*BT213","v":0},null,null,{"$f":"BV213*BW213","v":0},{"$f":"SUM(BO213,BR213,BU213,BX213)","v":0},{"$f":"Y213+AL213+AY213+BL213+BY213","v":0}]
["Coût",{"$f":"IF(A214=\"Activité\",MAX($B$12:B213)+1,\"\")","v":""},{"$f":"C211","v":0},null,null,null,{"$f":"G211","v":0},{"$f":"H211","v":0},null,null,null,null,null,null,{"$f":"M214*N214","v":0},null,null,{"$f":"P214*Q214","v":0},null,null,{"$f":"S214*T214","v":0},null,null,{"$f":"V214*W214","v":0},{"$f":"SUM(O214,R214,U214,X214)","v":0},null,null,{"$f":"Z214*AA214","v":0},null,null,{"$f":"AC214*AD214","v":0},null,null,{"$f":"AF214*AG214","v":0},null,null,{"$f":"AI214*AJ214","v":0},{"$f":"SUM(AB214,AE214,AH214,AK214)","v":0},null,null,{"$f":"AM214*AN214","v":0},null,null,{"$f":"AP214*AQ214","v":0},null,null,{"$f":"AS214*AT214","v":0},null,null,{"$f":"AV214*AW214","v":0},{"$f":"SUM(AO214,AR214,AU214,AX214)","v":0},null,null,{"$f":"AZ214*BA214","v":0},null,null,{"$f":"BC214*BD214","v":0},null,null,{"$f":"BF214*BG214","v":0},null,null,{"$f":"BI214*BJ214","v":0},{"$f":"SUM(BB214,BE214,BH214,BK214)","v":0},null,null,{"$f":"BM214*BN214","v":0},null,null,{"$f":"BP214*BQ214","v":0},null,null,{"$f":"BS214*BT214","v":0},null,null,{"$f":"BV214*BW214","v":0},{"$f":"SUM(BO214,BR214,BU214,BX214)","v":0},{"$f":"Y214+AL214+AY214+BL214+BY214","v":0}]
[null,{"$f":"IF(A215=\"Activité\",MAX($B$12:B214)+1,\"\")","v":""}]
["Activité",{"$f":"IF(A216=\"Activité\",MAX($B$12:B215)+1,\"\")","v":41},null,null,null,null,null,null,null,{"$f":"B216","v":41},{"$f":"IF(A216=\"Activité\",\"Veuillez trouver les détails ci-dessous\",\"\")","v":"Veuillez trouver les détails ci-dessous"},null,null,null,{"$f":"SUM(O217:O219)","v":0},null,null,{"$f":"SUM(R217:R219)","v":0},null,null,{"$f":"SUM(U217:U219)","v":0},null,null,{"$f":"SUM(X217:X219)","v":0},{"$f":"SUM(Y217:Y219)","v":0},null,null,{"$f":"SUM(AB217:AB219)","v":0},null,null,{"$f":"SUM(AE217:AE219)","v":0},null,null,{"$f":"SUM(AH217:AH219)","v":0},null,null,{"$f":"SUM(AK217:AK219)","v":0},{"$f":"SUM(AL217:AL219)","v":0},null,null,{"$f":"SUM(AO217:AO219)","v":0},null,null,{"$f":"SUM(AR217:AR219)","v":0},null,null,{"$f":"SUM(AU217:AU219)","v":0},null,null,{"$f":"SUM(AX217:AX219)","v":0},{"$f":"SUM(AY217:AY219)","v":0},null,null,{"$f":"SUM(BB217:BB219)","v":0},null,null,{"$f":"SUM(BE217:BE219)","v":0},null,null,{"$f":"SUM(BH217:BH219)","v":0},null,null,{"$f":"SUM(BK217:BK219)","v":0},{"$f":"SUM(BL217:BL219)","v":0},null,null,{"$f":"SUM(BO217:BO219)","v":0},null,null,{"$f":"SUM(BR217:BR219)","v":0},null,null,{"$f":"SUM(BU217:BU219)","v":0},null,null,{"$f":"SUM(BX217:BX219)","v":0},{"$f":"SUM(BY217:BY219)","v":0},{"$f":"Y216+AL216+AY216+BL216+BY216","v":0}]
["Coût",{"$f":"IF(A217=\"Activité\",MAX($B$12:B216)+1,\"\")","v":""},{"$f":"C216","v":0},null,null,null,{"$f":"G216","v":0},{"$f":"H216","v":0},null,null,null,null,null,null,{"$f":"M217*N217","v":0},null,null,{"$f":"P217*Q217","v":0},null,null,{"$f":"S217*T217","v":0},null,null,{"$f":"V217*W217","v":0},{"$f":"SUM(O217,R217,U217,X217)","v":0},null,null,{"$f":"Z217*AA217","v":0},null,null,{"$f":"AC217*AD217","v":0},null,null,{"$f":"AF217*AG217","v":0},null,null,{"$f":"AI217*AJ217","v":0},{"$f":"SUM(AB217,AE217,AH217,AK217)","v":0},null,null,{"$f":"AM217*AN217","v":0},null,null,{"$f":"AP217*AQ217","v":0},null,null,{"$f":"AS217*AT217","v":0},null,null,{"$f":"AV217*AW217","v":0},{"$f":"SUM(AO217,AR217,AU217,AX217)","v":0},null,null,{"$f":"AZ217*BA217","v":0},null,null,{"$f":"BC217*BD217","v":0},null,null,{"$f":"BF217*BG217","v":0},null,null,{"$f":"BI217*BJ217","v":0},{"$f":"SUM(BB217,BE217,BH217,BK217)","v":0},null,null,{"$f":"BM217*BN217","v":0},null,null,{"$f":"BP217*BQ217","v":0},null,null,{"$f":"BS217*BT217","v":0},null,null,{"$f":"BV217*BW217","v":0},{"$f":"SUM(BO217,BR217,BU217,BX217)","v":0},{"$f":"Y217+AL217+AY217+BL217+BY217","v":0}]
["Coût",{"$f":"IF(A218=\"Activité\",MAX($B$12:B217)+1,\"\")","v":""},{"$f":"C216","v":0},null,null,null,{"$f":"G216","v":0},{"$f":"H216","v":0},null,null,null,null,null,null,{"$f":"M218*N218","v":0},null,null,{"$f":"P218*Q218","v":0},null,null,{"$f":"S218*T218","v":0},null,null,{"$f":"V218*W218","v":0},{"$f":"SUM(O218,R218,U218,X218)","v":0},null,null,{"$f":"Z218*AA218","v":0},null,null,{"$f":"AC218*AD218","v":0},null,null,{"$f":"AF218*AG218","v":0},null,null,{"$f":"AI218*AJ218","v":0},{"$f":"SUM(AB218,AE218,AH218,AK218)","v":0},null,null,{"$f":"AM218*AN218","v":0},null,null,{"$f":"AP218*AQ218","v":0},null,null,{"$f":"AS218*AT218","v":0},null,null,{"$f":"AV218*AW218","v":0},{"$f":"SUM(AO218,AR218,AU218,AX218)","v":0},null,null,{"$f":"AZ218*BA218","v":0},null,null,{"$f":"BC218*BD218","v":0},null,null,{"$f":"BF218*BG218","v":0},null,null,{"$f":"BI218*BJ218","v":0},{"$f":"SUM(BB218,BE218,BH218,BK218)","v":0},null,null,{"$f":"BM218*BN218","v":0},null,null,{"$f":"BP218*BQ218","v":0},null,null,{"$f":"BS218*BT218","v":0},null,null,{"$f":"BV218*BW218","v":0},{"$f":"SUM(BO218,BR218,BU218,BX218)","v":0},{"$f":"Y218+AL218+AY218+BL218+BY218","v":0}]
["Coût",{"$f":"IF(A219=\"Activité\",MAX($B$12:B218)+1,\"\")","v":""},{"$f":"C216","v":0},null,null,null,{"$f":"G216","v":0},{"$f":"H216","v":0},null,null,null,null,null,null,{"$f":"M219*N219","v":0},null,null,{"$f":"P219*Q219","v":0},null,null,{"$f":"S219*T219","v":0},null,null,{"$f":"V219*W219","v":0},{"$f":"SUM(O219,R219,U219,X219)","v":0},null,null,{"$f":"Z219*AA219","v":0},null,null,{"$f":"AC219*AD219","v":0},null,null,{"$f":"AF219*AG219","v":0},null,null,{"$f":"AI219*AJ219","v":0},{"$f":"SUM(AB219,AE219,AH219,AK219)","v":0},null,null,{"$f":"AM219*AN219","v":0},null,null,{"$f":"AP219*AQ219","v":0},null,null,{"$f":"AS219*AT219","v":0},null,null,{"$f":"AV219*AW219","v":0},{"$f":"SUM(AO219,AR219,AU219,AX219)","v":0},null,null,{"$f":"AZ219*BA219","v":0},null,null,{"$f":"BC219*BD219","v":0},null,null,{"$f":"BF219*BG219","v":0},null,null,{"$f":"BI219*BJ219","v":0},{"$f":"SUM(BB219,BE219,BH219,BK219)","v":0},null,null,{"$f":"BM219*BN219","v":0},null,null,{"$f":"BP219*BQ219","v":0},null,null,{"$f":"BS219*BT219","v":0},null,null,{"$f":"BV219*BW219","v":0},{"$f":"SUM(BO219,BR219,BU219,BX219)","v":0},{"$f":"Y219+AL219+AY219+BL219+BY219","v":0}]
[null,{"$f":"IF(A220=\"Activité\",MAX($B$12:B219)+1,\"\")","v":""}]
["Activité",{"$f":"IF(A221=\"Activité\",MAX($B$12:B220)+1,\"\")","v":42},null,null,null,null,null,null,null,{"$f":"B221","v":42},{"$f":"IF(A221=\"Activité\",\"Veuillez trouver les détails ci-dessous\",\"\")","v":"Veuillez trouver les détails ci-dessous"},null,null,null,{"$f":"SUM(O222:O224)","v":0},null,null,{"$f":"SUM(R222:R224)","v":0},null,null,{"$f":"SUM(U222:U224)","v":0},null,null,{"$f":"SUM(X222:X224)","v":0},{"$f":"SUM(Y222:Y224)","v":0},null,null,{"$f":"SUM(AB222:AB224)","v":0},null,null,{"$f":"SUM(AE222:AE224)","v":0},null,null,{"$f":"SUM(AH222:AH224)","v":0},null,null,{"$f":"SUM(AK222:AK224)","v":0},{"$f":"SUM(AL222:AL224)","v":0},null,null,{"$f":"SUM(AO222:AO224)","v":0},null,null,{"$f":"SUM(AR222:AR224)","v":0},null,null,{"$f":"SUM(AU222:AU224)","v":0},null,null,{"$f":"SUM(AX222:AX224)","v":0},{"$f":"SUM(AY222:AY224)","v":0},null,null,{"$f":"SUM(BB222:BB224)","v":0},null,null,{"$f":"SUM(BE222:BE224)","v":0},null,null,{"$f":"SUM(BH222:BH224)","v":0},null,null,{"$f":"SUM(BK222:BK224)","v":0},{"$f":"SUM(BL222:BL224)","v":0},null,null,{"$f":"SUM(BO222:BO224)","v":0},null,null,{"$f":"SUM(BR222:BR224)","v":0},null,null,{"$f":"SUM(BU222:BU224)","v":0},null,null,{"$f":"SUM(BX222:BX224)","v":0},{"$f":"SUM(BY222:BY224)","v":0},{"$f":"Y221+AL221+AY221+BL221+BY221","v":0}]
["Coût",{"$f":"IF(A222=\"Activité\",MAX($B$12:B221)+1,\"\")","v":""},{"$f":"C221","v":0},null,null,null,{"$f":"G221","v":0},{"$f":"H221","v":0},null,null,null,null,null,null,{"$f":"M222*N222","v":0},null,null,{"$f":"P222*Q222","v":0},null,null,{"$f":"S222*T222","v":0},null,null,{"$f":"V222*W222","v":0},{"$f":"SUM(O222,R222,U222,X222)","v":0},null,null,{"$f":"Z222*AA222","v":0},null,null,{"$f":"AC222*AD222","v":0},null,null,{"$f":"AF222*AG222","v":0},null,null,{"$f":"AI222*AJ222","v":0},{"$f":"SUM(AB222,AE222,AH222,AK222)","v":0},null,null,{"$f":"AM222*AN222","v":0},null,null,{"$f":"AP222*AQ222","v":0},null,null,{"$f":"AS222*AT222","v":0},null,null,{"$f":"AV222*AW222","v":0},{"$f":"SUM(AO222,AR222,AU222,AX222)","v":0},null,null,{"$f":"AZ222*BA222","v":0},null,null,{"$f":"BC222*BD222","v":0},null,null,{"$f":"BF222*BG222","v":0},null,null,{"$f":"BI222*BJ222","v":0},{"$f":"SUM(BB222,BE222,BH222,BK222)","v":0},null,null,{"$f":"BM222*BN222","v":0},null,null,{"$f":"BP222*BQ222","v":0},null,null,{"$f":"BS222*BT222","v":0},null,null,{"$f":"BV222*BW222","v":0},{"$f":"SUM(BO222,BR222,BU222,BX222)","v":0},{"$f":"Y222+AL222+AY222+BL222+BY222","v":0}]
["Coût",{"$f":"IF(A223=\"Activité\",MAX($B$12:B222)+1,\"\")","v":""},{"$f":"C221","v":0},null,null,null,{"$f":"G221","v":0},{"$f":"H221","v":0},null,null,null,null,null,null,{"$f":"M223*N223","v":0},null,null,{"$f":"P223*Q223","v":0},null,null,{"$f":"S223*T223","v":0},null,null,{"$f":"V223*W223","v":0},{"$f":"SUM(O223,R223,U223,X223)","v":0},null,null,{"$f":"Z223*AA223","v":0},null,null,{"$f":"AC223*AD223","v":0},null,null,{"$f":"AF223*AG223","v":0},null,null,{"$f":"AI223*AJ223","v":0},{"$f":"SUM(AB223,AE223,AH223,AK223)","v":0},null,null,{"$f":"AM223*AN223","v":0},null,null,{"$f":"AP223*AQ223","v":0},null,null,{"$f":"AS223*AT223","v":0},null,null,{"$f":"AV223*AW223","v":0},{"$f":"SUM(AO223,AR223,AU223,AX223)","v":0},null,null,{"$f":"AZ223*BA223","v":0},null,null,{"$f":"BC223*BD223","v":0},null,null,{"$f":"BF223*BG223","v":0},null,null,{"$f":"BI223*BJ223","v":0},{"$f":"SUM(BB223,BE223,BH223,BK223)","v":0},null,null,{"$f":"BM223*BN223","v":0},null,null,{"$f":"BP223*BQ223","v":0},null,null,{"$f":"BS223*BT223","v":0},null,null,{"$f":"BV223*BW223","v":0},{"$f":"SUM(BO223,BR223,BU223,BX223)","v":0},{"$f":"Y223+AL223+AY223+BL223+BY223","v":0}]
["Coût",{"$f":"IF(A224=\"Activité\",MAX($B$12:B223)+1,\"\")","v":""},{"$f":"C221","v":0},null,null,null,{"$f":"G221","v":0},{"$f":"H221","v":0},null,null,null,null,null,null,{"$f":"M224*N224","v":0},null,null,{"$f":"P224*Q224","v":0},null,null,{"$f":"S224*T224","v":0},null,null,{"$f":"V224*W224","v":0},{"$f":"SUM(O224,R224,U224,X224)","v":0},null,null,{"$f":"Z224*AA224","v":0},null,null,{"$f":"AC224*AD224","v":0},null,null,{"$f":"AF224*AG224","v":0},null,null,{"$f":"AI224*AJ224","v":0},{"$f":"SUM(AB224,AE224,AH224,AK224)","v":0},null,null,{"$f":"AM224*AN224","v":0},null,null,{"$f":"AP224*AQ224","v":0},null,null,{"$f":"AS224*AT224","v":0},null,null,{"$f":"AV224*AW224","v":0},{"$f":"SUM(AO224,AR224,AU224,AX224)","v":0},null,null,{"$f":"AZ224*BA224","v":0},null,null,{"$f":"BC224*BD224","v":0},null,null,{"$f":"BF224*BG224","v":0},null,null,{"$f":"BI224*BJ224","v":0},{"$f":"SUM(BB224,BE224,BH224,BK224)","v":0},null,null,{"$f":"BM224*BN224","v":0},null,null,{"$f":"BP224*BQ224","v":0},null,null,{"$f":"BS224*BT224","v":0},null,null,{"$f":"BV224*BW224","v":0},{"$f":"SUM(BO224,BR224,BU224,BX224)","v":0},{"$f":"Y224+AL224+AY224+BL224+BY224","v":0}]
[null,{"$f":"IF(A225=\"Activité\",MAX($B$12:B224)+1,\"\")","v":""}]
["Activité",{"$f":"IF(A226=\"Activité\",MAX($B$12:B225)+1,\"\")","v":43},null,null,null,null,null,null,null,{"$f":"B226","v":43},{"$f":"IF(A226=\"Activité\",\"Veuillez trouver les détails ci-dessous\",\"\")","v":"Veuillez trouver les détails ci-dessous"},null,null,null,{"$f":"SUM(O227:O229)","v":0},null,null,{"$f":"SUM(R227:R229)","v":0},null,null,{"$f":"SUM(U227:U229)","v":0},null,null,{"$f":"SUM(X227:X229)","v":0},{"$f":"SUM(Y227:Y229)","v":0},null,null,{"$f":"SUM(AB227:AB229)","v":0},null,null,{"$f":"SUM(AE227:AE229)","v":0},null,null,{"$f":"SUM(AH227:AH229)","v":0},null,null,{"$f":"SUM(AK227:AK229)","v":0},{"$f":"SUM(AL227:AL229)","v":0},null,null,{"$f":"SUM(AO227:AO229)","v":0},null,null,{"$f":"SUM(AR227:AR229)","v":0},null,null,{"$f":"SUM(AU227:AU229)","v":0},null,null,{"$f":"SUM(AX227:AX229)","v":0},{"$f":"SUM(AY227:AY229)","v":0},null,null,{"$f":"SUM(BB227:BB229)","v":0},null,null,{"$f":"SUM(BE227:BE229)","v":0},null,null,{"$f":"SUM(BH227:BH229)","v":0},null,null,{"$f":"SUM(BK227:BK229)","v":0},{"$f":"SUM(BL227:BL229)","v":0},null,null,{"$f":"SUM(BO227:BO229)","v":0},null,null,{"$f":"SUM(BR227:BR229)","v":0},null,null,{"$f":"SUM(BU227:BU229)","v":0},null,null,{"$f":"SUM(BX227:BX229)","v":0},{"$f":"SUM(BY227:BY229)","v":0},{"$f":"Y226+AL226+AY226+BL226+BY226","v":0}]
["Coût",{"$f":"IF(A227=\"Activité\",MAX($B$12:B226)+1,\"\")","v":""},{"$f":"C226","v":0},null,null,null,{"$f":"G226","v":0},{"$f":"H226","v":0},null,null,null,null,null,null,{"$f":"M227*N227","v":0},null,null,{"$f":"P227*Q227","v":0},null,null,{"$f":"S227*T227","v":0},null,null,{"$f":"V227*W227","v":0},{"$f":"SUM(O227,R227,U227,X227)","v":0},null,null,{"$f":"Z227*AA227","v":0},null,null,{"$f":"AC227*AD227","v":0},null,null,{"$f":"AF227*AG227","v":0},null,null,{"$f":"AI227*AJ227","v":0},{"$f":"SUM(AB227,AE227,AH227,AK227)","v":0},null,null,{"$f":"AM227*AN227","v":0},null,null,{"$f":"AP227*AQ227","v":0},null,null,{"$f":"AS227*AT227","v":0},null,null,{"$f":"AV227*AW227","v":0},{"$f":"SUM(AO227,AR227,AU227,AX227)","v":0},null,null,{"$f":"AZ227*BA227","v":0},null,null,{"$f":"BC227*BD227","v":0},null,null,{"$f":"BF227*BG227","v":0},null,null,{"$f":"BI227*BJ227","v":0},{"$f":"SUM(BB227,BE227,BH227,BK227)","v":0},null,null,{"$f":"BM227*BN227","v":0},null,null,{"$f":"BP227*BQ227","v":0},null,null,{"$f":"BS227*BT227","v":0},null,null,{"$f":"BV227*BW227","v":0},{"$f":"SUM(BO227,BR227,BU227,BX227)","v":0},{"$f":"Y227+AL227+AY227+BL227+BY227","v":0}]
["Coût",{"$f":"IF(A228=\"Activité\",MAX($B$12:B227)+1,\"\")","v":""},{"$f":"C226","v":0},null,null,null,{"$f":"G226","v":0},{"$f":"H226","v":0},null,null,null,null,null,null,{"$f":"M228*N228","v":0},null,null,{"$f":"P228*Q228","v":0},null,null,{"$f":"S228*T228","v":0},null,null,{"$f":"V228*W228","v":0},{"$f":"SUM(O228,R228,U228,X228)","v":0},null,null,{"$f":"Z228*AA228","v":0},null,null,{"$f":"AC228*AD228","v":0},null,null,{"$f":"AF228*AG228","v":0},null,null,{"$f":"AI228*AJ228","v":0},{"$f":"SUM(AB228,AE228,AH228,AK228)","v":0},null,null,{"$f":"AM228*AN228","v":0},null,null,{"$f":"AP228*AQ228","v":0},null,null,{"$f":"AS228*AT228","v":0},null,null,{"$f":"AV228*AW228","v":0},{"$f":"SUM(AO228,AR228,AU228,AX228)","v":0},null,null,{"$f":"AZ228*BA228","v":0},null,null,{"$f":"BC228*BD228","v":0},null,null,{"$f":"BF228*BG228","v":0},null,null,{"$f":"BI228*BJ228","v":0},{"$f":"SUM(BB228,BE228,BH228,BK228)","v":0},null,null,{"$f":"BM228*BN228","v":0},null,null,{"$f":"BP228*BQ228","v":0},null,null,{"$f":"BS228*BT228","v":0},null,null,{"$f":"BV228*BW228","v":0},{"$f":"SUM(BO228,BR228,BU228,BX228)","v":0},{"$f":"Y228+AL228+AY228+BL228+BY228","v":0}]
["Coût",{"$f":"IF(A229=\"Activité\",MAX($B$12:B228)+1,\"\")","v":""},{"$f":"C226","v":0},null,null,null,{"$f":"G226","v":0},{"$f":"H226","v":0},null,null,null,null,null,null,{"$f":"M229*N229","v":0},null,null,{"$f":"P229*Q229","v":0},null,null,{"$f":"S229*T229","v":0},null,null,{"$f":"V229*W229","v":0},{"$f":"SUM(O229,R229,U229,X229)","v":0},null,null,{"$f":"Z229*AA229","v":0},null,null,{"$f":"AC229*AD229","v":0},null,null,{"$f":"AF229*AG229","v":0},null,null,{"$f":"AI229*AJ229","v":0},{"$f":"SUM(AB229,AE229,AH229,AK229)","v":0},null,null,{"$f":"AM229*AN229","v":0},null,null,{"$f":"AP229*AQ229","v":0},null,null,{"$f":"AS229*AT229","v":0},null,null,{"$f":"AV229*AW229","v":0},{"$f":"SUM(AO229,AR229,AU229,AX229)","v":0},null,null,{"$f":"AZ229*BA229","v":0},null,null,{"$f":"BC229*BD229","v":0},null,null,{"$f":"BF229*BG229","v":0},null,null,{"$f":"BI229*BJ229","v":0},{"$f":"SUM(BB229,BE229,BH229,BK229)","v":0},null,null,{"$f":"BM229*BN229","v":0},null,null,{"$f":"BP229*BQ229","v":0},null,null,{"$f":"BS229*BT229","v":0},null,null,{"$f":"BV229*BW229","v":0},{"$f":"SUM(BO229,BR229,BU229,BX229)","v":0},{"$f":"Y229+AL229+AY229+BL229+BY229","v":0}]
[null,{"$f":"IF(A230=\"Activité\",MAX($B$12:B229)+1,\"\")","v":""}]
["Activité",{"$f":"IF(A231=\"Activité\",MAX($B$12:B230)+1,\"\")","v":44},null,null,null,null,null,null,null,{"$f":"B231","v":44},{"$f":"IF(A231=\"Activité\",\"Veuillez trouver les détails ci-dessous\",\"\")","v":"Veuillez trouver les détails ci-dessous"},null,null,null,{"$f":"SUM(O232:O234)","v":0},null,null,{"$f":"SUM(R232:R234)","v":0},null,null,{"$f":"SUM(U232:U234)","v":0},null,null,{"$f":"SUM(X232:X234)","v":0},{"$f":"SUM(Y232:Y234)","v":0},null,null,{"$f":"SUM(AB232:AB234)","v":0},null,null,{"$f":"SUM(AE232:AE234)","v":0},null,null,{"$f":"SUM(AH232:AH234)","v":0},null,null,{"$f":"SUM(AK232:AK234)","v":0},{"$f":"SUM(AL232:AL234)","v":0},null,null,{"$f":"SUM(AO232:AO234)","v":0},null,null,{"$f":"SUM(AR232:AR234)","v":0},null,null,{"$f":"SUM(AU232:AU234)","v":0},null,null,{"$f":"SUM(AX232:AX234)","v":0},{"$f":"SUM(AY232:AY234)","v":0},null,null,{"$f":"SUM(BB232:BB234)","v":0},null,null,{"$f":"SUM(BE232:BE234)","v":0},null,null,{"$f":"SUM(BH232:BH234)","v":0},null,null,{"$f":"SUM(BK232:BK234)","v":0},{"$f":"SUM(BL232:BL234)","v":0},null,null,{"$f":"SUM(BO232:BO234)","v":0},null,null,{"$f":"SUM(BR232:BR234)","v":0},null,null,{"$f":"SUM(BU232:BU234)","v":0},null,null,{"$f":"SUM(BX232:BX234)","v":0},{"$f":"SUM(BY232:BY234)","v":0},{"$f":"Y231+AL231+AY231+BL231+BY231","v":0}]
["Coût",{"$f":"IF(A232=\"Activité\",MAX($B$12:B231)+1,\"\")","v":""},{"$f":"C231","v":0},null,null,null,{"$f":"G231","v":0},{"$f":"H231","v":0},null,null,null,null,null,null,{"$f":"M232*N232","v":0},null,null,{"$f":"P232*Q232","v":0},null,null,{"$f":"S232*T232","v":0},null,null,{"$f":"V232*W232","v":0},{"$f":"SUM(O232,R232,U232,X232)","v":0},null,null,{"$f":"Z232*AA232","v":0},null,null,{"$f":"AC232*AD232","v":0},null,null,{"$f":"AF232*AG232","v":0},null,null,{"$f":"AI232*AJ232","v":0},{"$f":"SUM(AB232,AE232,AH232,AK232)","v":0},null,null,{"$f":"AM232*AN232","v":0},null,null,{"$f":"AP232*AQ232","v":0},null,null,{"$f":"AS232*AT232","v":0},null,null,{"$f":"AV232*AW232","v":0},{"$f":"SUM(AO232,AR232,AU232,AX232)","v":0},null,null,{"$f":"AZ232*BA232","v":0},null,null,{"$f":"BC232*BD232","v":0},null,null,{"$f":"BF232*BG232","v":0},null,null,{"$f":"BI232*BJ232","v":0},{"$f":"SUM(BB232,BE232,BH232,BK232)","v":0},null,null,{"$f":"BM232*BN232","v":0},null,null,{"$f":"BP232*BQ232","v":0},null,null,{"$f":"BS232*BT232","v":0},null,null,{"$f":"BV232*BW232","v":0},{"$f":"SUM(BO232,BR232,BU232,BX232)","v":0},{"$f":"Y232+AL232+AY232+BL232+BY232","v":0}]
["Coût",{"$f":"IF(A233=\"Activité\",MAX($B$12:B232)+1,\"\")","v":""},{"$f":"C231","v":0},null,null,null,{"$f":"G231","v":0},{"$f":"H231","v":0},null,null,null,null,null,null,{"$f":"M233*N233","v":0},null,null,{"$f":"P233*Q233","v":0},null,null,{"$f":"S233*T233","v":0},null,null,{"$f":"V233*W233","v":0},{"$f":"SUM(O233,R233,U233,X233)","v":0},null,null,{"$f":"Z233*AA233","v":0},null,null,{"$f":"AC233*AD233","v":0},null,null,{"$f":"AF233*AG233","v":0},null,null,{"$f":"AI233*AJ233","v":0},{"$f":"SUM(AB233,AE233,AH233,AK233)","v":0},null,null,{"$f":"AM233*AN233","v":0},null,null,{"$f":"AP233*AQ233","v":0},null,null,{"$f":"AS233*AT233","v":0},null,null,{"$f":"AV233*AW233","v":0},{"$f":"SUM(AO233,AR233,AU233,AX233)","v":0},null,null,{"$f":"AZ233*BA233","v":0},null,null,{"$f":"BC233*BD233","v":0},null,null,{"$f":"BF233*BG233","v":0},null,null,{"$f":"BI233*BJ233","v":0},{"$f":"SUM(BB233,BE233,BH233,BK233)","v":0},null,null,{"$f":"BM233*BN233","v":0},null,null,{"$f":"BP233*BQ233","v":0},null,null,{"$f":"BS233*BT233","v":0},null,null,{"$f":"BV233*BW233","v":0},{"$f":"SUM(BO233,BR233,BU233,BX233)","v":0},{"$f":"Y233+AL233+AY233+BL233+BY233","v":0}]
["Coût",{"$f":"IF(A234=\"Activité\",MAX($B$12:B233)+1,\"\")","v":""},{"$f":"C231","v":0},null,null,null,{"$f":"G231","v":0},{"$f":"H231","v":0},null,null,null,null,null,null,{"$f":"M234*N234","v":0},null,null,{"$f":"P234*Q234","v":0},null,null,{"$f":"S234*T234","v":0},null,null,{"$f":"V234*W234","v":0},{"$f":"SUM(O234,R234,U234,X234)","v":0},null,null,{"$f":"Z234*AA234","v":0},null,null,{"$f":"AC234*AD234","v":0},null,null,{"$f":"AF234*AG234","v":0},null,null,{"$f":"AI234*AJ234","v":0},{"$f":"SUM(AB234,AE234,AH234,AK234)","v":0},null,null,{"$f":"AM234*AN234","v":0},null,null,{"$f":"AP234*AQ234","v":0},null,null,{"$f":"AS234*AT234","v":0},null,null,{"$f":"AV234*AW234","v":0},{"$f":"SUM(AO234,AR234,AU234,AX234)","v":0},null,null,{"$f":"AZ234*BA234","v":0},null,null,{"$f":"BC234*BD234","v":0},null,null,{"$f":"BF234*BG234","v":0},null,null,{"$f":"BI234*BJ234","v":0},{"$f":"SUM(BB234,BE234,BH234,BK234)","v":0},null,null,{"$f":"BM234*BN234","v":0},null,null,{"$f":"BP234*BQ234","v":0},null,null,{"$f":"BS234*BT234","v":0},null,null,{"$f":"BV234*BW234","v":0},{"$f":"SUM(BO234,BR234,BU234,BX234)","v":0},{"$f":"Y234+AL234+AY234+BL234+BY234","v":0}]
[null,{"$f":"IF(A235=\"Activité\",MAX($B$12:B234)+1,\"\")","v":""}]
["Activité",{"$f":"IF(A236=\"Activité\",MAX($B$12:B235)+1,\"\")","v":45},null,null,null,null,null,null,null,{"$f":"B236","v":45},{"$f":"IF(A236=\"Activité\",\"Veuillez trouver les détails ci-dessous\",\"\")","v":"Veuillez trouver les détails ci-dessous"},null,null,null,{"$f":"SUM(O237:O239)","v":0},null,null,{"$f":"SUM(R237:R239)","v":0},null,null,{"$f":"SUM(U237:U239)","v":0},null,null,{"$f":"SUM(X237:X239)","v":0},{"$f":"SUM(Y237:Y239)","v":0},null,null,{"$f":"SUM(AB237:AB239)","v":0},null,null,{"$f":"SUM(AE237:AE239)","v":0},null,null,{"$f":"SUM(AH237:AH239)","v":0},null,null,{"$f":"SUM(AK237:AK239)","v":0},{"$f":"SUM(AL237:AL239)","v":0},null,null,{"$f":"SUM(AO237:AO239)","v":0},null,null,{"$f":"SUM(AR237:AR239)","v":0},null,null,{"$f":"SUM(AU237:AU239)","v":0},null,null,{"$f":"SUM(AX237:AX239)","v":0},{"$f":"SUM(AY237:AY239)","v":0},null,null,{"$f":"SUM(BB237:BB239)","v":0},null,null,{"$f":"SUM(BE237:BE239)","v":0},null,null,{"$f":"SUM(BH237:BH239)","v":0},null,null,{"$f":"SUM(BK237:BK239)","v":0},{"$f":"SUM(BL237:BL239)","v":0},null,null,{"$f":"SUM(BO237:BO239)","v":0},null,null,{"$f":"SUM(BR237:BR239)","v":0},null,null,{"$f":"SUM(BU237:BU239)","v":0},null,null,{"$f":"SUM(BX237:BX239)","v":0},{"$f":"SUM(BY237:BY239)","v":0},{"$f":"Y236+AL236+AY236+BL236+BY236","v":0}]
["Coût",{"$f":"IF(A237=\"Activité\",MAX($B$12:B236)+1,\"\")","v":""},{"$f":"C236","v":0},null,null,null,{"$f":"G236","v":0},{"$f":"H236","v":0},null,null,null,null,null,null,{"$f":"M237*N237","v":0},null,null,{"$f":"P237*Q237","v":0},null,null,{"$f":"S237*T237","v":0},null,null,{"$f":"V237*W237","v":0},{"$f":"SUM(O237,R237,U237,X237)","v":0},null,null,{"$f":"Z237*AA237","v":0},null,null,{"$f":"AC237*AD237","v":0},null,null,{"$f":"AF237*AG237","v":0},null,null,{"$f":"AI237*AJ237","v":0},{"$f":"SUM(AB237,AE237,AH237,AK237)","v":0},null,null,{"$f":"AM237*AN237","v":0},null,null,{"$f":"AP237*AQ237","v":0},null,null,{"$f":"AS237*AT237","v":0},null,null,{"$f":"AV237*AW237","v":0},{"$f":"SUM(AO237,AR237,AU237,AX237)","v":0},null,null,{"$f":"AZ237*BA237","v":0},null,null,{"$f":"BC237*BD237","v":0},null,null,{"$f":"BF237*BG237","v":0},null,null,{"$f":"BI237*BJ237","v":0},{"$f":"SUM(BB237,BE237,BH237,BK237)","v":0},null,null,{"$f":"BM237*BN237","v":0},null,null,{"$f":"BP237*BQ237","v":0},null,null,{"$f":"BS237*BT237","v":0},null,null,{"$f":"BV237*BW237","v":0},{"$f":"SUM(BO237,BR237,BU237,BX237)","v":0},{"$f":"Y237+AL237+AY237+BL237+BY237","v":0}]
["Coût",{"$f":"IF(A238=\"Activité\",MAX($B$12:B237)+1,\"\")","v":""},{"$f":"C236","v":0},null,null,null,{"$f":"G236","v":0},{"$f":"H236","v":0},null,null,null,null,null,null,{"$f":"M238*N238","v":0},null,null,{"$f":"P238*Q238","v":0},null,null,{"$f":"S238*T238","v":0},null,null,{"$f":"V238*W238","v":0},{"$f":"SUM(O238,R238,U238,X238)","v":0},null,null,{"$f":"Z238*AA238","v":0},null,null,{"$f":"AC238*AD238","v":0},null,null,{"$f":"AF238*AG238","v":0},null,null,{"$f":"AI238*AJ238","v":0},{"$f":"SUM(AB238,AE238,AH238,AK238)","v":0},null,null,{"$f":"AM238*AN238","v":0},null,null,{"$f":"AP238*AQ238","v":0},null,null,{"$f":"AS238*AT238","v":0},null,null,{"$f":"AV238*AW238","v":0},{"$f":"SUM(AO238,AR238,AU238,AX238)","v":0},null,null,{"$f":"AZ238*BA238","v":0},null,null,{"$f":"BC238*BD238","v":0},null,null,{"$f":"BF238*BG238","v":0},null,null,{"$f":"BI238*BJ238","v":0},{"$f":"SUM(BB238,BE238,BH238,BK238)","v":0},null,null,{"$f":"BM238*BN238","v":0},null,null,{"$f":"BP238*BQ238","v":0},null,null,{"$f":"BS238*BT238","v":0},null,null,{"$f":"BV238*BW238","v":0},{"$f":"SUM(BO238,BR238,BU238,BX238)","v":0},{"$f":"Y238+AL238+AY238+BL238+BY238","v":0}]
["Coût",{"$f":"IF(A239=\"Activité\",MAX($B$12:B238)+1,\"\")","v":""},{"$f":"C236","v":0},null,null,null,{"$f":"G236","v":0},{"$f":"H236","v":0},null,null,null,null,null,null,{"$f":"M239*N239","v":0},null,null,{"$f":"P239*Q239","v":0},null,null,{"$f":"S239*T239","v":0},null,null,{"$f":"V239*W239","v":0},{"$f":"SUM(O239,R239,U239,X239)","v":0},null,null,{"$f":"Z239*AA239","v":0},null,null,{"$f":"AC239*AD239","v":0},null,null,{"$f":"AF239*AG239","v":0},null,null,{"$f":"AI239*AJ239","v":0},{"$f":"SUM(AB239,AE239,AH239,AK239)","v":0},null,null,{"$f":"AM239*AN239","v":0},null,null,{"$f":"AP239*AQ239","v":0},null,null,{"$f":"AS239*AT239","v":0},null,null,{"$f":"AV239*AW239","v":0},{"$f":"SUM(AO239,AR239,AU239,AX239)","v":0},null,null,{"$f":"AZ239*BA239","v":0},null,null,{"$f":"BC239*BD239","v":0},null,null,{"$f":"BF239*BG239","v":0},null,null,{"$f":"BI239*BJ239","v":0},{"$f":"SUM(BB239,BE239,BH239,BK239)","v":0},null,null,{"$f":"BM239*BN239","v":0},null,null,{"$f":"BP239*BQ239","v":0},null,null,{"$f":"BS239*BT239","v":0},null,null,{"$f":"BV239*BW239","v":0},{"$f":"SUM(BO239,BR239,BU239,BX239)","v":0},{"$f":"Y239+AL239+AY239+BL239+BY239","v":0}]
[null,{"$f":"IF(A240=\"Activité\",MAX($B$12:B239)+1,\"\")","v":""}]
["Activité",{"$f":"IF(A241=\"Activité\",MAX($B$12:B240)+1,\"\")","v":46},null,null,null,null,null,null,null,{"$f":"B241","v":46},{"$f":"IF(A241=\"Activité\",\"Veuillez trouver les détails ci-dessous\",\"\")","v":"Veuillez trouver les détails ci-dessous"},null,null,null,{"$f":"SUM(O242:O244)","v":0},null,null,{"$f":"SUM(R242:R244)","v":0},null,null,{"$f":"SUM(U242:U244)","v":0},null,null,{"$f":"SUM(X242:X244)","v":0},{"$f":"SUM(Y242:Y244)","v":0},null,null,{"$f":"SUM(AB242:AB244)","v":0},null,null,{"$f":"SUM(AE242:AE244)","v":0},null,null,{"$f":"SUM(AH242:AH244)","v":0},null,null,{"$f":"SUM(AK242:AK244)","v":0},{"$f":"SUM(AL242:AL244)","v":0},null,null,{"$f":"SUM(AO242:AO244)","v":0},null,null,{"$f":"SUM(AR242:AR244)","v":0},null,null,{"$f":"SUM(AU242:AU244)","v":0},null,null,{"$f":"SUM(AX242:AX244)","v":0},{"$f":"SUM(AY242:AY244)","v":0},null,null,{"$f":"SUM(BB242:BB244)","v":0},null,null,{"$f":"SUM(BE242:BE244)","v":0},null,null,{"$f":"SUM(BH242:BH244)","v":0},null,null,{"$f":"SUM(BK242:BK244)","v":0},{"$f":"SUM(BL242:BL244)","v":0},null,null,{"$f":"SUM(BO242:BO244)","v":0},null,null,{"$f":"SUM(BR242:BR244)","v":0},null,null,{"$f":"SUM(BU242:BU244)","v":0},null,null,{"$f":"SUM(BX242:BX244)","v":0},{"$f":"SUM(BY242:BY244)","v":0},{"$f":"Y241+AL241+AY241+BL241+BY241","v":0}]
["Coût",{"$f":"IF(A242=\"Activité\",MAX($B$12:B241)+1,\"\")","v":""},{"$f":"C241","v":0},null,null,null,{"$f":"G241","v":0},{"$f":"H241","v":0},null,null,null,null,null,null,{"$f":"M242*N242","v":0},null,null,{"$f":"P242*Q242","v":0},null,null,{"$f":"S242*T242","v":0},null,null,{"$f":"V242*W242","v":0},{"$f":"SUM(O242,R242,U242,X242)","v":0},null,null,{"$f":"Z242*AA242","v":0},null,null,{"$f":"AC242*AD242","v":0},null,null,{"$f":"AF242*AG242","v":0},null,null,{"$f":"AI242*AJ242","v":0},{"$f":"SUM(AB242,AE242,AH242,AK242)","v":0},null,null,{"$f":"AM242*AN242","v":0},null,null,{"$f":"AP242*AQ242","v":0},null,null,{"$f":"AS242*AT242","v":0},null,null,{"$f":"AV242*AW242","v":0},{"$f":"SUM(AO242,AR242,AU242,AX242)","v":0},null,null,{"$f":"AZ242*BA242","v":0},null,null,{"$f":"BC242*BD242","v":0},null,null,{"$f":"BF242*BG242","v":0},null,null,{"$f":"BI242*BJ242","v":0},{"$f":"SUM(BB242,BE242,BH242,BK242)","v":0},null,null,{"$f":"BM242*BN242","v":0},null,null,{"$f":"BP242*BQ242","v":0},null,null,{"$f":"BS242*BT242","v":0},null,null,{"$f":"BV242*BW242","v":0},{"$f":"SUM(BO242,BR242,BU242,BX242)","v":0},{"$f":"Y242+AL242+AY242+BL242+BY242","v":0}]
["Coût",{"$f":"IF(A243=\"Activité\",MAX($B$12:B242)+1,\"\")","v":""},{"$f":"C241","v":0},null,null,null,{"$f":"G241","v":0},{"$f":"H241","v":0},null,null,null,null,null,null,{"$f":"M243*N243","v":0},null,null,{"$f":"P243*Q243","v":0},null,null,{"$f":"S243*T243","v":0},null,null,{"$f":"V243*W243","v":0},{"$f":"SUM(O243,R243,U243,X243)","v":0},null,null,{"$f":"Z243*AA243","v":0},null,null,{"$f":"AC243*AD243","v":0},null,null,{"$f":"AF243*AG243","v":0},null,null,{"$f":"AI243*AJ243","v":0},{"$f":"SUM(AB243,AE243,AH243,AK243)","v":0},null,null,{"$f":"AM243*AN243","v":0},null,null,{"$f":"AP243*AQ243","v":0},null,null,{"$f":"AS243*AT243","v":0},null,null,{"$f":"AV243*AW243","v":0},{"$f":"SUM(AO243,AR243,AU243,AX243)","v":0},null,null,{"$f":"AZ243*BA243","v":0},null,null,{"$f":"BC243*BD243","v":0},null,null,{"$f":"BF243*BG243","v":0},null,null,{"$f":"BI243*BJ243","v":0},{"$f":"SUM(BB243,BE243,BH243,BK243)","v":0},null,null,{"$f":"BM243*BN243","v":0},null,null,{"$f":"BP243*BQ243","v":0},null,null,{"$f":"BS243*BT243","v":0},null,null,{"$f":"BV243*BW243","v":0},{"$f":"SUM(BO243,BR243,BU243,BX243)","v":0},{"$f":"Y243+AL243+AY243+BL243+BY243","v":0}]
["Coût",{"$f":"IF(A244=\"Activité\",MAX($B$12:B243)+1,\"\")","v":""},{"$f":"C241","v":0},null,null,null,{"$f":"G241","v":0},{"$f":"H241","v":0},null,null,null,null,null,null,{"$f":"M244*N244","v":0},null,null,{"$f":"P244*Q244","v":0},null,null,{"$f":"S244*T244","v":0},null,null,{"$f":"V244*W244","v":0},{"$f":"SUM(O244,R244,U244,X244)","v":0},null,null,{"$f":"Z244*AA244","v":0},null,null,{"$f":"AC244*AD244","v":0},null,null,{"$f":"AF244*AG244","v":0},null,null,{"$f":"AI244*AJ244","v":0},{"$f":"SUM(AB244,AE244,AH244,AK244)","v":0},null,null,{"$f":"AM244*AN244","v":0},null,null,{"$f":"AP244*AQ244","v":0},null,null,{"$f":"AS244*AT244","v":0},null,null,{"$f":"AV244*AW244","v":0},{"$f":"SUM(AO244,AR244,AU244,AX244)","v":0},null,null,{"$f":"AZ244*BA244","v":0},null,null,{"$f":"BC244*BD244","v":0},null,null,{"$f":"BF244*BG244","v":0},null,null,{"$f":"BI244*BJ244","v":0},{"$f":"SUM(BB244,BE244,BH244,BK244)","v":0},null,null,{"$f":"BM244*BN244","v":0},null,null,{"$f":"BP244*BQ244","v":0},null,null,{"$f":"BS244*BT244","v":0},null,null,{"$f":"BV244*BW244","v":0},{"$f":"SUM(BO244,BR244,BU244,BX244)","v":0},{"$f":"Y244+AL244+AY244+BL244+BY244","v":0}]
[null,{"$f":"IF(A245=\"Activité\",MAX($B$12:B244)+1,\"\")","v":""}]
["Activité",{"$f":"IF(A246=\"Activité\",MAX($B$12:B245)+1,\"\")","v":47},null,null,null,null,null,null,null,{"$f":"B246","v":47},{"$f":"IF(A246=\"Activité\",\"Veuillez trouver les détails ci-dessous\",\"\")","v":"Veuillez trouver les détails ci-dessous"},null,null,null,{"$f":"SUM(O247:O249)","v":0},null,null,{"$f":"SUM(R247:R249)","v":0},null,null,{"$f":"SUM(U247:U249)","v":0},null,null,{"$f":"SUM(X247:X249)","v":0},{"$f":"SUM(Y247:Y249)","v":0},null,null,{"$f":"SUM(AB247:AB249)","v":0},null,null,{"$f":"SUM(AE247:AE249)","v":0},null,null,{"$f":"SUM(AH247:AH249)","v":0},null,null,{"$f":"SUM(AK247:AK249)","v":0},{"$f":"SUM(AL247:AL249)","v":0},null,null,{"$f":"SUM(AO247:AO249)","v":0},null,null,{"$f":"SUM(AR247:AR249)","v":0},null,null,{"$f":"SUM(AU247:AU249)","v":0},null,null,{"$f":"SUM(AX247:AX249)","v":0},{"$f":"SUM(AY247:AY249)","v":0},null,null,{"$f":"SUM(BB247:BB249)","v":0},null,null,{"$f":"SUM(BE247:BE249)","v":0},null,null,{"$f":"SUM(BH247:BH249)","v":0},null,null,{"$f":"SUM(BK247:BK249)","v":0},{"$f":"SUM(BL247:BL249)","v":0},null,null,{"$f":"SUM(BO247:BO249)","v":0},null,null,{"$f":"SUM(BR247:BR249)","v":0},null,null,{"$f":"SUM(BU247:BU249)","v":0},null,null,{"$f":"SUM(BX247:BX249)","v":0},{"$f":"SUM(BY247:BY249)","v":0},{"$f":"Y246+AL246+AY246+BL246+BY246","v":0}]
["Coût",{"$f":"IF(A247=\"Activité\",MAX($B$12:B246)+1,\"\")","v":""},{"$f":"C246","v":0},null,null,null,{"$f":"G246","v":0},{"$f":"H246","v":0},null,null,null,null,null,null,{"$f":"M247*N247","v":0},null,null,{"$f":"P247*Q247","v":0},null,null,{"$f":"S247*T247","v":0},null,null,{"$f":"V247*W247","v":0},{"$f":"SUM(O247,R247,U247,X247)","v":0},null,null,{"$f":"Z247*AA247","v":0},null,null,{"$f":"AC247*AD247","v":0},null,null,{"$f":"AF247*AG247","v":0},null,null,{"$f":"AI247*AJ247","v":0},{"$f":"SUM(AB247,AE247,AH247,AK247)","v":0},null,null,{"$f":"AM247*AN247","v":0},null,null,{"$f":"AP247*AQ247","v":0},null,null,{"$f":"AS247*AT247","v":0},null,null,{"$f":"AV247*AW247","v":0},{"$f":"SUM(AO247,AR247,AU247,AX247)","v":0},null,null,{"$f":"AZ247*BA247","v":0},null,null,{"$f":"BC247*BD247","v":0},null,null,{"$f":"BF247*BG247","v":0},null,null,{"$f":"BI247*BJ247","v":0},{"$f":"SUM(BB247,BE247,BH247,BK247)","v":0},null,null,{"$f":"BM247*BN247","v":0},null,null,{"$f":"BP247*BQ247","v":0},null,null,{"$f":"BS247*BT247","v":0},null,null,{"$f":"BV247*BW247","v":0},{"$f":"SUM(BO247,BR247,BU247,BX247)","v":0},{"$f":"Y247+AL247+AY247+BL247+BY247","v":0}]
["Coût",{"$f":"IF(A248=\"Activité\",MAX($B$12:B247)+1,\"\")","v":""},{"$f":"C246","v":0},null,null,null,{"$f":"G246","v":0},{"$f":"H246","v":0},null,null,null,null,null,null,{"$f":"M248*N248","v":0},null,null,{"$f":"P248*Q248","v":0},null,null,{"$f":"S248*T248","v":0},null,null,{"$f":"V248*W248","v":0},{"$f":"SUM(O248,R248,U248,X248)","v":0},null,null,{"$f":"Z248*AA248","v":0},null,null,{"$f":"AC248*AD248","v":0},null,null,{"$f":"AF248*AG248","v":0},null,null,{"$f":"AI248*AJ248","v":0},{"$f":"SUM(AB248,AE248,AH248,AK248)","v":0},null,null,{"$f":"AM248*AN248","v":0},null,null,{"$f":"AP248*AQ248","v":0},null,null,{"$f":"AS248*AT248","v":0},null,null,{"$f":"AV248*AW248","v":0},{"$f":"SUM(AO248,AR248,AU248,AX248)","v":0},null,null,{"$f":"AZ248*BA248","v":0},null,null,{"$f":"BC248*BD248","v":0},null,null,{"$f":"BF248*BG248","v":0},null,null,{"$f":"BI248*BJ248","v":0},{"$f":"SUM(BB248,BE248,BH248,BK248)","v":0},null,null,{"$f":"BM248*BN248","v":0},null,null,{"$f":"BP248*BQ248","v":0},null,null,{"$f":"BS248*BT248","v":0},null,null,{"$f":"BV248*BW248","v":0},{"$f":"SUM(BO248,BR248,BU248,BX248)","v":0},{"$f":"Y248+AL248+AY248+BL248+BY248","v":0}]
["Coût",{"$f":"IF(A249=\"Activité\",MAX($B$12:B248)+1,\"\")","v":""},{"$f":"C246","v":0},null,null,null,{"$f":"G246","v":0},{"$f":"H246","v":0},null,null,null,null,null,null,{"$f":"M249*N249","v":0},null,null,{"$f":"P249*Q249","v":0},null,null,{"$f":"S249*T249","v":0},null,null,{"$f":"V249*W249","v":0},{"$f":"SUM(O249,R249,U249,X249)","v":0},null,null,{"$f":"Z249*AA249","v":0},null,null,{"$f":"AC249*AD249","v":0},null,null,{"$f":"AF249*AG249","v":0},null,null,{"$f":"AI249*AJ249","v":0},{"$f":"SUM(AB249,AE249,AH249,AK249)","v":0},null,null,{"$f":"AM249*AN249","v":0},null,null,{"$f":"AP249*AQ249","v":0},null,null,{"$f":"AS249*AT249","v":0},null,null,{"$f":"AV249*AW249","v":0},{"$f":"SUM(AO249,AR249,AU249,AX249)","v":0},null,null,{"$f":"AZ249*BA249","v":0},null,null,{"$f":"BC249*BD249","v":0},null,null,{"$f":"BF249*BG249","v":0},null,null,{"$f":"BI249*BJ249","v":0},{"$f":"SUM(BB249,BE249,BH249,BK249)","v":0},null,null,{"$f":"BM249*BN249","v":0},null,null,{"$f":"BP249*BQ249","v":0},null,null,{"$f":"BS249*BT249","v":0},null,null,{"$f":"BV249*BW249","v":0},{"$f":"SUM(BO249,BR249,BU249,BX249)","v":0},{"$f":"Y249+AL249+AY249+BL249+BY249","v":0}]
[null,{"$f":"IF(A250=\"Activité\",MAX($B$12:B249)+1,\"\")","v":""}]
["Activité",{"$f":"IF(A251=\"Activité\",MAX($B$12:B250)+1,\"\")","v":48},null,null,null,null,null,null,null,{"$f":"B251","v":48},{"$f":"IF(A251=\"Activité\",\"Veuillez trouver les détails ci-dessous\",\"\")","v":"Veuillez trouver les détails ci-dessous"},null,null,null,{"$f":"SUM(O252:O254)","v":0},null,null,{"$f":"SUM(R252:R254)","v":0},null,null,{"$f":"SUM(U252:U254)","v":0},null,null,{"$f":"SUM(X252:X254)","v":0},{"$f":"SUM(Y252:Y254)","v":0},null,null,{"$f":"SUM(AB252:AB254)","v":0},null,null,{"$f":"SUM(AE252:AE254)","v":0},null,null,{"$f":"SUM(AH252:AH254)","v":0},null,null,{"$f":"SUM(AK252:AK254)","v":0},{"$f":"SUM(AL252:AL254)","v":0},null,null,{"$f":"SUM(AO252:AO254)","v":0},null,null,{"$f":"SUM(AR252:AR254)","v":0},null,null,{"$f":"SUM(AU252:AU254)","v":0},null,null,{"$f":"SUM(AX252:AX254)","v":0},{"$f":"SUM(AY252:AY254)","v":0},null,null,{"$f":"SUM(BB252:BB254)","v":0},null,null,{"$f":"SUM(BE252:BE254)","v":0},null,null,{"$f":"SUM(BH252:BH254)","v":0},null,null,{"$f":"SUM(BK252:BK254)","v":0},{"$f":"SUM(BL252:BL254)","v":0},null,null,{"$f":"SUM(BO252:BO254)","v":0},null,null,{"$f":"SUM(BR252:BR254)","v":0},null,null,{"$f":"SUM(BU252:BU254)","v":0},null,null,{"$f":"SUM(BX252:BX254)","v":0},{"$f":"SUM(BY252:BY254)","v":0},{"$f":"Y251+AL251+AY251+BL251+BY251","v":0}]
["Coût",{"$f":"IF(A252=\"Activité\",MAX($B$12:B251)+1,\"\")","v":""},{"$f":"C251","v":0},null,null,null,{"$f":"G251","v":0},{"$f":"H251","v":0},null,null,null,null,null,null,{"$f":"M252*N252","v":0},null,null,{"$f":"P252*Q252","v":0},null,null,{"$f":"S252*T252","v":0},null,null,{"$f":"V252*W252","v":0},{"$f":"SUM(O252,R252,U252,X252)","v":0},null,null,{"$f":"Z252*AA252","v":0},null,null,{"$f":"AC252*AD252","v":0},null,null,{"$f":"AF252*AG252","v":0},null,null,{"$f":"AI252*AJ252","v":0},{"$f":"SUM(AB252,AE252,AH252,AK252)","v":0},null,null,{"$f":"AM252*AN252","v":0},null,null,{"$f":"AP252*AQ252","v":0},null,null,{"$f":"AS252*AT252","v":0},null,null,{"$f":"AV252*AW252","v":0},{"$f":"SUM(AO252,AR252,AU252,AX252)","v":0},null,null,{"$f":"AZ252*BA252","v":0},null,null,{"$f":"BC252*BD252","v":0},null,null,{"$f":"BF252*BG252","v":0},null,null,{"$f":"BI252*BJ252","v":0},{"$f":"SUM(BB252,BE252,BH252,BK252)","v":0},null,null,{"$f":"BM252*BN252","v":0},null,null,{"$f":"BP252*BQ252","v":0},null,null,{"$f":"BS252*BT252","v":0},null,null,{"$f":"BV252*BW252","v":0},{"$f":"SUM(BO252,BR252,BU252,BX252)","v":0},{"$f":"Y252+AL252+AY252+BL252+BY252","v":0}]
["Coût",{"$f":"IF(A253=\"Activité\",MAX($B$12:B252)+1,\"\")","v":""},{"$f":"C251","v":0},null,null,null,{"$f":"G251","v":0},{"$f":"H251","v":0},null,null,null,null,null,null,{"$f":"M253*N253","v":0},null,null,{"$f":"P253*Q253","v":0},null,null,{"$f":"S253*T253","v":0},null,null,{"$f":"V253*W253","v":0},{"$f":"SUM(O253,R253,U253,X253)","v":0},null,null,{"$f":"Z253*AA253","v":0},null,null,{"$f":"AC253*AD253","v":0},null,null,{"$f":"AF253*AG253","v":0},null,null,{"$f":"AI253*AJ253","v":0},{"$f":"SUM(AB253,AE253,AH253,AK253)","v":0},null,null,{"$f":"AM253*AN253","v":0},null,null,{"$f":"AP253*AQ253","v":0},null,null,{"$f":"AS253*AT253","v":0},null,null,{"$f":"AV253*AW253","v":0},{"$f":"SUM(AO253,AR253,AU253,AX253)","v":0},null,null,{"$f":"AZ253*BA253","v":0},null,null,{"$f":"BC253*BD253","v":0},null,null,{"$f":"BF253*BG253","v":0},null,null,{"$f":"BI253*BJ253","v":0},{"$f":"SUM(BB253,BE253,BH253,BK253)","v":0},null,null,{"$f":"BM253*BN253","v":0},null,null,{"$f":"BP253*BQ253","v":0},null,null,{"$f":"BS253*BT253","v":0},null,null,{"$f":"BV253*BW253","v":0},{"$f":"SUM(BO253,BR253,BU253,BX253)","v":0},{"$f":"Y253+AL253+AY253+BL253+BY253","v":0}]
["Coût",{"$f":"IF(A254=\"Activité\",MAX($B$12:B253)+1,\"\")","v":""},{"$f":"C251","v":0},null,null,null,{"$f":"G251","v":0},{"$f":"H251","v":0},null,null,null,null,null,null,{"$f":"M254*N254","v":0},null,null,{"$f":"P254*Q254","v":0},null,null,{"$f":"S254*T254","v":0},null,null,{"$f":"V254*W254","v":0},{"$f":"SUM(O254,R254,U254,X254)","v":0},null,null,{"$f":"Z254*AA254","v":0},null,null,{"$f":"AC254*AD254","v":0},null,null,{"$f":"AF254*AG254","v":0},null,null,{"$f":"AI254*AJ254","v":0},{"$f":"SUM(AB254,AE254,AH254,AK254)","v":0},null,null,{"$f":"AM254*AN254","v":0},null,null,{"$f":"AP254*AQ254","v":0},null,null,{"$f":"AS254*AT254","v":0},null,null,{"$f":"AV254*AW254","v":0},{"$f":"SUM(AO254,AR254,AU254,AX254)","v":0},null,null,{"$f":"AZ254*BA254","v":0},null,null,{"$f":"BC254*BD254","v":0},null,null,{"$f":"BF254*BG254","v":0},null,null,{"$f":"BI254*BJ254","v":0},{"$f":"SUM(BB254,BE254,BH254,BK254)","v":0},null,null,{"$f":"BM254*BN254","v":0},null,null,{"$f":"BP254*BQ254","v":0},null,null,{"$f":"BS254*BT254","v":0},null,null,{"$f":"BV254*BW254","v":0},{"$f":"SUM(BO254,BR254,BU254,BX254)","v":0},{"$f":"Y254+AL254+AY254+BL254+BY254","v":0}]
[null,{"$f":"IF(A255=\"Activité\",MAX($B$12:B254)+1,\"\")","v":""}]
["Activité",{"$f":"IF(A256=\"Activité\",MAX($B$12:B255)+1,\"\")","v":49},null,null,null,null,null,null,null,{"$f":"B256","v":49},{"$f":"IF(A256=\"Activité\",\"Veuillez trouver les détails ci-dessous\",\"\")","v":"Veuillez trouver les détails ci-dessous"},null,null,null,{"$f":"SUM(O257:O259)","v":0},null,null,{"$f":"SUM(R257:R259)","v":0},null,null,{"$f":"SUM(U257:U259)","v":0},null,null,{"$f":"SUM(X257:X259)","v":0},{"$f":"SUM(Y257:Y259)","v":0},null,null,{"$f":"SUM(AB257:AB259)","v":0},null,null,{"$f":"SUM(AE257:AE259)","v":0},null,null,{"$f":"SUM(AH257:AH259)","v":0},null,null,{"$f":"SUM(AK257:AK259)","v":0},{"$f":"SUM(AL257:AL259)","v":0},null,null,{"$f":"SUM(AO257:AO259)","v":0},null,null,{"$f":"SUM(AR257:AR259)","v":0},null,null,{"$f":"SUM(AU257:AU259)","v":0},null,null,{"$f":"SUM(AX257:AX259)","v":0},{"$f":"SUM(AY257:AY259)","v":0},null,null,{"$f":"SUM(BB257:BB259)","v":0},null,null,{"$f":"SUM(BE257:BE259)","v":0},null,null,{"$f":"SUM(BH257:BH259)","v":0},null,null,{"$f":"SUM(BK257:BK259)","v":0},{"$f":"SUM(BL257:BL259)","v":0},null,null,{"$f":"SUM(BO257:BO259)","v":0},null,null,{"$f":"SUM(BR257:BR259)","v":0},null,null,{"$f":"SUM(BU257:BU259)","v":0},null,null,{"$f":"SUM(BX257:BX259)","v":0},{"$f":"SUM(BY257:BY259)","v":0},{"$f":"Y256+AL256+AY256+BL256+BY256","v":0}]
["Coût",{"$f":"IF(A257=\"Activité\",MAX($B$12:B256)+1,\"\")","v":""},{"$f":"C256","v":0},null,null,null,{"$f":"G256","v":0},{"$f":"H256","v":0},null,null,null,null,null,null,{"$f":"M257*N257","v":0},null,null,{"$f":"P257*Q257","v":0},null,null,{"$f":"S257*T257","v":0},null,null,{"$f":"V257*W257","v":0},{"$f":"SUM(O257,R257,U257,X257)","v":0},null,null,{"$f":"Z257*AA257","v":0},null,null,{"$f":"AC257*AD257","v":0},null,null,{"$f":"AF257*AG257","v":0},null,null,{"$f":"AI257*AJ257","v":0},{"$f":"SUM(AB257,AE257,AH257,AK257)","v":0},null,null,{"$f":"AM257*AN257","v":0},null,null,{"$f":"AP257*AQ257","v":0},null,null,{"$f":"AS257*AT257","v":0},null,null,{"$f":"AV257*AW257","v":0},{"$f":"SUM(AO257,AR257,AU257,AX257)","v":0},null,null,{"$f":"AZ257*BA257","v":0},null,null,{"$f":"BC257*BD257","v":0},null,null,{"$f":"BF257*BG257","v":0},null,null,{"$f":"BI257*BJ257","v":0},{"$f":"SUM(BB257,BE257,BH257,BK257)","v":0},null,null,{"$f":"BM257*BN257","v":0},null,null,{"$f":"BP257*BQ257","v":0},null,null,{"$f":"BS257*BT257","v":0},null,null,{"$f":"BV257*BW257","v":0},{"$f":"SUM(BO257,BR257,BU257,BX257)","v":0},{"$f":"Y257+AL257+AY257+BL257+BY257","v":0}]
["Coût",{"$f":"IF(A258=\"Activité\",MAX($B$12:B257)+1,\"\")","v":""},{"$f":"C256","v":0},null,null,null,{"$f":"G256","v":0},{"$f":"H256","v":0},null,null,null,null,null,null,{"$f":"M258*N258","v":0},null,null,{"$f":"P258*Q258","v":0},null,null,{"$f":"S258*T258","v":0},null,null,{"$f":"V258*W258","v":0},{"$f":"SUM(O258,R258,U258,X258)","v":0},null,null,{"$f":"Z258*AA258","v":0},null,null,{"$f":"AC258*AD258","v":0},null,null,{"$f":"AF258*AG258","v":0},null,null,{"$f":"AI258*AJ258","v":0},{"$f":"SUM(AB258,AE258,AH258,AK258)","v":0},null,null,{"$f":"AM258*AN258","v":0},null,null,{"$f":"AP258*AQ258","v":0},null,null,{"$f":"AS258*AT258","v":0},null,null,{"$f":"AV258*AW258","v":0},{"$f":"SUM(AO258,AR258,AU258,AX258)","v":0},null,null,{"$f":"AZ258*BA258","v":0},null,null,{"$f":"BC258*BD258","v":0},null,null,{"$f":"BF258*BG258","v":0},null,null,{"$f":"BI258*BJ258","v":0},{"$f":"SUM(BB258,BE258,BH258,BK258)","v":0},null,null,{"$f":"BM258*BN258","v":0},null,null,{"$f":"BP258*BQ258","v":0},null,null,{"$f":"BS258*BT258","v":0},null,null,{"$f":"BV258*BW258","v":0},{"$f":"SUM(BO258,BR258,BU258,BX258)","v":0},{"$f":"Y258+AL258+AY258+BL258+BY258","v":0}]
["Coût",{"$f":"IF(A259=\"Activité\",MAX($B$12:B258)+1,\"\")","v":""},{"$f":"C256","v":0},null,null,null,{"$f":"G256","v":0},{"$f":"H256","v":0},null,null,null,null,null,null,{"$f":"M259*N259","v":0},null,null,{"$f":"P259*Q259","v":0},null,null,{"$f":"S259*T259","v":0},null,null,{"$f":"V259*W259","v":0},{"$f":"SUM(O259,R259,U259,X259)","v":0},null,null,{"$f":"Z259*AA259","v":0},null,null,{"$f":"AC259*AD259","v":0},null,null,{"$f":"AF259*AG259","v":0},null,null,{"$f":"AI259*AJ259","v":0},{"$f":"SUM(AB259,AE259,AH259,AK259)","v":0},null,null,{"$f":"AM259*AN259","v":0},null,null,{"$f":"AP259*AQ259","v":0},null,null,{"$f":"AS259*AT259","v":0},null,null,{"$f":"AV259*AW259","v":0},{"$f":"SUM(AO259,AR259,AU259,AX259)","v":0},null,null,{"$f":"AZ259*BA259","v":0},null,null,{"$f":"BC259*BD259","v":0},null,null,{"$f":"BF259*BG259","v":0},null,null,{"$f":"BI259*BJ259","v":0},{"$f":"SUM(BB259,BE259,BH259,BK259)","v":0},null,null,{"$f":"BM259*BN259","v":0},null,null,{"$f":"BP259*BQ259","v":0},null,null,{"$f":"BS259*BT259","v":0},null,null,{"$f":"BV259*BW259","v":0},{"$f":"SUM(BO259,BR259,BU259,BX259)","v":0},{"$f":"Y259+AL259+AY259+BL259+BY259","v":0}]
[null,{"$f":"IF(A260=\"Activité\",MAX($B$12:B259)+1,\"\")","v":""}]
["Activité",{"$f":"IF(A261=\"Activité\",MAX($B$12:B260)+1,\"\")","v":50},null,null,null,null,null,null,null,{"$f":"B261","v":50},{"$f":"IF(A261=\"Activité\",\"Veuillez trouver les détails ci-dessous\",\"\")","v":"Veuillez trouver les détails ci-dessous"},null,null,null,{"$f":"SUM(O262:O265)","v":0},null,null,{"$f":"SUM(R262:R265)","v":0},null,null,{"$f":"SUM(U262:U265)","v":0},null,null,{"$f":"SUM(X262:X265)","v":0},{"$f":"SUM(Y262:Y265)","v":0},null,null,{"$f":"SUM(AB262:AB265)","v":0},null,null,{"$f":"SUM(AE262:AE265)","v":0},null,null,{"$f":"SUM(AH262:AH265)","v":0},null,null,{"$f":"SUM(AK262:AK265)","v":0},{"$f":"SUM(AL262:AL265)","v":0},null,null,{"$f":"SUM(AO262:AO265)","v":0},null,null,{"$f":"SUM(AR262:AR265)","v":0},null,null,{"$f":"SUM(AU262:AU265)","v":0},null,null,{"$f":"SUM(AX262:AX265)","v":0},{"$f":"SUM(AY262:AY265)","v":0},null,null,{"$f":"SUM(BB262:BB265)","v":0},null,null,{"$f":"SUM(BE262:BE265)","v":0},null,null,{"$f":"SUM(BH262:BH265)","v":0},null,null,{"$f":"SUM(BK262:BK265)","v":0},{"$f":"SUM(BL262:BL265)","v":0},null,null,{"$f":"SUM(BO262:BO265)","v":0},null,null,{"$f":"SUM(BR262:BR265)","v":0},null,null,{"$f":"SUM(BU262:BU265)","v":0},null,null,{"$f":"SUM(BX262:BX265)","v":0},{"$f":"SUM(BY262:BY265)","v":0},{"$f":"Y261+AL261+AY261+BL261+BY261","v":0}]
["Coût",{"$f":"IF(A262=\"Activité\",MAX($B$12:B261)+1,\"\")","v":""},{"$f":"C261","v":0},null,null,null,{"$f":"G261","v":0},{"$f":"H261","v":0},null,null,null,null,null,null,{"$f":"M262*N262","v":0},null,null,{"$f":"P262*Q262","v":0},null,null,{"$f":"S262*T262","v":0},null,null,{"$f":"V262*W262","v":0},{"$f":"SUM(O262,R262,U262,X262)","v":0},null,null,{"$f":"Z262*AA262","v":0},null,null,{"$f":"AC262*AD262","v":0},null,null,{"$f":"AF262*AG262","v":0},null,null,{"$f":"AI262*AJ262","v":0},{"$f":"SUM(AB262,AE262,AH262,AK262)","v":0},null,null,{"$f":"AM262*AN262","v":0},null,null,{"$f":"AP262*AQ262","v":0},null,null,{"$f":"AS262*AT262","v":0},null,null,{"$f":"AV262*AW262","v":0},{"$f":"SUM(AO262,AR262,AU262,AX262)","v":0},null,null,{"$f":"AZ262*BA262","v":0},null,null,{"$f":"BC262*BD262","v":0},null,null,{"$f":"BF262*BG262","v":0},null,null,{"$f":"BI262*BJ262","v":0},{"$f":"SUM(BB262,BE262,BH262,BK262)","v":0},null,null,{"$f":"BM262*BN262","v":0},null,null,{"$f":"BP262*BQ262","v":0},null,null,{"$f":"BS262*BT262","v":0},null,null,{"$f":"BV262*BW262","v":0},{"$f":"SUM(BO262,BR262,BU262,BX262)","v":0},{"$f":"Y262+AL262+AY262+BL262+BY262","v":0}]
["Coût",{"$f":"IF(A263=\"Activité\",MAX($B$12:B262)+1,\"\")","v":""},{"$f":"C261","v":0},null,null,null,{"$f":"G261","v":0},{"$f":"H261","v":0},null,null,null,null,null,null,{"$f":"M263*N263","v":0},null,null,{"$f":"P263*Q263","v":0},null,null,{"$f":"S263*T263","v":0},null,null,{"$f":"V263*W263","v":0},{"$f":"SUM(O263,R263,U263,X263)","v":0},null,null,{"$f":"Z263*AA263","v":0},null,null,{"$f":"AC263*AD263","v":0},null,null,{"$f":"AF263*AG263","v":0},null,null,{"$f":"AI263*AJ263","v":0},{"$f":"SUM(AB263,AE263,AH263,AK263)","v":0},null,null,{"$f":"AM263*AN263","v":0},null,null,{"$f":"AP263*AQ263","v":0},null,null,{"$f":"AS263*AT263","v":0},null,null,{"$f":"AV263*AW263","v":0},{"$f":"SUM(AO263,AR263,AU263,AX263)","v":0},null,null,{"$f":"AZ263*BA263","v":0},null,null,{"$f":"BC263*BD263","v":0},null,null,{"$f":"BF263*BG263","v":0},null,null,{"$f":"BI263*BJ263","v":0},{"$f":"SUM(BB263,BE263,BH263,BK263)","v":0},null,null,{"$f":"BM263*BN263","v":0},null,null,{"$f":"BP263*BQ263","v":0},null,null,{"$f":"BS263*BT263","v":0},null,null,{"$f":"BV263*BW263","v":0},{"$f":"SUM(BO263,BR263,BU263,BX263)","v":0},{"$f":"Y263+AL263+AY263+BL263+BY263","v":0}]
["Coût",{"$f":"IF(A264=\"Activité\",MAX($B$12:B263)+1,\"\")","v":""},{"$f":"C261","v":0},null,null,null,{"$f":"G261","v":0},{"$f":"H261","v":0},null,null,null,null,null,null,{"$f":"M264*N264","v":0},null,null,{"$f":"P264*Q264","v":0},null,null,{"$f":"S264*T264","v":0},null,null,{"$f":"V264*W264","v":0},{"$f":"SUM(O264,R264,U264,X264)","v":0},null,null,{"$f":"Z264*AA264","v":0},null,null,{"$f":"AC264*AD264","v":0},null,null,{"$f":"AF264*AG264","v":0},null,null,{"$f":"AI264*AJ264","v":0},{"$f":"SUM(AB264,AE264,AH264,AK264)","v":0},null,null,{"$f":"AM264*AN264","v":0},null,null,{"$f":"AP264*AQ264","v":0},null,null,{"$f":"AS264*AT264","v":0},null,null,{"$f":"AV264*AW264","v":0},{"$f":"SUM(AO264,AR264,AU264,AX264)","v":0},null,null,{"$f":"AZ264*BA264","v":0},null,null,{"$f":"BC264*BD264","v":0},null,null,{"$f":"BF264*BG264","v":0},null,null,{"$f":"BI264*BJ264","v":0},{"$f":"SUM(BB264,BE264,BH264,BK264)","v":0},null,null,{"$f":"BM264*BN264","v":0},null,null,{"$f":"BP264*BQ264","v":0},null,null,{"$f":"BS264*BT264","v":0},null,null,{"$f":"BV264*BW264","v":0},{"$f":"SUM(BO264,BR264,BU264,BX264)","v":0},{"$f":"Y264+AL264+AY264+BL264+BY264","v":0}]
[null,{"$f":"IF(A265=\"Activité\",MAX($B$12:B264)+1,\"\")","v":""}]

{"sheet":"CCEOP Drop Downs_3","index":7,"n_rows":97,"n_cols":93,"rows_kept":97,"cut":false,"hidden":true,"merged":[]}
["On-grid refrigerators (ILRs)FridgeEMSL230-<60L","On-grid refrigerators (ILRs)FridgeEMSL260-<120L","On-grid refrigerators (ILRs)FridgeEMSL2>-120L","On-grid refrigerators (ILRs)FridgeEMSL3+Subscriptions30-<60L","On-grid refrigerators (ILRs)FridgeEMSL3+Subscriptions60-<120L","On-grid refrigerators (ILRs)FridgeEMSL3+Subscriptions>-120L","On-grid refrigerators (ILRs)FreezerEMSL290-<150L","On-grid refrigerators (ILRs)FreezerEMSL2>-150L","On-grid refrigerators (ILRs)FreezerEMSL3+Subscriptions90-<150L","On-grid refrigerators (ILRs)FreezerEMSL3+Subscriptions>-150L","On-grid refrigerators (ILRs)ComboEMSL230-<60L","On-grid refrigerators (ILRs)ComboEMSL260-<120L","On-grid refrigerators (ILRs)ComboEMSL2>-120L","On-grid refrigerators (ILRs)ComboEMSL3+Subscriptions30-<60L","On-grid refrigerators (ILRs)ComboEMSL3+Subscriptions60-<120L","On-grid refrigerators (ILRs)ComboEMSL3+Subscriptions>-120L","On-grid refrigerators (ILRs)WICR/FREMSL210m3","On-grid refrigerators (ILRs)WICR/FREMSL215m3","On-grid refrigerators (ILRs)WICR/FREMSL220m3","On-grid refrigerators (ILRs)WICR/FREMSL225m3","On-grid refrigerators (ILRs)WICR/FREMSL230m3","On-grid refrigerators (ILRs)WICR/FREMSL240m3","On-grid refrigerators (ILRs)WICR/FREMSL3+Subscriptions10m3","On-grid refrigerators (ILRs)WICR/FREMSL3+Subscriptions15m3","On-grid refrigerators (ILRs)WICR/FREMSL3+Subscriptions20m3","On-grid refrigerators (ILRs)WICR/FREMSL3+Subscriptions25m3","On-grid refrigerators (ILRs)WICR/FREMSL3+Subscriptions30m3","On-grid refrigerators (ILRs)WICR/FREMSL3+Subscriptions40m3","Solar direct drive (SDD) refrigerators and freezersFridgeEMSL230-<60L","Solar direct drive (SDD) refrigerators and freezersFridgeEMSL260-<120L","Solar direct drive (SDD) refrigerators and freezersFridgeEMSL2>-120L","Solar direct drive (SDD) refrigerators and freezersFridgeEMSL3+Subscriptions30-<60L","Solar direct drive (SDD) refrigerators and freezersFridgeEMSL3+Subscriptions60-<120L","Solar direct drive (SDD) refrigerators and freezersFridgeEMSL3+Subscriptions>-120L","Solar direct drive (SDD) refrigerators and freezersFreezerEMSL230-<120L","Solar direct drive (SDD) refrigerators and freezersFreezerEMSL3+Subscriptions30-<120L","Solar direct drive (SDD) refrigerators and freezersComboEMSL230-<60L","Solar direct drive (SDD) refrigerators and freezersComboEMSL260-<120L","Solar direct drive (SDD) refrigerators and freezersComboEMSL2>-120L","Solar direct drive (SDD) refrigerators and freezersComboEMSL3+Subscriptions30-<60L","Solar direct drive (SDD) refrigerators and freezersComboEMSL3+Subscriptions60-<120L","Solar direct drive (SDD) refrigerators and freezersComboEMSL3+Subscriptions>-120L","Solar direct drive (SDD) refrigerators and freezersWICR/FREMSL210m3","Solar direct drive (SDD) refrigerators and freezersWICR/FREMSL215m3","Solar direct drive (SDD) refrigerators and freezersWICR/FREMSL220m3","Solar direct drive (SDD) refrigerators and freezersWICR/FREMSL225m3","Solar direct drive (SDD) refrigerators and freezersWICR/FREMSL230m3","Solar direct drive (SDD) refrigerators and freezersWICR/FREMSL240m3","Solar direct drive (SDD) refrigerators and freezersWICR/FREMSL3+Subscriptions10m3","Solar direct drive (SDD) refrigerators and freezersWICR/FREMSL3+Subscriptions15m3","Solar direct drive (SDD) refrigerators and freezersWICR/FREMSL3+Subscriptions20m3","Solar direct drive (SDD) refrigerators and freezersWICR/FREMSL3+Subscriptions25m3","Solar direct drive (SDD) refrigerators and freezersWICR/FREMSL3+Subscriptions30m3","Solar direct drive (SDD) refrigerators and freezersWICR/FREMSL3+Subscriptions40m3","Long-term passive devices (LTPDs)NANA5-<10L","Freeze-preventive vaccine carriersNANA0-<5L","Freeze-preventive cold boxes NANA>-15L","Freeze-preventive cold boxes NANA<15L","30-Day temperature recorders (30 DTRs)NANANA","EMS L3 Device + subscription Refrigerator/FreezerNANA","EMS L3 Device + subscription WICR/FRNANA","RTM Device + SubscriptionRefrigerator/FreezerNANA","RTM Device + SubscriptionWICR/FRNANA","Voltage stabilizersRefrigerator/FreezerNaNA","Voltage stabilizersWICR/FRNANA","Spare parts for On-grid CCEOP eligible CCE FridgeNANA","Spare parts for On-grid CCEOP eligible CCE FreezerNANA","Spare parts for On-grid CCEOP eligible CCE ComboNANA","Spare parts for On-grid CCEOP eligible CCE WICR/FRNANA","Spare parts for SDD CCEOP eligible CCE FridgeNANA","Spare parts for SDD CCEOP eligible CCE FreezerNANA","Spare parts for SDD CCEOP eligible CCE ComboNANA","Spare parts for SDD CCEOP eligible CCE WICR/FRNANA","EMS trainingRefrigerator/FreezerIn-personNA","EMS trainingRefrigerator/FreezerRemoteNA","EMS trainingWICR/FRIn-personNA","EMS trainingWICR/FRRemoteNA","RTMD trainingRefrigerator/FreezerIn-personNA","RTMD trainingRefrigerator/FreezerRemoteNA","RTMD trainingWICR/FRIn-personNA","RTMD trainingWICR/FRRemoteNA","Maintenance trainingRefrigerator/FreezerIn-personNA","Maintenance trainingRefrigerator/FreezerRemoteNA","Maintenance trainingWICR/FRIn-personNA","Maintenance trainingWICR/FRRemoteNA","RTMD annual data subscriptionsRefrigerator/FreezerNANA","RTMD annual data subscriptionsWICR/FRNANA","EMS annual data subscriptionsRefrigerator/FreezerNANA","EMS annual data subscriptionsWICR/FRNANA","Ice packsNANA0.3L","Ice packsNANA0.4L","Ice packsNANA0.6L","Transportable Powered Vaccine Storage Devices (light weight)NANA0-<5L"]
[]
[]
[null,null,null,"Capacity",null,null,"Equipment_Type"]
["On-grid refrigerators (ILRs)FridgeEMSL230-<60L",{"$f":"RIGHT(A5,7)","v":"30-<60L"},null,"30-<60L",null,null,"On grid refrigerators_ILRs",{"$f":"SUBSTITUTE(G5,\" \",\"\")","v":"Ongridrefrigerators_ILRs"},null,"Ongridrefrigerators_ILRs"]
["On-grid refrigerators (ILRs)FridgeEMSL260-<120L","0-<120L",null,"0-<120L",null,null,"Solar direct drive refrigerators and freezers_SDDs",{"$f":"SUBSTITUTE(G6,\" \",\"\")","v":"Solardirectdriverefrigeratorsandfreezers_SDDs"},null,"Solardirectdriverefrigeratorsandfreezers_SDDs"]
["On-grid refrigerators (ILRs)FridgeEMSL2>-120L","2>-120L",null,">-120L",null,null,"Long term passive devices_LTPDs","Longtermpassivedevices_LTPDs",null,"Longtermpassivedevices_LTPDs"]
["On-grid refrigerators (ILRs)FridgeEMSL3+Subscriptions30-<60L","30-<60L",null,"30-<60L",null,null,"Freeze preventive vaccine carriers","Freezepreventivevaccinecarriers",null,"Freezepreventivevaccinecarriers"]
["On-grid refrigerators (ILRs)FridgeEMSL3+Subscriptions60-<120L","0-<120L",null,"0-<120L",null,null,"Freeze preventive cold boxes ","Freezepreventivecoldboxes",null,"Freezepreventivecoldboxes"]
["On-grid refrigerators (ILRs)FridgeEMSL3+Subscriptions>-120L","s>-120L",null,">-120L",null,null,"CCE temperature recorders_30 DTRs","CCEtemperaturerecorders_30DTRs",null,"CCEtemperaturerecorders_30DTRs"]
["On-grid refrigerators (ILRs)FreezerEMSL290-<150L","0-<150L",null,"0-<150L",null,null,"EMS L3 Device and Subscription ","EMSL3DeviceandSubscription",null,"EMSL3DeviceandSubscription"]
["On-grid refrigerators (ILRs)FreezerEMSL2>-150L","2>-150L",null,">-150L",null,null,"RTM Device and Subscription","RTMDeviceandSubscription",null,"RTMDeviceandSubscription"]
["On-grid refrigerators (ILRs)FreezerEMSL3+Subscriptions90-<150L","0-<150L",null,"0-<150L",null,null,"Voltage stabilizers","Voltagestabilizers",null,"Voltagestabilizers"]
["On-grid refrigerators (ILRs)FreezerEMSL3+Subscriptions>-150L","s>-150L",null,">-150L",null,null,"Spare parts for On grid CCE ","SparepartsforOngridCCE",null,"SparepartsforOngridCCE"]
["On-grid refrigerators (ILRs)ComboEMSL230-<60L","30-<60L",null,"30-<60L",null,null,"Spare parts for SDD CCE ","SparepartsforSDDCCE",null,"SparepartsforSDDCCE"]
["On-grid refrigerators (ILRs)ComboEMSL260-<120L","0-<120L",null,"0-<120L",null,null,"EMS Technical Training _TOT by manufacturer","EMSTechnicalTraining_TOTbymanufacturer",null,"EMSTechnicalTraining_TOTbymanufacturer"]
["On-grid refrigerators (ILRs)ComboEMSL2>-120L","2>-120L",null,">-120L",null,null,"RTMD Technical Training _TOT by manufacturer","RTMDTechnicalTraining_TOTbymanufacturer",null,"RTMDTechnicalTraining_TOTbymanufacturer"]
["On-grid refrigerators (ILRs)ComboEMSL3+Subscriptions30-<60L","30-<60L",null,"30-<60L",null,null,"Maintenance Training _TOT by manufacturer","MaintenanceTraining_TOTbymanufacturer",null,"MaintenanceTraining_TOTbymanufacturer"]
["On-grid refrigerators (ILRs)ComboEMSL3+Subscriptions60-<120L","0-<120L",null,"0-<120L",null,null,"RTMD annual data subscriptions","RTMDannualdatasubscriptions",null,"RTMDannualdatasubscriptions"]
["On-grid refrigerators (ILRs)ComboEMSL3+Subscriptions>-120L","s>-120L",null,">-120L",null,null,"EMS annual data subscriptions","EMSannualdatasubscriptions",null,"EMSannualdatasubscriptions"]
["On-grid refrigerators (ILRs)WICR/FREMSL210m3","SL210m3",null,"10m3",null,null,"Ice packs","Icepacks",null,"Icepacks"]
["On-grid refrigerators (ILRs)WICR/FREMSL215m3","SL215m3",null,"15m3",null,null,"Transportable Powered Vaccine Storage Devices_TPVS","TransportablePoweredVaccineStorageDevices_TPVS",null,"TransportablePoweredVaccineStorageDevices_TPVS"]
["On-grid refrigerators (ILRs)WICR/FREMSL220m3","SL220m3",null,"20m3"]
["On-grid refrigerators (ILRs)WICR/FREMSL225m3","SL225m3",null,"25m3"]
["On-grid refrigerators (ILRs)WICR/FREMSL230m3","SL230m3",null,"30m3"]
["On-grid refrigerators (ILRs)WICR/FREMSL240m3","SL240m3",null,"40m3"]
["On-grid refrigerators (ILRs)WICR/FREMSL3+Subscriptions10m3","ons10m3",null,"10m3"]
["On-grid refrigerators (ILRs)WICR/FREMSL3+Subscriptions15m3","ons15m3",null,"15m3"]
["On-grid refrigerators (ILRs)WICR/FREMSL3+Subscriptions20m3","ons20m3",null,"20m3"]
["On-grid refrigerators (ILRs)WICR/FREMSL3+Subscriptions25m3","ons25m3",null,"25m3"]
["On-grid refrigerators (ILRs)WICR/FREMSL3+Subscriptions30m3","ons30m3",null,"30m3"]
["On-grid refrigerators (ILRs)WICR/FREMSL3+Subscriptions40m3","ons40m3",null,"40m3"]
["Solar direct drive (SDD) refrigerators and freezersFridgeEMSL230-<60L","30-<60L",null,"30-<60L"]
["Solar direct drive (SDD) refrigerators and freezersFridgeEMSL260-<120L","0-<120L",null,"0-<120L"]
["Solar direct drive (SDD) refrigerators and freezersFridgeEMSL2>-120L","2>-120L",null,">-120L"]
["Solar direct drive (SDD) refrigerators and freezersFridgeEMSL3+Subscriptions30-<60L","30-<60L",null,"30-<60L"]
["Solar direct drive (SDD) refrigerators and freezersFridgeEMSL3+Subscriptions60-<120L","0-<120L",null,"0-<120L"]
["Solar direct drive (SDD) refrigerators and freezersFridgeEMSL3+Subscriptions>-120L","s>-120L",null,">-120L"]
["Solar direct drive (SDD) refrigerators and freezersFreezerEMSL230-<120L","0-<120L",null,"0-<120L"]
["Solar direct drive (SDD) refrigerators and freezersFreezerEMSL3+Subscriptions30-<120L","0-<120L",null,"0-<120L"]
["Solar direct drive (SDD) refrigerators and freezersComboEMSL230-<60L","30-<60L",null,"30-<60L"]
["Solar direct drive (SDD) refrigerators and freezersComboEMSL260-<120L","0-<120L",null,"0-<120L"]
["Solar direct drive (SDD) refrigerators and freezersComboEMSL2>-120L","2>-120L",null,">-120L"]
["Solar direct drive (SDD) refrigerators and freezersComboEMSL3+Subscriptions30-<60L","30-<60L",null,"30-<60L"]
["Solar direct drive (SDD) refrigerators and freezersComboEMSL3+Subscriptions60-<120L","0-<120L",null,"0-<120L"]
["Solar direct drive (SDD) refrigerators and freezersComboEMSL3+Subscriptions>-120L","s>-120L",null,">-120L"]
["Solar direct drive (SDD) refrigerators and freezersWICR/FREMSL210m3","SL210m3",null,"10m3"]
["Solar direct drive (SDD) refrigerators and freezersWICR/FREMSL215m3","SL215m3",null,"15m3"]
["Solar direct drive (SDD) refrigerators and freezersWICR/FREMSL220m3","SL220m3",null,"20m3"]
["Solar direct drive (SDD) refrigerators and freezersWICR/FREMSL225m3","SL225m3",null,"25m3"]
["Solar direct drive (SDD) refrigerators and freezersWICR/FREMSL230m3","SL230m3",null,"30m3"]
["Solar direct drive (SDD) refrigerators and freezersWICR/FREMSL240m3","SL240m3",null,"40m3"]
["Solar direct drive (SDD) refrigerators and freezersWICR/FREMSL3+Subscriptions10m3","ons10m3",null,"10m3"]
["Solar direct drive (SDD) refrigerators and freezersWICR/FREMSL3+Subscriptions15m3","ons15m3",null,"15m3"]
["Solar direct drive (SDD) refrigerators and freezersWICR/FREMSL3+Subscriptions20m3","ons20m3",null,"20m3"]
["Solar direct drive (SDD) refrigerators and freezersWICR/FREMSL3+Subscriptions25m3","ons25m3",null,"25m3"]
["Solar direct drive (SDD) refrigerators and freezersWICR/FREMSL3+Subscriptions30m3","ons30m3",null,"30m3"]
["Solar direct drive (SDD) refrigerators and freezersWICR/FREMSL3+Subscriptions40m3","ons40m3",null,"40m3"]
["Long-term passive devices (LTPDs)NANA5-<10L","A5-<10L",null,"5-<10L"]
["Freeze-preventive vaccine carriersNANA0-<5L","NA0-<5L",null,"0-<5L"]
["Freeze-preventive cold boxes NANA>-15L","NA>-15L",null,">-15L"]
["Freeze-preventive cold boxes NANA<15L","ANA<15L",null,"<15L"]
["30-Day temperature recorders (30 DTRs)NANANA",")NANANA",null,"NA"]
["EMS L3 Device + subscription Refrigerator/FreezerNANA","zerNANA",null,"NA"]
["EMS L3 Device + subscription WICR/FRNANA","/FRNANA",null,"NA"]
["RTM Device + SubscriptionRefrigerator/FreezerNANA","zerNANA",null,"NA"]
["RTM Device + SubscriptionWICR/FRNANA","/FRNANA",null,"NA"]
["Voltage stabilizersRefrigerator/FreezerNaNA","zerNaNA",null,"NA"]
["Voltage stabilizersWICR/FRNANA",{"$f":"RIGHT(A69,7)","v":"/FRNANA"},null,"NA"]
["Spare parts for On-grid CCEOP eligible CCE FridgeNANA","dgeNANA",null,"NA"]
["Spare parts for On-grid CCEOP eligible CCE FreezerNANA","zerNANA",null,"NA"]
["Spare parts for On-grid CCEOP eligible CCE ComboNANA","mboNANA",null,"NA"]
["Spare parts for On-grid CCEOP eligible CCE WICR/FRNANA","/FRNANA",null,"NA"]
["Spare parts for SDD CCEOP eligible CCE FridgeNANA","dgeNANA",null,"NA"]
["Spare parts for SDD CCEOP eligible CCE FreezerNANA","zerNANA",null,"NA"]
["Spare parts for SDD CCEOP eligible CCE ComboNANA","mboNANA",null,"NA"]
["Spare parts for SDD CCEOP eligible CCE WICR/FRNANA","/FRNANA",null,"NA"]
["EMS trainingRefrigerator/FreezerIn-personNA","ersonNA",null,"NA"]
["EMS trainingRefrigerator/FreezerRemoteNA","emoteNA",null,"NA"]
["EMS trainingWICR/FRIn-personNA","ersonNA",null,"NA"]
["EMS trainingWICR/FRRemoteNA","emoteNA",null,"NA"]
["RTMD trainingRefrigerator/FreezerIn-personNA","ersonNA",null,"NA"]
["RTMD trainingRefrigerator/FreezerRemoteNA","emoteNA",null,"NA"]
["RTMD trainingWICR/FRIn-personNA","ersonNA",null,"NA"]
["RTMD trainingWICR/FRRemoteNA","emoteNA",null,"NA"]
["Maintenance trainingRefrigerator/FreezerIn-personNA","ersonNA",null,"NA"]
["Maintenance trainingRefrigerator/FreezerRemoteNA","emoteNA",null,"NA"]
["Maintenance trainingWICR/FRIn-personNA","ersonNA",null,"NA"]
["Maintenance trainingWICR/FRRemoteNA","emoteNA",null,"NA"]
["RTMD annual data subscriptionsRefrigerator/FreezerNANA","zerNANA",null,"NA"]
["RTMD annual data subscriptionsWICR/FRNANA","/FRNANA",null,"NA"]
["EMS annual data subscriptionsRefrigerator/FreezerNANA","zerNANA",null,"NA"]
["EMS annual data subscriptionsWICR/FRNANA","/FRNANA",null,"NA"]
["Ice packsNANA0.3L","ANA0.3L",null,"0.3L"]
["Ice packsNANA0.4L","ANA0.4L",null,"0.4L"]
["Ice packsNANA0.6L","ANA0.6L",null,"0.6L"]
["Transportable Powered Vaccine Storage Devices (light weight)NANA0-<5L","NA0-<5L",null,"0-<5L"]

{"sheet":"Validation","index":8,"n_rows":1957,"n_cols":16,"rows_kept":1957,"cut":false,"hidden":true,"merged":[]}
["Detail level",null,"Country","ISO code",null,"Partners type",null,"Gaurdrails/Antigen",null,"Investment area ",null,"Fiscal cycle",null,"Activity Description",null,"Recipient Type"]
["Activity",null,"Afghanistan","AF",null,"MoH/GOV",null,"M/MR TA",null,"Financement de la santé",null,"01 January - 31 December",null,"Extend EPI services",null,"Gouvernement"]
["Costing",null,"Albania","AL",null,"Alliance/Core Partner",null,"M/MR",null,"Prestation de services",null,"01 April - 31 March",null,"Outreach activities : 4 rounds of PIRI per year",null,"Partenaire principal"]
[null,null,"Algeria","DZ",null,"Other UN",null,"TA",null,"Gestion des ressources humaines",null,"01 July - 30 June",null,"Refresher training for 6000 HWs",null,"Organisation de la société civile"]
[null,null,"Andorra","AD",null,"CSO",null,null,null,"Chaîne d'approvisionnement",null,"01 October - 30 Septembre",null,null,null,"Secteur privé"]
[null,null,"Angola","AO",null,"Private Sector ",null,null,null,"Données, suivi et apprentissage, MAPI (Manifestations Adverses Post-Immunisation)",null,"21 March - 20 March",null,"Category",null,"Autre"]
[null,null,"Antigua and Barbuda","AG",null,"Academia",null,null,null,"Surveillance des maladies",null,"20 March - 19/20 March",null,"Salaires et traitements (personnel de programme, administratif, technique et de sensibilisation)"]
[null,null,"Argentina","AR",null,"Individual Contractor",null,null,null,"Création de la demande et engagement communautaire",null,"08 July - 07 July",null,"Per diem, allocations et autres formes de compensation"]
[null,null,"Armenia","AM",null,null,null,null,null,"Gouvernance, politiques, planification stratégique et gestion des programmes",null,"16 July - 15 July",null,"Transport, voyages et coûts connexes"]
[null,null,"Australia","AU",null,"Governement",null,null,null,null,null,"21 December - 20 December",null,"Services professionnels"]
[null,null,"Austria","AT",null,"MoH",null,null,null,"Fund recipient",null,null,null,"Consommables associés à la prestation des services"]
[null,null,"Azerbaijan","AZ",null,"MoF",null,null,null,"MoH",null,"Fund recipient",null,"Coûts liés aux événements (formations, réunions, ateliers, etc.)"]
[null,null,"Bahamas","BS",null,null,null,null,null,"MoF",null,"2030",null,"Actifs – acquisition / maintenance / construction et rénovation"]
[null,null,"Bahrain","BH",null,"Core Partners",null,null,null,"UNICEF",null,"23/Consulting LLC",null,"Équipements éligibles au CCEOP et services associés (garde-fou du Conseil de Gavi)"]
[null,null,"Bangladesh","BD",null,"UNICEF",null,null,null,"WHO",null,"36  Treasury Systems AG",null,"Activités liées aux technologies de l'information et de la communication"]
[null,null,"Barbados","BB",null,"WHO",null,null,null,"World Bank",null,"451 Property, LLC",null,"Coûts d'appui au programme, administration et frais généraux"]
[null,null,"Belize","BZ",null,"World Bank",null,null,null,"CDC-F",null,"A PLUS EVENTS SARL",null,"Financement basé sur les résultats"]
[null,null,"Benin","BJ",null,"CDC-F",null,null,null,"Core Partners",null,"Aamer IKRAM"]
[null,null,"Bermuda","BM",null,null,null,null,null,"Direct",null,"Abdallah BCHIR"]
[null,null,"Bhutan","BT",null,"CSO",null,null,null,"Fund Manager",null,"Abdelmajid Tibouti"]
[null,null,"Bolivia","BO",null,"Core Partners",null,null,null,null,null,"Abdinasir Rashid ALI"]
[null,null,"Bosnia and Herzegovina","BA",null,"Direct",null,null,null,"Budget Frequency",null,"ABDOULAYE GUEYE"]
[null,null,"Botswana","BW",null,"Fund Manager",null,null,null,"Trimestre",null,"Abdul-Aziz Garba MOHAMMED"]
[null,null,"Brazil","BR",null,null,null,null,null,"Semestre",null,"Abdulaziz MOHAMMED"]
[null,null,"British Virgin Islands","VG",null,"Country Segment",null,null,null,"Annuel",null,"Abdulkadir Aladie BELLO"]
[null,null,"Brunei Darussalam","BN",null,"Fragilité & conflits",null,null,null,null,null,"Abdullah Masoud M. Alqahtani"]
[null,null,"Burkina Faso","BF",null,"Core",null,null,null,null,null,"Abigail Johnson"]
[null,null,"Burundi","BI",null,"Fort impact",null,null,null,null,null,"Abilene Advisors SA"]
[null,null,"C.G. Need to know","N/A",null,"Transition accélérée",null,null,null,null,null,"Able Moving and Storage Inc"]
[null,null,"Cabo Verde","CV",null,"Phase catalytique",null,null,null,null,null,"Abt Associates Pty Ltd"]
[null,null,"Cambodia","KH",null,"High Impact",null,null,null,null,null,"Acacia Global Health Consulting Ltd"]
[null,null,"Cameroon","CM",null,"Angola",null,null,null,null,null,"Acasus AG"]
[null,null,"Canada","CA",null,"République démocratique du Congo",null,null,null,null,null,"Acceleris Consulting SARL"]
[null,null,"Cayman Islands","KY",null,"Ethiopie",null,null,null,null,null,"Accenture AG"]
[null,null,"Central African Republic","CF",null,"Inde",null,null,null,null,null,"Access for Humanity"]
[null,null,"Chad","TD",null,"Nigeria",null,null,null,null,null,"Acquia Inc"]
[null,null,"Chile","CL",null,"Pakistan",null,null,null,null,null,"ACT-IVD"]
[null,null,"China","CN",null,"Autre",null,null,null,null,null,"Adam ZENAW"]
[null,null,"Colombia","CO",null,"Accelerated Transition",null,null,null,null,null,"Addfield Environmental Systems Ltd"]
[null,null,"Comoros","KM",null,"Bangladesh",null,null,null,null,null,"Addis Ababa Hilton PLC"]
[null,null,"Conflict/Fragile","N/A",null,"République du Congo",null,null,null,null,null,"Adolfo MARTINEZ VALLE"]
[null,null,"Congo, Democratic Republic of the","CD",null,"Côte d'Ivoire",null,null,null,null,null,"ADP"]
[null,null,"Congo, Republic of","CG",null,"Djibouti",null,null,null,null,null,"Adugna Assefa MENGISTU"]
[null,null,"CORE-EAP","N/A",null,"Ghana",null,null,null,null,null,"Adugna MENGISTU"]
[null,null,"CORE-ESA","N/A",null,"Sao Tomé-et-Principe",null,null,null,null,null,"Aer Studios Ltd"]
[null,null,"CORE-WCA","N/A",null,"Autre",null,null,null,null,null,"Afghanistan"]
[null,null,"Costa Rica","CR",null,"Fragile & Conflict",null,null,null,null,null,"Afghanistan"]
[null,null,"Croatia","HR",null,"Afghanistan",null,null,null,null,null,"AFRICA BUSINESS NEWS (PTY) LTD"]
[null,null,"CSO Partner","N/A",null,"Burkina Faso",null,null,null,null,null,"Africa Centre for Disease Control"]
[null,null,"Cuba","CU",null,"Cameroun",null,null,null,null,null,"AFRICA MEDIA GROUP"]
[null,null,"Cyprus","CY",null,"République centrafricaine",null,null,null,null,null,"AFRICA PRACTICE LIMITED"]
[null,null,"Czechia","CZ",null,"Chad",null,null,null,null,null,"African Field Epidemiology Network Ltd"]
[null,null,"Côte d'Ivoire","CI",null,"Haiti",null,null,null,null,null,"African Organisation of english-speaking Supreme Audit Institutions"]
[null,null,"Democratic People's Republic of Korea","KP",null,"Mali",null,null,null,null,null,"African Population and Health Research Center"]
[null,null,"Denmark","DK",null,"Mozambique",null,null,null,null,null,"AFRIVAC"]
[null,null,"Djibouti","DJ",null,"Myanmar",null,null,null,null,null,"Afsheen AHMAD"]
[null,null,"Dominica","DM",null,"Niger",null,null,null,null,null,"Agence Européenne pour le Développe ment Et la Santé scrl"]
[null,null,"Dominican Republic","DO",null,"Papouasie-Nouvelle-Guinée",null,null,null,null,null,"Agence MAA SAS"]
[null,null,"Ecuador","EC",null,"Somalie",null,null,null,null,null,"Agility PR Solutions LLC"]
[null,null,"Egypt","EG",null,"Soudan du Sud",null,null,null,null,null,"Agnes Mutyaba WATSEMBA"]
[null,null,"El Salvador","SV",null,"Soudan",null,null,null,null,null,"Agora International (Québec) Inc."]
[null,null,"Equatorial Guinea","GQ",null,"République arabe syrienne",null,null,null,null,null,"Agência Fiduciária de Administração de Projectos"]
[null,null,"Eritrea","ER",null,"Yémen",null,null,null,null,null,"Ahmadou OUMAR"]
[null,null,"Estonia","EE",null,"Autre",null,null,null,null,null,"Ailsa Louise JONES"]
[null,null,"Eswatini","SZ",null,"Core",null,null,null,null,null,"Airfinity Ltd"]
[null,null,"Ethiopia","ET",null,"Cambodge",null,null,null,null,null,"AirPlus International AG"]
[null,null,"Fiji","FJ",null,"République populaire démocratique de Corée",null,null,null,null,null,"Aishwarya Sanjay GEETE"]
[null,null,"Finland","FI",null,"Kirghizistan",null,null,null,null,null,"AKRAM ALI ELTOUM MOHAMED"]
[null,null,"France","FR",null,"République démocratique populaire lao",null,null,null,null,null,"Albane Leroux"]
[null,null,"Gabon","GA",null,"Népal",null,null,null,null,null,"Albania"]
[null,null,"Gambia","GM",null,"Iles Salomon",null,null,null,null,null,"Albourne America, LLC"]
[null,null,"GAVI ALLIANCE TEST","N/A",null,"Tadjikistan",null,null,null,null,null,"Alejandro Cravioto Quintana"]
[null,null,"Gavi External Account for CP","N/A",null,"Timor-Leste",null,null,null,null,null,"Aleksandra Caric"]
[null,null,"Gavi External Account NTK","N/A",null,"Burundi",null,null,null,null,null,"Aleksandra GLAVAS"]
[null,null,"Gavi Global Account","N/A",null,"Comores",null,null,null,null,null,"Alexander Court Holdings LLC"]
[null,null,"George Muhia MWAURA","N/A",null,"Erythrée",null,null,null,null,null,"Alexander Knox ROWE"]
[null,null,"Georgia","GE",null,"Kenya",null,null,null,null,null,"Alexander Nathaniel BEECHER"]
[null,null,"Germany","DE",null,"Lesotho",null,null,null,null,null,"Alfred DOUBA"]
[null,null,"Ghana","GH",null,"Madagascar",null,null,null,null,null,"Alfredo ASCARI"]
[null,null,"Global Media (Sample)","N/A",null,"Malawi",null,null,null,null,null,"Algeria"]
[null,null,"GMS1057 AC2 TEST RECORD","N/A",null,"Rwanda",null,null,null,null,null,"Ali Ahmed AL MUDHWAHI"]
[null,null,"GMS1057 AC3 TEST RECORD","N/A",null,"République-Unie de Tanzanie",null,null,null,null,null,"Ali BENKIRANE"]
[null,null,"GMS1057 INT TESTING RECORD","N/A",null,"Ouganda",null,null,null,null,null,"Alia DE PARISOT"]
[null,null,"Government of Belgium","BE",null,"Zambie",null,null,null,null,null,"Alice Jeanne ABOU-NADER"]
[null,null,"Government of Malta","MT",null,"Zimbabwe",null,null,null,null,null,"ALIFDO"]
[null,null,"Greece","GR",null,"Bénin",null,null,null,null,null,"Alison Charlotte HUME"]
[null,null,"Grenada","GD",null,"Gambie",null,null,null,null,null,"Alison Janne ROSIER"]
[null,null,"Guatemala","GT",null,"Guinée",null,null,null,null,null,"Alistair LANG"]
[null,null,"Guinea","GN",null,"Guinée-Bissau",null,null,null,null,null,"Alister Bignell"]
[null,null,"Guinea-Bissau","GW",null,"Libéria",null,null,null,null,null,"Allegra Biava"]
[null,null,"Guyana","GY",null,"Mauritanie",null,null,null,null,null,"Allianz Risk Transfer AG"]
[null,null,"Haiti","HT",null,"Sénégal",null,null,null,null,null,"Allure Security Technology, Inc."]
[null,null,"High Impact","N/A",null,"Sierra Leone",null,null,null,null,null,"AlphaSense Inc"]
[null,null,"Honduras","HN",null,"Togo",null,null,null,null,null,"Altrata Limited"]
[null,null,"Hong Kong SAR, China","HK",null,"Autre",null,null,null,null,null,"Aluisio JARDIM DORNELLAS DE BARROS"]
[null,null,"Iceland","IS",null,"Catalytic Phase",null,null,null,null,null,"Alurralde Jasper LLC"]
[null,null,"India","IN",null,"Belize",null,null,null,null,null,"Alvaro ALONSO GARBAYO"]
[null,null,"Indonesia","ID",null,"Bhoutan",null,null,null,null,null,"Ama Pokuaa Fenny"]
[null,null,"Iran","IR",null,"Bolivie (Etat plurinational de)",null,null,null,null,null,"Amal Abdirahim ABIKAR"]
[null,null,"Iraq","IQ",null,"Cap-Vert",null,null,null,null,null,"Amal Elfatih Abdalla MOHAMED"]
[null,null,"IRC Partner Account","N/A",null,"Cuba",null,null,null,null,null,"Amandeep SINGH"]
[null,null,"Ireland","IE",null,"Dominique",null,null,null,null,null,"Amani ABDELMONIEM MAHMOUD MUSTAFA"]
[null,null,"Israel","IL",null,"Egypte",null,null,null,null,null,"Amber OHIOKPEHAI"]
[null,null,"Italy","IT",null,"Salvador",null,null,null,null,null,"AMC Ernst et Young"]
[null,null,"Jamaica","JM",null,"Eswatini",null,null,null,null,null,"American Express"]
[null,null,"Japan","JP",null,"Fidji",null,null,null,null,null,"American Management Association Europe"]
[null,null,"Jordan","JO",null,"Géorgie",null,null,null,null,null,"Amina BOUOTHMANI"]
[null,null,"Kenya","KE",null,"Grenade",null,null,null,null,null,"Amina ZOUIHRI"]
[null,null,"Kiribati","KI",null,"Guyana",null,null,null,null,null,"Amira Suzanne EAPEN"]
[null,null,"Kosovo","XK",null,"Honduras",null,null,null,null,null,"Amiri ABDALLAH"]
[null,null,"Kuwait","KW",null,"Jordanie",null,null,null,null,null,"AMP Bureau Regional Afrique"]
[null,null,"Kyrgyzstan","KG",null,"Kiribati",null,null,null,null,null,"AMREF Health Africa"]
[null,null,"Lao People's Democratic Republic","LA",null,"Kosovo",null,null,null,null,null,"AMT Organisation Rhone Alpes"]
[null,null,"Latvia","LV",null,"Liban",null,null,null,null,null,"Amy NGUYEN"]
[null,null,"Lebanon","LB",null,"Maldives",null,null,null,null,null,"Amy RATCLIFFE"]
[null,null,"Lesotho","LS",null,"Iles Marshall",null,null,null,null,null,"Ana María DE PRO GONZALO"]
[null,null,"Liberia","LR",null,"Micronésie (Etats fédérés de)",null,null,null,null,null,"Ana Paula SZYLOVEC"]
[null,null,"Libya","LY",null,"Mongolie",null,null,null,null,null,"Ana Sofia CARVALHO DE ALMEIDA"]
[null,null,"Lithuania","LT",null,"Maroc",null,null,null,null,null,"Anahit AVANESYAN"]
[null,null,"Luxembourg","LU",null,"Nicaragua",null,null,null,null,null,"Anais Bobst"]
[null,null,"Macao SAR, China","MO",null,"Territoire palestinien occupé",null,null,null,null,null,"Analytics HT. INC."]
[null,null,"Madagascar","MG",null,"Philippines",null,null,null,null,null,"Anara MAMBETISAEVA"]
[null,null,"Malawi","MW",null,"République de Moldavie",null,null,null,null,null,"Anatomia- La Boutique du Dos SA"]
[null,null,"Malaysia","MY",null,"Sainte-Lucie",null,null,null,null,null,"Andorra"]
[null,null,"Maldives","MV",null,"Saint-Vincent-et-les-Grenadines",null,null,null,null,null,"Andrea HARRISON"]
[null,null,"Mali","ML",null,"Samoa",null,null,null,null,null,"Andrew Aaron Kigozi"]
[null,null,"Marshall Islands (The)","MH",null,"Sri Lanka",null,null,null,null,null,"Andrew AZMAN"]
[null,null,"Mauritania","MR",null,"Tonga",null,null,null,null,null,"Andrew John Freeman"]
[null,null,"Mauritius","MU",null,"Tunisie",null,null,null,null,null,"Andrew KIGOZI"]
[null,null,"Mexico","MX",null,"Tuvalu",null,null,null,null,null,"Andrew Philip DAWSON"]
[null,null,"Micronesia (Federated States of)","FM",null,"Ouzbékistan",null,null,null,null,null,"Andrew Timothy MUHENDA"]
[null,null,"MINISTERE DE LA SANTE PUBLIQUE","N/A",null,"Vanuatu",null,null,null,null,null,"Andrianasolo NDRANTO FENOMAMPIONONA"]
[null,null,"Moldova","MD",null,"Venezuela",null,null,null,null,null,"Andy Harmer Consulting Ltd"]
[null,null,"Monaco","MC",null,"Vietnam",null,null,null,null,null,"Angola"]
[null,null,"Mongolia","MN",null,"Namibie",null,null,null,null,null,"Angola Ministério das Finanças"]
[null,null,"Montenegro","ME",null,"Suriname",null,null,null,null,null,"Anna Katherine Lucy SEDGLEY"]
[null,null,"Montserrat","MS",null,"Autre",null,null,null,null,null,"Anna Lambert"]
[null,null,"Morocco","MA",null,null,null,null,null,null,null,"Anna Mary Georgina EWING"]
[null,null,"Mozambique","MZ",null,null,null,null,null,null,null,"Anna-Carin KANDIMAA MATTERSON"]
[null,null,"Myanmar","MM",null,null,null,null,null,null,null,"Annapoorni SAMPATH KUMAR"]
[null,null,"Namibia","NA",null,null,null,null,null,null,null,"Anne Marie COPEK"]
[null,null,"Nauru","NR",null,null,null,null,null,null,null,"Anne SCHUCHAT"]
[null,null,"Nepal","NP",null,null,null,null,null,null,null,"Annette Gathoni WANGONG'U"]
[null,null,"Netherlands","NL",null,null,null,null,null,null,null,"Annick Raissa Ouelhore SIDIBE"]
[null,null,"Never Gavi","N/A",null,null,null,null,null,null,null,"ANSAM Holding SA"]
[null,null,"New Zealand","NZ",null,null,null,null,null,null,null,"Anthony WACHIRA NGATIA"]
[null,null,"Nicaragua","NI",null,null,null,null,null,null,null,"Antigua and Barbuda"]
[null,null,"Niger","NE",null,null,null,null,null,null,null,"Antoinette Alas BHATTACHARYA"]
[null,null,"Nigeria","NG",null,null,null,null,null,null,null,"APIN PUBLIC HEALTH INITIATIVES LTD/GTE"]
[null,null,"North Macedonia","MK",null,null,null,null,null,null,null,"Appian Software International LLC"]
[null,null,"Norway","NO",null,null,null,null,null,null,null,"Aqib Amjad SHAFI"]
[null,null,"Occupied Palestinian Territory","PS",null,null,null,null,null,null,null,"Aqua & Tech Sarl"]
[null,null,"Oman","OM",null,null,null,null,null,null,null,"Aquarius Population Health Limited"]
[null,null,"Pakistan","PK",null,null,null,null,null,null,null,"Aranzazu SALINAS DE GALVES"]
[null,null,"Palau","PW",null,null,null,null,null,null,null,"Archetypical Limited"]
[null,null,"Panama","PA",null,null,null,null,null,null,null,"Ardoq Denmark Aps"]
[null,null,"Papua New Guinea","PG",null,null,null,null,null,null,null,"Argentina"]
[null,null,"Paraguay","PY",null,null,null,null,null,null,null,"Ariana Talner SPILIOTES"]
[null,null,"Peru","PE",null,null,null,null,null,null,null,"Arielle WEINSTEIN-GODIN"]
[null,null,"Philippe Verstraete","N/A",null,null,null,null,null,null,null,"Ariska Consulting Sarl"]
[null,null,"Philippines","PH",null,null,null,null,null,null,null,"Armenia"]
[null,null,"Poland Government","PL",null,null,null,null,null,null,null,"Armenia"]
[null,null,"Priyanka Test 1","N/A",null,null,null,null,null,null,null,"Arshad Karim CHANDIO"]
[null,null,"Priyanka Test 8","N/A",null,null,null,null,null,null,null,"Arunima Khanduri"]
[null,null,"Qatar","QA",null,null,null,null,null,null,null,"Ashutosh RANKA"]
[null,null,"Republic of Syria","SY",null,null,null,null,null,null,null,"Asia Pacific Applied Consulting Pty Ltd"]
[null,null,"Reviewers","N/A",null,null,null,null,null,null,null,"Askaan Sante"]
[null,null,"Rwanda","RW",null,null,null,null,null,null,null,"Assanatou SAMAKE ROMAN"]
[null,null,"Saint Lucia","LC",null,null,null,null,null,null,null,"Associés Audit et Conseil"]
[null,null,"Saint Vincent and the Grenadines","VC",null,null,null,null,null,null,null,"Astitav KHAJURIA"]
[null,null,"salesforce.com (Sample)","N/A",null,null,null,null,null,null,null,"AstraZeneca AB"]
[null,null,"Samoa","WS",null,null,null,null,null,null,null,"AstraZeneca K.K"]
[null,null,"Sample Account for Entitlements","N/A",null,null,null,null,null,null,null,"Asu DURMUS GIGUERE"]
[null,null,"Sao Tome and Principe","ST",null,null,null,null,null,null,null,"AT-AMP BURKINA"]
[null,null,"Saudi Arabia","SA",null,null,null,null,null,null,null,"AT&T Mobility"]
[null,null,"Senegal","SN",null,null,null,null,null,null,null,"Atar Roto Presse"]
[null,null,"Serbia","RS",null,null,null,null,null,null,null,"Atelier Bruderlin SA"]
[null,null,"Seychelles","SC",null,null,null,null,null,null,null,"Atelier Vert SA Plantes et Constructions"]
[null,null,"Sierra Leone","SL",null,null,null,null,null,null,null,"ATLAS INTERNATIONAL GENEVA SA"]
[null,null,"Singapore","SG",null,null,null,null,null,null,null,"Audio Factory"]
[null,null,"Slovakia","SK",null,null,null,null,null,null,null,"Audrey BEAULIEU FOREST"]
[null,null,"Slovenia","SI",null,null,null,null,null,null,null,"AUGUST AND DEBOUZY ET ASSOCIES"]
[null,null,"Solomon Islands","SB",null,null,null,null,null,null,null,"Auguste Levcenkaityte"]
[null,null,"Somalia","SO",null,null,null,null,null,null,null,"Augustin Hubert FLORY"]
[null,null,"South Africa","ZA",null,null,null,null,null,null,null,"Australia"]
[null,null,"South Korea","KR",null,null,null,null,null,null,null,"Austria"]
[null,null,"South Sudan","SS",null,null,null,null,null,null,null,"Automation Boutique B.V."]
[null,null,"Spain","ES",null,null,null,null,null,null,null,"Avani GUPTA"]
[null,null,"Sri Lanka","LK",null,null,null,null,null,null,null,"Aventri LLC"]
[null,null,"St. Kitts and Nevis","KN",null,null,null,null,null,null,null,"AVPN Limited"]
[null,null,"Sudan","SD",null,null,null,null,null,null,null,"Awa Coll Seck"]
[null,null,"Supplier 10102025","N/A",null,null,null,null,null,null,null,"Ayman AKKAD"]
[null,null,"Suriname","SR",null,null,null,null,null,null,null,"Ayodeji Oluwole ODUTOLU"]
[null,null,"Sweden","SE",null,null,null,null,null,null,null,"Azerbaijan"]
[null,null,"Switzerland","CH",null,null,null,null,null,null,null,"Azerbaijan"]
[null,null,"SYR-NWS","N/A",null,null,null,null,null,null,null,"Azizah Farheen SIDDIQUI"]
[null,null,"Taiwan, China","TW",null,null,null,null,null,null,null,"Bagamian Scientific Consulting"]
[null,null,"Tajikistan","TJ",null,null,null,null,null,null,null,"Bahamas"]
[null,null,"Tatooine","N/A",null,null,null,null,null,null,null,"Bahamas Government"]
[null,null,"Test_11 Nov","N/A",null,null,null,null,null,null,null,"Bahrain"]
[null,null,"Test_31Oct","N/A",null,null,null,null,null,null,null,"Bangladesh"]
[null,null,"Test_7NOV","N/A",null,null,null,null,null,null,null,"Bangladesh"]
[null,null,"Test_Priyanka08Oct","TH",null,null,null,null,null,null,null,"Barbados"]
[null,null,"Thailand","PT",null,null,null,null,null,null,null,"Barbados"]
[null,null,"The Government of Portugal","LI",null,null,null,null,null,null,null,"Barbara NYATHI"]
[null,null,"THE PRINCIPALITY OF LIECHTENSTEIN","TL",null,null,null,null,null,null,null,"Basajasubi Muhamed LUBEGA"]
[null,null,"Timor-Leste","TG",null,null,null,null,null,null,null,"Bashir Mohamed FIDOW"]
[null,null,"Togo","TO",null,null,null,null,null,null,null,"Bavarian Nordic A/S"]
[null,null,"Tonga","N/A",null,null,null,null,null,null,null,"BCN Consulting & Capital Partners AG"]
[null,null,"Transitioned","TT",null,null,null,null,null,null,null,"BDO LLP"]
[null,null,"Trinidad and Tobago","TN",null,null,null,null,null,null,null,"BDO USA LLP"]
[null,null,"Tunisia","TM",null,null,null,null,null,null,null,"Beatrice MENCARELLI"]
[null,null,"Turkmenistan","TC",null,null,null,null,null,null,null,"Beatriz Ayala-Öström"]
[null,null,"Turks and Caicos Islands","TV",null,null,null,null,null,null,null,"Bechtle Direct SA"]
[null,null,"Tuvalu","UG",null,null,null,null,null,null,null,"Bechtle Suisse SA"]
[null,null,"Uganda","UA",null,null,null,null,null,null,null,"Bedford Consulting Limited"]
[null,null,"Ukraine","N/A",null,null,null,null,null,null,null,"Beena Varghese"]
[null,null,"UNICEF","N/A",null,null,null,null,null,null,null,"Beijing Wishine Translation Technology C"]
[null,null,"UNICEF Supply Division","AE",null,null,null,null,null,null,null,"Bekolo Partners Canada LTD"]
[null,null,"United Arab Emirates","GB",null,null,null,null,null,null,null,"Belize"]
[null,null,"United Kingdom","TZ",null,null,null,null,null,null,null,"Belize Ministry of Health and Wellness"]
[null,null,"United Republic of Tanzania","UY",null,null,null,null,null,null,null,"Bell Switzerland SA"]
[null,null,"Uruguay","UZ",null,null,null,null,null,null,null,"BeMelius Sàrl"]
[null,null,"Uzbekistan","VU",null,null,null,null,null,null,null,"Benda Njeri KITHAKA"]
[null,null,"Vanuatu","VE",null,null,null,null,null,null,null,"Benedikt LOEBELL"]
[null,null,"Venezuela","VN",null,null,null,null,null,null,null,"Benin"]
[null,null,"Vietnam","N/A",null,null,null,null,null,null,null,"Benin"]
[null,null,"Web2Case Account","N/A",null,null,null,null,null,null,null,"Benjamin BECHAZ"]
[null,null,"WHO","YE",null,null,null,null,null,null,null,"Benjamin Nkowane"]
[null,null,"Yemen","ZM",null,null,null,null,null,null,null,"Benjamin ROLFE"]
[null,null,"Zambia","ZW",null,null,null,null,null,null,null,"Benoit Entertainment"]
[null,null,"Zimbabwe",null,null,null,null,null,null,null,null,"Benoit Vulliemin Tiber Team Dutoit, Vulliemin & Cie"]
[null,null,null,null,null,null,null,null,null,null,null,"Berlin Rosen LLC"]
[null,null,null,null,null,null,null,null,null,null,null,"Bermuda"]
[null,null,null,null,null,null,null,null,null,null,null,"Bernard Eelco SZABO"]
[null,null,null,null,null,null,null,null,null,null,null,"Bernard Ochieng OMOLLO"]
[null,null,null,null,null,null,null,null,null,null,null,"Bertha Kembabazi"]
[null,null,null,null,null,null,null,null,null,null,null,"Bertrand DE MAZIERES"]
[null,null,null,null,null,null,null,null,null,null,null,"Bettina GERBER"]
[null,null,null,null,null,null,null,null,null,null,null,"Bettina Mamie"]
[null,null,null,null,null,null,null,null,null,null,null,"Beverley Merle HERBERT"]
[null,null,null,null,null,null,null,null,null,null,null,"Bhutan"]
[null,null,null,null,null,null,null,null,null,null,null,"Bhutan"]
[null,null,null,null,null,null,null,null,null,null,null,"Bill and Melinda Gates Foundation"]
[null,null,null,null,null,null,null,null,null,null,null,"Binta ADUKE ISMAIL"]
[null,null,null,null,null,null,null,null,null,null,null,"BioNTech Manufacturing GmbH"]
[null,null,null,null,null,null,null,null,null,null,null,"Biostat Global Consulting LLC"]
[null,null,null,null,null,null,null,null,null,null,null,"Bisnode D and B Schweiz AG"]
[null,null,null,null,null,null,null,null,null,null,null,"BJ office SA"]
[null,null,null,null,null,null,null,null,null,null,null,"Black Fox Philanthropy"]
[null,null,null,null,null,null,null,null,null,null,null,"Black Swan PNG Limited"]
[null,null,null,null,null,null,null,null,null,null,null,"Blackrhino Virtual Reality Ltd"]
[null,null,null,null,null,null,null,null,null,null,null,"Blaise Florent BIKANDOU"]
[null,null,null,null,null,null,null,null,null,null,null,"Blanket Vendor"]
[null,null,null,null,null,null,null,null,null,null,null,"Bleehen Limited"]
[null,null,null,null,null,null,null,null,null,null,null,"Bloomberg Finance LP"]
[null,null,null,null,null,null,null,null,null,null,null,"Bloomint Design SL"]
[null,null,null,null,null,null,null,null,null,null,null,"BLS Confluence"]
[null,null,null,null,null,null,null,null,null,null,null,"Blue Square NV"]
[null,null,null,null,null,null,null,null,null,null,null,"Boby Franck LOBA"]
[null,null,null,null,null,null,null,null,null,null,null,"Bois 1   Plus SA"]
[null,null,null,null,null,null,null,null,null,null,null,"Bolanle Oyeledun"]
[null,null,null,null,null,null,null,null,null,null,null,"Bolivia"]
[null,null,null,null,null,null,null,null,null,null,null,"Bolivia"]
[null,null,null,null,null,null,null,null,null,null,null,"Bomy YUN"]
[null,null,null,null,null,null,null,null,null,null,null,"Boniface HLABANO"]
[null,null,null,null,null,null,null,null,null,null,null,"Bosnia and Herzegovina"]
[null,null,null,null,null,null,null,null,null,null,null,"Boston Consulting Group AG Switzerland"]
[null,null,null,null,null,null,null,null,null,null,null,"Botoko Dolia Jean Pierre"]
[null,null,null,null,null,null,null,null,null,null,null,"Botswana"]
[null,null,null,null,null,null,null,null,null,null,null,"Boulangerie Eric Emery Sarl"]
[null,null,null,null,null,null,null,null,null,null,null,"Brazil"]
[null,null,null,null,null,null,null,null,null,null,null,"Brenda KAMANGA"]
[null,null,null,null,null,null,null,null,null,null,null,"Brian Martin ERAZO MUNOZ"]
[null,null,null,null,null,null,null,null,null,null,null,"Bridge Media Beijing Ltd"]
[null,null,null,null,null,null,null,null,null,null,null,"Bridges to Development"]
[null,null,null,null,null,null,null,null,null,null,null,"British Virgin Islands"]
[null,null,null,null,null,null,null,null,null,null,null,"Brolliet SA"]
[null,null,null,null,null,null,null,null,null,null,null,"Brunei Darussalam"]
[null,null,null,null,null,null,null,null,null,null,null,"Bruno LARMONIER"]
[null,null,null,null,null,null,null,null,null,null,null,"BTVK Advisory LLP"]
[null,null,null,null,null,null,null,null,null,null,null,"Bucketlist Rewards Inc."]
[null,null,null,null,null,null,null,null,null,null,null,"Budi Gunadi SADIKIN"]
[null,null,null,null,null,null,null,null,null,null,null,"Building Capacities for Better Health in Africa Cameroon"]
[null,null,null,null,null,null,null,null,null,null,null,"Bull City Learning, Inc."]
[null,null,null,null,null,null,null,null,null,null,null,"Bundeskasse Dienstort Halle"]
[null,null,null,null,null,null,null,null,null,null,null,"Bureau d'Audit et de Gestion des Entreprises"]
[null,null,null,null,null,null,null,null,null,null,null,"Burges Salmon LLP"]
[null,null,null,null,null,null,null,null,null,null,null,"Burkina Faso"]
[null,null,null,null,null,null,null,null,null,null,null,"Burundi"]
[null,null,null,null,null,null,null,null,null,null,null,"Business & Decision Suisse SA"]
[null,null,null,null,null,null,null,null,null,null,null,"Bvudzai Priscilla MAGADZIRE"]
[null,null,null,null,null,null,null,null,null,null,null,"Bénédicte LOEFFEL"]
[null,null,null,null,null,null,null,null,null,null,null,"C Bennett Consulting Ltd Catherine Bennett"]
[null,null,null,null,null,null,null,null,null,null,null,"C&Y SA"]
[null,null,null,null,null,null,null,null,null,null,null,"Cabinet d Appui au Developpement Sa nitaire"]
[null,null,null,null,null,null,null,null,null,null,null,"Cabinet Luchtenberg"]
[null,null,null,null,null,null,null,null,null,null,null,"Cabo Verde"]
[null,null,null,null,null,null,null,null,null,null,null,"Cadence 8 Sarl"]
[null,null,null,null,null,null,null,null,null,null,null,"Calvin TONGA"]
[null,null,null,null,null,null,null,null,null,null,null,"Camber Collective LLC"]
[null,null,null,null,null,null,null,null,null,null,null,"Cambodia"]
[null,null,null,null,null,null,null,null,null,null,null,"Cambridge Economic Policy Associate s"]
[null,null,null,null,null,null,null,null,null,null,null,"Cameron KEMP"]
[null,null,null,null,null,null,null,null,null,null,null,"Cameroon"]
[null,null,null,null,null,null,null,null,null,null,null,"Cameroon Baptist Convention"]
[null,null,null,null,null,null,null,null,null,null,null,"Cameroun CAA GAVI RSS2 PROGRAMME ELARGI"]
[null,null,null,null,null,null,null,null,null,null,null,"Campaign for Tobacco-Free Kids"]
[null,null,null,null,null,null,null,null,null,null,null,"Canada"]
[null,null,null,null,null,null,null,null,null,null,null,"Captiva Africa LLC"]
[null,null,null,null,null,null,null,null,null,null,null,"Capucine DE MONTGOLFIER"]
[null,null,null,null,null,null,null,null,null,null,null,"Carla Paola TORRES AYALA"]
[null,null,null,null,null,null,null,null,null,null,null,"Carlota HOSPITAL"]
[null,null,null,null,null,null,null,null,null,null,null,"Carol Piot"]
[null,null,null,null,null,null,null,null,null,null,null,"Caroline Akeyo OTHIM"]
[null,null,null,null,null,null,null,null,null,null,null,"Caroline ATHERTON"]
[null,null,null,null,null,null,null,null,null,null,null,"Carsten MANTEL"]
[null,null,null,null,null,null,null,null,null,null,null,"Cassandra Joseph"]
[null,null,null,null,null,null,null,null,null,null,null,"Catarina SCHADE"]
[null,null,null,null,null,null,null,null,null,null,null,"Catherine Ann CLARY"]
[null,null,null,null,null,null,null,null,null,null,null,"Catherine Ann GOODE"]
[null,null,null,null,null,null,null,null,null,null,null,"Catholic Relief Services"]
[null,null,null,null,null,null,null,null,null,null,null,"CAYMAN ISLANDS"]
[null,null,null,null,null,null,null,null,null,null,null,"Cayman Islands"]
[null,null,null,null,null,null,null,null,null,null,null,"CBI Insurance Broker SA"]
[null,null,null,null,null,null,null,null,null,null,null,"CBS Consulting"]
[null,null,null,null,null,null,null,null,null,null,null,"CDC"]
[null,null,null,null,null,null,null,null,null,null,null,"CDW Direct  LLC"]
[null,null,null,null,null,null,null,null,null,null,null,"CDW UK Ltd"]
[null,null,null,null,null,null,null,null,null,null,null,"Cecilia BERNIS"]
[null,null,null,null,null,null,null,null,null,null,null,"CEDR Services Limited"]
[null,null,null,null,null,null,null,null,null,null,null,"CEGOS"]
[null,null,null,null,null,null,null,null,null,null,null,"Cellule de Coordination des Interventions de Renforcement du Système"]
[null,null,null,null,null,null,null,null,null,null,null,"Center for Countering Digital Hate Ltd"]
[null,null,null,null,null,null,null,null,null,null,null,"Center for US Global Leadership"]
[null,null,null,null,null,null,null,null,null,null,null,"Centers for Disease Control, Ministry of Health and Welfare Taiwan R.O.C"]
[null,null,null,null,null,null,null,null,null,null,null,"Central Afr  Rep CAR"]
[null,null,null,null,null,null,null,null,null,null,null,"Central African Republic"]
[null,null,null,null,null,null,null,null,null,null,null,"Centre Africain de Recherche en Epidémiologie et Santé Publique"]
[null,null,null,null,null,null,null,null,null,null,null,"Centre de Formation et de Recherche en Santé Publique"]
[null,null,null,null,null,null,null,null,null,null,null,"Centre Patronal"]
[null,null,null,null,null,null,null,null,null,null,null,"Centro Nacional de Abastecimiento de Recursos Estrategicos en Salud"]
[null,null,null,null,null,null,null,null,null,null,null,"Ceres Inc"]
[null,null,null,null,null,null,null,null,null,null,null,"Cesar GOMES VICTORA"]
[null,null,null,null,null,null,null,null,null,null,null,"Chad"]
[null,null,null,null,null,null,null,null,null,null,null,"Chaelin KIM"]
[null,null,null,null,null,null,null,null,null,null,null,"Challenge & Co"]
[null,null,null,null,null,null,null,null,null,null,null,"Chambre des Comptes de la Cour Suprême"]
[null,null,null,null,null,null,null,null,null,null,null,"Chandrakant RUPARELIA"]
[null,null,null,null,null,null,null,null,null,null,null,"Chantilly Manotel Kipling"]
[null,null,null,null,null,null,null,null,null,null,null,"Chao DU"]
[null,null,null,null,null,null,null,null,null,null,null,"Charities Aid Foundation America"]
[null,null,null,null,null,null,null,null,null,null,null,"Charlene Chinda BARINA"]
[null,null,null,null,null,null,null,null,null,null,null,"Charles Kwame Amoah OHENE NYAKO"]
[null,null,null,null,null,null,null,null,null,null,null,"Charles NSANGOU"]
[null,null,null,null,null,null,null,null,null,null,null,"Charlotte NERSON"]
[null,null,null,null,null,null,null,null,null,null,null,"Charlotte SCHMIDT"]
[null,null,null,null,null,null,null,null,null,null,null,"Chemonics International Inc."]
[null,null,null,null,null,null,null,null,null,null,null,"Cherish Tariro GAMANYA"]
[null,null,null,null,null,null,null,null,null,null,null,"Chesapeake Mission Critical LLC"]
[null,null,null,null,null,null,null,null,null,null,null,"Chevalley Gestion Hoteliere SA"]
[null,null,null,null,null,null,null,null,null,null,null,"Chiara GIBERTI"]
[null,null,null,null,null,null,null,null,null,null,null,"Chiara SCARPINO"]
[null,null,null,null,null,null,null,null,null,null,null,"Chile"]
[null,null,null,null,null,null,null,null,null,null,null,"China"]
[null,null,null,null,null,null,null,null,null,null,null,"Chioma Onyinye NWUBA"]
[null,null,null,null,null,null,null,null,null,null,null,"Chitou Abdou Moudjibi"]
[null,null,null,null,null,null,null,null,null,null,null,"Christiane Antoinette DJOMAN EPSE MANGOU"]
[null,null,null,null,null,null,null,null,null,null,null,"Christina Marie Dubin"]
[null,null,null,null,null,null,null,null,null,null,null,"Christina Rebecca OKELLO"]
[null,null,null,null,null,null,null,null,null,null,null,"Christina SCADUTO"]
[null,null,null,null,null,null,null,null,null,null,null,"Christine Mary Crawford"]
[null,null,null,null,null,null,null,null,null,null,null,"Christoffel DE COOKER"]
[null,null,null,null,null,null,null,null,null,null,null,"Christophe de BODIN de GALEMBERT"]
[null,null,null,null,null,null,null,null,null,null,null,"Christopher George TAYLOR"]
[null,null,null,null,null,null,null,null,null,null,null,"Christopher Ian PASTON"]
[null,null,null,null,null,null,null,null,null,null,null,"Chubb Insurance Switzerland Ltd"]
[null,null,null,null,null,null,null,null,null,null,null,"CHUM"]
[null,null,null,null,null,null,null,null,null,null,null,"Churches Health Association of Zambia"]
[null,null,null,null,null,null,null,null,null,null,null,"Ciara Violet McCarthy"]
[null,null,null,null,null,null,null,null,null,null,null,"CIDRZ Direct Funding"]
[null,null,null,null,null,null,null,null,null,null,null,"Civil Society Human & Institutional Development Programme_DUPL"]
[null,null,null,null,null,null,null,null,null,null,null,"Claire Elizabeth MOODIE"]
[null,null,null,null,null,null,null,null,null,null,null,"Claire SAMBOU"]
[null,null,null,null,null,null,null,null,null,null,null,"Claire Sophie Marie DAVANNE"]
[null,null,null,null,null,null,null,null,null,null,null,"Clara María ROSINGER"]
[null,null,null,null,null,null,null,null,null,null,null,"Clarisse VEYLON HERVET"]
[null,null,null,null,null,null,null,null,null,null,null,"Clark Hogan-Taylor"]
[null,null,null,null,null,null,null,null,null,null,null,"Claude Rouiller"]
[null,null,null,null,null,null,null,null,null,null,null,"Clifford Chance LLP"]
[null,null,null,null,null,null,null,null,null,null,null,"Clinton Health Access Initiative, Inc."]
[null,null,null,null,null,null,null,null,null,null,null,"CloudFulcrum LLC"]
[null,null,null,null,null,null,null,null,null,null,null,"Clément Ndzemah JAIDZEKA"]
[null,null,null,null,null,null,null,null,null,null,null,"Coalition for Epidemic Preparedness Innovation (CEPI)"]
[null,null,null,null,null,null,null,null,null,null,null,"Cognizant Worldwide LTD"]
[null,null,null,null,null,null,null,null,null,null,null,"Colin Taylor PATERSON"]
[null,null,null,null,null,null,null,null,null,null,null,"Collins Weru MWAI"]
[null,null,null,null,null,null,null,null,null,null,null,"Colombia"]
[null,null,null,null,null,null,null,null,null,null,null,"Colonial Parking Inc"]
[null,null,null,null,null,null,null,null,null,null,null,"Colossyan Inc"]
[null,null,null,null,null,null,null,null,null,null,null,"Comisión Nacional de Prevención de Riesgos y Atención de Emergencias"]
[null,null,null,null,null,null,null,null,null,null,null,"Common Thread Communications Inc"]
[null,null,null,null,null,null,null,null,null,null,null,"Comoros"]
[null,null,null,null,null,null,null,null,null,null,null,"Comoros Ministère de la Santé, de l a Solida de la Protection Sociale et"]
[null,null,null,null,null,null,null,null,null,null,null,"Compass Group Schweiz AG"]
[null,null,null,null,null,null,null,null,null,null,null,"Congo"]
[null,null,null,null,null,null,null,null,null,null,null,"Congo DRC"]
[null,null,null,null,null,null,null,null,null,null,null,"Congo, Democratic Republic of the"]
[null,null,null,null,null,null,null,null,null,null,null,"Congo, Republic of"]
[null,null,null,null,null,null,null,null,null,null,null,"Congress Service SARL"]
[null,null,null,null,null,null,null,null,null,null,null,"Conseil Audit Formation Internation al"]
[null,null,null,null,null,null,null,null,null,null,null,"Consortium of Christian Relief and Development Association (CCRDA)"]
[null,null,null,null,null,null,null,null,null,null,null,"Control Risks Group"]
[null,null,null,null,null,null,null,null,null,null,null,"Control Risks Services West Africa Ltd"]
[null,null,null,null,null,null,null,null,null,null,null,"Cooperation Canada"]
[null,null,null,null,null,null,null,null,null,null,null,"Copado Netherlands B.V."]
[null,null,null,null,null,null,null,null,null,null,null,"CORE - West & Central Africa"]
[null,null,null,null,null,null,null,null,null,null,null,"CORE Inc."]
[null,null,null,null,null,null,null,null,null,null,null,"CORE-EAP"]
[null,null,null,null,null,null,null,null,null,null,null,"Core-ESA"]
[null,null,null,null,null,null,null,null,null,null,null,"Cornelius OEPEN"]
[null,null,null,null,null,null,null,null,null,null,null,"Cornerstone OnDemand Limited"]
[null,null,null,null,null,null,null,null,null,null,null,"Corona Management Systems"]
[null,null,null,null,null,null,null,null,null,null,null,"Corporate Diplomat SPRL"]
[null,null,null,null,null,null,null,null,null,null,null,"Costa Rica"]
[null,null,null,null,null,null,null,null,null,null,null,"Cour des Comptes de la République Démocratique du Congo"]
[null,null,null,null,null,null,null,null,null,null,null,"Cour des Comptes du Burkina Faso"]
[null,null,null,null,null,null,null,null,null,null,null,"Courtney BURKS"]
[null,null,null,null,null,null,null,null,null,null,null,"Covington and Burling LLP"]
[null,null,null,null,null,null,null,null,null,null,null,"Craigberoch Business Decelerator Limited"]
[null,null,null,null,null,null,null,null,null,null,null,"Creative Minds Media"]
[null,null,null,null,null,null,null,null,null,null,null,"CREFIAF"]
[null,null,null,null,null,null,null,null,null,null,null,"Crestview Strategy Inc"]
[null,null,null,null,null,null,null,null,null,null,null,"Cricketfield Associates Limited"]
[null,null,null,null,null,null,null,null,null,null,null,"Cristina FERNANDEZ MENDEZ"]
[null,null,null,null,null,null,null,null,null,null,null,"Croatia"]
[null,null,null,null,null,null,null,null,null,null,null,"Croix-Rouge Togolaise"]
[null,null,null,null,null,null,null,null,null,null,null,"Crown Agents Limited"]
[null,null,null,null,null,null,null,null,null,null,null,"Crown Agents Zimbabwe (Pvt) Limited"]
[null,null,null,null,null,null,null,null,null,null,null,"Crown Castle Fiber LLC"]
[null,null,null,null,null,null,null,null,null,null,null,"Crystal CAMERON"]
[null,null,null,null,null,null,null,null,null,null,null,"CSC & Co., Chartered Accountants"]
[null,null,null,null,null,null,null,null,null,null,null,"Cuba"]
[null,null,null,null,null,null,null,null,null,null,null,"Cuba"]
[null,null,null,null,null,null,null,null,null,null,null,"CUISINE LAB"]
[null,null,null,null,null,null,null,null,null,null,null,"Cultivating Greatness LLC"]
[null,null,null,null,null,null,null,null,null,null,null,"CWT Beheermaatschappij B.V. Amsterdam Nyon Branch"]
[null,null,null,null,null,null,null,null,null,null,null,"Cynthia Louise CARLSON"]
[null,null,null,null,null,null,null,null,null,null,null,"Cyprus"]
[null,null,null,null,null,null,null,null,null,null,null,"Czechia"]
[null,null,null,null,null,null,null,null,null,null,null,"Côte d'Ivoire"]
[null,null,null,null,null,null,null,null,null,null,null,"Côte d'Ivoire"]
[null,null,null,null,null,null,null,null,null,null,null,"D Scott LAMONTAGNE"]
[null,null,null,null,null,null,null,null,null,null,null,"Dah CHEIKH"]
[null,null,null,null,null,null,null,null,null,null,null,"Dalberg Consulting CC"]
[null,null,null,null,null,null,null,null,null,null,null,"Dalberg Global Development Advisors"]
[null,null,null,null,null,null,null,null,null,null,null,"Dalberg SA"]
[null,null,null,null,null,null,null,null,null,null,null,"Dalia ELHAG"]
[null,null,null,null,null,null,null,null,null,null,null,"Dalya ELZINIY"]
[null,null,null,null,null,null,null,null,null,null,null,"Daniel J Edelman Ltd"]
[null,null,null,null,null,null,null,null,null,null,null,"Daniel MWAI"]
[null,null,null,null,null,null,null,null,null,null,null,"Daniel Osei"]
[null,null,null,null,null,null,null,null,null,null,null,"Daniel Rasheed OYAOLE"]
[null,null,null,null,null,null,null,null,null,null,null,"Daniel ROBERTSON"]
[null,null,null,null,null,null,null,null,null,null,null,"Daniella FIGUEROA-DOWNING"]
[null,null,null,null,null,null,null,null,null,null,null,"Danielle BOYDA"]
[null,null,null,null,null,null,null,null,null,null,null,"Danielle Hawa Tarigha"]
[null,null,null,null,null,null,null,null,null,null,null,"Dans la cuisine d'Alicia A. Grangier"]
[null,null,null,null,null,null,null,null,null,null,null,"Darest Informatic SA"]
[null,null,null,null,null,null,null,null,null,null,null,"Darwinbox Asia Pacific Pte. Ltd."]
[null,null,null,null,null,null,null,null,null,null,null,"Datawatch Systems Inc"]
[null,null,null,null,null,null,null,null,null,null,null,"David  Sulaberidze"]
[null,null,null,null,null,null,null,null,null,null,null,"David Crouch Marketing t/a About Entertainment"]
[null,null,null,null,null,null,null,null,null,null,null,"David H Sidwell"]
[null,null,null,null,null,null,null,null,null,null,null,"David HOLMES"]
[null,null,null,null,null,null,null,null,null,null,null,"David HOTCHKISS"]
[null,null,null,null,null,null,null,null,null,null,null,"David Humphries Advisory Limited"]
[null,null,null,null,null,null,null,null,null,null,null,"David Orr Associates, Inc."]
[null,null,null,null,null,null,null,null,null,null,null,"DC 21 7 PTY LTD"]
[null,null,null,null,null,null,null,null,null,null,null,"DC Health Link"]
[null,null,null,null,null,null,null,null,null,null,null,"Deborah ATHERLY"]
[null,null,null,null,null,null,null,null,null,null,null,"Deena Robyn SHIFF"]
[null,null,null,null,null,null,null,null,null,null,null,"Delivery Associates Limited"]
[null,null,null,null,null,null,null,null,null,null,null,"Deloitte SA"]
[null,null,null,null,null,null,null,null,null,null,null,"Deloitte Tax LLP"]
[null,null,null,null,null,null,null,null,null,null,null,"Democratic People's Republic of Korea"]
[null,null,null,null,null,null,null,null,null,null,null,"Denis Owino KONGERE"]
[null,null,null,null,null,null,null,null,null,null,null,"Denmark"]
[null,null,null,null,null,null,null,null,null,null,null,"Department of Health"]
[null,null,null,null,null,null,null,null,null,null,null,"Department of Health and Aged Care"]
[null,null,null,null,null,null,null,null,null,null,null,"Department of Health and Social Care Income (HGC)"]
[null,null,null,null,null,null,null,null,null,null,null,"Desmond Maada KANGBAI"]
[null,null,null,null,null,null,null,null,null,null,null,"Detort Limited"]
[null,null,null,null,null,null,null,null,null,null,null,"DEVAID Ltd."]
[null,null,null,null,null,null,null,null,null,null,null,"Development Today AS"]
[null,null,null,null,null,null,null,null,null,null,null,"DevelopmentEx.com Inc."]
[null,null,null,null,null,null,null,null,null,null,null,"Devpart Consult"]
[null,null,null,null,null,null,null,null,null,null,null,"DEX Imaging Inc"]
[null,null,null,null,null,null,null,null,null,null,null,"DFM Development Services, LLC"]
[null,null,null,null,null,null,null,null,null,null,null,"DFS Construction Corporation"]
[null,null,null,null,null,null,null,null,null,null,null,"DGDA Switzerland SARL"]
[null,null,null,null,null,null,null,null,null,null,null,"DGM Veron Grauer SA"]
[null,null,null,null,null,null,null,null,null,null,null,"DHL EXPRESS (SUISSE) SA"]
[null,null,null,null,null,null,null,null,null,null,null,"Diallo Fatoumata Battouly"]
[null,null,null,null,null,null,null,null,null,null,null,"Diamond Consulting Group Ltd"]
[null,null,null,null,null,null,null,null,null,null,null,"Diana Carolina ALVAREZ MATIZ"]
[null,null,null,null,null,null,null,null,null,null,null,"Diana Serrano"]
[null,null,null,null,null,null,null,null,null,null,null,"Didier REYNAUD"]
[null,null,null,null,null,null,null,null,null,null,null,"DigiCert Ireland Limited"]
[null,null,null,null,null,null,null,null,null,null,null,"Digicomp Academy Suisse Romande SA"]
[null,null,null,null,null,null,null,null,null,null,null,"Digital Brand Building sarl"]
[null,null,null,null,null,null,null,null,null,null,null,"Digital Village IO, Inc."]
[null,null,null,null,null,null,null,null,null,null,null,"Diligent Boardbooks Limited"]
[null,null,null,null,null,null,null,null,null,null,null,"Dillon Frase Chamberlain LEET"]
[null,null,null,null,null,null,null,null,null,null,null,"Dimagi, Inc."]
[null,null,null,null,null,null,null,null,null,null,null,"Distriform Sarl"]
[null,null,null,null,null,null,null,null,null,null,null,"Djibouti"]
[null,null,null,null,null,null,null,null,null,null,null,"Djibouti"]
[null,null,null,null,null,null,null,null,null,null,null,"Djordje GIKIC"]
[null,null,null,null,null,null,null,null,null,null,null,"DocuSign International (EMEA) Limited"]
[null,null,null,null,null,null,null,null,null,null,null,"Domanfoule DA"]
[null,null,null,null,null,null,null,null,null,null,null,"Dominica"]
[null,null,null,null,null,null,null,null,null,null,null,"Dominican Republic"]
[null,null,null,null,null,null,null,null,null,null,null,"Dominique LEGROS"]
[null,null,null,null,null,null,null,null,null,null,null,"Donnie MATEGULA"]
[null,null,null,null,null,null,null,null,null,null,null,"Dorentina ÇYBI"]
[null,null,null,null,null,null,null,null,null,null,null,"Doris A HERRERA POL"]
[null,null,null,null,null,null,null,null,null,null,null,"Dr Shanmugapriya Umachandran"]
[null,null,null,null,null,null,null,null,null,null,null,"Dr. Jacqueline Berman"]
[null,null,null,null,null,null,null,null,null,null,null,"DT Global Inc"]
[null,null,null,null,null,null,null,null,null,null,null,"Duncan Graham Rowe Ltd"]
[null,null,null,null,null,null,null,null,null,null,null,"Dunstan Raphael BISHANGA"]
[null,null,null,null,null,null,null,null,null,null,null,"Dynamex Washington Express"]
[null,null,null,null,null,null,null,null,null,null,null,"Département Fédéral de l'Intérieur"]
[null,null,null,null,null,null,null,null,null,null,null,"E-Pearl LTD"]
[null,null,null,null,null,null,null,null,null,null,null,"E&K CONSULTING LLP"]
[null,null,null,null,null,null,null,null,null,null,null,"EBMORGANE LIMITED"]
[null,null,null,null,null,null,null,null,null,null,null,"Echemole Gloria Abass"]
[null,null,null,null,null,null,null,null,null,null,null,"Ecuador"]
[null,null,null,null,null,null,null,null,null,null,null,"EDAU SCP Congo"]
[null,null,null,null,null,null,null,null,null,null,null,"Eddy Hill Design"]
[null,null,null,null,null,null,null,null,null,null,null,"Eden Springs Switzerland SA"]
[null,null,null,null,null,null,null,null,null,null,null,"Edes & Assoc Consultants Ltd"]
[null,null,null,null,null,null,null,null,null,null,null,"Edington  Peel & Associates  Inc"]
[null,null,null,null,null,null,null,null,null,null,null,"Edna Yolani Batres Cruz"]
[null,null,null,null,null,null,null,null,null,null,null,"Eduardo Humberto RETES BARAHONA"]
[null,null,null,null,null,null,null,null,null,null,null,"Edward Rakwar Otieno OUKO"]
[null,null,null,null,null,null,null,null,null,null,null,"Edwinah Arwah OROWE"]
[null,null,null,null,null,null,null,null,null,null,null,"Efficience Globale"]
[null,null,null,null,null,null,null,null,null,null,null,"Egg-Telsa SA"]
[null,null,null,null,null,null,null,null,null,null,null,"Egon Zehnder International (Suisse) SA"]
[null,null,null,null,null,null,null,null,null,null,null,"EGRC Limited"]
[null,null,null,null,null,null,null,null,null,null,null,"Egypt"]
[null,null,null,null,null,null,null,null,null,null,null,"eHealth Systems Africa Foundation"]
[null,null,null,null,null,null,null,null,null,null,null,"Eila Kaarina KREIVI"]
[null,null,null,null,null,null,null,null,null,null,null,"El Salvador"]
[null,null,null,null,null,null,null,null,null,null,null,"Elaine Michelle GREEN"]
[null,null,null,null,null,null,null,null,null,null,null,"ELDORA SA"]
[null,null,null,null,null,null,null,null,null,null,null,"Eleanor MARSH"]
[null,null,null,null,null,null,null,null,null,null,null,"Elena Beatriz AGUILERA MURILLO"]
[null,null,null,null,null,null,null,null,null,null,null,"Eleni Lily CAPSASKIS"]
[null,null,null,null,null,null,null,null,null,null,null,"Eleonora GENOVESE"]
[null,null,null,null,null,null,null,null,null,null,null,"Elgon Road Developments Ltd / TA Ra disson Blu Hotel Nairobi Upper Hill"]
[null,null,null,null,null,null,null,null,null,null,null,"Elisa MANACORDA"]
[null,null,null,null,null,null,null,null,null,null,null,"Elisabeth PAUL"]
[null,null,null,null,null,null,null,null,null,null,null,"Elise Clarisse NNOMO AWONDO"]
[null,null,null,null,null,null,null,null,null,null,null,"Elise Deeqa Mugabo"]
[null,null,null,null,null,null,null,null,null,null,null,"Elite Rent-a-Car SA"]
[null,null,null,null,null,null,null,null,null,null,null,"Elizabeth Danjuma HASSAN"]
[null,null,null,null,null,null,null,null,null,null,null,"Elizabeth Glaser Pediatric AIDS Foundation (EGPAF)"]
[null,null,null,null,null,null,null,null,null,null,null,"Elizabeth Jane NELSON"]
[null,null,null,null,null,null,null,null,null,null,null,"Elizaveta Viktorovna MLECHKOVA"]
[null,null,null,null,null,null,null,null,null,null,null,"ellips public affairs & consulting sàrl"]
[null,null,null,null,null,null,null,null,null,null,null,"Emeritus Institute of Management Pte Ltd"]
[null,null,null,null,null,null,null,null,null,null,null,"Emily CLOSE"]
[null,null,null,null,null,null,null,null,null,null,null,"Emily DUFFY"]
[null,null,null,null,null,null,null,null,null,null,null,"Emily Elizabeth CAMP"]
[null,null,null,null,null,null,null,null,null,null,null,"Emily Tillotson BLITZ"]
[null,null,null,null,null,null,null,null,null,null,null,"emineo International SA"]
[null,null,null,null,null,null,null,null,null,null,null,"Emma SAID"]
[null,null,null,null,null,null,null,null,null,null,null,"Emmanuel AROME OGIJO"]
[null,null,null,null,null,null,null,null,null,null,null,"Emmanuel Maina Djoulde"]
[null,null,null,null,null,null,null,null,null,null,null,"Emmanuelle HENRY"]
[null,null,null,null,null,null,null,null,null,null,null,"Emmanuelle Valerie ESPIE"]
[null,null,null,null,null,null,null,null,null,null,null,"Enelsol International Inc."]
[null,null,null,null,null,null,null,null,null,null,null,"ENOVPHARM"]
[null,null,null,null,null,null,null,null,null,null,null,"Entreprise Castle Hall Alternatives Inc."]
[null,null,null,null,null,null,null,null,null,null,null,"Enyo-Ojo Praise ABAH"]
[null,null,null,null,null,null,null,null,null,null,null,"Enyonam Mansa ASAFO"]
[null,null,null,null,null,null,null,null,null,null,null,"Eoin GORMLEY"]
[null,null,null,null,null,null,null,null,null,null,null,"Epicentre"]
[null,null,null,null,null,null,null,null,null,null,null,"EPICENTRO PELOTAS LTDA"]
[null,null,null,null,null,null,null,null,null,null,null,"EpiLinks"]
[null,null,null,null,null,null,null,null,null,null,null,"Epsom Manotel SA"]
[null,null,null,null,null,null,null,null,null,null,null,"Equatorial Guinea"]
[null,null,null,null,null,null,null,null,null,null,null,"Equinox Concept SA"]
[null,null,null,null,null,null,null,null,null,null,null,"Erica Cornelia STAPELBERG"]
[null,null,null,null,null,null,null,null,null,null,null,"Erik Helge Weiner-Trapness"]
[null,null,null,null,null,null,null,null,null,null,null,"Erika WICHRO"]
[null,null,null,null,null,null,null,null,null,null,null,"Eritrea"]
[null,null,null,null,null,null,null,null,null,null,null,"Eritrea"]
[null,null,null,null,null,null,null,null,null,null,null,"Ernst & Young AG"]
[null,null,null,null,null,null,null,null,null,null,null,"Ernst and Young Ford Rhodes Sidat Hyder"]
[null,null,null,null,null,null,null,null,null,null,null,"Ernst and Young LLP"]
[null,null,null,null,null,null,null,null,null,null,null,"Esprit d'Entente SNC"]
[null,null,null,null,null,null,null,null,null,null,null,"Esther Agali NASIKYE"]
[null,null,null,null,null,null,null,null,null,null,null,"Estonia"]
[null,null,null,null,null,null,null,null,null,null,null,"Eswatini"]
[null,null,null,null,null,null,null,null,null,null,null,"Ethiopia"]
[null,null,null,null,null,null,null,null,null,null,null,"Ethiopia"]
[null,null,null,null,null,null,null,null,null,null,null,"Eunhye LEE"]
[null,null,null,null,null,null,null,null,null,null,null,"Euphony Services Jayne Magistris"]
[null,null,null,null,null,null,null,null,null,null,null,"Euro Health Group A/S"]
[null,null,null,null,null,null,null,null,null,null,null,"EUROPEAN DEVELOPMENT PROJECT SPRL"]
[null,null,null,null,null,null,null,null,null,null,null,"EUROPEAN INVESTMENT BANK"]
[null,null,null,null,null,null,null,null,null,null,null,"European School of Management and Technology GmbH"]
[null,null,null,null,null,null,null,null,null,null,null,"European Vaccine Initiative e.V."]
[null,null,null,null,null,null,null,null,null,null,null,"Eurotel Victoria S.A."]
[null,null,null,null,null,null,null,null,null,null,null,"Eva Marie CLARK"]
[null,null,null,null,null,null,null,null,null,null,null,"Evans Nyasimi MOKAYA"]
[null,null,null,null,null,null,null,null,null,null,null,"Evariste TOKPLONOU"]
[null,null,null,null,null,null,null,null,null,null,null,"Evelyn KABBA"]
[null,null,null,null,null,null,null,null,null,null,null,"Evelyne BOUCHARD"]
[null,null,null,null,null,null,null,null,null,null,null,"Evian Resort"]
[null,null,null,null,null,null,null,null,null,null,null,"Eviden AG"]
[null,null,null,null,null,null,null,null,null,null,null,"Excel Security Solutions AG"]
[null,null,null,null,null,null,null,null,null,null,null,"Expertise France SAS"]
[null,null,null,null,null,null,null,null,null,null,null,"Explorance Inc"]
[null,null,null,null,null,null,null,null,null,null,null,"EY Ford Rhodes"]
[null,null,null,null,null,null,null,null,null,null,null,"Ezzedine MOHSNI"]
[null,null,null,null,null,null,null,null,null,null,null,"Fabio PORFIRI"]
[null,null,null,null,null,null,null,null,null,null,null,"FAIRPICTURE AG"]
[null,null,null,null,null,null,null,null,null,null,null,"Fakhre Alam KHATTAK"]
[null,null,null,null,null,null,null,null,null,null,null,"Family Health International"]
[null,null,null,null,null,null,null,null,null,null,null,"FASCINANS LTD"]
[null,null,null,null,null,null,null,null,null,null,null,"Fatima BABIKER"]
[null,null,null,null,null,null,null,null,null,null,null,"Fatoumata KOMMA"]
[null,null,null,null,null,null,null,null,null,null,null,"Faustin SEGLA"]
[null,null,null,null,null,null,null,null,null,null,null,"Federal Statistical Office"]
[null,null,null,null,null,null,null,null,null,null,null,"Federico Gerardo DE COSIO HERNANDEZ"]
[null,null,null,null,null,null,null,null,null,null,null,"Fenix Media Limited T/A Pulsar"]
[null,null,null,null,null,null,null,null,null,null,null,"Feytiat consulting inc."]
[null,null,null,null,null,null,null,null,null,null,null,"Fides Treasury Services AG"]
[null,null,null,null,null,null,null,null,null,null,null,"Fiji"]
[null,null,null,null,null,null,null,null,null,null,null,"Filmevent.com GmbH"]
[null,null,null,null,null,null,null,null,null,null,null,"FINANCEMENT ACCELERATEUR D'EQUIPE DON"]
[null,null,null,null,null,null,null,null,null,null,null,"Financing Alliance for Health Africa Frontline First"]
[null,null,null,null,null,null,null,null,null,null,null,"Finland"]
[null,null,null,null,null,null,null,null,null,null,null,"Finn Partners, Inc."]
[null,null,null,null,null,null,null,null,null,null,null,"Fiona NUWAMANYA"]
[null,null,null,null,null,null,null,null,null,null,null,"Fleurop Interflora Schweiz AG"]
[null,null,null,null,null,null,null,null,null,null,null,"Florent SOKO"]
[null,null,null,null,null,null,null,null,null,null,null,"Focus 2 3"]
[null,null,null,null,null,null,null,null,null,null,null,"Focus Equality S.A.S. Francesca Belli & c."]
[null,null,null,null,null,null,null,null,null,null,null,"Fondation CAUX- Initiatives et changement"]
[null,null,null,null,null,null,null,null,null,null,null,"Fondation Equal Salary"]
[null,null,null,null,null,null,null,null,null,null,null,"Fondation Mérieux"]
[null,null,null,null,null,null,null,null,null,null,null,"Fondation Santé et Développement Durable"]
[null,null,null,null,null,null,null,null,null,null,null,"Fondo Nacional de Gestion del Riesgo de Desastres"]
[null,null,null,null,null,null,null,null,null,null,null,"Fonds de Solidarité Covid-19"]
[null,null,null,null,null,null,null,null,null,null,null,"Foreign, Commonwealth and Development Office"]
[null,null,null,null,null,null,null,null,null,null,null,"Fortis Consilium Ltd"]
[null,null,null,null,null,null,null,null,null,null,null,"Foundation for the Graduate Institute of International and Development Studies"]
[null,null,null,null,null,null,null,null,null,null,null,"Fragile & Conflict"]
[null,null,null,null,null,null,null,null,null,null,null,"France"]
[null,null,null,null,null,null,null,null,null,null,null,"Francesca NUNBERG"]
[null,null,null,null,null,null,null,null,null,null,null,"Francesco CHECCHI"]
[null,null,null,null,null,null,null,null,null,null,null,"Francisco Borja CUERVO ALONSO"]
[null,null,null,null,null,null,null,null,null,null,null,"Françoise Marie LACOSTE-DE LUCA"]
[null,null,null,null,null,null,null,null,null,null,null,"Fregate Island Foundation- Seychelles"]
[null,null,null,null,null,null,null,null,null,null,null,"FREIGHT IN TIME Limited"]
[null,null,null,null,null,null,null,null,null,null,null,"FSP 2 99 Penn LLC"]
[null,null,null,null,null,null,null,null,null,null,null,"FultonSt1 LLC t/a Dancker"]
[null,null,null,null,null,null,null,null,null,null,null,"Funape Fundação de Apoio a Pesquisa da Universidade Federal de Goiás"]
[null,null,null,null,null,null,null,null,null,null,null,"FUNDAÇÃO ARIEL GLASER CONTRA O SIDA PEDIATRICO"]
[null,null,null,null,null,null,null,null,null,null,null,"Fundação D. Anna de Sommer Champali maud e Dr. Carlos Montez Champalimaud"]
[null,null,null,null,null,null,null,null,null,null,null,"Futures Health Economics and Metrics Lim and Metrics Limited"]
[null,null,null,null,null,null,null,null,null,null,null,"Gabon"]
[null,null,null,null,null,null,null,null,null,null,null,"Gabriel RIBEIRO DOS SANTOS"]
[null,null,null,null,null,null,null,null,null,null,null,"Gaelle OLLIVIER GOUAGNA"]
[null,null,null,null,null,null,null,null,null,null,null,"Gainha KIM"]
[null,null,null,null,null,null,null,null,null,null,null,"GALLICE International Services Ltd"]
[null,null,null,null,null,null,null,null,null,null,null,"Gallup GmbH"]
[null,null,null,null,null,null,null,null,null,null,null,"Gambia"]
[null,null,null,null,null,null,null,null,null,null,null,"Gambia"]
[null,null,null,null,null,null,null,null,null,null,null,"GANESHAID CONSULTANCY COMPANY LIMIT ED"]
[null,null,null,null,null,null,null,null,null,null,null,"Garba DJIBO"]
[null,null,null,null,null,null,null,null,null,null,null,"Gartner Switzerland GmbH"]
[null,null,null,null,null,null,null,null,null,null,null,"Gaston Piatan FORO"]
[null,null,null,null,null,null,null,null,null,null,null,"Gavi External Account for CP"]
[null,null,null,null,null,null,null,null,null,null,null,"Gavi Global Account"]
[null,null,null,null,null,null,null,null,null,null,null,"Gavi Global Account"]
[null,null,null,null,null,null,null,null,null,null,null,"Gavin SURGEY"]
[null,null,null,null,null,null,null,null,null,null,null,"GCC RESORTS LIMITED"]
[null,null,null,null,null,null,null,null,null,null,null,"GDI ADVISORS"]
[null,null,null,null,null,null,null,null,null,null,null,"GDI Solutions LLC"]
[null,null,null,null,null,null,null,null,null,null,null,"Gecco Distribution SA"]
[null,null,null,null,null,null,null,null,null,null,null,"Geena Moriell ZIMBLER"]
[null,null,null,null,null,null,null,null,null,null,null,"Geneva Centre for Security Policy Centre de Politique de Sécurité-Genève"]
[null,null,null,null,null,null,null,null,null,null,null,"Geneva Presentation Skills Eleni Theocharopoulos - Turtle Concept"]
[null,null,null,null,null,null,null,null,null,null,null,"Genevieve Brigitte NOUNDJA-NOUBISSI"]
[null,null,null,null,null,null,null,null,null,null,null,"Genolier Innovation Hub SA"]
[null,null,null,null,null,null,null,null,null,null,null,"Georgia"]
[null,null,null,null,null,null,null,null,null,null,null,"Georgia"]
[null,null,null,null,null,null,null,null,null,null,null,"Georgina BAKER"]
[null,null,null,null,null,null,null,null,null,null,null,"Germany"]
[null,null,null,null,null,null,null,null,null,null,null,"GFA Consulting Group GmbH"]
[null,null,null,null,null,null,null,null,null,null,null,"Ghana"]
[null,null,null,null,null,null,null,null,null,null,null,"Ghana"]
[null,null,null,null,null,null,null,null,null,null,null,"Ghana Coalition Of NGOs In Health"]
[null,null,null,null,null,null,null,null,null,null,null,"GIE Vaccilog"]
[null,null,null,null,null,null,null,null,null,null,null,"GIFTEDMOM SARL"]
[null,null,null,null,null,null,null,null,null,null,null,"Gilbert Benjamin BUCKLE"]
[null,null,null,null,null,null,null,null,null,null,null,"GINGER INTERNATIONAL"]
[null,null,null,null,null,null,null,null,null,null,null,"Ginger SOFRECO"]
[null,null,null,null,null,null,null,null,null,null,null,"Giorgi PKHAKADZE"]
[null,null,null,null,null,null,null,null,null,null,null,"Girl Effect"]
[null,null,null,null,null,null,null,null,null,null,null,"Giulia ALOISIO"]
[null,null,null,null,null,null,null,null,null,null,null,"Glimmer Technologies, Inc."]
[null,null,null,null,null,null,null,null,null,null,null,"Global Communications Development N etwork Sarl"]
[null,null,null,null,null,null,null,null,null,null,null,"Global Health Consultants Limited"]
[null,null,null,null,null,null,null,null,null,null,null,"Global Health Council"]
[null,null,null,null,null,null,null,null,null,null,null,"Global Health Development"]
[null,null,null,null,null,null,null,null,null,null,null,"Global Health Strategies   LLC"]
[null,null,null,null,null,null,null,null,null,null,null,"Global Hospitality Platform BV Azav ista"]
[null,null,null,null,null,null,null,null,null,null,null,"Global Impact"]
[null,null,null,null,null,null,null,null,null,null,null,"Global Media (Sample)"]
[null,null,null,null,null,null,null,null,null,null,null,"Global Poverty Project, Inc. dba Global"]
[null,null,null,null,null,null,null,null,null,null,null,"Globe Limo SA"]
[null,null,null,null,null,null,null,null,null,null,null,"Gnamien Ernest KOUAME"]
[null,null,null,null,null,null,null,null,null,null,null,"Gnowbe Inc"]
[null,null,null,null,null,null,null,null,null,null,null,"Gobierno de Guatemala"]
[null,null,null,null,null,null,null,null,null,null,null,"Gobierno de Uruguay - Ministerio de Salud Publica"]
[null,null,null,null,null,null,null,null,null,null,null,"Gobierno del Ecuador"]
[null,null,null,null,null,null,null,null,null,null,null,"Gobo Serge GBAPPA"]
[null,null,null,null,null,null,null,null,null,null,null,"GOLDEN SAND SERVICES APARTMENTS LTD"]
[null,null,null,null,null,null,null,null,null,null,null,"Gourmet Brothers SA"]
[null,null,null,null,null,null,null,null,null,null,null,"Government of Antigua and Barbuda"]
[null,null,null,null,null,null,null,null,null,null,null,"Government of Bahrain"]
[null,null,null,null,null,null,null,null,null,null,null,"Government of Belgium"]
[null,null,null,null,null,null,null,null,null,null,null,"Government of Brunei Darussalam"]
[null,null,null,null,null,null,null,null,null,null,null,"Government of Malta"]
[null,null,null,null,null,null,null,null,null,null,null,"Government of the Virgin Islands Mi nistry of Health and Social Development"]
[null,null,null,null,null,null,null,null,null,null,null,"GP STUDIO"]
[null,null,null,null,null,null,null,null,null,null,null,"GR Japan"]
[null,null,null,null,null,null,null,null,null,null,null,"Graham Digital Holding Company LLC"]
[null,null,null,null,null,null,null,null,null,null,null,"Grammarly Inc."]
[null,null,null,null,null,null,null,null,null,null,null,"Gran Vía Experience S.L."]
[null,null,null,null,null,null,null,null,null,null,null,"GreatAmerica Financial Services Corporation Dba"]
[null,null,null,null,null,null,null,null,null,null,null,"Greece"]
[null,null,null,null,null,null,null,null,null,null,null,"Grenada"]
[null,null,null,null,null,null,null,null,null,null,null,"Grey Wolf Productions Ltd"]
[null,null,null,null,null,null,null,null,null,null,null,"Grossberg, Yochelson, Fox & Beyda, LLP"]
[null,null,null,null,null,null,null,null,null,null,null,"Group for Technical Assistance"]
[null,null,null,null,null,null,null,null,null,null,null,"Group M Media India Private Limited"]
[null,null,null,null,null,null,null,null,null,null,null,"GSK Biologicals SA"]
[null,null,null,null,null,null,null,null,null,null,null,"GTS Nordic ApS"]
[null,null,null,null,null,null,null,null,null,null,null,"Guatemala"]
[null,null,null,null,null,null,null,null,null,null,null,"GUIDEZONE LIMITED"]
[null,null,null,null,null,null,null,null,null,null,null,"Guildhawk Limited"]
[null,null,null,null,null,null,null,null,null,null,null,"Guinea"]
[null,null,null,null,null,null,null,null,null,null,null,"Guinea"]
[null,null,null,null,null,null,null,null,null,null,null,"Guinea-Bissau"]
[null,null,null,null,null,null,null,null,null,null,null,"Gulbara ISHENAPYSOVA"]
[null,null,null,null,null,null,null,null,null,null,null,"Guyana"]
[null,null,null,null,null,null,null,null,null,null,null,"Guyana"]
[null,null,null,null,null,null,null,null,null,null,null,"Hadley Peter Ode IKWE"]
[null,null,null,null,null,null,null,null,null,null,null,"Haingo Herizo RATSIMIAHY"]
[null,null,null,null,null,null,null,null,null,null,null,"Haiti"]
[null,null,null,null,null,null,null,null,null,null,null,"Haiti"]
[null,null,null,null,null,null,null,null,null,null,null,"Halbe Rahmen GmbH"]
[null,null,null,null,null,null,null,null,null,null,null,"Hanbury Strategy and Communications Limi"]
[null,null,null,null,null,null,null,null,null,null,null,"Hanna Maria NOHYNEK"]
[null,null,null,null,null,null,null,null,null,null,null,"Hannah Elizabeth DAWSON"]
[null,null,null,null,null,null,null,null,null,null,null,"Hannah KETTLER"]
[null,null,null,null,null,null,null,null,null,null,null,"Hantarivelo Nelly Rollande RAMELIJAONA"]
[null,null,null,null,null,null,null,null,null,null,null,"Harboe Schmidt Sarl"]
[null,null,null,null,null,null,null,null,null,null,null,"Hardi BAKARI NYARI"]
[null,null,null,null,null,null,null,null,null,null,null,"Harry JEENE"]
[null,null,null,null,null,null,null,null,null,null,null,"Hayathe AYEVA"]
[null,null,null,null,null,null,null,null,null,null,null,"Hays Switzerland Ltd"]
[null,null,null,null,null,null,null,null,null,null,null,"HD Consulting Services Limited"]
[null,null,null,null,null,null,null,null,null,null,null,"HDI Global SE, Hannover Niederlassu ng Zürich/Schweiz"]
[null,null,null,null,null,null,null,null,null,null,null,"Headspace, Inc."]
[null,null,null,null,null,null,null,null,null,null,null,"Health Equity and Resilience SL"]
[null,null,null,null,null,null,null,null,null,null,null,"Health for All Coalition - Sierra Leone"]
[null,null,null,null,null,null,null,null,null,null,null,"Health Information Systems Program LTD (HISP)"]
[null,null,null,null,null,null,null,null,null,null,null,"Health Limited"]
[null,null,null,null,null,null,null,null,null,null,null,"Health Management Support Team - Roberto Garcia B.V."]
[null,null,null,null,null,null,null,null,null,null,null,"Health Systems Global Association"]
[null,null,null,null,null,null,null,null,null,null,null,"Healthcare Learning Platform Sàrl"]
[null,null,null,null,null,null,null,null,null,null,null,"HealthFirst Sarl"]
[null,null,null,null,null,null,null,null,null,null,null,"Heather DEEHAN"]
[null,null,null,null,null,null,null,null,null,null,null,"Heidi Maria LAKE"]
[null,null,null,null,null,null,null,null,null,null,null,"Heidrick & Struggles International Inc."]
[null,null,null,null,null,null,null,null,null,null,null,"Heidrick and Struggles (UK) Ltd"]
[null,null,null,null,null,null,null,null,null,null,null,"Hekla Europe"]
[null,null,null,null,null,null,null,null,null,null,null,"Helen LIU"]
[null,null,null,null,null,null,null,null,null,null,null,"Helen SAXENIAN"]
[null,null,null,null,null,null,null,null,null,null,null,"Helvetic Payroll SA"]
[null,null,null,null,null,null,null,null,null,null,null,"HELVETICARE RIVE SA"]
[null,null,null,null,null,null,null,null,null,null,null,"Hema SRINIVASAN"]
[null,null,null,null,null,null,null,null,null,null,null,"Henrik SALJE"]
[null,null,null,null,null,null,null,null,null,null,null,"Henry Dunant Centre for Humanitarian Dialogue"]
[null,null,null,null,null,null,null,null,null,null,null,"Henry LU"]
[null,null,null,null,null,null,null,null,null,null,null,"Henry Stanley KATAMBA"]
[null,null,null,null,null,null,null,null,null,null,null,"Hera CV"]
[null,null,null,null,null,null,null,null,null,null,null,"Hewlett Packard International Bank DAC"]
[null,null,null,null,null,null,null,null,null,null,null,"HEWM Partners LLP"]
[null,null,null,null,null,null,null,null,null,null,null,"Hiba BOUJNAH"]
[null,null,null,null,null,null,null,null,null,null,null,"High Impact"]
[null,null,null,null,null,null,null,null,null,null,null,"HireRight Limited"]
[null,null,null,null,null,null,null,null,null,null,null,"Hiru Pushkara MAKAWITAGE PERERA"]
[null,null,null,null,null,null,null,null,null,null,null,"HISP MENA Co."]
[null,null,null,null,null,null,null,null,null,null,null,"HISP WEST AND CENTRAL AFRICA SARL"]
[null,null,null,null,null,null,null,null,null,null,null,"HNE Consulting"]
[null,null,null,null,null,null,null,null,null,null,null,"Hobson Prior Europe GmbH"]
[null,null,null,null,null,null,null,null,null,null,null,"Hofmans FSC"]
[null,null,null,null,null,null,null,null,null,null,null,"Honduras"]
[null,null,null,null,null,null,null,null,null,null,null,"Honduras"]
[null,null,null,null,null,null,null,null,null,null,null,"Hong Kong SAR, China"]
[null,null,null,null,null,null,null,null,null,null,null,"Hospitality Swiss Proco AG"]
[null,null,null,null,null,null,null,null,null,null,null,"HOTEL ALPEN VALLEY"]
[null,null,null,null,null,null,null,null,null,null,null,"Hotel Beauregard SAS"]
[null,null,null,null,null,null,null,null,null,null,null,"Hotel Chavannes-Bogis SA"]
[null,null,null,null,null,null,null,null,null,null,null,"Hotel D Geneva"]
[null,null,null,null,null,null,null,null,null,null,null,"Hotel d'Angleterre SA"]
[null,null,null,null,null,null,null,null,null,null,null,"Hotel et centre thermal d'Yverdon-les-Bains SA"]
[null,null,null,null,null,null,null,null,null,null,null,"Hotel Longemalle SA"]
[null,null,null,null,null,null,null,null,null,null,null,"HOTEL PARLEMENTAIRE"]
[null,null,null,null,null,null,null,null,null,null,null,"Hotel Real SA"]
[null,null,null,null,null,null,null,null,null,null,null,"Hotel Seehof Davos AG"]
[null,null,null,null,null,null,null,null,null,null,null,"Hotel Victoria Exploitation Glion"]
[null,null,null,null,null,null,null,null,null,null,null,"Hotels Intercontinental Geneve Crow ne Plaza"]
[null,null,null,null,null,null,null,null,null,null,null,"House of Commons"]
[null,null,null,null,null,null,null,null,null,null,null,"HP Inc"]
[null,null,null,null,null,null,null,null,null,null,null,"Huda SHASHAA"]
[null,null,null,null,null,null,null,null,null,null,null,"Hugo Miguel SOUSA AGOSTINHO"]
[null,null,null,null,null,null,null,null,null,null,null,"HumanForce Sarl"]
[null,null,null,null,null,null,null,null,null,null,null,"Husniya DORGHABEKOVA"]
[null,null,null,null,null,null,null,null,null,null,null,"Hyung Joon KIM"]
[null,null,null,null,null,null,null,null,null,null,null,"Hôpitaux Universitaires de Genève"]
[null,null,null,null,null,null,null,null,null,null,null,"Hôtel Suisse Majestic SA"]
[null,null,null,null,null,null,null,null,null,null,null,"Ian BARRETT"]
[null,null,null,null,null,null,null,null,null,null,null,"ICBARISIGOR DOVL AGENT PHSH"]
[null,null,null,null,null,null,null,null,null,null,null,"Iceland"]
[null,null,null,null,null,null,null,null,null,null,null,"ICGFM"]
[null,null,null,null,null,null,null,null,null,null,null,"Ideagen Technology Ltd"]
[null,null,null,null,null,null,null,null,null,null,null,"IFRC"]
[null,null,null,null,null,null,null,null,null,null,null,"Ignacio ESTEBAN"]
[null,null,null,null,null,null,null,null,null,null,null,"Immaculate Nzembi MWAKE"]
[null,null,null,null,null,null,null,null,null,null,null,"iMocha Inc"]
[null,null,null,null,null,null,null,null,null,null,null,"Impact Factory Ltd"]
[null,null,null,null,null,null,null,null,null,null,null,"Impactium Consulting AB"]
[null,null,null,null,null,null,null,null,null,null,null,"Imperial College of Science Technol ogy and Medicine"]
[null,null,null,null,null,null,null,null,null,null,null,"Imperial College Projects Limited"]
[null,null,null,null,null,null,null,null,null,null,null,"Imprimerie G. Chapuis SA"]
[null,null,null,null,null,null,null,null,null,null,null,"INAS MUBARAK YAHIA ABBAS"]
[null,null,null,null,null,null,null,null,null,null,null,"India"]
[null,null,null,null,null,null,null,null,null,null,null,"India"]
[null,null,null,null,null,null,null,null,null,null,null,"Individual Entrepreneur Boyko Khrystyna"]
[null,null,null,null,null,null,null,null,null,null,null,"Indonesia"]
[null,null,null,null,null,null,null,null,null,null,null,"Indonesia"]
[null,null,null,null,null,null,null,null,null,null,null,"Indumati Sen"]
[null,null,null,null,null,null,null,null,null,null,null,"Infinisource"]
[null,null,null,null,null,null,null,null,null,null,null,"Infinitia Limited"]
[null,null,null,null,null,null,null,null,null,null,null,"Information Systems Audit and Control Association"]
[null,null,null,null,null,null,null,null,null,null,null,"Inga SAVIN"]
[null,null,null,null,null,null,null,null,null,null,null,"Ingentis Softwareentwicklung GmbH"]
[null,null,null,null,null,null,null,null,null,null,null,"Ingrid VAN WEES"]
[null,null,null,null,null,null,null,null,null,null,null,"Ink Learning Solutions Pty Ltd"]
[null,null,null,null,null,null,null,null,null,null,null,"Inner Work World LLC"]
[null,null,null,null,null,null,null,null,null,null,null,"InRule Technology Inc"]
[null,null,null,null,null,null,null,null,null,null,null,"Insamlingsstiftelsen Shifo Foundation"]
[null,null,null,null,null,null,null,null,null,null,null,"Insightsoftware LLC"]
[null,null,null,null,null,null,null,null,null,null,null,"INSTCARE SA"]
[null,null,null,null,null,null,null,null,null,null,null,"Institut Francais de l Audit et du Controle Internes"]
[null,null,null,null,null,null,null,null,null,null,null,"Institut Pasteur de Dakar"]
[null,null,null,null,null,null,null,null,null,null,null,"Institut Regional de Santé Publique Comlan Alfred Auguste Quenum"]
[null,null,null,null,null,null,null,null,null,null,null,"Institute for Research Socioeconomic Development"]
[null,null,null,null,null,null,null,null,null,null,null,"Institute of Directors"]
[null,null,null,null,null,null,null,null,null,null,null,"Instituto Nacional de Saude (INS)"]
[null,null,null,null,null,null,null,null,null,null,null,"Intalma International Talent Management AB"]
[null,null,null,null,null,null,null,null,null,null,null,"Integrate Health Inc."]
[null,null,null,null,null,null,null,null,null,null,null,"Integrated Quality Laboratory Services"]
[null,null,null,null,null,null,null,null,null,null,null,"Interface Media Group Inc"]
[null,null,null,null,null,null,null,null,null,null,null,"International Centre for Diarrhoeal Disease Research, Bangladesh (icddr,b)"]
[null,null,null,null,null,null,null,null,null,null,null,"International Centre for Parliamentary Studies Ltd"]
[null,null,null,null,null,null,null,null,null,null,null,"International Chamber of Commerce"]
[null,null,null,null,null,null,null,null,null,null,null,"International Corporate Governance Network"]
[null,null,null,null,null,null,null,null,null,null,null,"International Federation of Accountants"]
[null,null,null,null,null,null,null,null,null,null,null,"International Initiative for Impact Evaluation"]
[null,null,null,null,null,null,null,null,null,null,null,"International Labour Organization ILO"]
[null,null,null,null,null,null,null,null,null,null,null,"International Location Safety Ltd"]
[null,null,null,null,null,null,null,null,null,null,null,"International Organisation Developm ent Ltd"]
[null,null,null,null,null,null,null,null,null,null,null,"International Organization for Migr IOM"]
[null,null,null,null,null,null,null,null,null,null,null,"International Rescue Committee Inc"]
[null,null,null,null,null,null,null,null,null,null,null,"International Vaccine Institute"]
[null,null,null,null,null,null,null,null,null,null,null,"Intertalent Pty Ltd"]
[null,null,null,null,null,null,null,null,null,null,null,"Intire Service AG"]
[null,null,null,null,null,null,null,null,null,null,null,"IntraHealth International Inc."]
[null,null,null,null,null,null,null,null,null,null,null,"IntraTeam aps"]
[null,null,null,null,null,null,null,null,null,null,null,"IPE Global Limited"]
[null,null,null,null,null,null,null,null,null,null,null,"IPSOS (MARKET RESEARCH) LTD"]
[null,null,null,null,null,null,null,null,null,null,null,"IQVIA AG"]
[null,null,null,null,null,null,null,null,null,null,null,"IQVIA Solutions Pty Ltd"]
[null,null,null,null,null,null,null,null,null,null,null,"Iran"]
[null,null,null,null,null,null,null,null,null,null,null,"Iraq"]
[null,null,null,null,null,null,null,null,null,null,null,"IRC Partner Account"]
[null,null,null,null,null,null,null,null,null,null,null,"IRD Global Limited"]
[null,null,null,null,null,null,null,null,null,null,null,"Ireland"]
[null,null,null,null,null,null,null,null,null,null,null,"Irina BOURCIER"]
[null,null,null,null,null,null,null,null,null,null,null,"Iron Mountain"]
[null,null,null,null,null,null,null,null,null,null,null,"Isaac Owusu AFRIYIE"]
[null,null,null,null,null,null,null,null,null,null,null,"Iscte Instituto Universitário de Lisboa"]
[null,null,null,null,null,null,null,null,null,null,null,"ISOPlanner B.V."]
[null,null,null,null,null,null,null,null,null,null,null,"Israel"]
[null,null,null,null,null,null,null,null,null,null,null,"Issa OUEDRAOGO"]
[null,null,null,null,null,null,null,null,null,null,null,"Itad Ltd"]
[null,null,null,null,null,null,null,null,null,null,null,"Italy"]
[null,null,null,null,null,null,null,null,null,null,null,"Jack David DALRYMPLE"]
[null,null,null,null,null,null,null,null,null,null,null,"Jackson Safari KILONZO"]
[null,null,null,null,null,null,null,null,null,null,null,"Jade manotel"]
[null,null,null,null,null,null,null,null,null,null,null,"Jalia NANFUKA"]
[null,null,null,null,null,null,null,null,null,null,null,"Jamaica"]
[null,null,null,null,null,null,null,null,null,null,null,"James HARGREAVES"]
[null,null,null,null,null,null,null,null,null,null,null,"Jami Johnson DARKOH-AMPEM"]
[null,null,null,null,null,null,null,null,null,null,null,"Jan-Christopher CASTILHOS FRANCA"]
[null,null,null,null,null,null,null,null,null,null,null,"Janamarie PERROUD"]
[null,null,null,null,null,null,null,null,null,null,null,"Janssen Pharmaceutica NV"]
[null,null,null,null,null,null,null,null,null,null,null,"Japan"]
[null,null,null,null,null,null,null,null,null,null,null,"JaRco Consulting LTD"]
[null,null,null,null,null,null,null,null,null,null,null,"Javier Luis HOURCADE BELLOCQ"]
[null,null,null,null,null,null,null,null,null,null,null,"Jean Fabrice Beck Ibock"]
[null,null,null,null,null,null,null,null,null,null,null,"Jean Jacques MUTABARUKA"]
[null,null,null,null,null,null,null,null,null,null,null,"Jean Pierre MATWANGA"]
[null,null,null,null,null,null,null,null,null,null,null,"Jean Rachid Ismael ZAMPALEGRE"]
[null,null,null,null,null,null,null,null,null,null,null,"Jean Rostand JIADIAIS KAMGA"]
[null,null,null,null,null,null,null,null,null,null,null,"Jean Serge NGAIMA KILA"]
[null,null,null,null,null,null,null,null,null,null,null,"Jean-Paul NKABA PAOLO"]
[null,null,null,null,null,null,null,null,null,null,null,"Jean-Pierre LALAIN"]
[null,null,null,null,null,null,null,null,null,null,null,"Jeffrey Richard DIEHL"]
[null,null,null,null,null,null,null,null,null,null,null,"Jemimah Omoyeme EITOKPAH"]
[null,null,null,null,null,null,null,null,null,null,null,"Jennifer Lara CLARKE"]
[null,null,null,null,null,null,null,null,null,null,null,"Jens Kleis FREDERIKSEN"]
[null,null,null,null,null,null,null,null,null,null,null,"Jessica Jean FLESKES"]
[null,null,null,null,null,null,null,null,null,null,null,"Jessica Leigh MOONEY"]
[null,null,null,null,null,null,null,null,null,null,null,"Jessica Lois JONES"]
[null,null,null,null,null,null,null,null,null,null,null,"Jewgeni Bader"]
[null,null,null,null,null,null,null,null,null,null,null,"Jimmy Linus Omenda MAKHULO"]
[null,null,null,null,null,null,null,null,null,null,null,"Joan Susan POWERS"]
[null,null,null,null,null,null,null,null,null,null,null,"Joelle DUCHARME"]
[null,null,null,null,null,null,null,null,null,null,null,"Johanna Sophia SCHOKKENBROEK"]
[null,null,null,null,null,null,null,null,null,null,null,"John Chimwemwe PHUKA"]
[null,null,null,null,null,null,null,null,null,null,null,"John Mark MWESIGWA"]
[null,null,null,null,null,null,null,null,null,null,null,"John Samuel TONDA EPENGE OTOMBA"]
[null,null,null,null,null,null,null,null,null,null,null,"John Snow India Private Limited"]
[null,null,null,null,null,null,null,null,null,null,null,"John Tafao EBOLE"]
[null,null,null,null,null,null,null,null,null,null,null,"Jonas Mbwangue"]
[null,null,null,null,null,null,null,null,null,null,null,"Joon SEO"]
[null,null,null,null,null,null,null,null,null,null,null,"Jordan"]
[null,null,null,null,null,null,null,null,null,null,null,"Jordan REGEHR Helvetic Payroll Consultant"]
[null,null,null,null,null,null,null,null,null,null,null,"JORGE ROLANDO MARISCAL PADILLA"]
[null,null,null,null,null,null,null,null,null,null,null,"Jose Manuel DURAO BARROSO"]
[null,null,null,null,null,null,null,null,null,null,null,"Joseah Kibet RONO"]
[null,null,null,null,null,null,null,null,null,null,null,"Joseph J Martin"]
[null,null,null,null,null,null,null,null,null,null,null,"Joshua MUSOKE"]
[null,null,null,null,null,null,null,null,null,null,null,"Joumana STEWART"]
[null,null,null,null,null,null,null,null,null,null,null,"JSI Research & Training Inst"]
[null,null,null,null,null,null,null,null,null,null,null,"JTC Consulting, Business & Events"]
[null,null,null,null,null,null,null,null,null,null,null,"Juba Strategic Consulting"]
[null,null,null,null,null,null,null,null,null,null,null,"Jude Muteh NKWAIN"]
[null,null,null,null,null,null,null,null,null,null,null,"Judith Anne MCARTHUR"]
[null,null,null,null,null,null,null,null,null,null,null,"Julia Bergild MCBRIEN"]
[null,null,null,null,null,null,null,null,null,null,null,"Julia BETTS"]
[null,null,null,null,null,null,null,null,null,null,null,"Julia BURGI"]
[null,null,null,null,null,null,null,null,null,null,null,"Juliana Ajuma AMANYI ENEGELA"]
[null,null,null,null,null,null,null,null,null,null,null,"Junie FLEGERE"]
[null,null,null,null,null,null,null,null,null,null,null,"Justice NONVIGNON"]
[null,null,null,null,null,null,null,null,null,null,null,"K&L Gates"]
[null,null,null,null,null,null,null,null,null,null,null,"Kabosy SA"]
[null,null,null,null,null,null,null,null,null,null,null,"Kacou Antoine AMANVI"]
[null,null,null,null,null,null,null,null,null,null,null,"Kago Kagwi  Associates"]
[null,null,null,null,null,null,null,null,null,null,null,"KALYAN HOSPITALITY DEVELOPMENT TOGO SAU"]
[null,null,null,null,null,null,null,null,null,null,null,"Kamuzu University of Health Sciences"]
[null,null,null,null,null,null,null,null,null,null,null,"Kapil Kumar SINGH"]
[null,null,null,null,null,null,null,null,null,null,null,"Karen A. WILKINS"]
[null,null,null,null,null,null,null,null,null,null,null,"Karen Lisa CAIRNS"]
[null,null,null,null,null,null,null,null,null,null,null,"Karen Lykke SORENSEN"]
[null,null,null,null,null,null,null,null,null,null,null,"Karen Nakawala CHILOWA"]
[null,null,null,null,null,null,null,null,null,null,null,"Karen SEEGOBIN"]
[null,null,null,null,null,null,null,null,null,null,null,"Karoly BERCZY Paperplane Creative Studio"]
[null,null,null,null,null,null,null,null,null,null,null,"Karrou Prestige"]
[null,null,null,null,null,null,null,null,null,null,null,"Katana SA"]
[null,null,null,null,null,null,null,null,null,null,null,"Katarzyna ZACHARA"]
[null,null,null,null,null,null,null,null,null,null,null,"Katharine Brownlow"]
[null,null,null,null,null,null,null,null,null,null,null,"Katherine Elizabeth Lay BURGESS"]
[null,null,null,null,null,null,null,null,null,null,null,"Katherine Gallagher"]
[null,null,null,null,null,null,null,null,null,null,null,"Kathleen Johanna CLARK"]
[null,null,null,null,null,null,null,null,null,null,null,"Kati Collective Inc"]
[null,null,null,null,null,null,null,null,null,null,null,"Katrina KRETSINGER"]
[null,null,null,null,null,null,null,null,null,null,null,"Kaven Entreprise Vittet Raphal"]
[null,null,null,null,null,null,null,null,null,null,null,"Kediende Mapuor Akec CHONG"]
[null,null,null,null,null,null,null,null,null,null,null,"Keightley Irisanne Roberta REYNOLDS"]
[null,null,null,null,null,null,null,null,null,null,null,"Keith Ernest FELDON"]
[null,null,null,null,null,null,null,null,null,null,null,"Kelechi Julian UZOR"]
[null,null,null,null,null,null,null,null,null,null,null,"Kelly CARR"]
[null,null,null,null,null,null,null,null,null,null,null,"Kelly Simone WARDEN"]
[null,null,null,null,null,null,null,null,null,null,null,"Kelvin NEGRON"]
[null,null,null,null,null,null,null,null,null,null,null,"Kenes International Organizers of Congresses Ltd"]
[null,null,null,null,null,null,null,null,null,null,null,"Kenneth Graham LAY"]
[null,null,null,null,null,null,null,null,null,null,null,"Kenya"]
[null,null,null,null,null,null,null,null,null,null,null,"Kenya"]
[null,null,null,null,null,null,null,null,null,null,null,"Kenya Paediatric Research Consortium"]
[null,null,null,null,null,null,null,null,null,null,null,"Kerstin Elisabeth Reisdorf"]
[null,null,null,null,null,null,null,null,null,null,null,"KESSLER & CO AG"]
[null,null,null,null,null,null,null,null,null,null,null,"Kevin Bruce Etter"]
[null,null,null,null,null,null,null,null,null,null,null,"Kevin WILLIAMS Williams Evaluation Consulting (WEC)"]
[null,null,null,null,null,null,null,null,null,null,null,"Key Dissect Ltd"]
[null,null,null,null,null,null,null,null,null,null,null,"KFP Five Star Conference Service Sw iss AG (Trading under the Encore brand)"]
[null,null,null,null,null,null,null,null,null,null,null,"Khamis Saleh Naji Al Qadri AL-NASI"]
[null,null,null,null,null,null,null,null,null,null,null,"Khmer HIV/AIDS NGO Alliance"]
[null,null,null,null,null,null,null,null,null,null,null,"Khushi Baby Inc"]
[null,null,null,null,null,null,null,null,null,null,null,"Kimberly Johanna HARPER"]
[null,null,null,null,null,null,null,null,null,null,null,"Kiribati"]
[null,null,null,null,null,null,null,null,null,null,null,"Kiribati"]
[null,null,null,null,null,null,null,null,null,null,null,"Kodjovi Edotse ADJEODA"]
[null,null,null,null,null,null,null,null,null,null,null,"Kondwani MSAMPHA"]
[null,null,null,null,null,null,null,null,null,null,null,"Korea Disease Control and Prevention Agency"]
[null,null,null,null,null,null,null,null,null,null,null,"Korea DPR"]
[null,null,null,null,null,null,null,null,null,null,null,"Korn-Ferry (Schweiz) GmbH"]
[null,null,null,null,null,null,null,null,null,null,null,"Kosovo"]
[null,null,null,null,null,null,null,null,null,null,null,"Kouame Didier-Eric N'DRI"]
[null,null,null,null,null,null,null,null,null,null,null,"Kouassi Jocelin KOFFI"]
[null,null,null,null,null,null,null,null,null,null,null,"KPMG   SA"]
[null,null,null,null,null,null,null,null,null,null,null,"KPMG Advisory Services"]
[null,null,null,null,null,null,null,null,null,null,null,"KPMG CI"]
[null,null,null,null,null,null,null,null,null,null,null,"KPMG East Africa Limited"]
[null,null,null,null,null,null,null,null,null,null,null,"KPMG IDAS"]
[null,null,null,null,null,null,null,null,null,null,null,"Krathika PARCHANI"]
[null,null,null,null,null,null,null,null,null,null,null,"Kroll LLC"]
[null,null,null,null,null,null,null,null,null,null,null,"Kshem Prasad"]
[null,null,null,null,null,null,null,null,null,null,null,"Kunjok David MAJUCH"]
[null,null,null,null,null,null,null,null,null,null,null,"Kupanda Capital LLC"]
[null,null,null,null,null,null,null,null,null,null,null,"Kuwait"]
[null,null,null,null,null,null,null,null,null,null,null,"Kwaku Agyeman Manu"]
[null,null,null,null,null,null,null,null,null,null,null,"Kyle House Group LLC"]
[null,null,null,null,null,null,null,null,null,null,null,"Kyrgyz Rep"]
[null,null,null,null,null,null,null,null,null,null,null,"Kyrgyzstan"]
[null,null,null,null,null,null,null,null,null,null,null,"La Scène sarl"]
[null,null,null,null,null,null,null,null,null,null,null,"Lachenal SA"]
[null,null,null,null,null,null,null,null,null,null,null,"LALIVE SA"]
[null,null,null,null,null,null,null,null,null,null,null,"Lamine SARR"]
[null,null,null,null,null,null,null,null,null,null,null,"Lao PDR"]
[null,null,null,null,null,null,null,null,null,null,null,"Lao People's Democratic Republic"]
[null,null,null,null,null,null,null,null,null,null,null,"Last Mile Health"]
[null,null,null,null,null,null,null,null,null,null,null,"Latifou ABOUDOU"]
[null,null,null,null,null,null,null,null,null,null,null,"Latitude-Space Digital Ltd"]
[null,null,null,null,null,null,null,null,null,null,null,"Latvia"]
[null,null,null,null,null,null,null,null,null,null,null,"Laura DESPERES LIGHTBODY"]
[null,null,null,null,null,null,null,null,null,null,null,"Laura FRISIANI"]
[null,null,null,null,null,null,null,null,null,null,null,"Laura Louise HOLDSWORTH"]
[null,null,null,null,null,null,null,null,null,null,null,"Laure ALBERT"]
[null,null,null,null,null,null,null,null,null,null,null,"Laure Platiau"]
[null,null,null,null,null,null,null,null,null,null,null,"Lauren DOBSON-HUGHES"]
[null,null,null,null,null,null,null,null,null,null,null,"Lazuli Communications Ltd"]
[null,null,null,null,null,null,null,null,null,null,null,"Lea Gabriele KNOPF"]
[null,null,null,null,null,null,null,null,null,null,null,"Lebanon"]
[null,null,null,null,null,null,null,null,null,null,null,"LECKO - USEO"]
[null,null,null,null,null,null,null,null,null,null,null,"Lee Hampton"]
[null,null,null,null,null,null,null,null,null,null,null,"Lee Hecht Harrison LLC"]
[null,null,null,null,null,null,null,null,null,null,null,"Lena NANUSHYAN"]
[null,null,null,null,null,null,null,null,null,null,null,"Lenz & Staehelin"]
[null,null,null,null,null,null,null,null,null,null,null,"Leonie Anne Christina VIERING"]
[null,null,null,null,null,null,null,null,null,null,null,"Les Amis de la Perle du Lac"]
[null,null,null,null,null,null,null,null,null,null,null,"Les Pensières SAS"]
[null,null,null,null,null,null,null,null,null,null,null,"Lesotho"]
[null,null,null,null,null,null,null,null,null,null,null,"Lesotho"]
[null,null,null,null,null,null,null,null,null,null,null,"Levke KOOISTRA"]
[null,null,null,null,null,null,null,null,null,null,null,"Lexington Hotel Lessee LLC"]
[null,null,null,null,null,null,null,null,null,null,null,"Lia TADESSE GEBREMEDHIN"]
[null,null,null,null,null,null,null,null,null,null,null,"Liberia"]
[null,null,null,null,null,null,null,null,null,null,null,"Liberia"]
[null,null,null,null,null,null,null,null,null,null,null,"Liberty Specialty Markets Europe Sa"]
[null,null,null,null,null,null,null,null,null,null,null,"Libya"]
[null,null,null,null,null,null,null,null,null,null,null,"LIGHTHOUSE JERSEY LTD"]
[null,null,null,null,null,null,null,null,null,null,null,"Lighthouse Road LLC"]
[null,null,null,null,null,null,null,null,null,null,null,"Lilian Susan LWANTALE"]
[null,null,null,null,null,null,null,null,null,null,null,"Lilla Vinge AB"]
[null,null,null,null,null,null,null,null,null,null,null,"Linda Caroline GEDDES"]
[null,null,null,null,null,null,null,null,null,null,null,"Linda Eckert"]
[null,null,null,null,null,null,null,null,null,null,null,"Linklaters LLP"]
[null,null,null,null,null,null,null,null,null,null,null,"Linksbridge SPC"]
[null,null,null,null,null,null,null,null,null,null,null,"Linpico Sarl"]
[null,null,null,null,null,null,null,null,null,null,null,"Lion's Head Global Partners LLP"]
[null,null,null,null,null,null,null,null,null,null,null,"LionbridgePR Ltd"]
[null,null,null,null,null,null,null,null,null,null,null,"Lista Office Vertriebs AG, succursa le LO Intercloisons"]
[null,null,null,null,null,null,null,null,null,null,null,"Lithuania"]
[null,null,null,null,null,null,null,null,null,null,null,"Livancliff Mforjock MBIANKE"]
[null,null,null,null,null,null,null,null,null,null,null,"Lochan and Company"]
[null,null,null,null,null,null,null,null,null,null,null,"Logan BRENZEL"]
[null,null,null,null,null,null,null,null,null,null,null,"Logistimo India Pvt Ltd"]
[null,null,null,null,null,null,null,null,null,null,null,"London School of Hygiene & Tropical Medecine"]
[null,null,null,null,null,null,null,null,null,null,null,"Long San Austin Liu"]
[null,null,null,null,null,null,null,null,null,null,null,"Longer Table Limited"]
[null,null,null,null,null,null,null,null,null,null,null,"Louise IVERS"]
[null,null,null,null,null,null,null,null,null,null,null,"Lucid Software Inc."]
[null,null,null,null,null,null,null,null,null,null,null,"Lucie VINCENT"]
[null,null,null,null,null,null,null,null,null,null,null,"LUDIMOUV Sàrl"]
[null,null,null,null,null,null,null,null,null,null,null,"Lumen Technologies Inc"]
[null,null,null,null,null,null,null,null,null,null,null,"Lusayo Robson MWAMBEMBE"]
[null,null,null,null,null,null,null,null,null,null,null,"LUX FILMS LTD"]
[null,null,null,null,null,null,null,null,null,null,null,"Luxembourg"]
[null,null,null,null,null,null,null,null,null,null,null,"LVCT Health"]
[null,null,null,null,null,null,null,null,null,null,null,"Lynette Lowndes Consulting Ltd"]
[null,null,null,null,null,null,null,null,null,null,null,"Lyra Schweiz GmbH"]
[null,null,null,null,null,null,null,null,null,null,null,"Lystaarn Sarl"]
[null,null,null,null,null,null,null,null,null,null,null,"Lüfkens DigiTips"]
[null,null,null,null,null,null,null,null,null,null,null,"M.I. Govern D'Andorra"]
[null,null,null,null,null,null,null,null,null,null,null,"Macao SAR, China"]
[null,null,null,null,null,null,null,null,null,null,null,"Madagascar"]
[null,null,null,null,null,null,null,null,null,null,null,"Madagascar"]
[null,null,null,null,null,null,null,null,null,null,null,"Madeleine Wiltshire MUGISA"]
[null,null,null,null,null,null,null,null,null,null,null,"Madhav RAGHAVAN"]
[null,null,null,null,null,null,null,null,null,null,null,"Madjiguene DIAKHATE NDIAYE"]
[null,null,null,null,null,null,null,null,null,null,null,"MAEL REDARD-JACOT"]
[null,null,null,null,null,null,null,null,null,null,null,"Magnum Creative"]
[null,null,null,null,null,null,null,null,null,null,null,"Magnum Photos"]
[null,null,null,null,null,null,null,null,null,null,null,"Mahamat Hassane ABDELKADRE"]
[null,null,null,null,null,null,null,null,null,null,null,"Malabika SARKER"]
[null,null,null,null,null,null,null,null,null,null,null,"Malaria Consortium"]
[null,null,null,null,null,null,null,null,null,null,null,"Malawi"]
[null,null,null,null,null,null,null,null,null,null,null,"Malawi"]
[null,null,null,null,null,null,null,null,null,null,null,"Malaysia"]
[null,null,null,null,null,null,null,null,null,null,null,"Maldives"]
[null,null,null,null,null,null,null,null,null,null,null,"Mali"]
[null,null,null,null,null,null,null,null,null,null,null,"Mame Borso MBENGUE SEYE"]
[null,null,null,null,null,null,null,null,null,null,null,"MaMeLa Consultancy PLC"]
[null,null,null,null,null,null,null,null,null,null,null,"Mandy Collins and Associates"]
[null,null,null,null,null,null,null,null,null,null,null,"Mannion Daniels Africa Limited"]
[null,null,null,null,null,null,null,null,null,null,null,"Mannion Daniels Limited- Grant account"]
[null,null,null,null,null,null,null,null,null,null,null,"Manuel Antonio SIERRA SANTOS"]
[null,null,null,null,null,null,null,null,null,null,null,"Marcel GHERGHELEGIU"]
[null,null,null,null,null,null,null,null,null,null,null,"Marcos Paulo DRUMOND DA COSTA E SILVA"]
[null,null,null,null,null,null,null,null,null,null,null,"Marcum LLP"]
[null,null,null,null,null,null,null,null,null,null,null,"Maria Bordallo Consultancy"]
[null,null,null,null,null,null,null,null,null,null,null,"Maria Ines LINO SERVULO CORREIA"]
[null,null,null,null,null,null,null,null,null,null,null,"Maria Isabella PAEZ"]
[null,null,null,null,null,null,null,null,null,null,null,"Maria VERYKIOU"]
[null,null,null,null,null,null,null,null,null,null,null,"Mariabruna JENNINGS"]
[null,null,null,null,null,null,null,null,null,null,null,"Mariam ZAMEER"]
[null,null,null,null,null,null,null,null,null,null,null,"Marie Christine MBAGA FELER"]
[null,null,null,null,null,null,null,null,null,null,null,"Marine BUREAU"]
[null,null,null,null,null,null,null,null,null,null,null,"Marinus M H Stassen"]
[null,null,null,null,null,null,null,null,null,null,null,"Marius KELLER"]
[null,null,null,null,null,null,null,null,null,null,null,"Mark LESTER SWINDELL"]
[null,null,null,null,null,null,null,null,null,null,null,"Mark TROGER"]
[null,null,null,null,null,null,null,null,null,null,null,"Mark-Olivier BADER"]
[null,null,null,null,null,null,null,null,null,null,null,"Markus TSCHANN"]
[null,null,null,null,null,null,null,null,null,null,null,"Marsh Limited"]
[null,null,null,null,null,null,null,null,null,null,null,"Marsh USA, INC."]
[null,null,null,null,null,null,null,null,null,null,null,"Marshall Islands (The)"]
[null,null,null,null,null,null,null,null,null,null,null,"Marta Feletto"]
[null,null,null,null,null,null,null,null,null,null,null,"Marta Sofia Coelho Nunes"]
[null,null,null,null,null,null,null,null,null,null,null,"Martha Wambui WAMITHI"]
[null,null,null,null,null,null,null,null,null,null,null,"Martin Andreas MENGEL"]
[null,null,null,null,null,null,null,null,null,null,null,"Mary GALLAGHER"]
[null,null,null,null,null,null,null,null,null,null,null,"Mary Kate CHANDLER"]
[null,null,null,null,null,null,null,null,null,null,null,"Mary NAMBAO"]
[null,null,null,null,null,null,null,null,null,null,null,"Masood Ahmed QURESHI"]
[null,null,null,null,null,null,null,null,null,null,null,"Massachusetts Institute of Technology"]
[null,null,null,null,null,null,null,null,null,null,null,"Mastercard International Incorporated"]
[null,null,null,null,null,null,null,null,null,null,null,"MATHIEU & Cie, Coaching and Consult ing"]
[null,null,null,null,null,null,null,null,null,null,null,"Matter Solutions S.r.l."]
[null,null,null,null,null,null,null,null,null,null,null,"Matthew Luke KUCH"]
[null,null,null,null,null,null,null,null,null,null,null,"Matthew Tadeusz GREK"]
[null,null,null,null,null,null,null,null,null,null,null,"Maureen Uchechi UGOCHUKU"]
[null,null,null,null,null,null,null,null,null,null,null,"Mauricio HUERTAS GLAUSER"]
[null,null,null,null,null,null,null,null,null,null,null,"Mauritania"]
[null,null,null,null,null,null,null,null,null,null,null,"Mauritania"]
[null,null,null,null,null,null,null,null,null,null,null,"Mauritius"]
[null,null,null,null,null,null,null,null,null,null,null,"Maya Georgieva BRAINARD"]
[null,null,null,null,null,null,null,null,null,null,null,"Maya PRABHU"]
[null,null,null,null,null,null,null,null,null,null,null,"McDermott Will & Emery UK LLP"]
[null,null,null,null,null,null,null,null,null,null,null,"MCI Benelux SA"]
[null,null,null,null,null,null,null,null,null,null,null,"MCI FRANCE"]
[null,null,null,null,null,null,null,null,null,null,null,"MCI SPAIN EVENT SERVICES"]
[null,null,null,null,null,null,null,null,null,null,null,"McKinsey & Company, Inc. Switzerlan d"]
[null,null,null,null,null,null,null,null,null,null,null,"MCKINSEY AND CO INC AFRICA PTY LTD ETH BRANCH"]
[null,null,null,null,null,null,null,null,null,null,null,"Meanquest SA"]
[null,null,null,null,null,null,null,null,null,null,null,"MedAccess Guarantee Ltd"]
[null,null,null,null,null,null,null,null,null,null,null,"MEDECINS D'AFRIQUE (MDA)"]
[null,null,null,null,null,null,null,null,null,null,null,"Medical Access Uganda Limited"]
[null,null,null,null,null,null,null,null,null,null,null,"Megan Mai HOLLOWAY"]
[null,null,null,null,null,null,null,null,null,null,null,"Mehr Gul SHAH"]
[null,null,null,null,null,null,null,null,null,null,null,"Mekdes Daba FEYSSA"]
[null,null,null,null,null,null,null,null,null,null,null,"Melita Alison GORDON"]
[null,null,null,null,null,null,null,null,null,null,null,"Mentimeter AB"]
[null,null,null,null,null,null,null,null,null,null,null,"Mercer (Switzerland) SA"]
[null,null,null,null,null,null,null,null,null,null,null,"Meredith SHIREY"]
[null,null,null,null,null,null,null,null,null,null,null,"MetaCompliance Limited"]
[null,null,null,null,null,null,null,null,null,null,null,"Metropolitan Life Insurance Company"]
[null,null,null,null,null,null,null,null,null,null,null,"Mexico"]
[null,null,null,null,null,null,null,null,null,null,null,"Mhealth and Ehealth Expert Learning Program NPC"]
[null,null,null,null,null,null,null,null,null,null,null,"Michael BRISON"]
[null,null,null,null,null,null,null,null,null,null,null,"Michael Oluwah Jones"]
[null,null,null,null,null,null,null,null,null,null,null,"Michael Page International Suisse S A"]
[null,null,null,null,null,null,null,null,null,null,null,"Michael SANDERS"]
[null,null,null,null,null,null,null,null,null,null,null,"Michael WOLF"]
[null,null,null,null,null,null,null,null,null,null,null,"Michel ZAFFRAN"]
[null,null,null,null,null,null,null,null,null,null,null,"Michelle BURBACH"]
[null,null,null,null,null,null,null,null,null,null,null,"Mickael RYCHEN"]
[null,null,null,null,null,null,null,null,null,null,null,"Micronesia (Federated States of)"]
[null,null,null,null,null,null,null,null,null,null,null,"Microsoft Ireland Operations Limite d"]
[null,null,null,null,null,null,null,null,null,null,null,"Microsoft Switzerland Ltd"]
[null,null,null,null,null,null,null,null,null,null,null,"Mien Tje PATTHEY"]
[null,null,null,null,null,null,null,null,null,null,null,"Miguel BRAGAGNOLO"]
[null,null,null,null,null,null,null,null,null,null,null,"Mihika SHARMA"]
[null,null,null,null,null,null,null,null,null,null,null,"Millar Cameron Ltd"]
[null,null,null,null,null,null,null,null,null,null,null,"Miller s Supplies at Work"]
[null,null,null,null,null,null,null,null,null,null,null,"Miloud Kaddar"]
[null,null,null,null,null,null,null,null,null,null,null,"Ministarstvo civilnih poslova Bosne i Hercegovine"]
[null,null,null,null,null,null,null,null,null,null,null,"MINISTERE DE LA SANTE PUBLIQUE DE LA POPULATION ET DES AFFAIRES SOCIALE"]
[null,null,null,null,null,null,null,null,null,null,null,"Ministerio de Salud"]
[null,null,null,null,null,null,null,null,null,null,null,"Ministerio de Salud Pública y Bienestar Social, República de Paraguay"]
[null,null,null,null,null,null,null,null,null,null,null,"Ministery of Public Health Guinea Bissau"]
[null,null,null,null,null,null,null,null,null,null,null,"Ministry of Finance Malaysia"]
[null,null,null,null,null,null,null,null,null,null,null,"Ministry of Health (HQ)/AG"]
[null,null,null,null,null,null,null,null,null,null,null,"Ministry of Health and Population Nepal"]
[null,null,null,null,null,null,null,null,null,null,null,"Ministry of Health Emeregency expense- Corona"]
[null,null,null,null,null,null,null,null,null,null,null,"Ministry of Health Government of Montenegro"]
[null,null,null,null,null,null,null,null,null,null,null,"Ministry of Health Jerusalem"]
[null,null,null,null,null,null,null,null,null,null,null,"Ministry of Health Jordan"]
[null,null,null,null,null,null,null,null,null,null,null,"Ministry of Health of Argentina Republic"]
[null,null,null,null,null,null,null,null,null,null,null,"Ministry of Health of Republic Serbia"]
[null,null,null,null,null,null,null,null,null,null,null,"Ministry of Health of the Republic of Armenia"]
[null,null,null,null,null,null,null,null,null,null,null,"Ministry of Health Republic of North Macedonia"]
[null,null,null,null,null,null,null,null,null,null,null,"Ministry of Health Saint Kitts and Nevis"]
[null,null,null,null,null,null,null,null,null,null,null,"Ministry of Health- Government of Bermuda"]
[null,null,null,null,null,null,null,null,null,null,null,"Ministère de la Santé Publique et de la Prévention- TCHAD"]
[null,null,null,null,null,null,null,null,null,null,null,"Mira Johri"]
[null,null,null,null,null,null,null,null,null,null,null,"MLS Pharma Consulting LLC"]
[null,null,null,null,null,null,null,null,null,null,null,"MMGH Consulting GmbH"]
[null,null,null,null,null,null,null,null,null,null,null,"MOB HOTEL LYON"]
[null,null,null,null,null,null,null,null,null,null,null,"Modern Hire Europe Limited"]
[null,null,null,null,null,null,null,null,null,null,null,"Moderna Switzerland GmbH"]
[null,null,null,null,null,null,null,null,null,null,null,"Moderntimes Hotelbetriebs AG"]
[null,null,null,null,null,null,null,null,null,null,null,"MOH Crown Payments"]
[null,null,null,null,null,null,null,null,null,null,null,"Mohamed Abdi JAMA"]
[null,null,null,null,null,null,null,null,null,null,null,"Mohamed Lamine DRAME"]
[null,null,null,null,null,null,null,null,null,null,null,"Mohit Kumar SAH"]
[null,null,null,null,null,null,null,null,null,null,null,"Moldova"]
[null,null,null,null,null,null,null,null,null,null,null,"Molo Design Ltd."]
[null,null,null,null,null,null,null,null,null,null,null,"Mona CAILLER"]
[null,null,null,null,null,null,null,null,null,null,null,"Monaco"]
[null,null,null,null,null,null,null,null,null,null,null,"Mongolia"]
[null,null,null,null,null,null,null,null,null,null,null,"Mongolia"]
[null,null,null,null,null,null,null,null,null,null,null,"Monica Ruth NIRMALA"]
[null,null,null,null,null,null,null,null,null,null,null,"Monique BARBUT"]
[null,null,null,null,null,null,null,null,null,null,null,"Montala Limited"]
[null,null,null,null,null,null,null,null,null,null,null,"Montenegro"]
[null,null,null,null,null,null,null,null,null,null,null,"Montserrat"]
[null,null,null,null,null,null,null,null,null,null,null,"Moonshot CVE Ltd"]
[null,null,null,null,null,null,null,null,null,null,null,"Moore P.A. Hire, Inc"]
[null,null,null,null,null,null,null,null,null,null,null,"Morgane DAGET"]
[null,null,null,null,null,null,null,null,null,null,null,"Morocco"]
[null,null,null,null,null,null,null,null,null,null,null,"Morrow Sodali Ltd"]
[null,null,null,null,null,null,null,null,null,null,null,"Motionpoint Corporation"]
[null,null,null,null,null,null,null,null,null,null,null,"Mott MacDonald Limited"]
[null,null,null,null,null,null,null,null,null,null,null,"Mourad CHOUAKI"]
[null,null,null,null,null,null,null,null,null,null,null,"Movenpick Hotel and Residences Nairobi"]
[null,null,null,null,null,null,null,null,null,null,null,"Mozambique"]
[null,null,null,null,null,null,null,null,null,null,null,"Mozambique MOH"]
[null,null,null,null,null,null,null,null,null,null,null,"Mphu Keneiloe RAMATLAPENG"]
[null,null,null,null,null,null,null,null,null,null,null,"MQ Consultancy Services Limited"]
[null,null,null,null,null,null,null,null,null,null,null,"Mrigank SANGHVI"]
[null,null,null,null,null,null,null,null,null,null,null,"MSCI Inc."]
[null,null,null,null,null,null,null,null,null,null,null,"MSECB Management Systems Inc."]
[null,null,null,null,null,null,null,null,null,null,null,"Muhammad Ahmad KAZI"]
[null,null,null,null,null,null,null,null,null,null,null,"Muhammad Mossavir AHMED"]
[null,null,null,null,null,null,null,null,null,null,null,"Muluken Yohannes DESTA"]
[null,null,null,null,null,null,null,null,null,null,null,"Muneeza AUMIR"]
[null,null,null,null,null,null,null,null,null,null,null,"Mursaleena ISLAM"]
[null,null,null,null,null,null,null,null,null,null,null,"Musa Morgan MUKASA"]
[null,null,null,null,null,null,null,null,null,null,null,"Muso Inc"]
[null,null,null,null,null,null,null,null,null,null,null,"Mutual of Omaha"]
[null,null,null,null,null,null,null,null,null,null,null,"Mutuku Stephen MUTINDA"]
[null,null,null,null,null,null,null,null,null,null,null,"MW Murray Consulting LLC"]
[null,null,null,null,null,null,null,null,null,null,null,"Myanmar"]
[null,null,null,null,null,null,null,null,null,null,null,"Myanmar"]
[null,null,null,null,null,null,null,null,null,null,null,"Mygift Sarl"]
[null,null,null,null,null,null,null,null,null,null,null,"Mégane VERSOLATTO"]
[null,null,null,null,null,null,null,null,null,null,null,"N'Guessan Pacom KOFFI"]
[null,null,null,null,null,null,null,null,null,null,null,"Nadeem JAN"]
[null,null,null,null,null,null,null,null,null,null,null,"Nadeem MAHBUB"]
[null,null,null,null,null,null,null,null,null,null,null,"Nadia KOURANI"]
[null,null,null,null,null,null,null,null,null,null,null,"Nadia MARESCHAL"]
[null,null,null,null,null,null,null,null,null,null,null,"Nadia NZABI"]
[null,null,null,null,null,null,null,null,null,null,null,"Nagravision SA"]
[null,null,null,null,null,null,null,null,null,null,null,"Naguib KHERAJ"]
[null,null,null,null,null,null,null,null,null,null,null,"Namibia"]
[null,null,null,null,null,null,null,null,null,null,null,"Naomi MIALL"]
[null,null,null,null,null,null,null,null,null,null,null,"Natalia Barbara TYRAKOWSKA"]
[null,null,null,null,null,null,null,null,null,null,null,"Natalie McCall"]
[null,null,null,null,null,null,null,null,null,null,null,"Natasa MILOVANOVIC"]
[null,null,null,null,null,null,null,null,null,null,null,"Natasha Howard"]
[null,null,null,null,null,null,null,null,null,null,null,"Nathalie Alice Jeanne SALAGNAC"]
[null,null,null,null,null,null,null,null,null,null,null,"National Foundation for the Centers for Disease Control and Prevention, Inc."]
[null,null,null,null,null,null,null,null,null,null,null,"National Institute of Hygiene and Epidemiology"]
[null,null,null,null,null,null,null,null,null,null,null,"National Primary Health Care Development Agency"]
[null,null,null,null,null,null,null,null,null,null,null,"National Technology Integrators"]
[null,null,null,null,null,null,null,null,null,null,null,"National Unified Procurement Company"]
[null,null,null,null,null,null,null,null,null,null,null,"Nauru"]
[null,null,null,null,null,null,null,null,null,null,null,"NB & Associates Ltd"]
[null,null,null,null,null,null,null,null,null,null,null,"Nb Traiteur de Châtelaine Sàrl"]
[null,null,null,null,null,null,null,null,null,null,null,"Nbmedia sarl"]
[null,null,null,null,null,null,null,null,null,null,null,"Neelkanth Sarovar Premiere"]
[null,null,null,null,null,null,null,null,null,null,null,"Nene Mariama Barry"]
[null,null,null,null,null,null,null,null,null,null,null,"Nepal"]
[null,null,null,null,null,null,null,null,null,null,null,"Nepal"]
[null,null,null,null,null,null,null,null,null,null,null,"NEPC"]
[null,null,null,null,null,null,null,null,null,null,null,"Nestor Advisors Ltd"]
[null,null,null,null,null,null,null,null,null,null,null,"Netherlands"]
[null,null,null,null,null,null,null,null,null,null,null,"Nethra NANDAKUMAR"]
[null,null,null,null,null,null,null,null,null,null,null,"Network Movement for Democracy and Human Rights"]
[null,null,null,null,null,null,null,null,null,null,null,"Nevena COLOVIC"]
[null,null,null,null,null,null,null,null,null,null,null,"Never Gavi"]
[null,null,null,null,null,null,null,null,null,null,null,"New Thinking, Inc."]
[null,null,null,null,null,null,null,null,null,null,null,"New Zealand"]
[null,null,null,null,null,null,null,null,null,null,null,"Nexleaf Analytics"]
[null,null,null,null,null,null,null,null,null,null,null,"Nexus Consulting"]
[null,null,null,null,null,null,null,null,null,null,null,"Ngashi NGONGO"]
[null,null,null,null,null,null,null,null,null,null,null,"Niadelta Ltd"]
[null,null,null,null,null,null,null,null,null,null,null,"Nicaragua"]
[null,null,null,null,null,null,null,null,null,null,null,"Nicaragua"]
[null,null,null,null,null,null,null,null,null,null,null,"Nicholas FLEMING"]
[null,null,null,null,null,null,null,null,null,null,null,"Nicholas John BENNETT"]
[null,null,null,null,null,null,null,null,null,null,null,"Nicholas John Mattwich ROSATI"]
[null,null,null,null,null,null,null,null,null,null,null,"Nicholas Mburu KIBERA"]
[null,null,null,null,null,null,null,null,null,null,null,"Niger"]
[null,null,null,null,null,null,null,null,null,null,null,"Nigeria"]
[null,null,null,null,null,null,null,null,null,null,null,"Nigeria"]
[null,null,null,null,null,null,null,null,null,null,null,"Nigeria Governors' Forum"]
[null,null,null,null,null,null,null,null,null,null,null,"Nikita Vivek BHIDE"]
[null,null,null,null,null,null,null,null,null,null,null,"Nivedita SAKSENA RAJ"]
[null,null,null,null,null,null,null,null,null,null,null,"Nkengafac Villyen MOTAZE"]
[null,null,null,null,null,null,null,null,null,null,null,"Noah Takah FONGWEN"]
[null,null,null,null,null,null,null,null,null,null,null,"Noelia RECA BARROSO"]
[null,null,null,null,null,null,null,null,null,null,null,"Noguchi Memorial Institute for Medical Research- NMIMR Projects Dollar"]
[null,null,null,null,null,null,null,null,null,null,null,"Nordic Design Lab Sarl"]
[null,null,null,null,null,null,null,null,null,null,null,"North Macedonia"]
[null,null,null,null,null,null,null,null,null,null,null,"Norton Rose Fulbright US LLP"]
[null,null,null,null,null,null,null,null,null,null,null,"Norway"]
[null,null,null,null,null,null,null,null,null,null,null,"Notaires à Carouge"]
[null,null,null,null,null,null,null,null,null,null,null,"Nourhane ABDELHAK"]
[null,null,null,null,null,null,null,null,null,null,null,"NTT DATA Spain SL, Madrid Succursale de Geneve"]
[null,null,null,null,null,null,null,null,null,null,null,"NTT Switzerland SA"]
[null,null,null,null,null,null,null,null,null,null,null,"OASYS SARL"]
[null,null,null,null,null,null,null,null,null,null,null,"Occupied Palestinian Territory"]
[null,null,null,null,null,null,null,null,null,null,null,"Octopus Translations"]
[null,null,null,null,null,null,null,null,null,null,null,"Office des Poursuites Du Canton de Geneve"]
[null,null,null,null,null,null,null,null,null,null,null,"OIARSO S.COOP."]
[null,null,null,null,null,null,null,null,null,null,null,"Okta Inc"]
[null,null,null,null,null,null,null,null,null,null,null,"Olabamiji Andrew ALAJIKI"]
[null,null,null,null,null,null,null,null,null,null,null,"OLEA GmbH"]
[null,null,null,null,null,null,null,null,null,null,null,"Oliver Akinyi GUENAT"]
[null,null,null,null,null,null,null,null,null,null,null,"Olivia Bullock"]
[null,null,null,null,null,null,null,null,null,null,null,"Olukayode Bolurin FASOMINU"]
[null,null,null,null,null,null,null,null,null,null,null,"Olumuyiwa James PETER"]
[null,null,null,null,null,null,null,null,null,null,null,"Oluwatosin ADEYEMO"]
[null,null,null,null,null,null,null,null,null,null,null,"Oman"]
[null,null,null,null,null,null,null,null,null,null,null,"ON THE ROAD SOM LUZ LDA"]
[null,null,null,null,null,null,null,null,null,null,null,"One Advisory Group Limited"]
[null,null,null,null,null,null,null,null,null,null,null,"One Step Beyond Group SA"]
[null,null,null,null,null,null,null,null,null,null,null,"Onei Andre Cumbi UETELA"]
[null,null,null,null,null,null,null,null,null,null,null,"Ontinue AG"]
[null,null,null,null,null,null,null,null,null,null,null,"Open Data Services Cooperative Ltd"]
[null,null,null,null,null,null,null,null,null,null,null,"Orange Business Switzerland AG"]
[null,null,null,null,null,null,null,null,null,null,null,"Orange Cote d Ivoire SA"]
[null,null,null,null,null,null,null,null,null,null,null,"ORB International Ltd"]
[null,null,null,null,null,null,null,null,null,null,null,"OrensteinVax LLC"]
[null,null,null,null,null,null,null,null,null,null,null,"Organization of African First Ladies against HIV/AIDS (OAFLA)"]
[null,null,null,null,null,null,null,null,null,null,null,"Orode Omolara DOHERTY"]
[null,null,null,null,null,null,null,null,null,null,null,"OSACO Group Limited"]
[null,null,null,null,null,null,null,null,null,null,null,"Osezele Kelly ELIMIAN"]
[null,null,null,null,null,null,null,null,null,null,null,"Osman Berkay DENLI"]
[null,null,null,null,null,null,null,null,null,null,null,"OT Technology Spain, SL"]
[null,null,null,null,null,null,null,null,null,null,null,"Otherwise9 SA"]
[null,null,null,null,null,null,null,null,null,null,null,"Othman Shehu ABUBAKAR"]
[null,null,null,null,null,null,null,null,null,null,null,"Oulech Salim TAHA"]
[null,null,null,null,null,null,null,null,null,null,null,"Ourania DIONYSIOU"]
[null,null,null,null,null,null,null,null,null,null,null,"Ousmane Amadou Sy"]
[null,null,null,null,null,null,null,null,null,null,null,"Ousmane DIA"]
[null,null,null,null,null,null,null,null,null,null,null,"Ousseynou BADIANE"]
[null,null,null,null,null,null,null,null,null,null,null,"OwnBackup Inc"]
[null,null,null,null,null,null,null,null,null,null,null,"Oxford Policy Management Pakistan Private Limtied"]
[null,null,null,null,null,null,null,null,null,null,null,"OXYGY AG"]
[null,null,null,null,null,null,null,null,null,null,null,"Padmasiri ESWARA ARATCHIGE"]
[null,null,null,null,null,null,null,null,null,null,null,"Pakistan"]
[null,null,null,null,null,null,null,null,null,null,null,"Pakistan"]
[null,null,null,null,null,null,null,null,null,null,null,"Palau"]
[null,null,null,null,null,null,null,null,null,null,null,"Pan American Sanitary Bureau"]
[null,null,null,null,null,null,null,null,null,null,null,"Panama"]
[null,null,null,null,null,null,null,null,null,null,null,"Papua New Guinea"]
[null,null,null,null,null,null,null,null,null,null,null,"Papua New Guinea"]
[null,null,null,null,null,null,null,null,null,null,null,"Paraguay"]
[null,null,null,null,null,null,null,null,null,null,null,"Parsyl Inc"]
[null,null,null,null,null,null,null,null,null,null,null,"Partekk Handels AG"]
[null,null,null,null,null,null,null,null,null,null,null,"Particip GmbH"]
[null,null,null,null,null,null,null,null,null,null,null,"Patchwork Ltd"]
[null,null,null,null,null,null,null,null,null,null,null,"PATH"]
[null,null,null,null,null,null,null,null,null,null,null,"Pathlock, Inc."]
[null,null,null,null,null,null,null,null,null,null,null,"Patricia Ann TAYLOR"]
[null,null,null,null,null,null,null,null,null,null,null,"Paul BALOGUN"]
[null,null,null,null,null,null,null,null,null,null,null,"Pavillon Barton SA"]
[null,null,null,null,null,null,null,null,null,null,null,"Peace OTAGE"]
[null,null,null,null,null,null,null,null,null,null,null,"Peer Communications Ltd"]
[null,null,null,null,null,null,null,null,null,null,null,"Peking University Health Science Center"]
[null,null,null,null,null,null,null,null,null,null,null,"Pelosi SA"]
[null,null,null,null,null,null,null,null,null,null,null,"Penelope HAWKINS"]
[null,null,null,null,null,null,null,null,null,null,null,"Penthes Sarl"]
[null,null,null,null,null,null,null,null,null,null,null,"PeopleCentriX Sàrl"]
[null,null,null,null,null,null,null,null,null,null,null,"Perennium SA"]
[null,null,null,null,null,null,null,null,null,null,null,"PERFORMANCE CONSULTANT SA"]
[null,null,null,null,null,null,null,null,null,null,null,"Perrett Laver (Netherlands) B.V."]
[null,null,null,null,null,null,null,null,null,null,null,"Persefoni POLITI"]
[null,null,null,null,null,null,null,null,null,null,null,"Peru"]
[null,null,null,null,null,null,null,null,null,null,null,"Pestana Cidadela- Invest Turisticos SA"]
[null,null,null,null,null,null,null,null,null,null,null,"Peter Strebel"]
[null,null,null,null,null,null,null,null,null,null,null,"Peter Tawanda MARUFU"]
[null,null,null,null,null,null,null,null,null,null,null,"Pfizer Overseas LLC"]
[null,null,null,null,null,null,null,null,null,null,null,"Pharos Global Health Advisors"]
[null,null,null,null,null,null,null,null,null,null,null,"Phase 3 Consulting Limited"]
[null,null,null,null,null,null,null,null,null,null,null,"Phazza EOOD"]
[null,null,null,null,null,null,null,null,null,null,null,"Philippe Jaillard"]
[null,null,null,null,null,null,null,null,null,null,null,"Philippines"]
[null,null,null,null,null,null,null,null,null,null,null,"Phonethipsavanh NOUANTHONG"]
[null,null,null,null,null,null,null,null,null,null,null,"Photex Design Ltd"]
[null,null,null,null,null,null,null,null,null,null,null,"Photorotation"]
[null,null,null,null,null,null,null,null,null,null,null,"Phouvanh VONGLOKHAM"]
[null,null,null,null,null,null,null,null,null,null,null,"Phyllis DAKO-GYEKE"]
[null,null,null,null,null,null,null,null,null,null,null,"PICMA Africa Inc"]
[null,null,null,null,null,null,null,null,null,null,null,"Pitney Bowes Bank Inc"]
[null,null,null,null,null,null,null,null,null,null,null,"PKF Bureau d Audit et de Gestion de s Entreprises SAS- PKF BAGE"]
[null,null,null,null,null,null,null,null,null,null,null,"PKF F.R.A.N.T.S"]
[null,null,null,null,null,null,null,null,null,null,null,"Plan International, Inc."]
[null,null,null,null,null,null,null,null,null,null,null,"Plateforme des Organisations de la Société Civile"]
[null,null,null,null,null,null,null,null,null,null,null,"Platinum, Inc"]
[null,null,null,null,null,null,null,null,null,null,null,"Pluralsight, LLC"]
[null,null,null,null,null,null,null,null,null,null,null,"PointNorth International Sàrl"]
[null,null,null,null,null,null,null,null,null,null,null,"Poland Government"]
[null,null,null,null,null,null,null,null,null,null,null,"Pooja JOSE"]
[null,null,null,null,null,null,null,null,null,null,null,"Pool Valley Creative LTD"]
[null,null,null,null,null,null,null,null,null,null,null,"Population Services International"]
[null,null,null,null,null,null,null,null,null,null,null,"PORTAGE SALARIAL LYON"]
[null,null,null,null,null,null,null,null,null,null,null,"Pranav Prabhu SAVANUR"]
[null,null,null,null,null,null,null,null,null,null,null,"Pratap Kumar Sahoo"]
[null,null,null,null,null,null,null,null,null,null,null,"Precision Health Consultants Global (PVT) Limited"]
[null,null,null,null,null,null,null,null,null,null,null,"Premise Data Corporation"]
[null,null,null,null,null,null,null,null,null,null,null,"Prendo Simulations Limited"]
[null,null,null,null,null,null,null,null,null,null,null,"President and Fellows of Harvard College OSP Wire Account"]
[null,null,null,null,null,null,null,null,null,null,null,"Prestige Graphique SA"]
[null,null,null,null,null,null,null,null,null,null,null,"PriceWaterhouse Coopers"]
[null,null,null,null,null,null,null,null,null,null,null,"PRICEWATERHOUSECOOPERS"]
[null,null,null,null,null,null,null,null,null,null,null,"Priya JOI"]
[null,null,null,null,null,null,null,null,null,null,null,"Pro Air Inc"]
[null,null,null,null,null,null,null,null,null,null,null,"Programme d'Appui au Développement Sanitaire"]
[null,null,null,null,null,null,null,null,null,null,null,"PROGRAMME DE RENFORCEMENT DES SYSTEMS DE SANTE DON"]
[null,null,null,null,null,null,null,null,null,null,null,"Project Syndicate"]
[null,null,null,null,null,null,null,null,null,null,null,"Projeto Saúde de Bandim-Pesq Operacional"]
[null,null,null,null,null,null,null,null,null,null,null,"Protiviti Switzerland GmbH"]
[null,null,null,null,null,null,null,null,null,null,null,"Proxeto Limited"]
[null,null,null,null,null,null,null,null,null,null,null,"PSITS General Business PLC"]
[null,null,null,null,null,null,null,null,null,null,null,"PT Caterison Sukses"]
[null,null,null,null,null,null,null,null,null,null,null,"PT Wira Pamungkas Pariwara"]
[null,null,null,null,null,null,null,null,null,null,null,"PT. Tribina Dinar Kencana"]
[null,null,null,null,null,null,null,null,null,null,null,"Public Health Consulting Services Ltd"]
[null,null,null,null,null,null,null,null,null,null,null,"PUHUA SA"]
[null,null,null,null,null,null,null,null,null,null,null,"PwC Business Advisory Services BV/SRL"]
[null,null,null,null,null,null,null,null,null,null,null,"Qasem Mohammed Qasem BUHAIBEH"]
[null,null,null,null,null,null,null,null,null,null,null,"Qatar"]
[null,null,null,null,null,null,null,null,null,null,null,"Qatar Fund for Development"]
[null,null,null,null,null,null,null,null,null,null,null,"QED Consulting LLC"]
[null,null,null,null,null,null,null,null,null,null,null,"QIM info SA"]
[null,null,null,null,null,null,null,null,null,null,null,"Qualtrics LLC"]
[null,null,null,null,null,null,null,null,null,null,null,"Quantum Communications Rusu Daniela Rusu"]
[null,null,null,null,null,null,null,null,null,null,null,"Racheal NJERI GITAU"]
[null,null,null,null,null,null,null,null,null,null,null,"Rachel BAUQUEREZ"]
[null,null,null,null,null,null,null,null,null,null,null,"Rachel FISHER INGRAHAM"]
[null,null,null,null,null,null,null,null,null,null,null,"Rachel Louise TURNER"]
[null,null,null,null,null,null,null,null,null,null,null,"Rachel Victoria BELT"]
[null,null,null,null,null,null,null,null,null,null,null,"Rafael VILA SAN JUAN SANPERE"]
[null,null,null,null,null,null,null,null,null,null,null,"Raj KUMAR"]
[null,null,null,null,null,null,null,null,null,null,null,"Rajesh PINNINTI"]
[null,null,null,null,null,null,null,null,null,null,null,"Rajinder Kumar SURI"]
[null,null,null,null,null,null,null,null,null,null,null,"Rakshit JAIN"]
[null,null,null,null,null,null,null,null,null,null,null,"Ralph Richard BENDO"]
[null,null,null,null,null,null,null,null,null,null,null,"Rando Attitude Annecy Aventure La Crique"]
[null,null,null,null,null,null,null,null,null,null,null,"Ravenhill Consultancy Limited"]
[null,null,null,null,null,null,null,null,null,null,null,"Realtejo - Hotelaria Turismo S.A."]
[null,null,null,null,null,null,null,null,null,null,null,"Rebekah Melinda McCosby"]
[null,null,null,null,null,null,null,null,null,null,null,"Receiver General for Canada"]
[null,null,null,null,null,null,null,null,null,null,null,"Red Coats Inc"]
[null,null,null,null,null,null,null,null,null,null,null,"Reed Smith LLP"]
[null,null,null,null,null,null,null,null,null,null,null,"Reillie Acks"]
[null,null,null,null,null,null,null,null,null,null,null,"REM5 LLC"]
[null,null,null,null,null,null,null,null,null,null,null,"REMARQ SA"]
[null,null,null,null,null,null,null,null,null,null,null,"Renegade Saints"]
[null,null,null,null,null,null,null,null,null,null,null,"Reproductive Health Association of Cambodia"]
[null,null,null,null,null,null,null,null,null,null,null,"Republic of Albania Ministry of Health & Social Protection"]
[null,null,null,null,null,null,null,null,null,null,null,"Republic of Kenya The National Treasury and Economic Planning"]
[null,null,null,null,null,null,null,null,null,null,null,"Republic of Syria"]
[null,null,null,null,null,null,null,null,null,null,null,"Research Triangle Institute"]
[null,null,null,null,null,null,null,null,null,null,null,"RESEAU AVENTURE SAS"]
[null,null,null,null,null,null,null,null,null,null,null,"RESILIENT WELFARE SOLUTIONS SARL"]
[null,null,null,null,null,null,null,null,null,null,null,"Resolve Inc."]
[null,null,null,null,null,null,null,null,null,null,null,"Restaurant du Creux de Genthod"]
[null,null,null,null,null,null,null,null,null,null,null,"Restaurant Délice Ange'Vin"]
[null,null,null,null,null,null,null,null,null,null,null,"Results for Development Institute"]
[null,null,null,null,null,null,null,null,null,null,null,"REVEAL YOUR WORTH Sandra YEO"]
[null,null,null,null,null,null,null,null,null,null,null,"Reviewers"]
[null,null,null,null,null,null,null,null,null,null,null,"Rhea CHADHA"]
[null,null,null,null,null,null,null,null,null,null,null,"Rhoda Kitti WANYENZE"]
[null,null,null,null,null,null,null,null,null,null,null,"Richard ANDERSON"]
[null,null,null,null,null,null,null,null,null,null,null,"Richard Maggs"]
[null,null,null,null,null,null,null,null,null,null,null,"Riva International"]
[null,null,null,null,null,null,null,null,null,null,null,"Riva Media Ltd"]
[null,null,null,null,null,null,null,null,null,null,null,"Robert KANWAGI"]
[null,null,null,null,null,null,null,null,null,null,null,"Robert Lucien Jean-Claude KARGOUGOU"]
[null,null,null,null,null,null,null,null,null,null,null,"Robert Spencer POND"]
[null,null,null,null,null,null,null,null,null,null,null,"Rochika Gopal CHAUDHRY"]
[null,null,null,null,null,null,null,null,null,null,null,"Rocque Advisory Sarl"]
[null,null,null,null,null,null,null,null,null,null,null,"Rolando Enrique Pinel Godoy"]
[null,null,null,null,null,null,null,null,null,null,null,"Rose Edder JALANG'O"]
[null,null,null,null,null,null,null,null,null,null,null,"Rose GANA FOMBAM EPSE LEKE"]
[null,null,null,null,null,null,null,null,null,null,null,"Rose Josseline MBOME"]
[null,null,null,null,null,null,null,null,null,null,null,"Rosemary GRIEVES"]
[null,null,null,null,null,null,null,null,null,null,null,"Ross GRAHAM"]
[null,null,null,null,null,null,null,null,null,null,null,"Rotary International"]
[null,null,null,null,null,null,null,null,null,null,null,"Roth Staffing Companies LP"]
[null,null,null,null,null,null,null,null,null,null,null,"Royal Manotel S  A"]
[null,null,null,null,null,null,null,null,null,null,null,"Royal Orchid Swiss Hotel SA Rougemont"]
[null,null,null,null,null,null,null,null,null,null,null,"Royal Pacific Group"]
[null,null,null,null,null,null,null,null,null,null,null,"Roza Selemon TESFAY"]
[null,null,null,null,null,null,null,null,null,null,null,"Rubi Ligia HERNANDEZ GODINEZ"]
[null,null,null,null,null,null,null,null,null,null,null,"Rukudzo Annelly MUYENGWA"]
[null,null,null,null,null,null,null,null,null,null,null,"Russell Reynolds Associates Ltd"]
[null,null,null,null,null,null,null,null,null,null,null,"Russell Reynolds Associates Srl"]
[null,null,null,null,null,null,null,null,null,null,null,"Ruth GROVE"]
[null,null,null,null,null,null,null,null,null,null,null,"Ruzan Gyurjyan"]
[null,null,null,null,null,null,null,null,null,null,null,"Rwanda"]
[null,null,null,null,null,null,null,null,null,null,null,"Réactiv Office Design ( R.O.D) Sàrl"]
[null,null,null,null,null,null,null,null,null,null,null,"Saad Bin OMER"]
[null,null,null,null,null,null,null,null,null,null,null,"Sabeeha QUERESHI"]
[null,null,null,null,null,null,null,null,null,null,null,"Sabine BECKMANN"]
[null,null,null,null,null,null,null,null,null,null,null,"Sage People LTD"]
[null,null,null,null,null,null,null,null,null,null,null,"Saint Lucia"]
[null,null,null,null,null,null,null,null,null,null,null,"Saint Vincent and the Grenadines"]
[null,null,null,null,null,null,null,null,null,null,null,"salesforce.com (Sample)"]
[null,null,null,null,null,null,null,null,null,null,null,"Samoa"]
[null,null,null,null,null,null,null,null,null,null,null,"Sample Account for Entitlements"]
[null,null,null,null,null,null,null,null,null,null,null,"Samrudhi Deepak KHANNA"]
[null,null,null,null,null,null,null,null,null,null,null,"Samuel OLIVELLE"]
[null,null,null,null,null,null,null,null,null,null,null,"Samwel WANG'OMBE"]
[null,null,null,null,null,null,null,null,null,null,null,"Sandra YEO"]
[null,null,null,null,null,null,null,null,null,null,null,"Sandro Ange RANDRIANASOLO RANDRASANA"]
[null,null,null,null,null,null,null,null,null,null,null,"Sango Na SMS"]
[null,null,null,null,null,null,null,null,null,null,null,"Saniya's Cultural Express"]
[null,null,null,null,null,null,null,null,null,null,null,"SANRU"]
[null,null,null,null,null,null,null,null,null,null,null,"Sao Tome & Principe CGS - Célula de Gestão das Subvenções"]
[null,null,null,null,null,null,null,null,null,null,null,"Sao Tome and Principe"]
[null,null,null,null,null,null,null,null,null,null,null,"Sapphire Betzaleel Consultants"]
[null,null,null,null,null,null,null,null,null,null,null,"Sara ABOU EL FETOUH ATTIA"]
[null,null,null,null,null,null,null,null,null,null,null,"Sarah Elisabeth HILLWARE"]
[null,null,null,null,null,null,null,null,null,null,null,"Sarah Jane SNIDAL"]
[null,null,null,null,null,null,null,null,null,null,null,"Sarl Alpes Sports Nature"]
[null,null,null,null,null,null,null,null,null,null,null,"SAS AU A.M.H"]
[null,null,null,null,null,null,null,null,null,null,null,"SAS Gaspard Gantzer"]
[null,null,null,null,null,null,null,null,null,null,null,"SAS LES PORTES DE GENEVE"]
[null,null,null,null,null,null,null,null,null,null,null,"SAS MC CONSULTING"]
[null,null,null,null,null,null,null,null,null,null,null,"Saudi Arabia"]
[null,null,null,null,null,null,null,null,null,null,null,"SAUDIGITUS SERVICOS DE INOVACAO DIGITAL LIMITADA"]
[null,null,null,null,null,null,null,null,null,null,null,"Save the Children Fund"]
[null,null,null,null,null,null,null,null,null,null,null,"Save The Children Korea"]
[null,null,null,null,null,null,null,null,null,null,null,"Schweizerische Mobiliar Versicherungsgesellschaft AG"]
[null,null,null,null,null,null,null,null,null,null,null,"SCIENTIFIC SOLUTIONS AA SA"]
[null,null,null,null,null,null,null,null,null,null,null,"SCRT SA"]
[null,null,null,null,null,null,null,null,null,null,null,"Seamless Events Solutions Ltd"]
[null,null,null,null,null,null,null,null,null,null,null,"Secrétariat Permanent des Organisations Non Gouvernementales (SPONG)"]
[null,null,null,null,null,null,null,null,null,null,null,"SEEK Development Strategic and Orga nizational Consultants GmbH"]
[null,null,null,null,null,null,null,null,null,null,null,"Seerist UK Limited"]
[null,null,null,null,null,null,null,null,null,null,null,"Sehrish TEHREEM"]
[null,null,null,null,null,null,null,null,null,null,null,"Self Employed Women's Association SEWA"]
[null,null,null,null,null,null,null,null,null,null,null,"Selsup (schweiz) sa"]
[null,null,null,null,null,null,null,null,null,null,null,"Senegal"]
[null,null,null,null,null,null,null,null,null,null,null,"Senegal"]
[null,null,null,null,null,null,null,null,null,null,null,"Seo Yim SHIN"]
[null,null,null,null,null,null,null,null,null,null,null,"Serbia"]
[null,null,null,null,null,null,null,null,null,null,null,"Serum Life Sciences Ltd"]
[null,null,null,null,null,null,null,null,null,null,null,"Services Concept"]
[null,null,null,null,null,null,null,null,null,null,null,"SERVICIOS DE SALUD DEL INSTITUTO MEXICANO DEL SEGURO SOCIAL PARA"]
[null,null,null,null,null,null,null,null,null,null,null,"SERVICOS DE SAUDE"]
[null,null,null,null,null,null,null,null,null,null,null,"Sessinou Benoit ASSOGBA"]
[null,null,null,null,null,null,null,null,null,null,null,"Seychelles"]
[null,null,null,null,null,null,null,null,null,null,null,"Seydou Mohamed OUEDRAOGO"]
[null,null,null,null,null,null,null,null,null,null,null,"SFDC Ireland Limited"]
[null,null,null,null,null,null,null,null,null,null,null,"Shade Forest Consulting Inc."]
[null,null,null,null,null,null,null,null,null,null,null,"SHAMAL OVERSEAS SHOREDITCH LIMITED"]
[null,null,null,null,null,null,null,null,null,null,null,"Shannon Salentine LLC"]
[null,null,null,null,null,null,null,null,null,null,null,"Sharingbox SA"]
[null,null,null,null,null,null,null,null,null,null,null,"SHARPMANIA SA"]
[null,null,null,null,null,null,null,null,null,null,null,"Sharvani SARAF"]
[null,null,null,null,null,null,null,null,null,null,null,"ShelterZoom Corp."]
[null,null,null,null,null,null,null,null,null,null,null,"Sheraton Addis"]
[null,null,null,null,null,null,null,null,null,null,null,"Shivani BAJAJ"]
[null,null,null,null,null,null,null,null,null,null,null,"Shred It"]
[null,null,null,null,null,null,null,null,null,null,null,"Shutterstock Inc"]
[null,null,null,null,null,null,null,null,null,null,null,"Sibylle Lilian HERZIG VAN WEES"]
[null,null,null,null,null,null,null,null,null,null,null,"Sidbewende Pierre YAMEOGO"]
[null,null,null,null,null,null,null,null,null,null,null,"Sidi Abdoullah EL BECHIR"]
[null,null,null,null,null,null,null,null,null,null,null,"Sierra Leone"]
[null,null,null,null,null,null,null,null,null,null,null,"Sierra Leone Ministry of Health and Sanitation"]
[null,null,null,null,null,null,null,null,null,null,null,"Signalytic Uganda SMC Limited"]
[null,null,null,null,null,null,null,null,null,null,null,"Siham JMAMMOU"]
[null,null,null,null,null,null,null,null,null,null,null,"Silverbee LLC"]
[null,null,null,null,null,null,null,null,null,null,null,"Silvia Paula Valentim LUTUCUTA"]
[null,null,null,null,null,null,null,null,null,null,null,"Sim Local UK Ltd"]
[null,null,null,null,null,null,null,null,null,null,null,"Simon Louis Sternin"]
[null,null,null,null,null,null,null,null,null,null,null,"Simon Sebastian ALLAN"]
[null,null,null,null,null,null,null,null,null,null,null,"Simprints Technology Limited"]
[null,null,null,null,null,null,null,null,null,null,null,"Singapore"]
[null,null,null,null,null,null,null,null,null,null,null,"Sinovac Life Science Co.Ltd"]
[null,null,null,null,null,null,null,null,null,null,null,"SKR Ventures Pty Ltd"]
[null,null,null,null,null,null,null,null,null,null,null,"Slovakia"]
[null,null,null,null,null,null,null,null,null,null,null,"Slovenia"]
[null,null,null,null,null,null,null,null,null,null,null,"smARTec Veranstaltungstechnik AG"]
[null,null,null,null,null,null,null,null,null,null,null,"SMARTVEB DOO"]
[null,null,null,null,null,null,null,null,null,null,null,"Smriti CHANDRASEKAR"]
[null,null,null,null,null,null,null,null,null,null,null,"Social Development Horizons LLC Rebeen Pasha"]
[null,null,null,null,null,null,null,null,null,null,null,"Social Watch Bénin"]
[null,null,null,null,null,null,null,null,null,null,null,"SOCIETE DU GRAND HOTEL DE DIVONNE"]
[null,null,null,null,null,null,null,null,null,null,null,"SOCIETY FOR WORLDWIDE INTERBANK FINANCIAL TELECOMMUNICATION"]
[null,null,null,null,null,null,null,null,null,null,null,"SOFITEL ABIDJAN HOTEL IVOIRE"]
[null,null,null,null,null,null,null,null,null,null,null,"SoftwareONE AG"]
[null,null,null,null,null,null,null,null,null,null,null,"SOFTWELL"]
[null,null,null,null,null,null,null,null,null,null,null,"SOGEMCO Société de Gestion Hôtelièr e Movenp Cointrin SA"]
[null,null,null,null,null,null,null,null,null,null,null,"Soleine Scotney"]
[null,null,null,null,null,null,null,null,null,null,null,"Solina Health Limited"]
[null,null,null,null,null,null,null,null,null,null,null,"Solomon Islands"]
[null,null,null,null,null,null,null,null,null,null,null,"Solomon Islands"]
[null,null,null,null,null,null,null,null,null,null,null,"Solvere One LLC"]
[null,null,null,null,null,null,null,null,null,null,null,"Somalia"]
[null,null,null,null,null,null,null,null,null,null,null,"Somalia"]
[null,null,null,null,null,null,null,null,null,null,null,"Sonali KOCHHAR"]
[null,null,null,null,null,null,null,null,null,null,null,"Sophie CHADWICK"]
[null,null,null,null,null,null,null,null,null,null,null,"Sophie RAINERO"]
[null,null,null,null,null,null,null,null,null,null,null,"Sophie Vanessa NEWLAND"]
[null,null,null,null,null,null,null,null,null,null,null,"SOS Assistance SA"]
[null,null,null,null,null,null,null,null,null,null,null,"Sounila TSIKOU"]
[null,null,null,null,null,null,null,null,null,null,null,"Sounkalo TRAORE"]
[null,null,null,null,null,null,null,null,null,null,null,"Soussoukpo Eusebe HOUNSOKOU"]
[null,null,null,null,null,null,null,null,null,null,null,"South Africa"]
[null,null,null,null,null,null,null,null,null,null,null,"South Korea"]
[null,null,null,null,null,null,null,null,null,null,null,"South Sudan"]
[null,null,null,null,null,null,null,null,null,null,null,"Spain"]
[null,null,null,null,null,null,null,null,null,null,null,"Speak Up Africa"]
[null,null,null,null,null,null,null,null,null,null,null,"Spela SLAMBERGER"]
[null,null,null,null,null,null,null,null,null,null,null,"Spencer Stuart Switzerland AG"]
[null,null,null,null,null,null,null,null,null,null,null,"Sports Corporate Antoine Caute"]
[null,null,null,null,null,null,null,null,null,null,null,"SRI Executive Search Ltd"]
[null,null,null,null,null,null,null,null,null,null,null,"Sri Lanka"]
[null,null,null,null,null,null,null,null,null,null,null,"Sri Lanka"]
[null,null,null,null,null,null,null,null,null,null,null,"Sriraghav SRINIVASAN"]
[null,null,null,null,null,null,null,null,null,null,null,"St. Kitts and Nevis"]
[null,null,null,null,null,null,null,null,null,null,null,"Staples Contract and Commercial LLC"]
[null,null,null,null,null,null,null,null,null,null,null,"State Inst Rep Cnt of Immunoprophyl under the MOH and Social Protection of"]
[null,null,null,null,null,null,null,null,null,null,null,"State of Maryland - University of Maryland Baltimore"]
[null,null,null,null,null,null,null,null,null,null,null,"STATWIG TECHNOLOGY SERVICES PRIVATE LIMITED"]
[null,null,null,null,null,null,null,null,null,null,null,"Stefan Jutz Event Services"]
[null,null,null,null,null,null,null,null,null,null,null,"Stefano Lazzari"]
[null,null,null,null,null,null,null,null,null,null,null,"Stefano MALVOLTI"]
[null,null,null,null,null,null,null,null,null,null,null,"Stella VILLARES"]
[null,null,null,null,null,null,null,null,null,null,null,"Stellah Wairimu BOSIRE"]
[null,null,null,null,null,null,null,null,null,null,null,"Stellar Data Recovery Inc"]
[null,null,null,null,null,null,null,null,null,null,null,"Stephane DUFILS"]
[null,null,null,null,null,null,null,null,null,null,null,"Sterling Relocation Switzerland SA"]
[null,null,null,null,null,null,null,null,null,null,null,"Stig Georg Daniel Genberg"]
[null,null,null,null,null,null,null,null,null,null,null,"Stix Technology"]
[null,null,null,null,null,null,null,null,null,null,null,"Stone Fashion UG"]
[null,null,null,null,null,null,null,null,null,null,null,"Strader SA"]
[null,null,null,null,null,null,null,null,null,null,null,"STRATEGIC PARTNERS SRL"]
[null,null,null,null,null,null,null,null,null,null,null,"Strong Contents Sweden AB"]
[null,null,null,null,null,null,null,null,null,null,null,"Studio House"]
[null,null,null,null,null,null,null,null,null,null,null,"Studio Miko Limited"]
[null,null,null,null,null,null,null,null,null,null,null,"Stéphane CABRE"]
[null,null,null,null,null,null,null,null,null,null,null,"Sudan"]
[null,null,null,null,null,null,null,null,null,null,null,"Sudan North"]
[null,null,null,null,null,null,null,null,null,null,null,"Sudan South"]
[null,null,null,null,null,null,null,null,null,null,null,"Sunita Sehmi Thapar"]
[null,null,null,null,null,null,null,null,null,null,null,"Sunrise UPC GmbH"]
[null,null,null,null,null,null,null,null,null,null,null,"Surfshop 1 28 Sàrl"]
[null,null,null,null,null,null,null,null,null,null,null,"Suriname"]
[null,null,null,null,null,null,null,null,null,null,null,"SurveyMonkey Europe Unlimited Company"]
[null,null,null,null,null,null,null,null,null,null,null,"Susann Louise Dyrseth KONGSTAD"]
[null,null,null,null,null,null,null,null,null,null,null,"Sustainalytics US Inc"]
[null,null,null,null,null,null,null,null,null,null,null,"Suzanne Weeks Sarl"]
[null,null,null,null,null,null,null,null,null,null,null,"Svetlomir Miroslavov SLAVCHEV"]
[null,null,null,null,null,null,null,null,null,null,null,"Sweden"]
[null,null,null,null,null,null,null,null,null,null,null,"Swiss Confederation Federal Finance Administration FFA"]
[null,null,null,null,null,null,null,null,null,null,null,"Swiss Tropical and Public Health Institute"]
[null,null,null,null,null,null,null,null,null,null,null,"Swisscom (Suisse) SA"]
[null,null,null,null,null,null,null,null,null,null,null,"SwissLegal Rouiller Associés Avocat s SA"]
[null,null,null,null,null,null,null,null,null,null,null,"Switzerland"]
[null,null,null,null,null,null,null,null,null,null,null,"SWOOP Analytics Pty Ltd"]
[null,null,null,null,null,null,null,null,null,null,null,"Sydani Initiative for International Development"]
[null,null,null,null,null,null,null,null,null,null,null,"Syed Akber Ali SHAH"]
[null,null,null,null,null,null,null,null,null,null,null,"Syed Waqar ul Hasan"]
[null,null,null,null,null,null,null,null,null,null,null,"Sylvain YUMA RAMAZANI"]
[null,null,null,null,null,null,null,null,null,null,null,"SYNACK INC."]
[null,null,null,null,null,null,null,null,null,null,null,"SYR-NWS"]
[null,null,null,null,null,null,null,null,null,null,null,"T-Interactions Association pour l'intégration sociale"]
[null,null,null,null,null,null,null,null,null,null,null,"Taiwan, China"]
[null,null,null,null,null,null,null,null,null,null,null,"Tajikistan"]
[null,null,null,null,null,null,null,null,null,null,null,"Talan SA"]
[null,null,null,null,null,null,null,null,null,null,null,"Talgahahena Lakshmi Chiramani SOMATUNGA"]
[null,null,null,null,null,null,null,null,null,null,null,"Talia FLORES"]
[null,null,null,null,null,null,null,null,null,null,null,"Tamara ABISALEH"]
[null,null,null,null,null,null,null,null,null,null,null,"Tandin Wangchuk"]
[null,null,null,null,null,null,null,null,null,null,null,"Tanzania"]
[null,null,null,null,null,null,null,null,null,null,null,"Tanzania, United Republic of"]
[null,null,null,null,null,null,null,null,null,null,null,"Tarakimu Consulting Advisors Limited"]
[null,null,null,null,null,null,null,null,null,null,null,"TARIG ABDALLA ABDALLRAHIM ELFADUL"]
[null,null,null,null,null,null,null,null,null,null,null,"Tatooine"]
[null,null,null,null,null,null,null,null,null,null,null,"Tcha Landry Kaucley"]
[null,null,null,null,null,null,null,null,null,null,null,"Teams Connect"]
[null,null,null,null,null,null,null,null,null,null,null,"Tech Mahindra Limited"]
[null,null,null,null,null,null,null,null,null,null,null,"Techniques d'Organisation en Formatique Association et"]
[null,null,null,null,null,null,null,null,null,null,null,"Teddy Samuel KIMANI KABUI"]
[null,null,null,null,null,null,null,null,null,null,null,"Tejal Shrikant AMBARDEKAR"]
[null,null,null,null,null,null,null,null,null,null,null,"Teklay DESTA"]
[null,null,null,null,null,null,null,null,null,null,null,"TELOS. SINGLE MEMBER P.C."]
[null,null,null,null,null,null,null,null,null,null,null,"Tendai CHIGAVAZIRA"]
[null,null,null,null,null,null,null,null,null,null,null,"Tene Alima ESSOH"]
[null,null,null,null,null,null,null,null,null,null,null,"Teresa Mullett RESSEL"]
[null,null,null,null,null,null,null,null,null,null,null,"TERGON Fabricant de sièges de bureau Sàr"]
[null,null,null,null,null,null,null,null,null,null,null,"Terra Firma Associates Sprl"]
[null,null,null,null,null,null,null,null,null,null,null,"Tessa ORARO-LAWRENCE"]
[null,null,null,null,null,null,null,null,null,null,null,"test_supplier_PVT_23 5_2"]
[null,null,null,null,null,null,null,null,null,null,null,"Tetuh KYENG MERCY EPSE NJI"]
[null,null,null,null,null,null,null,null,null,null,null,"Thailand"]
[null,null,null,null,null,null,null,null,null,null,null,"The Agency Communications Sarl"]
[null,null,null,null,null,null,null,null,null,null,null,"The Albert B. Sabin Vaccine Institute Inc"]
[null,null,null,null,null,null,null,null,null,null,null,"THE ALLIANCE FOR INTERNATIONAL MEDICAL ACTION"]
[null,null,null,null,null,null,null,null,null,null,null,"The Ariel Group, LLC"]
[null,null,null,null,null,null,null,null,null,null,null,"THE BALANZAN INSTITUTE"]
[null,null,null,null,null,null,null,null,null,null,null,"The Boston Consulting Group and Cie"]
[null,null,null,null,null,null,null,null,null,null,null,"The Boston Consulting Group, Inc."]
[null,null,null,null,null,null,null,null,null,null,null,"The Difference a2c LLC"]
[null,null,null,null,null,null,null,null,null,null,null,"The Eleanor Crook Foundation"]
[null,null,null,null,null,null,null,null,null,null,null,"The Financial Times Limited"]
[null,null,null,null,null,null,null,null,null,null,null,"The George Washington University"]
[null,null,null,null,null,null,null,null,null,null,null,"The Global Fund to Fight Aids  Tube rculosis and Malaria"]
[null,null,null,null,null,null,null,null,null,null,null,"The Government of Jamaica Ministry of Health and Wellness"]
[null,null,null,null,null,null,null,null,null,null,null,"The Government of Portugal"]
[null,null,null,null,null,null,null,null,null,null,null,"The Government of the Hong Kong Special Administrative Region"]
[null,null,null,null,null,null,null,null,null,null,null,"The Government of the Republic of Namibi"]
[null,null,null,null,null,null,null,null,null,null,null,"The Institute of Internal Auditors Switzerland (IIA Switzerland)"]
[null,null,null,null,null,null,null,null,null,null,null,"The Institute of Internal Auditors, Inc"]
[null,null,null,null,null,null,null,null,null,null,null,"The Johns Hopkins University"]
[null,null,null,null,null,null,null,null,null,null,null,"The Macfarlane Burnet Institute for Medical Research and Public Health"]
[null,null,null,null,null,null,null,null,null,null,null,"The mSupply Foundation"]
[null,null,null,null,null,null,null,null,null,null,null,"The Partnering Initiative"]
[null,null,null,null,null,null,null,null,null,null,null,"The Pennsylvania State University"]
[null,null,null,null,null,null,null,null,null,null,null,"The People Side of Change bv"]
[null,null,null,null,null,null,null,null,null,null,null,"The Potential Project Deutschland GmbH"]
[null,null,null,null,null,null,null,null,null,null,null,"The Power of Nutrition"]
[null,null,null,null,null,null,null,null,null,null,null,"The Presentation Company LLC"]
[null,null,null,null,null,null,null,null,null,null,null,"THE PRINCIPALITY OF LIECHTENSTEIN"]
[null,null,null,null,null,null,null,null,null,null,null,"The Registered Trustees of Ifakara Healt"]
[null,null,null,null,null,null,null,null,null,null,null,"The Sydney Children's Hospital Netw"]
[null,null,null,null,null,null,null,null,null,null,null,"The Training Box Limited"]
[null,null,null,null,null,null,null,null,null,null,null,"The Transcription Shop Limited"]
[null,null,null,null,null,null,null,null,null,null,null,"The Trustees of Columbia University in the City of New York"]
[null,null,null,null,null,null,null,null,null,null,null,"The University of Melbourne Revenue Account"]
[null,null,null,null,null,null,null,null,null,null,null,"The Westin Resort Nusa Dua"]
[null,null,null,null,null,null,null,null,null,null,null,"The Yale Club of New York City"]
[null,null,null,null,null,null,null,null,null,null,null,"Therese NAGGAYI DJOBANTI"]
[null,null,null,null,null,null,null,null,null,null,null,"Thierry Kevin BINDE BABOULE"]
[null,null,null,null,null,null,null,null,null,null,null,"ThinkWell Institute"]
[null,null,null,null,null,null,null,null,null,null,null,"Tholoana Mamello MASUPHA"]
[null,null,null,null,null,null,null,null,null,null,null,"Thomas George BARTON"]
[null,null,null,null,null,null,null,null,null,null,null,"Thomas Philip DAVIS JR"]
[null,null,null,null,null,null,null,null,null,null,null,"Thomson Reuters (Professional) UK"]
[null,null,null,null,null,null,null,null,null,null,null,"Thriving Talent SARL"]
[null,null,null,null,null,null,null,null,null,null,null,"Thu Phuong LY"]
[null,null,null,null,null,null,null,null,null,null,null,"Tim Jan Teunis VAN DOORNE"]
[null,null,null,null,null,null,null,null,null,null,null,"Timor Leste"]
[null,null,null,null,null,null,null,null,null,null,null,"Timor-Leste"]
[null,null,null,null,null,null,null,null,null,null,null,"Timothée DOUGNON"]
[null,null,null,null,null,null,null,null,null,null,null,"Timur CHERIKOV"]
[null,null,null,null,null,null,null,null,null,null,null,"Tippi MAK"]
[null,null,null,null,null,null,null,null,null,null,null,"Togo"]
[null,null,null,null,null,null,null,null,null,null,null,"Togo"]
[null,null,null,null,null,null,null,null,null,null,null,"Tokuns International Ltd"]
[null,null,null,null,null,null,null,null,null,null,null,"Tolbert Geewleh NYENSWAH"]
[null,null,null,null,null,null,null,null,null,null,null,"Tonga"]
[null,null,null,null,null,null,null,null,null,null,null,"Toni Rosslyn PARSONS"]
[null,null,null,null,null,null,null,null,null,null,null,"Tony Chahale MUGASIA"]
[null,null,null,null,null,null,null,null,null,null,null,"Total Impact Capital LLC"]
[null,null,null,null,null,null,null,null,null,null,null,"TPC Leadership Switzerland"]
[null,null,null,null,null,null,null,null,null,null,null,"Tradulex"]
[null,null,null,null,null,null,null,null,null,null,null,"Transitioned"]
[null,null,null,null,null,null,null,null,null,null,null,"Trinidad and Tobago"]
[null,null,null,null,null,null,null,null,null,null,null,"Trustees of Boston University"]
[null,null,null,null,null,null,null,null,null,null,null,"TryHackMe Ltd"]
[null,null,null,null,null,null,null,null,null,null,null,"TUMAS HOTEL OPERATIONS EVIAN SAS"]
[null,null,null,null,null,null,null,null,null,null,null,"Tunisia"]
[null,null,null,null,null,null,null,null,null,null,null,"Turkmenistan"]
[null,null,null,null,null,null,null,null,null,null,null,"Turks and Caicos Islands"]
[null,null,null,null,null,null,null,null,null,null,null,"Tuuli REISSAAR"]
[null,null,null,null,null,null,null,null,null,null,null,"Tuvalu"]
[null,null,null,null,null,null,null,null,null,null,null,"U-SAVE CAR RENTAL (AVIS RENT A CAR)"]
[null,null,null,null,null,null,null,null,null,null,null,"UAE Department of Health"]
[null,null,null,null,null,null,null,null,null,null,null,"UBS  VISA CHF Card Center AG"]
[null,null,null,null,null,null,null,null,null,null,null,"UBS Optimus Foundation"]
[null,null,null,null,null,null,null,null,null,null,null,"Uganda"]
[null,null,null,null,null,null,null,null,null,null,null,"Uganda"]
[null,null,null,null,null,null,null,null,null,null,null,"UK Health Security Agency"]
[null,null,null,null,null,null,null,null,null,null,null,"Ukraine"]
[null,null,null,null,null,null,null,null,null,null,null,"Undo Art"]
[null,null,null,null,null,null,null,null,null,null,null,"UNDP Contributions Account"]
[null,null,null,null,null,null,null,null,null,null,null,"UNDP REPRESENTATIVE IN MAURITIUS"]
[null,null,null,null,null,null,null,null,null,null,null,"Une-Bonne-Idée.ch Sàrl"]
[null,null,null,null,null,null,null,null,null,null,null,"UNICEF Programme Division"]
[null,null,null,null,null,null,null,null,null,null,null,"UNICEF SD (PFM)"]
[null,null,null,null,null,null,null,null,null,null,null,"UNICEF South Sudan"]
[null,null,null,null,null,null,null,null,null,null,null,"UNICEF Supply Division"]
[null,null,null,null,null,null,null,null,null,null,null,"UNICEF Supply Division partner"]
[null,null,null,null,null,null,null,null,null,null,null,"Union for International Cancer Cont rol"]
[null,null,null,null,null,null,null,null,null,null,null,"UNIQA Österreich Versicherungen AG Zurich"]
[null,null,null,null,null,null,null,null,null,null,null,"Unique Pathways Sàrl"]
[null,null,null,null,null,null,null,null,null,null,null,"Unite de Gestion de Programme Ministry of Health & Population Congo Brazzaville"]
[null,null,null,null,null,null,null,null,null,null,null,"Unite- Association of Parliamentarians to End Infectious Diseases"]
[null,null,null,null,null,null,null,null,null,null,null,"United Arab Emirates"]
[null,null,null,null,null,null,null,null,null,null,null,"United Kingdom"]
[null,null,null,null,null,null,null,null,null,null,null,"UNITED NATIONS HIGH COMMISSIONER FOR REFUGEES"]
[null,null,null,null,null,null,null,null,null,null,null,"United Nations Office at Geneva"]
[null,null,null,null,null,null,null,null,null,null,null,"United Nations Office for Project Services UNOPS"]
[null,null,null,null,null,null,null,null,null,null,null,"Universite de Geneve"]
[null,null,null,null,null,null,null,null,null,null,null,"Universitetet i Oslo"]
[null,null,null,null,null,null,null,null,null,null,null,"University of Cape Town"]
[null,null,null,null,null,null,null,null,null,null,null,"University of Oxford"]
[null,null,null,null,null,null,null,null,null,null,null,"University of Southampton"]
[null,null,null,null,null,null,null,null,null,null,null,"University of Washington"]
[null,null,null,null,null,null,null,null,null,null,null,"Upile Hazel KACHILA"]
[null,null,null,null,null,null,null,null,null,null,null,"Uruguay"]
[null,null,null,null,null,null,null,null,null,null,null,"US International Development Finance Corporation"]
[null,null,null,null,null,null,null,null,null,null,null,"Uzbekistan"]
[null,null,null,null,null,null,null,null,null,null,null,"Uzbekistan"]
[null,null,null,null,null,null,null,null,null,null,null,"V & F COFFEE Inc"]
[null,null,null,null,null,null,null,null,null,null,null,"Valentin HOPFINGER"]
[null,null,null,null,null,null,null,null,null,null,null,"Valentin YALE KITOKO"]
[null,null,null,null,null,null,null,null,null,null,null,"Valentina RUGI"]
[null,null,null,null,null,null,null,null,null,null,null,"Valia LLC"]
[null,null,null,null,null,null,null,null,null,null,null,"Vanuatu"]
[null,null,null,null,null,null,null,null,null,null,null,"Velislava Nikolaeva PETROVA"]
[null,null,null,null,null,null,null,null,null,null,null,"Venezuela"]
[null,null,null,null,null,null,null,null,null,null,null,"Vera Helen REES"]
[null,null,null,null,null,null,null,null,null,null,null,"Vera Solutions Inc"]
[null,null,null,null,null,null,null,null,null,null,null,"Verinext Corp"]
[null,null,null,null,null,null,null,null,null,null,null,"VERIZON FINANCIAL SERVICES LLC"]
[null,null,null,null,null,null,null,null,null,null,null,"Vialto Société d'Avocats"]
[null,null,null,null,null,null,null,null,null,null,null,"Viamo Inc"]
[null,null,null,null,null,null,null,null,null,null,null,"Victoria Khasoa AMUNGA"]
[null,null,null,null,null,null,null,null,null,null,null,"Victoria TILLS"]
[null,null,null,null,null,null,null,null,null,null,null,"Victorious C Olale"]
[null,null,null,null,null,null,null,null,null,null,null,"Viet Nam"]
[null,null,null,null,null,null,null,null,null,null,null,"Viking Schweiz GmbH"]
[null,null,null,null,null,null,null,null,null,null,null,"VillageReach"]
[null,null,null,null,null,null,null,null,null,null,null,"Villars Experience SA"]
[null,null,null,null,null,null,null,null,null,null,null,"VILLE DU GRAND-SACONNEX"]
[null,null,null,null,null,null,null,null,null,null,null,"Vionnet Conseil SàRL"]
[null,null,null,null,null,null,null,null,null,null,null,"Virginie Pauline Emilie FISSIER"]
[null,null,null,null,null,null,null,null,null,null,null,"Viroj Tangcharoensathien"]
[null,null,null,null,null,null,null,null,null,null,null,"Vision Management Services GmbH"]
[null,null,null,null,null,null,null,null,null,null,null,"Visuals Switzerland SA"]
[null,null,null,null,null,null,null,null,null,null,null,"Visualst"]
[null,null,null,null,null,null,null,null,null,null,null,"Vivian Mercedes LOPEZ"]
[null,null,null,null,null,null,null,null,null,null,null,"Viviana MANGIATERRA"]
[null,null,null,null,null,null,null,null,null,null,null,"Vivien Davis TSU"]
[null,null,null,null,null,null,null,null,null,null,null,"von Rundstedt & Partner Schweiz AG"]
[null,null,null,null,null,null,null,null,null,null,null,"VSP"]
[null,null,null,null,null,null,null,null,null,null,null,"W Focus SA"]
[null,null,null,null,null,null,null,null,null,null,null,"Wahid MAJROOH"]
[null,null,null,null,null,null,null,null,null,null,null,"Wais YACOUB ELMI"]
[null,null,null,null,null,null,null,null,null,null,null,"Walking the Talk B.V."]
[null,null,null,null,null,null,null,null,null,null,null,"Walter Albert ORENSTEIN"]
[null,null,null,null,null,null,null,null,null,null,null,"Warwick Geneva - REWIMAR SA"]
[null,null,null,null,null,null,null,null,null,null,null,"Wassim KHROUF"]
[null,null,null,null,null,null,null,null,null,null,null,"Wavestone Switzerland SA"]
[null,null,null,null,null,null,null,null,null,null,null,"we.CONECT Global Leaders GmbH"]
[null,null,null,null,null,null,null,null,null,null,null,"WEI SHENG WILSON Chia"]
[null,null,null,null,null,null,null,null,null,null,null,"Weintraub Communications LLC"]
[null,null,null,null,null,null,null,null,null,null,null,"Welcome Mandla Productions (Pty) Ltd"]
[null,null,null,null,null,null,null,null,null,null,null,"WHS Foundation GmbH"]
[null,null,null,null,null,null,null,null,null,null,null,"William Nii Ayitey MENSON"]
[null,null,null,null,null,null,null,null,null,null,null,"Willis AG"]
[null,null,null,null,null,null,null,null,null,null,null,"Willis Tower Watson Midwest Inc"]
[null,null,null,null,null,null,null,null,null,null,null,"WilsonHCG EMEA Ltd"]
[null,null,null,null,null,null,null,null,null,null,null,"Wilton Park Executive Agency"]
[null,null,null,null,null,null,null,null,null,null,null,"Wits Health Consortium Pty Ltd"]
[null,null,null,null,null,null,null,null,null,null,null,"WMATA SmartBenefist"]
[null,null,null,null,null,null,null,null,null,null,null,"Wojciech TUDUJ"]
[null,null,null,null,null,null,null,null,null,null,null,"Workato Inc."]
[null,null,null,null,null,null,null,null,null,null,null,"Workleap Platform Inc."]
[null,null,null,null,null,null,null,null,null,null,null,"World Bank IBRD"]
[null,null,null,null,null,null,null,null,null,null,null,"World Council of Churches"]
[null,null,null,null,null,null,null,null,null,null,null,"World Television Ltd"]
[null,null,null,null,null,null,null,null,null,null,null,"World Vision International"]
[null,null,null,null,null,null,null,null,null,null,null,"World Vision International Trust Board"]
[null,null,null,null,null,null,null,null,null,null,null,"World Vision, Inc."]
[null,null,null,null,null,null,null,null,null,null,null,"WS INSIGHT LIMITED"]
[null,null,null,null,null,null,null,null,null,null,null,"Wu Yibing"]
[null,null,null,null,null,null,null,null,null,null,null,"X-Lense Consulting LLC"]
[null,null,null,null,null,null,null,null,null,null,null,"Yaba Sidpasamde David ZOMBRE"]
[null,null,null,null,null,null,null,null,null,null,null,"Yacine Ndiaye"]
[null,null,null,null,null,null,null,null,null,null,null,"Yale University"]
[null,null,null,null,null,null,null,null,null,null,null,"Yanis M'zali"]
[null,null,null,null,null,null,null,null,null,null,null,"Yaovi Christophe DOSSOUVI"]
[null,null,null,null,null,null,null,null,null,null,null,"Yavari Consulting"]
[null,null,null,null,null,null,null,null,null,null,null,"Yemen"]
[null,null,null,null,null,null,null,null,null,null,null,"Yemen"]
[null,null,null,null,null,null,null,null,null,null,null,"Yemen Association for Development"]
[null,null,null,null,null,null,null,null,null,null,null,"Yo Han KIM"]
[null,null,null,null,null,null,null,null,null,null,null,"Yoann RENNARD"]
[null,null,null,null,null,null,null,null,null,null,null,"Yogesh Smoke Test"]
[null,null,null,null,null,null,null,null,null,null,null,"Yona SLEIMAN"]
[null,null,null,null,null,null,null,null,null,null,null,"YOTEL Switzerland GmbH"]
[null,null,null,null,null,null,null,null,null,null,null,"Youan Rodolphe TIAN BI"]
[null,null,null,null,null,null,null,null,null,null,null,"Zacharie NDIZEYE"]
[null,null,null,null,null,null,null,null,null,null,null,"Zaeem Ul HAQ"]
[null,null,null,null,null,null,null,null,null,null,null,"Zambia"]
[null,null,null,null,null,null,null,null,null,null,null,"Zambia"]
[null,null,null,null,null,null,null,null,null,null,null,"Zanders GmbH"]
[null,null,null,null,null,null,null,null,null,null,null,"Zebra CULTURE (PTY) LTD"]
[null,null,null,null,null,null,null,null,null,null,null,"Zeenat PATEL"]
[null,null,null,null,null,null,null,null,null,null,null,"Zenysis Technologies Inc"]
[null,null,null,null,null,null,null,null,null,null,null,"Zimbabwe"]
[null,null,null,null,null,null,null,null,null,null,null,"Zimbabwe"]
[null,null,null,null,null,null,null,null,null,null,null,"Zipline International Inc"]
[null,null,null,null,null,null,null,null,null,null,null,"Zoho Corporation GmbH"]
[null,null,null,null,null,null,null,null,null,null,null,"Zoom Video Communications Inc"]
[null,null,null,null,null,null,null,null,null,null,null,"ZS Associates International, Inc."]
[null,null,null,null,null,null,null,null,null,null,null,"Zufan Abera DAMTEW"]
[null,null,null,null,null,null,null,null,null,null,null,"Zurich International Life Limited"]
[null,null,null,null,null,null,null,null,null,null,null,"Zurich Versicherungs Gesellsch aft AG"]
[null,null,null,null,null,null,null,null,null,null,null,"Zycus Infotech Netherlands B.V."]

{"sheet":"Budget_BackWork","index":9,"n_rows":10,"n_cols":8,"rows_kept":10,"cut":false,"hidden":true,"merged":[]}
["Strategic goal","Strategic goal Temp",null,"Strategic objective","Strategic objective Temp",null,"Investment area ","Investment area Temp"]
["1. Introduce & scale up vaccines","Introduce and scale up vaccines",null,"1.1 Countries prioritize and optimize their vaccine programmes","Countries prioritize and optimize their vaccine programmes",null,"1. Service delivery","Service Delivery"]
["2. Strengthen health systems","Strengthen health systems to increase equity in immunisation",null,"1.2 High quality Gavi-supported vaccine introductions and preventive campaigns","High quality Gavi-supported vaccine introductions and preventive campaigns",null,"2. Human resources management","Human_resources_management"]
["3. Improve sustainability","Improve programmatic and financial sustainability of immunisation programmes",null,"1.3 Effective, timely response to outbreaks, epidemics and pandemics","Effective, timely response to outbreaks, epidemics and pandemics",null,"3. Supply chain","Supply Chain"]
[null,null,null,"2.1 Vaccine coverage maintained for early childhood, through resilient routine immunizations and timely integrated campaigns","Vaccine coverage maintained for early childhood, through resilient routine immunizations and timely integrated campaigns",null,"4. Data, Monitoring and Learning, AEFI","Data_Monitoring_and Learning_AEFI"]
[null,null,null,"2.2 Zero dose children and missed communities reached & fully immunized, co-delivered with other PHC where possible","Zero dose children and missed communities reached & fully immunized, co-delivered with other PHC where possible",null,"5. Disease surveillance","Disease surveillance"]
[null,null,null,"2.3 Access improved for other childhood and adolescent vaccines through strengthened touchpoints, leveraging other health services","Access improved for other childhood and adolescent vaccines through strengthened touchpoints, leveraging other health services",null,"6. Demand generation and community engagement","Demand Generation and Community Engagement"]
[null,null,null,"3.1 Political and social commitment to immunisation'","Political and social commitment to immunisation",null,"7. Governance, policy, strategic planning, and programme management","Governance_Policy_Strategic_Planning_and_Programme_Management"]
[null,null,null,"3.2 Improved transition readiness and sustained performance following transition","Improved transition readiness and sustained performance following transition",null,"8. Health Financing","Health_Financing"]
[null,null,null,"3.3 Self-financing country introductions and equitable vaccine coverage performance maintained","Self-financing country introductions and equitable vaccine coverage performance maintained"]

{"sheet":"ADMIN","index":10,"n_rows":3,"n_cols":10,"rows_kept":3,"cut":false,"hidden":true,"merged":[]}
["Langues",null,"Messages Français","Message Anglais",null,"Liste langue",null,"Protection mdp",null,"Filtrage"]
["ENG",null,null,null,null,"English",null,"Trefle Applications",null,0]
[null,null,null,null,null,"French"]

{"sheet":"Analysis1","index":11,"n_rows":115,"n_cols":12,"rows_kept":115,"cut":false,"hidden":true,"merged":[]}
["Analysis Sheet"]
["This sheet will include all the Python formulas generated by Copilot."]
[]
[]
["Load data from Dashboard, A17:H30"]
[{"$f":"_xlfn._xlws.PY(0,1,#REF!)","v":{"$error":"#REF!"}}]
[]
["Preview"]
[{"$f":"IFERROR(_FV(A6,\"arrayPreview\"),_xlfn._DF_Python_str(A6))","v":{"$error":"#REF!"}}]
[]
[]
[]
[]
[]
[]
[]
[]
[]
[]
[]
[]
[]
["Summarize totals and percentages by main category"]
[{"$f":"_xlfn._xlws.PY(1,1)","v":{"$error":"#VALUE!"}}]
[]
["Preview"]
[{"$f":"IFERROR(_FV(A24,\"arrayPreview\"),_xlfn._DF_Python_str(A24))","v":{"$error":"#VALUE!"}}]
[]
[]
[]
[]
[]
["Analyze subcategory contributions within each main category"]
[{"$f":"_xlfn._xlws.PY(2,1)","v":{"$error":"#VALUE!"}}]
[]
["Preview"]
[{"$f":"IFERROR(_FV(A34,\"arrayPreview\"),_xlfn._DF_Python_str(A34))","v":{"$error":"#VALUE!"}}]
[]
[]
[]
[]
[]
[]
[]
[]
[]
[]
[]
["Bar chart of main category and subcategory totals"]
[{"$f":"_xlfn._xlws.PY(3,1)","v":{"$error":"#VALUE!"}}]
[]
[]
[]
[]
[]
[]
[]
[]
[]
[]
[]
[]
[]
[]
[]
[]
[]
[]
["Semi-annual reporting template DataFrame with example rows and embedded formulas"]
[{"$f":"_xlfn._xlws.PY(4,1)","v":{"$error":"#VALUE!"}}]
[]
["Preview"]
[{"$f":"IFERROR(_FV(A70,\"arrayPreview\"),_xlfn._DF_Python_str(A70))","v":""},"Budget Line/Activity","Main Category","Subcategory","Annual Budget","Semi-Annual Period","...","Actual Expenditure for Period","Variance","Cumulative Actual Expenditure","Cumulative Variance","Comments"]
[0,"1.1 Countries prioritize and optimize their vaccine programmes","1. Introduce & scale up vaccines","1.1 Countries prioritize and optimize their vaccine programmes",1000000,"H1","...",480000,"=G2-H2","=H2","=I2",""]
[1,"1.1 Countries prioritize and optimize their vaccine programmes","1. Introduce & scale up vaccines","1.1 Countries prioritize and optimize their vaccine programmes",1000000,"H2","...",510000,"=G3-H3","=H2+H3","=I2+I3",""]
[2,"2.2 Zero dose children and missed communities reached & fully immunized, co-delivered with other PHC where possible","2. Strengthen health systems","2.2 Zero dose children and missed communities reached & fully immunized, co-delivered with other PHC where possible",1000000,"H1","...",480000,"=G4-H4","=H4","=I4",""]
[3,"2.2 Zero dose children and missed communities reached & fully immunized, co-delivered with other PHC where possible","2. Strengthen health systems","2.2 Zero dose children and missed communities reached & fully immunized, co-delivered with other PHC where possible",1000000,"H2","...",510000,"=G5-H5","=H4+H5","=I4+I5",""]
[4,"3.2 Improved transition readiness and sustained performance following transition","3. Improve sustainability","3.2 Improved transition readiness and sustained performance following transition",1000000,"H1","...",480000,"=G6-H6","=H6","=I6",""]
[5,"3.2 Improved transition readiness and sustained performance following transition","3. Improve sustainability","3.2 Improved transition readiness and sustained performance following transition",1000000,"H2","...",510000,"=G7-H7","=H6+H7","=I6+I7",""]
[]
[]
["Updated semi-annual reporting template with budget change tracking columns"]
[{"$f":"_xlfn._xlws.PY(5,1)","v":{"$error":"#VALUE!"}}]
[]
["Preview"]
[{"$f":"IFERROR(_FV(A83,\"arrayPreview\"),_xlfn._DF_Python_str(A83))","v":""},"Budget Line/Activity","Main Category","Subcategory","Original Annual Budget","Revised Annual Budget","...","Actual Expenditure for Period","Variance","Cumulative Actual Expenditure","Cumulative Variance","Comments"]
[0,"1.1 Countries prioritize and optimize their vaccine programmes","1. Introduce & scale up vaccines","1.1 Countries prioritize and optimize their vaccine programmes",1000000,1000000,"...",480000,"=I2-J2","=J2","=K2",""]
[1,"1.1 Countries prioritize and optimize their vaccine programmes","1. Introduce & scale up vaccines","1.1 Countries prioritize and optimize their vaccine programmes",1000000,1050000,"...",510000,"=I3-J3","=J2+J3","=K2+K3",""]
[2,"2.2 Zero dose children and missed communities reached & fully immunized, co-delivered with other PHC where possible","2. Strengthen health systems","2.2 Zero dose children and missed communities reached & fully immunized, co-delivered with other PHC where possible",1000000,1000000,"...",480000,"=I4-J4","=J4","=K4",""]
[3,"2.2 Zero dose children and missed communities reached & fully immunized, co-delivered with other PHC where possible","2. Strengthen health systems","2.2 Zero dose children and missed communities reached & fully immunized, co-delivered with other PHC where possible",1000000,1050000,"...",510000,"=I5-J5","=J4+J5","=K4+K5",""]
[4,"3.2 Improved transition readiness and sustained performance following transition","3. Improve sustainability","3.2 Improved transition readiness and sustained performance following transition",1000000,1000000,"...",480000,"=I6-J6","=J6","=K6",""]
[5,"3.2 Improved transition readiness and sustained performance following transition","3. Improve sustainability","3.2 Improved transition readiness and sustained performance following transition",1000000,1050000,"...",510000,"=I7-J7","=J6+J7","=K6+K7",""]
[]
[]
["Fund reallocation and reconciliation table with example rows and formulas"]
[{"$f":"_xlfn._xlws.PY(6,1)","v":{"$error":"#VALUE!"}}]
[]
["Preview"]
[{"$f":"IFERROR(_FV(A96,\"arrayPreview\"),_xlfn._DF_Python_str(A96))","v":""},"Reallocation ID","Date","Source Budget Line","Source Main Category","Source Subcategory","...","Source Revised Budget","Source Current Balance","Destination Original Budget","Destination Revised Budget","Destination Current Balance"]
[0,1,"2024-01-15","1.1 Countries prioritize and optimize their vaccine programmes","1. Introduce & scale up vaccines","1.1 Countries prioritize and optimize their vaccine programmes","...",1000000,"=L2-I2",1000000,1000000,"=O2+I2"]
[1,2,"2024-03-10","3.2 Improved transition readiness and sustained performance following transition","3. Improve sustainability","3.2 Improved transition readiness and sustained performance following transition","...",1000000,"=L3-I3",1000000,1000000,"=O3+I3"]
[]
[]
["Summary table for dashboard: total reallocations and remaining balances by budget line"]
[{"$f":"_xlfn._xlws.PY(7,1)","v":{"$error":"#VALUE!"}}]
[]
["Preview"]
[{"$f":"IFERROR(_FV(A105,\"arrayPreview\"),_xlfn._DF_Python_str(A105))","v":""},"Budget Line","Total Out","Total In","Remaining Balance"]
[0,"1.1 Countries prioritize and optimize their vaccine programmes",20000,15000,995000]
[1,"3.2 Improved transition readiness and sustained performance following transition",15000,0,985000]
[2,"2.2 Zero dose children and missed communities reached & fully immunized, co-delivered with other PHC where possible",0,20000,1020000]
[]
[]
["Dashboard: total reallocations and remaining balances by budget line"]
[{"$f":"_xlfn._xlws.PY(8,1)","v":{"$error":"#VALUE!"}}]

{"sheet":"ECF et services éligibles","index":12,"n_rows":138,"n_cols":33,"rows_kept":138,"cut":false,"hidden":true,"merged":[[104,1,108,1],[104,2,108,2],[96,1,96,5],[97,7,97,11],[98,1,102,1],[98,2,102,2],[98,8,102,10],[110,1,113,1],[110,2,113,2],[115,1,118,1],[115,2,118,2],[120,1,122,1],[120,2,122,2],[124,1,125,1],[124,2,125,2],[124,3,125,4],[127,1,129,1],[127,2,129,2]]}
[]
[null,"EXIGENCES EN MATIÈRE D’ACHATS",null,null,"EXIGENCES DE GAVI 6.0"]
[null,"RENSEIGNEMENTS SUR L’ENTITÉ"]
[null,"Nom de l’organisation :",null,null,"Investissement minimum dans les ECF ($US)",{"$f":"Subvention!C25","v":0}]
[null,"Nom du contact :",null,null,"Investissement minimum dans les ECF respecté",{"$f":"IF((V91*(1-$F$6))>=F4,\"Oui\",\"Non\")","v":"Oui"}]
[null,"Titre du contact :",null,null,"Contribution à l’investissement commun / Exemption (%)",0.1,{"$f":"IF(F6=0%,\"Waived\",\"\")","v":""}]
[null,"Adresse :",null,null,"Type de groupe de services","Dirigé par le pays"]
[null,"Téléphone (y compris l’indicatif du pays) :"]
[null,"Courriel :",null,null,"VENTILATION DES INVESTISSEMENTS"]
[null,null,null,null,"Contribution de Gavi ",{"$f":"W91","v":0}]
[null,"RENSEIGNEMENTS SUR LE DESTINATAIRE",null,null,"Investissement conjoint du pays (frais d’admin. inclus)",{"$f":"X91","v":0}]
[null,"Nom du destinataire :",null,null,"Coût total des ECF",{"$f":"F10+F11","v":0}]
[null,"Nom du contact :"]
[null,"Adresse :"]
[null,"Téléphone (y compris l’indicatif du pays) :"]
[null,"Courriel :"]
[]
[]
[null,"Équipements et services éligibles au POECF","Type","SSE / Mode de formation","Fourchette de capacité","Catégorie de prix moyen","Prix unitaire moyen","Coût unitaire du groupe de services (dir. fournisseur)","Coût unitaire du groupe de services (dir. pays)","Coût unitaire total","QTÉ A1","Coût total A1","QTÉ A2","Coût total A2","QTÉ A3","Coût total A3","QTÉ A4","Coût total A4","QTÉ A5","Coût total A5","QTÉ totale","Budget total","Gavi","Pays","Commentaires",null,"Concat","Estimated Feight Cost","Total Estimated Frieght Costn Y1","Total Estimated Frieght Costn Y2","Total Estimated Frieght Costn Y3","Total Estimated Frieght Costn Y4","Total Estimated Frieght Costn Y5"]
[null,null,null,null,null,null,{"$f":"_xlfn.IFNA(INDEX('CCEOP Av Px_Min Floor & Cash '!$A$1:$B$300,MATCH(AA20,'CCEOP Av Px_Min Floor & Cash '!$A$1:$A$300,0),MATCH(Table1[[#Headers],[Prix unitaire moyen]],'CCEOP Av Px_Min Floor & Cash '!$A$1:$B$1,0)),\"\")","v":""},null,null,{"$f":"IFERROR(Table1[[#This Row],[Prix unitaire moyen]]+Table1[[#This Row],[Coût unitaire du groupe de services (dir. fournisseur)]]+Table1[[#This Row],[Coût unitaire du groupe de services (dir. pays)]],Table1[[#This Row],[Prix unitaire moyen]])","v":""},null,{"$f":"IFERROR(Table1[[#This Row],[Coût unitaire total]]*Table1[[#This Row],[QTÉ A1]],\"\")","v":""},null,{"$f":"IFERROR(Table1[[#This Row],[Coût unitaire total]]*Table1[[#This Row],[QTÉ A2]],\"\")","v":""},null,{"$f":"IFERROR(Table1[[#This Row],[Coût unitaire total]]*Table1[[#This Row],[QTÉ A3]],\"\")","v":""},null,{"$f":"IFERROR(Table1[[#This Row],[Coût unitaire total]]*Table1[[#This Row],[QTÉ A4]],\"\")","v":""},null,{"$f":"IFERROR(Table1[[#This Row],[Coût unitaire total]]*Table1[[#This Row],[QTÉ A5]],\"\")","v":""},{"$f":"Table1[[#This Row],[QTÉ A1]]+Table1[[#This Row],[QTÉ A2]]+Table1[[#This Row],[QTÉ A3]]+Table1[[#This Row],[QTÉ A4]]","v":0},{"$f":"IFERROR(Table1[[#This Row],[Coût total A1]]+Table1[[#This Row],[Coût total A2]]+Table1[[#This Row],[Coût total A3]]+Table1[[#This Row],[Coût total A4]]+Table1[[#This Row],[Coût total A5]],\"\")","v":""},{"$f":"IFERROR(Table1[[#This Row],[Budget total]]*(1-$F$6),\"\")","v":""},{"$f":"IFERROR(Table1[[#This Row],[Budget total]]*$F$6,\"\")","v":""},null,null,{"$f":"SUBSTITUTE(B20,\" \",\"\")&SUBSTITUTE(C20,\" \",\"\")&SUBSTITUTE(D20,\" \",\"\")&SUBSTITUTE(E20,\" \",\"\")&SUBSTITUTE(Table1[[#This Row],[Catégorie de prix moyen]],\" \",\"\")","v":""},0,{"$f":"IF(OR(B20=\"Voltage stabilizers\",B20=\"CCE temperature recorders_30 DTRs\",B20=\"RTM Device and Subscription\"),IF(Table1[[#This Row],[QTÉ A1]]>0,AB20*1,0),AB20*(Table1[[#This Row],[QTÉ A1]]))","v":0},{"$f":"IF(OR(B20=\"Voltage stabilizers\",B20=\"CCE temperature recorders_30 DTRs\",B20=\"RTM Device and Subscription\"),IF(Table1[[#This Row],[QTÉ A2]]>0,AB20*1,0),AB20*(Table1[[#This Row],[QTÉ A2]]))","v":0},{"$f":"IF(OR(B20=\"Voltage stabilizers\",B20=\"CCE temperature recorders_30 DTRs\",B20=\"RTM Device and Subscription\"),IF(Table1[[#This Row],[QTÉ A3]]>0,AB20*1,0),AB20*(Table1[[#This Row],[QTÉ A3]]))","v":0},{"$f":"IF(OR(B20=\"Voltage stabilizers\",B20=\"CCE temperature recorders_30 DTRs\",B20=\"RTM Device and Subscription\"),IF(Table1[[#This Row],[QTÉ A4]]>0,AB20*1,0),AB20*(Table1[[#This Row],[QTÉ A4]]))","v":0},{"$f":"IF(OR(B20=\"Voltage stabilizers\",B20=\"CCE temperature recorders_30 DTRs\",B20=\"RTM Device and Subscription\"),IF(Table1[[#This Row],[QTÉ A5]]>0,AB20*1,0),AB20*(Table1[[#This Row],[QTÉ A5]]))","v":0}]
[null,null,null,null,null,null,{"$f":"_xlfn.IFNA(INDEX('CCEOP Av Px_Min Floor & Cash '!$A$1:$B$300,MATCH(AA21,'CCEOP Av Px_Min Floor & Cash '!$A$1:$A$300,0),MATCH(Table1[[#Headers],[Prix unitaire moyen]],'CCEOP Av Px_Min Floor & Cash '!$A$1:$B$1,0)),\"\")","v":""},null,null,{"$f":"IFERROR(Table1[[#This Row],[Prix unitaire moyen]]+Table1[[#This Row],[Coût unitaire du groupe de services (dir. fournisseur)]]+Table1[[#This Row],[Coût unitaire du groupe de services (dir. pays)]],Table1[[#This Row],[Prix unitaire moyen]])","v":""},null,{"$f":"IFERROR(Table1[[#This Row],[Coût unitaire total]]*Table1[[#This Row],[QTÉ A1]],\"\")","v":""},null,{"$f":"IFERROR(Table1[[#This Row],[Coût unitaire total]]*Table1[[#This Row],[QTÉ A2]],\"\")","v":""},null,{"$f":"IFERROR(Table1[[#This Row],[Coût unitaire total]]*Table1[[#This Row],[QTÉ A3]],\"\")","v":""},null,{"$f":"IFERROR(Table1[[#This Row],[Coût unitaire total]]*Table1[[#This Row],[QTÉ A4]],\"\")","v":""},null,{"$f":"IFERROR(Table1[[#This Row],[Coût unitaire total]]*Table1[[#This Row],[QTÉ A5]],\"\")","v":""},{"$f":"Table1[[#This Row],[QTÉ A1]]+Table1[[#This Row],[QTÉ A2]]+Table1[[#This Row],[QTÉ A3]]+Table1[[#This Row],[QTÉ A4]]","v":0},{"$f":"IFERROR(Table1[[#This Row],[Coût total A1]]+Table1[[#This Row],[Coût total A2]]+Table1[[#This Row],[Coût total A3]]+Table1[[#This Row],[Coût total A4]]+Table1[[#This Row],[Coût total A5]],\"\")","v":""},{"$f":"IFERROR(Table1[[#This Row],[Budget total]]*(1-$F$6),\"\")","v":""},{"$f":"IFERROR(Table1[[#This Row],[Budget total]]*$F$6,\"\")","v":""},null,null,{"$f":"SUBSTITUTE(B21,\" \",\"\")&SUBSTITUTE(C21,\" \",\"\")&SUBSTITUTE(D21,\" \",\"\")&SUBSTITUTE(E21,\" \",\"\")&SUBSTITUTE(Table1[[#This Row],[Catégorie de prix moyen]],\" \",\"\")","v":""},0,{"$f":"IF(OR(B21=\"Voltage stabilizers\",B21=\"CCE temperature recorders_30 DTRs\",B21=\"RTM Device and Subscription\"),IF(Table1[[#This Row],[QTÉ A1]]>0,AB21*1,0),AB21*(Table1[[#This Row],[QTÉ A1]]))","v":0},{"$f":"IF(OR(B21=\"Voltage stabilizers\",B21=\"CCE temperature recorders_30 DTRs\",B21=\"RTM Device and Subscription\"),IF(Table1[[#This Row],[QTÉ A2]]>0,AB21*1,0),AB21*(Table1[[#This Row],[QTÉ A2]]))","v":0},{"$f":"IF(OR(B21=\"Voltage stabilizers\",B21=\"CCE temperature recorders_30 DTRs\",B21=\"RTM Device and Subscription\"),IF(Table1[[#This Row],[QTÉ A3]]>0,AB21*1,0),AB21*(Table1[[#This Row],[QTÉ A3]]))","v":0},{"$f":"IF(OR(B21=\"Voltage stabilizers\",B21=\"CCE temperature recorders_30 DTRs\",B21=\"RTM Device and Subscription\"),IF(Table1[[#This Row],[QTÉ A4]]>0,AB21*1,0),AB21*(Table1[[#This Row],[QTÉ A4]]))","v":0},{"$f":"IF(OR(B21=\"Voltage stabilizers\",B21=\"CCE temperature recorders_30 DTRs\",B21=\"RTM Device and Subscription\"),IF(Table1[[#This Row],[QTÉ A5]]>0,AB21*1,0),AB21*(Table1[[#This Row],[QTÉ A5]]))","v":0}]
[null,null,null,null,null,null,{"$f":"_xlfn.IFNA(INDEX('CCEOP Av Px_Min Floor & Cash '!$A$1:$B$300,MATCH(AA22,'CCEOP Av Px_Min Floor & Cash '!$A$1:$A$300,0),MATCH(Table1[[#Headers],[Prix unitaire moyen]],'CCEOP Av Px_Min Floor & Cash '!$A$1:$B$1,0)),\"\")","v":""},null,null,{"$f":"IFERROR(Table1[[#This Row],[Prix unitaire moyen]]+Table1[[#This Row],[Coût unitaire du groupe de services (dir. fournisseur)]]+Table1[[#This Row],[Coût unitaire du groupe de services (dir. pays)]],Table1[[#This Row],[Prix unitaire moyen]])","v":""},null,{"$f":"IFERROR(Table1[[#This Row],[Coût unitaire total]]*Table1[[#This Row],[QTÉ A1]],\"\")","v":""},null,{"$f":"IFERROR(Table1[[#This Row],[Coût unitaire total]]*Table1[[#This Row],[QTÉ A2]],\"\")","v":""},null,{"$f":"IFERROR(Table1[[#This Row],[Coût unitaire total]]*Table1[[#This Row],[QTÉ A3]],\"\")","v":""},null,{"$f":"IFERROR(Table1[[#This Row],[Coût unitaire total]]*Table1[[#This Row],[QTÉ A4]],\"\")","v":""},null,{"$f":"IFERROR(Table1[[#This Row],[Coût unitaire total]]*Table1[[#This Row],[QTÉ A5]],\"\")","v":""},{"$f":"Table1[[#This Row],[QTÉ A1]]+Table1[[#This Row],[QTÉ A2]]+Table1[[#This Row],[QTÉ A3]]+Table1[[#This Row],[QTÉ A4]]","v":0},{"$f":"IFERROR(Table1[[#This Row],[Coût total A1]]+Table1[[#This Row],[Coût total A2]]+Table1[[#This Row],[Coût total A3]]+Table1[[#This Row],[Coût total A4]]+Table1[[#This Row],[Coût total A5]],\"\")","v":""},{"$f":"IFERROR(Table1[[#This Row],[Budget total]]*(1-$F$6),\"\")","v":""},{"$f":"IFERROR(Table1[[#This Row],[Budget total]]*$F$6,\"\")","v":""},null,null,{"$f":"SUBSTITUTE(B22,\" \",\"\")&SUBSTITUTE(C22,\" \",\"\")&SUBSTITUTE(D22,\" \",\"\")&SUBSTITUTE(E22,\" \",\"\")&SUBSTITUTE(Table1[[#This Row],[Catégorie de prix moyen]],\" \",\"\")","v":""},0,{"$f":"IF(OR(B22=\"Voltage stabilizers\",B22=\"CCE temperature recorders_30 DTRs\",B22=\"RTM Device and Subscription\"),IF(Table1[[#This Row],[QTÉ A1]]>0,AB22*1,0),AB22*(Table1[[#This Row],[QTÉ A1]]))","v":0},{"$f":"IF(OR(B22=\"Voltage stabilizers\",B22=\"CCE temperature recorders_30 DTRs\",B22=\"RTM Device and Subscription\"),IF(Table1[[#This Row],[QTÉ A2]]>0,AB22*1,0),AB22*(Table1[[#This Row],[QTÉ A2]]))","v":0},{"$f":"IF(OR(B22=\"Voltage stabilizers\",B22=\"CCE temperature recorders_30 DTRs\",B22=\"RTM Device and Subscription\"),IF(Table1[[#This Row],[QTÉ A3]]>0,AB22*1,0),AB22*(Table1[[#This Row],[QTÉ A3]]))","v":0},{"$f":"IF(OR(B22=\"Voltage stabilizers\",B22=\"CCE temperature recorders_30 DTRs\",B22=\"RTM Device and Subscription\"),IF(Table1[[#This Row],[QTÉ A4]]>0,AB22*1,0),AB22*(Table1[[#This Row],[QTÉ A4]]))","v":0},{"$f":"IF(OR(B22=\"Voltage stabilizers\",B22=\"CCE temperature recorders_30 DTRs\",B22=\"RTM Device and Subscription\"),IF(Table1[[#This Row],[QTÉ A5]]>0,AB22*1,0),AB22*(Table1[[#This Row],[QTÉ A5]]))","v":0}]
[null,null,null,null,null,null,{"$f":"_xlfn.IFNA(INDEX('CCEOP Av Px_Min Floor & Cash '!$A$1:$B$300,MATCH(AA23,'CCEOP Av Px_Min Floor & Cash '!$A$1:$A$300,0),MATCH(Table1[[#Headers],[Prix unitaire moyen]],'CCEOP Av Px_Min Floor & Cash '!$A$1:$B$1,0)),\"\")","v":""},null,null,{"$f":"IFERROR(Table1[[#This Row],[Prix unitaire moyen]]+Table1[[#This Row],[Coût unitaire du groupe de services (dir. fournisseur)]]+Table1[[#This Row],[Coût unitaire du groupe de services (dir. pays)]],Table1[[#This Row],[Prix unitaire moyen]])","v":""},null,{"$f":"IFERROR(Table1[[#This Row],[Coût unitaire total]]*Table1[[#This Row],[QTÉ A1]],\"\")","v":""},null,{"$f":"IFERROR(Table1[[#This Row],[Coût unitaire total]]*Table1[[#This Row],[QTÉ A2]],\"\")","v":""},null,{"$f":"IFERROR(Table1[[#This Row],[Coût unitaire total]]*Table1[[#This Row],[QTÉ A3]],\"\")","v":""},null,{"$f":"IFERROR(Table1[[#This Row],[Coût unitaire total]]*Table1[[#This Row],[QTÉ A4]],\"\")","v":""},null,{"$f":"IFERROR(Table1[[#This Row],[Coût unitaire total]]*Table1[[#This Row],[QTÉ A5]],\"\")","v":""},{"$f":"Table1[[#This Row],[QTÉ A1]]+Table1[[#This Row],[QTÉ A2]]+Table1[[#This Row],[QTÉ A3]]+Table1[[#This Row],[QTÉ A4]]","v":0},{"$f":"IFERROR(Table1[[#This Row],[Coût total A1]]+Table1[[#This Row],[Coût total A2]]+Table1[[#This Row],[Coût total A3]]+Table1[[#This Row],[Coût total A4]]+Table1[[#This Row],[Coût total A5]],\"\")","v":""},{"$f":"IFERROR(Table1[[#This Row],[Budget total]]*(1-$F$6),\"\")","v":""},{"$f":"IFERROR(Table1[[#This Row],[Budget total]]*$F$6,\"\")","v":""},null,null,{"$f":"SUBSTITUTE(B23,\" \",\"\")&SUBSTITUTE(C23,\" \",\"\")&SUBSTITUTE(D23,\" \",\"\")&SUBSTITUTE(E23,\" \",\"\")&SUBSTITUTE(Table1[[#This Row],[Catégorie de prix moyen]],\" \",\"\")","v":""},0,{"$f":"IF(OR(B23=\"Voltage stabilizers\",B23=\"CCE temperature recorders_30 DTRs\",B23=\"RTM Device and Subscription\"),IF(Table1[[#This Row],[QTÉ A1]]>0,AB23*1,0),AB23*(Table1[[#This Row],[QTÉ A1]]))","v":0},{"$f":"IF(OR(B23=\"Voltage stabilizers\",B23=\"CCE temperature recorders_30 DTRs\",B23=\"RTM Device and Subscription\"),IF(Table1[[#This Row],[QTÉ A2]]>0,AB23*1,0),AB23*(Table1[[#This Row],[QTÉ A2]]))","v":0},{"$f":"IF(OR(B23=\"Voltage stabilizers\",B23=\"CCE temperature recorders_30 DTRs\",B23=\"RTM Device and Subscription\"),IF(Table1[[#This Row],[QTÉ A3]]>0,AB23*1,0),AB23*(Table1[[#This Row],[QTÉ A3]]))","v":0},{"$f":"IF(OR(B23=\"Voltage stabilizers\",B23=\"CCE temperature recorders_30 DTRs\",B23=\"RTM Device and Subscription\"),IF(Table1[[#This Row],[QTÉ A4]]>0,AB23*1,0),AB23*(Table1[[#This Row],[QTÉ A4]]))","v":0},{"$f":"IF(OR(B23=\"Voltage stabilizers\",B23=\"CCE temperature recorders_30 DTRs\",B23=\"RTM Device and Subscription\"),IF(Table1[[#This Row],[QTÉ A5]]>0,AB23*1,0),AB23*(Table1[[#This Row],[QTÉ A5]]))","v":0}]
[null,null,null,null,null,null,{"$f":"_xlfn.IFNA(INDEX('CCEOP Av Px_Min Floor & Cash '!$A$1:$B$300,MATCH(AA24,'CCEOP Av Px_Min Floor & Cash '!$A$1:$A$300,0),MATCH(Table1[[#Headers],[Prix unitaire moyen]],'CCEOP Av Px_Min Floor & Cash '!$A$1:$B$1,0)),\"\")","v":""},null,null,{"$f":"IFERROR(Table1[[#This Row],[Prix unitaire moyen]]+Table1[[#This Row],[Coût unitaire du groupe de services (dir. fournisseur)]]+Table1[[#This Row],[Coût unitaire du groupe de services (dir. pays)]],Table1[[#This Row],[Prix unitaire moyen]])","v":""},null,{"$f":"IFERROR(Table1[[#This Row],[Coût unitaire total]]*Table1[[#This Row],[QTÉ A1]],\"\")","v":""},null,{"$f":"IFERROR(Table1[[#This Row],[Coût unitaire total]]*Table1[[#This Row],[QTÉ A2]],\"\")","v":""},null,{"$f":"IFERROR(Table1[[#This Row],[Coût unitaire total]]*Table1[[#This Row],[QTÉ A3]],\"\")","v":""},null,{"$f":"IFERROR(Table1[[#This Row],[Coût unitaire total]]*Table1[[#This Row],[QTÉ A4]],\"\")","v":""},null,{"$f":"IFERROR(Table1[[#This Row],[Coût unitaire total]]*Table1[[#This Row],[QTÉ A5]],\"\")","v":""},{"$f":"Table1[[#This Row],[QTÉ A1]]+Table1[[#This Row],[QTÉ A2]]+Table1[[#This Row],[QTÉ A3]]+Table1[[#This Row],[QTÉ A4]]","v":0},{"$f":"IFERROR(Table1[[#This Row],[Coût total A1]]+Table1[[#This Row],[Coût total A2]]+Table1[[#This Row],[Coût total A3]]+Table1[[#This Row],[Coût total A4]]+Table1[[#This Row],[Coût total A5]],\"\")","v":""},{"$f":"IFERROR(Table1[[#This Row],[Budget total]]*(1-$F$6),\"\")","v":""},{"$f":"IFERROR(Table1[[#This Row],[Budget total]]*$F$6,\"\")","v":""},null,null,{"$f":"SUBSTITUTE(B24,\" \",\"\")&SUBSTITUTE(C24,\" \",\"\")&SUBSTITUTE(D24,\" \",\"\")&SUBSTITUTE(E24,\" \",\"\")&SUBSTITUTE(Table1[[#This Row],[Catégorie de prix moyen]],\" \",\"\")","v":""},0,{"$f":"IF(OR(B24=\"Voltage stabilizers\",B24=\"CCE temperature recorders_30 DTRs\",B24=\"RTM Device and Subscription\"),IF(Table1[[#This Row],[QTÉ A1]]>0,AB24*1,0),AB24*(Table1[[#This Row],[QTÉ A1]]))","v":0},{"$f":"IF(OR(B24=\"Voltage stabilizers\",B24=\"CCE temperature recorders_30 DTRs\",B24=\"RTM Device and Subscription\"),IF(Table1[[#This Row],[QTÉ A2]]>0,AB24*1,0),AB24*(Table1[[#This Row],[QTÉ A2]]))","v":0},{"$f":"IF(OR(B24=\"Voltage stabilizers\",B24=\"CCE temperature recorders_30 DTRs\",B24=\"RTM Device and Subscription\"),IF(Table1[[#This Row],[QTÉ A3]]>0,AB24*1,0),AB24*(Table1[[#This Row],[QTÉ A3]]))","v":0},{"$f":"IF(OR(B24=\"Voltage stabilizers\",B24=\"CCE temperature recorders_30 DTRs\",B24=\"RTM Device and Subscription\"),IF(Table1[[#This Row],[QTÉ A4]]>0,AB24*1,0),AB24*(Table1[[#This Row],[QTÉ A4]]))","v":0},{"$f":"IF(OR(B24=\"Voltage stabilizers\",B24=\"CCE temperature recorders_30 DTRs\",B24=\"RTM Device and Subscription\"),IF(Table1[[#This Row],[QTÉ A5]]>0,AB24*1,0),AB24*(Table1[[#This Row],[QTÉ A5]]))","v":0}]
[null,null,null,null,null,null,{"$f":"_xlfn.IFNA(INDEX('CCEOP Av Px_Min Floor & Cash '!$A$1:$B$300,MATCH(AA25,'CCEOP Av Px_Min Floor & Cash '!$A$1:$A$300,0),MATCH(Table1[[#Headers],[Prix unitaire moyen]],'CCEOP Av Px_Min Floor & Cash '!$A$1:$B$1,0)),\"\")","v":""},null,null,{"$f":"IFERROR(Table1[[#This Row],[Prix unitaire moyen]]+Table1[[#This Row],[Coût unitaire du groupe de services (dir. fournisseur)]]+Table1[[#This Row],[Coût unitaire du groupe de services (dir. pays)]],Table1[[#This Row],[Prix unitaire moyen]])","v":""},null,{"$f":"IFERROR(Table1[[#This Row],[Coût unitaire total]]*Table1[[#This Row],[QTÉ A1]],\"\")","v":""},null,{"$f":"IFERROR(Table1[[#This Row],[Coût unitaire total]]*Table1[[#This Row],[QTÉ A2]],\"\")","v":""},null,{"$f":"IFERROR(Table1[[#This Row],[Coût unitaire total]]*Table1[[#This Row],[QTÉ A3]],\"\")","v":""},null,{"$f":"IFERROR(Table1[[#This Row],[Coût unitaire total]]*Table1[[#This Row],[QTÉ A4]],\"\")","v":""},null,{"$f":"IFERROR(Table1[[#This Row],[Coût unitaire total]]*Table1[[#This Row],[QTÉ A5]],\"\")","v":""},{"$f":"Table1[[#This Row],[QTÉ A1]]+Table1[[#This Row],[QTÉ A2]]+Table1[[#This Row],[QTÉ A3]]+Table1[[#This Row],[QTÉ A4]]","v":0},{"$f":"IFERROR(Table1[[#This Row],[Coût total A1]]+Table1[[#This Row],[Coût total A2]]+Table1[[#This Row],[Coût total A3]]+Table1[[#This Row],[Coût total A4]]+Table1[[#This Row],[Coût total A5]],\"\")","v":""},{"$f":"IFERROR(Table1[[#This Row],[Budget total]]*(1-$F$6),\"\")","v":""},{"$f":"IFERROR(Table1[[#This Row],[Budget total]]*$F$6,\"\")","v":""},null,null,{"$f":"SUBSTITUTE(B25,\" \",\"\")&SUBSTITUTE(C25,\" \",\"\")&SUBSTITUTE(D25,\" \",\"\")&SUBSTITUTE(E25,\" \",\"\")&SUBSTITUTE(Table1[[#This Row],[Catégorie de prix moyen]],\" \",\"\")","v":""},0,{"$f":"IF(OR(B25=\"Voltage stabilizers\",B25=\"CCE temperature recorders_30 DTRs\",B25=\"RTM Device and Subscription\"),IF(Table1[[#This Row],[QTÉ A1]]>0,AB25*1,0),AB25*(Table1[[#This Row],[QTÉ A1]]))","v":0},{"$f":"IF(OR(B25=\"Voltage stabilizers\",B25=\"CCE temperature recorders_30 DTRs\",B25=\"RTM Device and Subscription\"),IF(Table1[[#This Row],[QTÉ A2]]>0,AB25*1,0),AB25*(Table1[[#This Row],[QTÉ A2]]))","v":0},{"$f":"IF(OR(B25=\"Voltage stabilizers\",B25=\"CCE temperature recorders_30 DTRs\",B25=\"RTM Device and Subscription\"),IF(Table1[[#This Row],[QTÉ A3]]>0,AB25*1,0),AB25*(Table1[[#This Row],[QTÉ A3]]))","v":0},{"$f":"IF(OR(B25=\"Voltage stabilizers\",B25=\"CCE temperature recorders_30 DTRs\",B25=\"RTM Device and Subscription\"),IF(Table1[[#This Row],[QTÉ A4]]>0,AB25*1,0),AB25*(Table1[[#This Row],[QTÉ A4]]))","v":0},{"$f":"IF(OR(B25=\"Voltage stabilizers\",B25=\"CCE temperature recorders_30 DTRs\",B25=\"RTM Device and Subscription\"),IF(Table1[[#This Row],[QTÉ A5]]>0,AB25*1,0),AB25*(Table1[[#This Row],[QTÉ A5]]))","v":0}]
[null,null,null,null,null,null,{"$f":"_xlfn.IFNA(INDEX('CCEOP Av Px_Min Floor & Cash '!$A$1:$B$300,MATCH(AA26,'CCEOP Av Px_Min Floor & Cash '!$A$1:$A$300,0),MATCH(Table1[[#Headers],[Prix unitaire moyen]],'CCEOP Av Px_Min Floor & Cash '!$A$1:$B$1,0)),\"\")","v":""},null,null,{"$f":"IFERROR(Table1[[#This Row],[Prix unitaire moyen]]+Table1[[#This Row],[Coût unitaire du groupe de services (dir. fournisseur)]]+Table1[[#This Row],[Coût unitaire du groupe de services (dir. pays)]],Table1[[#This Row],[Prix unitaire moyen]])","v":""},null,{"$f":"IFERROR(Table1[[#This Row],[Coût unitaire total]]*Table1[[#This Row],[QTÉ A1]],\"\")","v":""},null,{"$f":"IFERROR(Table1[[#This Row],[Coût unitaire total]]*Table1[[#This Row],[QTÉ A2]],\"\")","v":""},null,{"$f":"IFERROR(Table1[[#This Row],[Coût unitaire total]]*Table1[[#This Row],[QTÉ A3]],\"\")","v":""},null,{"$f":"IFERROR(Table1[[#This Row],[Coût unitaire total]]*Table1[[#This Row],[QTÉ A4]],\"\")","v":""},null,{"$f":"IFERROR(Table1[[#This Row],[Coût unitaire total]]*Table1[[#This Row],[QTÉ A5]],\"\")","v":""},{"$f":"Table1[[#This Row],[QTÉ A1]]+Table1[[#This Row],[QTÉ A2]]+Table1[[#This Row],[QTÉ A3]]+Table1[[#This Row],[QTÉ A4]]","v":0},{"$f":"IFERROR(Table1[[#This Row],[Coût total A1]]+Table1[[#This Row],[Coût total A2]]+Table1[[#This Row],[Coût total A3]]+Table1[[#This Row],[Coût total A4]]+Table1[[#This Row],[Coût total A5]],\"\")","v":""},{"$f":"IFERROR(Table1[[#This Row],[Budget total]]*(1-$F$6),\"\")","v":""},{"$f":"IFERROR(Table1[[#This Row],[Budget total]]*$F$6,\"\")","v":""},null,null,{"$f":"SUBSTITUTE(B26,\" \",\"\")&SUBSTITUTE(C26,\" \",\"\")&SUBSTITUTE(D26,\" \",\"\")&SUBSTITUTE(E26,\" \",\"\")&SUBSTITUTE(Table1[[#This Row],[Catégorie de prix moyen]],\" \",\"\")","v":""},0,{"$f":"IF(OR(B26=\"Voltage stabilizers\",B26=\"CCE temperature recorders_30 DTRs\",B26=\"RTM Device and Subscription\"),IF(Table1[[#This Row],[QTÉ A1]]>0,AB26*1,0),AB26*(Table1[[#This Row],[QTÉ A1]]))","v":0},{"$f":"IF(OR(B26=\"Voltage stabilizers\",B26=\"CCE temperature recorders_30 DTRs\",B26=\"RTM Device and Subscription\"),IF(Table1[[#This Row],[QTÉ A2]]>0,AB26*1,0),AB26*(Table1[[#This Row],[QTÉ A2]]))","v":0},{"$f":"IF(OR(B26=\"Voltage stabilizers\",B26=\"CCE temperature recorders_30 DTRs\",B26=\"RTM Device and Subscription\"),IF(Table1[[#This Row],[QTÉ A3]]>0,AB26*1,0),AB26*(Table1[[#This Row],[QTÉ A3]]))","v":0},{"$f":"IF(OR(B26=\"Voltage stabilizers\",B26=\"CCE temperature recorders_30 DTRs\",B26=\"RTM Device and Subscription\"),IF(Table1[[#This Row],[QTÉ A4]]>0,AB26*1,0),AB26*(Table1[[#This Row],[QTÉ A4]]))","v":0},{"$f":"IF(OR(B26=\"Voltage stabilizers\",B26=\"CCE temperature recorders_30 DTRs\",B26=\"RTM Device and Subscription\"),IF(Table1[[#This Row],[QTÉ A5]]>0,AB26*1,0),AB26*(Table1[[#This Row],[QTÉ A5]]))","v":0}]
[null,null,null,null,null,null,{"$f":"_xlfn.IFNA(INDEX('CCEOP Av Px_Min Floor & Cash '!$A$1:$B$300,MATCH(AA27,'CCEOP Av Px_Min Floor & Cash '!$A$1:$A$300,0),MATCH(Table1[[#Headers],[Prix unitaire moyen]],'CCEOP Av Px_Min Floor & Cash '!$A$1:$B$1,0)),\"\")","v":""},null,null,{"$f":"IFERROR(Table1[[#This Row],[Prix unitaire moyen]]+Table1[[#This Row],[Coût unitaire du groupe de services (dir. fournisseur)]]+Table1[[#This Row],[Coût unitaire du groupe de services (dir. pays)]],Table1[[#This Row],[Prix unitaire moyen]])","v":""},null,{"$f":"IFERROR(Table1[[#This Row],[Coût unitaire total]]*Table1[[#This Row],[QTÉ A1]],\"\")","v":""},null,{"$f":"IFERROR(Table1[[#This Row],[Coût unitaire total]]*Table1[[#This Row],[QTÉ A2]],\"\")","v":""},null,{"$f":"IFERROR(Table1[[#This Row],[Coût unitaire total]]*Table1[[#This Row],[QTÉ A3]],\"\")","v":""},null,{"$f":"IFERROR(Table1[[#This Row],[Coût unitaire total]]*Table1[[#This Row],[QTÉ A4]],\"\")","v":""},null,{"$f":"IFERROR(Table1[[#This Row],[Coût unitaire total]]*Table1[[#This Row],[QTÉ A5]],\"\")","v":""},{"$f":"Table1[[#This Row],[QTÉ A1]]+Table1[[#This Row],[QTÉ A2]]+Table1[[#This Row],[QTÉ A3]]+Table1[[#This Row],[QTÉ A4]]","v":0},{"$f":"IFERROR(Table1[[#This Row],[Coût total A1]]+Table1[[#This Row],[Coût total A2]]+Table1[[#This Row],[Coût total A3]]+Table1[[#This Row],[Coût total A4]]+Table1[[#This Row],[Coût total A5]],\"\")","v":""},{"$f":"IFERROR(Table1[[#This Row],[Budget total]]*(1-$F$6),\"\")","v":""},{"$f":"IFERROR(Table1[[#This Row],[Budget total]]*$F$6,\"\")","v":""},null,null,{"$f":"SUBSTITUTE(B27,\" \",\"\")&SUBSTITUTE(C27,\" \",\"\")&SUBSTITUTE(D27,\" \",\"\")&SUBSTITUTE(E27,\" \",\"\")&SUBSTITUTE(Table1[[#This Row],[Catégorie de prix moyen]],\" \",\"\")","v":""},0,{"$f":"IF(OR(B27=\"Voltage stabilizers\",B27=\"CCE temperature recorders_30 DTRs\",B27=\"RTM Device and Subscription\"),IF(Table1[[#This Row],[QTÉ A1]]>0,AB27*1,0),AB27*(Table1[[#This Row],[QTÉ A1]]))","v":0},{"$f":"IF(OR(B27=\"Voltage stabilizers\",B27=\"CCE temperature recorders_30 DTRs\",B27=\"RTM Device and Subscription\"),IF(Table1[[#This Row],[QTÉ A2]]>0,AB27*1,0),AB27*(Table1[[#This Row],[QTÉ A2]]))","v":0},{"$f":"IF(OR(B27=\"Voltage stabilizers\",B27=\"CCE temperature recorders_30 DTRs\",B27=\"RTM Device and Subscription\"),IF(Table1[[#This Row],[QTÉ A3]]>0,AB27*1,0),AB27*(Table1[[#This Row],[QTÉ A3]]))","v":0},{"$f":"IF(OR(B27=\"Voltage stabilizers\",B27=\"CCE temperature recorders_30 DTRs\",B27=\"RTM Device and Subscription\"),IF(Table1[[#This Row],[QTÉ A4]]>0,AB27*1,0),AB27*(Table1[[#This Row],[QTÉ A4]]))","v":0},{"$f":"IF(OR(B27=\"Voltage stabilizers\",B27=\"CCE temperature recorders_30 DTRs\",B27=\"RTM Device and Subscription\"),IF(Table1[[#This Row],[QTÉ A5]]>0,AB27*1,0),AB27*(Table1[[#This Row],[QTÉ A5]]))","v":0}]
[null,null,null,null,null,null,{"$f":"_xlfn.IFNA(INDEX('CCEOP Av Px_Min Floor & Cash '!$A$1:$B$300,MATCH(AA28,'CCEOP Av Px_Min Floor & Cash '!$A$1:$A$300,0),MATCH(Table1[[#Headers],[Prix unitaire moyen]],'CCEOP Av Px_Min Floor & Cash '!$A$1:$B$1,0)),\"\")","v":""},null,null,{"$f":"IFERROR(Table1[[#This Row],[Prix unitaire moyen]]+Table1[[#This Row],[Coût unitaire du groupe de services (dir. fournisseur)]]+Table1[[#This Row],[Coût unitaire du groupe de services (dir. pays)]],Table1[[#This Row],[Prix unitaire moyen]])","v":""},null,{"$f":"IFERROR(Table1[[#This Row],[Coût unitaire total]]*Table1[[#This Row],[QTÉ A1]],\"\")","v":""},null,{"$f":"IFERROR(Table1[[#This Row],[Coût unitaire total]]*Table1[[#This Row],[QTÉ A2]],\"\")","v":""},null,{"$f":"IFERROR(Table1[[#This Row],[Coût unitaire total]]*Table1[[#This Row],[QTÉ A3]],\"\")","v":""},null,{"$f":"IFERROR(Table1[[#This Row],[Coût unitaire total]]*Table1[[#This Row],[QTÉ A4]],\"\")","v":""},null,{"$f":"IFERROR(Table1[[#This Row],[Coût unitaire total]]*Table1[[#This Row],[QTÉ A5]],\"\")","v":""},{"$f":"Table1[[#This Row],[QTÉ A1]]+Table1[[#This Row],[QTÉ A2]]+Table1[[#This Row],[QTÉ A3]]+Table1[[#This Row],[QTÉ A4]]","v":0},{"$f":"IFERROR(Table1[[#This Row],[Coût total A1]]+Table1[[#This Row],[Coût total A2]]+Table1[[#This Row],[Coût total A3]]+Table1[[#This Row],[Coût total A4]]+Table1[[#This Row],[Coût total A5]],\"\")","v":""},{"$f":"IFERROR(Table1[[#This Row],[Budget total]]*(1-$F$6),\"\")","v":""},{"$f":"IFERROR(Table1[[#This Row],[Budget total]]*$F$6,\"\")","v":""},null,null,{"$f":"SUBSTITUTE(B28,\" \",\"\")&SUBSTITUTE(C28,\" \",\"\")&SUBSTITUTE(D28,\" \",\"\")&SUBSTITUTE(E28,\" \",\"\")&SUBSTITUTE(Table1[[#This Row],[Catégorie de prix moyen]],\" \",\"\")","v":""},0,{"$f":"IF(OR(B28=\"Voltage stabilizers\",B28=\"CCE temperature recorders_30 DTRs\",B28=\"RTM Device and Subscription\"),IF(Table1[[#This Row],[QTÉ A1]]>0,AB28*1,0),AB28*(Table1[[#This Row],[QTÉ A1]]))","v":0},{"$f":"IF(OR(B28=\"Voltage stabilizers\",B28=\"CCE temperature recorders_30 DTRs\",B28=\"RTM Device and Subscription\"),IF(Table1[[#This Row],[QTÉ A2]]>0,AB28*1,0),AB28*(Table1[[#This Row],[QTÉ A2]]))","v":0},{"$f":"IF(OR(B28=\"Voltage stabilizers\",B28=\"CCE temperature recorders_30 DTRs\",B28=\"RTM Device and Subscription\"),IF(Table1[[#This Row],[QTÉ A3]]>0,AB28*1,0),AB28*(Table1[[#This Row],[QTÉ A3]]))","v":0},{"$f":"IF(OR(B28=\"Voltage stabilizers\",B28=\"CCE temperature recorders_30 DTRs\",B28=\"RTM Device and Subscription\"),IF(Table1[[#This Row],[QTÉ A4]]>0,AB28*1,0),AB28*(Table1[[#This Row],[QTÉ A4]]))","v":0},{"$f":"IF(OR(B28=\"Voltage stabilizers\",B28=\"CCE temperature recorders_30 DTRs\",B28=\"RTM Device and Subscription\"),IF(Table1[[#This Row],[QTÉ A5]]>0,AB28*1,0),AB28*(Table1[[#This Row],[QTÉ A5]]))","v":0}]
[null,null,null,null,null,null,{"$f":"_xlfn.IFNA(INDEX('CCEOP Av Px_Min Floor & Cash '!$A$1:$B$300,MATCH(AA29,'CCEOP Av Px_Min Floor & Cash '!$A$1:$A$300,0),MATCH(Table1[[#Headers],[Prix unitaire moyen]],'CCEOP Av Px_Min Floor & Cash '!$A$1:$B$1,0)),\"\")","v":""},null,null,{"$f":"IFERROR(Table1[[#This Row],[Prix unitaire moyen]]+Table1[[#This Row],[Coût unitaire du groupe de services (dir. fournisseur)]]+Table1[[#This Row],[Coût unitaire du groupe de services (dir. pays)]],Table1[[#This Row],[Prix unitaire moyen]])","v":""},null,{"$f":"IFERROR(Table1[[#This Row],[Coût unitaire total]]*Table1[[#This Row],[QTÉ A1]],\"\")","v":""},null,{"$f":"IFERROR(Table1[[#This Row],[Coût unitaire total]]*Table1[[#This Row],[QTÉ A2]],\"\")","v":""},null,{"$f":"IFERROR(Table1[[#This Row],[Coût unitaire total]]*Table1[[#This Row],[QTÉ A3]],\"\")","v":""},null,{"$f":"IFERROR(Table1[[#This Row],[Coût unitaire total]]*Table1[[#This Row],[QTÉ A4]],\"\")","v":""},null,{"$f":"IFERROR(Table1[[#This Row],[Coût unitaire total]]*Table1[[#This Row],[QTÉ A5]],\"\")","v":""},{"$f":"Table1[[#This Row],[QTÉ A1]]+Table1[[#This Row],[QTÉ A2]]+Table1[[#This Row],[QTÉ A3]]+Table1[[#This Row],[QTÉ A4]]","v":0},{"$f":"IFERROR(Table1[[#This Row],[Coût total A1]]+Table1[[#This Row],[Coût total A2]]+Table1[[#This Row],[Coût total A3]]+Table1[[#This Row],[Coût total A4]]+Table1[[#This Row],[Coût total A5]],\"\")","v":""},{"$f":"IFERROR(Table1[[#This Row],[Budget total]]*(1-$F$6),\"\")","v":""},{"$f":"IFERROR(Table1[[#This Row],[Budget total]]*$F$6,\"\")","v":""},null,null,{"$f":"SUBSTITUTE(B29,\" \",\"\")&SUBSTITUTE(C29,\" \",\"\")&SUBSTITUTE(D29,\" \",\"\")&SUBSTITUTE(E29,\" \",\"\")&SUBSTITUTE(Table1[[#This Row],[Catégorie de prix moyen]],\" \",\"\")","v":""},0,{"$f":"IF(OR(B29=\"Voltage stabilizers\",B29=\"CCE temperature recorders_30 DTRs\",B29=\"RTM Device and Subscription\"),IF(Table1[[#This Row],[QTÉ A1]]>0,AB29*1,0),AB29*(Table1[[#This Row],[QTÉ A1]]))","v":0},{"$f":"IF(OR(B29=\"Voltage stabilizers\",B29=\"CCE temperature recorders_30 DTRs\",B29=\"RTM Device and Subscription\"),IF(Table1[[#This Row],[QTÉ A2]]>0,AB29*1,0),AB29*(Table1[[#This Row],[QTÉ A2]]))","v":0},{"$f":"IF(OR(B29=\"Voltage stabilizers\",B29=\"CCE temperature recorders_30 DTRs\",B29=\"RTM Device and Subscription\"),IF(Table1[[#This Row],[QTÉ A3]]>0,AB29*1,0),AB29*(Table1[[#This Row],[QTÉ A3]]))","v":0},{"$f":"IF(OR(B29=\"Voltage stabilizers\",B29=\"CCE temperature recorders_30 DTRs\",B29=\"RTM Device and Subscription\"),IF(Table1[[#This Row],[QTÉ A4]]>0,AB29*1,0),AB29*(Table1[[#This Row],[QTÉ A4]]))","v":0},{"$f":"IF(OR(B29=\"Voltage stabilizers\",B29=\"CCE temperature recorders_30 DTRs\",B29=\"RTM Device and Subscription\"),IF(Table1[[#This Row],[QTÉ A5]]>0,AB29*1,0),AB29*(Table1[[#This Row],[QTÉ A5]]))","v":0}]
[null,null,null,null,null,null,{"$f":"_xlfn.IFNA(INDEX('CCEOP Av Px_Min Floor & Cash '!$A$1:$B$300,MATCH(AA30,'CCEOP Av Px_Min Floor & Cash '!$A$1:$A$300,0),MATCH(Table1[[#Headers],[Prix unitaire moyen]],'CCEOP Av Px_Min Floor & Cash '!$A$1:$B$1,0)),\"\")","v":""},null,null,{"$f":"IFERROR(Table1[[#This Row],[Prix unitaire moyen]]+Table1[[#This Row],[Coût unitaire du groupe de services (dir. fournisseur)]]+Table1[[#This Row],[Coût unitaire du groupe de services (dir. pays)]],Table1[[#This Row],[Prix unitaire moyen]])","v":""},null,{"$f":"IFERROR(Table1[[#This Row],[Coût unitaire total]]*Table1[[#This Row],[QTÉ A1]],\"\")","v":""},null,{"$f":"IFERROR(Table1[[#This Row],[Coût unitaire total]]*Table1[[#This Row],[QTÉ A2]],\"\")","v":""},null,{"$f":"IFERROR(Table1[[#This Row],[Coût unitaire total]]*Table1[[#This Row],[QTÉ A3]],\"\")","v":""},null,{"$f":"IFERROR(Table1[[#This Row],[Coût unitaire total]]*Table1[[#This Row],[QTÉ A4]],\"\")","v":""},null,{"$f":"IFERROR(Table1[[#This Row],[Coût unitaire total]]*Table1[[#This Row],[QTÉ A5]],\"\")","v":""},{"$f":"Table1[[#This Row],[QTÉ A1]]+Table1[[#This Row],[QTÉ A2]]+Table1[[#This Row],[QTÉ A3]]+Table1[[#This Row],[QTÉ A4]]","v":0},{"$f":"IFERROR(Table1[[#This Row],[Coût total A1]]+Table1[[#This Row],[Coût total A2]]+Table1[[#This Row],[Coût total A3]]+Table1[[#This Row],[Coût total A4]]+Table1[[#This Row],[Coût total A5]],\"\")","v":""},{"$f":"IFERROR(Table1[[#This Row],[Budget total]]*(1-$F$6),\"\")","v":""},{"$f":"IFERROR(Table1[[#This Row],[Budget total]]*$F$6,\"\")","v":""},null,null,{"$f":"SUBSTITUTE(B30,\" \",\"\")&SUBSTITUTE(C30,\" \",\"\")&SUBSTITUTE(D30,\" \",\"\")&SUBSTITUTE(E30,\" \",\"\")&SUBSTITUTE(Table1[[#This Row],[Catégorie de prix moyen]],\" \",\"\")","v":""},0,{"$f":"IF(OR(B30=\"Voltage stabilizers\",B30=\"CCE temperature recorders_30 DTRs\",B30=\"RTM Device and Subscription\"),IF(Table1[[#This Row],[QTÉ A1]]>0,AB30*1,0),AB30*(Table1[[#This Row],[QTÉ A1]]))","v":0},{"$f":"IF(OR(B30=\"Voltage stabilizers\",B30=\"CCE temperature recorders_30 DTRs\",B30=\"RTM Device and Subscription\"),IF(Table1[[#This Row],[QTÉ A2]]>0,AB30*1,0),AB30*(Table1[[#This Row],[QTÉ A2]]))","v":0},{"$f":"IF(OR(B30=\"Voltage stabilizers\",B30=\"CCE temperature recorders_30 DTRs\",B30=\"RTM Device and Subscription\"),IF(Table1[[#This Row],[QTÉ A3]]>0,AB30*1,0),AB30*(Table1[[#This Row],[QTÉ A3]]))","v":0},{"$f":"IF(OR(B30=\"Voltage stabilizers\",B30=\"CCE temperature recorders_30 DTRs\",B30=\"RTM Device and Subscription\"),IF(Table1[[#This Row],[QTÉ A4]]>0,AB30*1,0),AB30*(Table1[[#This Row],[QTÉ A4]]))","v":0},{"$f":"IF(OR(B30=\"Voltage stabilizers\",B30=\"CCE temperature recorders_30 DTRs\",B30=\"RTM Device and Subscription\"),IF(Table1[[#This Row],[QTÉ A5]]>0,AB30*1,0),AB30*(Table1[[#This Row],[QTÉ A5]]))","v":0}]
[null,null,null,null,null,null,{"$f":"_xlfn.IFNA(INDEX('CCEOP Av Px_Min Floor & Cash '!$A$1:$B$300,MATCH(AA31,'CCEOP Av Px_Min Floor & Cash '!$A$1:$A$300,0),MATCH(Table1[[#Headers],[Prix unitaire moyen]],'CCEOP Av Px_Min Floor & Cash '!$A$1:$B$1,0)),\"\")","v":""},null,null,{"$f":"IFERROR(Table1[[#This Row],[Prix unitaire moyen]]+Table1[[#This Row],[Coût unitaire du groupe de services (dir. fournisseur)]]+Table1[[#This Row],[Coût unitaire du groupe de services (dir. pays)]],Table1[[#This Row],[Prix unitaire moyen]])","v":""},null,{"$f":"IFERROR(Table1[[#This Row],[Coût unitaire total]]*Table1[[#This Row],[QTÉ A1]],\"\")","v":""},null,{"$f":"IFERROR(Table1[[#This Row],[Coût unitaire total]]*Table1[[#This Row],[QTÉ A2]],\"\")","v":""},null,{"$f":"IFERROR(Table1[[#This Row],[Coût unitaire total]]*Table1[[#This Row],[QTÉ A3]],\"\")","v":""},null,{"$f":"IFERROR(Table1[[#This Row],[Coût unitaire total]]*Table1[[#This Row],[QTÉ A4]],\"\")","v":""},null,{"$f":"IFERROR(Table1[[#This Row],[Coût unitaire total]]*Table1[[#This Row],[QTÉ A5]],\"\")","v":""},{"$f":"Table1[[#This Row],[QTÉ A1]]+Table1[[#This Row],[QTÉ A2]]+Table1[[#This Row],[QTÉ A3]]+Table1[[#This Row],[QTÉ A4]]","v":0},{"$f":"IFERROR(Table1[[#This Row],[Coût total A1]]+Table1[[#This Row],[Coût total A2]]+Table1[[#This Row],[Coût total A3]]+Table1[[#This Row],[Coût total A4]]+Table1[[#This Row],[Coût total A5]],\"\")","v":""},{"$f":"IFERROR(Table1[[#This Row],[Budget total]]*(1-$F$6),\"\")","v":""},{"$f":"IFERROR(Table1[[#This Row],[Budget total]]*$F$6,\"\")","v":""},null,null,{"$f":"SUBSTITUTE(B31,\" \",\"\")&SUBSTITUTE(C31,\" \",\"\")&SUBSTITUTE(D31,\" \",\"\")&SUBSTITUTE(E31,\" \",\"\")&SUBSTITUTE(Table1[[#This Row],[Catégorie de prix moyen]],\" \",\"\")","v":""},0,{"$f":"IF(OR(B31=\"Voltage stabilizers\",B31=\"CCE temperature recorders_30 DTRs\",B31=\"RTM Device and Subscription\"),IF(Table1[[#This Row],[QTÉ A1]]>0,AB31*1,0),AB31*(Table1[[#This Row],[QTÉ A1]]))","v":0},{"$f":"IF(OR(B31=\"Voltage stabilizers\",B31=\"CCE temperature recorders_30 DTRs\",B31=\"RTM Device and Subscription\"),IF(Table1[[#This Row],[QTÉ A2]]>0,AB31*1,0),AB31*(Table1[[#This Row],[QTÉ A2]]))","v":0},{"$f":"IF(OR(B31=\"Voltage stabilizers\",B31=\"CCE temperature recorders_30 DTRs\",B31=\"RTM Device and Subscription\"),IF(Table1[[#This Row],[QTÉ A3]]>0,AB31*1,0),AB31*(Table1[[#This Row],[QTÉ A3]]))","v":0},{"$f":"IF(OR(B31=\"Voltage stabilizers\",B31=\"CCE temperature recorders_30 DTRs\",B31=\"RTM Device and Subscription\"),IF(Table1[[#This Row],[QTÉ A4]]>0,AB31*1,0),AB31*(Table1[[#This Row],[QTÉ A4]]))","v":0},{"$f":"IF(OR(B31=\"Voltage stabilizers\",B31=\"CCE temperature recorders_30 DTRs\",B31=\"RTM Device and Subscription\"),IF(Table1[[#This Row],[QTÉ A5]]>0,AB31*1,0),AB31*(Table1[[#This Row],[QTÉ A5]]))","v":0}]
[null,null,null,null,null,null,{"$f":"_xlfn.IFNA(INDEX('CCEOP Av Px_Min Floor & Cash '!$A$1:$B$300,MATCH(AA32,'CCEOP Av Px_Min Floor & Cash '!$A$1:$A$300,0),MATCH(Table1[[#Headers],[Prix unitaire moyen]],'CCEOP Av Px_Min Floor & Cash '!$A$1:$B$1,0)),\"\")","v":""},null,null,{"$f":"IFERROR(Table1[[#This Row],[Prix unitaire moyen]]+Table1[[#This Row],[Coût unitaire du groupe de services (dir. fournisseur)]]+Table1[[#This Row],[Coût unitaire du groupe de services (dir. pays)]],Table1[[#This Row],[Prix unitaire moyen]])","v":""},null,{"$f":"IFERROR(Table1[[#This Row],[Coût unitaire total]]*Table1[[#This Row],[QTÉ A1]],\"\")","v":""},null,{"$f":"IFERROR(Table1[[#This Row],[Coût unitaire total]]*Table1[[#This Row],[QTÉ A2]],\"\")","v":""},null,{"$f":"IFERROR(Table1[[#This Row],[Coût unitaire total]]*Table1[[#This Row],[QTÉ A3]],\"\")","v":""},null,{"$f":"IFERROR(Table1[[#This Row],[Coût unitaire total]]*Table1[[#This Row],[QTÉ A4]],\"\")","v":""},null,{"$f":"IFERROR(Table1[[#This Row],[Coût unitaire total]]*Table1[[#This Row],[QTÉ A5]],\"\")","v":""},{"$f":"Table1[[#This Row],[QTÉ A1]]+Table1[[#This Row],[QTÉ A2]]+Table1[[#This Row],[QTÉ A3]]+Table1[[#This Row],[QTÉ A4]]","v":0},{"$f":"IFERROR(Table1[[#This Row],[Coût total A1]]+Table1[[#This Row],[Coût total A2]]+Table1[[#This Row],[Coût total A3]]+Table1[[#This Row],[Coût total A4]]+Table1[[#This Row],[Coût total A5]],\"\")","v":""},{"$f":"IFERROR(Table1[[#This Row],[Budget total]]*(1-$F$6),\"\")","v":""},{"$f":"IFERROR(Table1[[#This Row],[Budget total]]*$F$6,\"\")","v":""},null,null,{"$f":"SUBSTITUTE(B32,\" \",\"\")&SUBSTITUTE(C32,\" \",\"\")&SUBSTITUTE(D32,\" \",\"\")&SUBSTITUTE(E32,\" \",\"\")&SUBSTITUTE(Table1[[#This Row],[Catégorie de prix moyen]],\" \",\"\")","v":""},0,{"$f":"IF(OR(B32=\"Voltage stabilizers\",B32=\"CCE temperature recorders_30 DTRs\",B32=\"RTM Device and Subscription\"),IF(Table1[[#This Row],[QTÉ A1]]>0,AB32*1,0),AB32*(Table1[[#This Row],[QTÉ A1]]))","v":0},{"$f":"IF(OR(B32=\"Voltage stabilizers\",B32=\"CCE temperature recorders_30 DTRs\",B32=\"RTM Device and Subscription\"),IF(Table1[[#This Row],[QTÉ A2]]>0,AB32*1,0),AB32*(Table1[[#This Row],[QTÉ A2]]))","v":0},{"$f":"IF(OR(B32=\"Voltage stabilizers\",B32=\"CCE temperature recorders_30 DTRs\",B32=\"RTM Device and Subscription\"),IF(Table1[[#This Row],[QTÉ A3]]>0,AB32*1,0),AB32*(Table1[[#This Row],[QTÉ A3]]))","v":0},{"$f":"IF(OR(B32=\"Voltage stabilizers\",B32=\"CCE temperature recorders_30 DTRs\",B32=\"RTM Device and Subscription\"),IF(Table1[[#This Row],[QTÉ A4]]>0,AB32*1,0),AB32*(Table1[[#This Row],[QTÉ A4]]))","v":0},{"$f":"IF(OR(B32=\"Voltage stabilizers\",B32=\"CCE temperature recorders_30 DTRs\",B32=\"RTM Device and Subscription\"),IF(Table1[[#This Row],[QTÉ A5]]>0,AB32*1,0),AB32*(Table1[[#This Row],[QTÉ A5]]))","v":0}]
[null,null,null,null,null,null,{"$f":"_xlfn.IFNA(INDEX('CCEOP Av Px_Min Floor & Cash '!$A$1:$B$300,MATCH(AA33,'CCEOP Av Px_Min Floor & Cash '!$A$1:$A$300,0),MATCH(Table1[[#Headers],[Prix unitaire moyen]],'CCEOP Av Px_Min Floor & Cash '!$A$1:$B$1,0)),\"\")","v":""},null,null,{"$f":"IFERROR(Table1[[#This Row],[Prix unitaire moyen]]+Table1[[#This Row],[Coût unitaire du groupe de services (dir. fournisseur)]]+Table1[[#This Row],[Coût unitaire du groupe de services (dir. pays)]],Table1[[#This Row],[Prix unitaire moyen]])","v":""},null,{"$f":"IFERROR(Table1[[#This Row],[Coût unitaire total]]*Table1[[#This Row],[QTÉ A1]],\"\")","v":""},null,{"$f":"IFERROR(Table1[[#This Row],[Coût unitaire total]]*Table1[[#This Row],[QTÉ A2]],\"\")","v":""},null,{"$f":"IFERROR(Table1[[#This Row],[Coût unitaire total]]*Table1[[#This Row],[QTÉ A3]],\"\")","v":""},null,{"$f":"IFERROR(Table1[[#This Row],[Coût unitaire total]]*Table1[[#This Row],[QTÉ A4]],\"\")","v":""},null,{"$f":"IFERROR(Table1[[#This Row],[Coût unitaire total]]*Table1[[#This Row],[QTÉ A5]],\"\")","v":""},{"$f":"Table1[[#This Row],[QTÉ A1]]+Table1[[#This Row],[QTÉ A2]]+Table1[[#This Row],[QTÉ A3]]+Table1[[#This Row],[QTÉ A4]]","v":0},{"$f":"IFERROR(Table1[[#This Row],[Coût total A1]]+Table1[[#This Row],[Coût total A2]]+Table1[[#This Row],[Coût total A3]]+Table1[[#This Row],[Coût total A4]]+Table1[[#This Row],[Coût total A5]],\"\")","v":""},{"$f":"IFERROR(Table1[[#This Row],[Budget total]]*(1-$F$6),\"\")","v":""},{"$f":"IFERROR(Table1[[#This Row],[Budget total]]*$F$6,\"\")","v":""},null,null,{"$f":"SUBSTITUTE(B33,\" \",\"\")&SUBSTITUTE(C33,\" \",\"\")&SUBSTITUTE(D33,\" \",\"\")&SUBSTITUTE(E33,\" \",\"\")&SUBSTITUTE(Table1[[#This Row],[Catégorie de prix moyen]],\" \",\"\")","v":""},0,{"$f":"IF(OR(B33=\"Voltage stabilizers\",B33=\"CCE temperature recorders_30 DTRs\",B33=\"RTM Device and Subscription\"),IF(Table1[[#This Row],[QTÉ A1]]>0,AB33*1,0),AB33*(Table1[[#This Row],[QTÉ A1]]))","v":0},{"$f":"IF(OR(B33=\"Voltage stabilizers\",B33=\"CCE temperature recorders_30 DTRs\",B33=\"RTM Device and Subscription\"),IF(Table1[[#This Row],[QTÉ A2]]>0,AB33*1,0),AB33*(Table1[[#This Row],[QTÉ A2]]))","v":0},{"$f":"IF(OR(B33=\"Voltage stabilizers\",B33=\"CCE temperature recorders_30 DTRs\",B33=\"RTM Device and Subscription\"),IF(Table1[[#This Row],[QTÉ A3]]>0,AB33*1,0),AB33*(Table1[[#This Row],[QTÉ A3]]))","v":0},{"$f":"IF(OR(B33=\"Voltage stabilizers\",B33=\"CCE temperature recorders_30 DTRs\",B33=\"RTM Device and Subscription\"),IF(Table1[[#This Row],[QTÉ A4]]>0,AB33*1,0),AB33*(Table1[[#This Row],[QTÉ A4]]))","v":0},{"$f":"IF(OR(B33=\"Voltage stabilizers\",B33=\"CCE temperature recorders_30 DTRs\",B33=\"RTM Device and Subscription\"),IF(Table1[[#This Row],[QTÉ A5]]>0,AB33*1,0),AB33*(Table1[[#This Row],[QTÉ A5]]))","v":0}]
[null,null,null,null,null,null,{"$f":"_xlfn.IFNA(INDEX('CCEOP Av Px_Min Floor & Cash '!$A$1:$B$300,MATCH(AA34,'CCEOP Av Px_Min Floor & Cash '!$A$1:$A$300,0),MATCH(Table1[[#Headers],[Prix unitaire moyen]],'CCEOP Av Px_Min Floor & Cash '!$A$1:$B$1,0)),\"\")","v":""},null,null,{"$f":"IFERROR(Table1[[#This Row],[Prix unitaire moyen]]+Table1[[#This Row],[Coût unitaire du groupe de services (dir. fournisseur)]]+Table1[[#This Row],[Coût unitaire du groupe de services (dir. pays)]],Table1[[#This Row],[Prix unitaire moyen]])","v":""},null,{"$f":"IFERROR(Table1[[#This Row],[Coût unitaire total]]*Table1[[#This Row],[QTÉ A1]],\"\")","v":""},null,{"$f":"IFERROR(Table1[[#This Row],[Coût unitaire total]]*Table1[[#This Row],[QTÉ A2]],\"\")","v":""},null,{"$f":"IFERROR(Table1[[#This Row],[Coût unitaire total]]*Table1[[#This Row],[QTÉ A3]],\"\")","v":""},null,{"$f":"IFERROR(Table1[[#This Row],[Coût unitaire total]]*Table1[[#This Row],[QTÉ A4]],\"\")","v":""},null,{"$f":"IFERROR(Table1[[#This Row],[Coût unitaire total]]*Table1[[#This Row],[QTÉ A5]],\"\")","v":""},{"$f":"Table1[[#This Row],[QTÉ A1]]+Table1[[#This Row],[QTÉ A2]]+Table1[[#This Row],[QTÉ A3]]+Table1[[#This Row],[QTÉ A4]]","v":0},{"$f":"IFERROR(Table1[[#This Row],[Coût total A1]]+Table1[[#This Row],[Coût total A2]]+Table1[[#This Row],[Coût total A3]]+Table1[[#This Row],[Coût total A4]]+Table1[[#This Row],[Coût total A5]],\"\")","v":""},{"$f":"IFERROR(Table1[[#This Row],[Budget total]]*(1-$F$6),\"\")","v":""},{"$f":"IFERROR(Table1[[#This Row],[Budget total]]*$F$6,\"\")","v":""},null,null,{"$f":"SUBSTITUTE(B34,\" \",\"\")&SUBSTITUTE(C34,\" \",\"\")&SUBSTITUTE(D34,\" \",\"\")&SUBSTITUTE(E34,\" \",\"\")&SUBSTITUTE(Table1[[#This Row],[Catégorie de prix moyen]],\" \",\"\")","v":""},0,{"$f":"IF(OR(B34=\"Voltage stabilizers\",B34=\"CCE temperature recorders_30 DTRs\",B34=\"RTM Device and Subscription\"),IF(Table1[[#This Row],[QTÉ A1]]>0,AB34*1,0),AB34*(Table1[[#This Row],[QTÉ A1]]))","v":0},{"$f":"IF(OR(B34=\"Voltage stabilizers\",B34=\"CCE temperature recorders_30 DTRs\",B34=\"RTM Device and Subscription\"),IF(Table1[[#This Row],[QTÉ A2]]>0,AB34*1,0),AB34*(Table1[[#This Row],[QTÉ A2]]))","v":0},{"$f":"IF(OR(B34=\"Voltage stabilizers\",B34=\"CCE temperature recorders_30 DTRs\",B34=\"RTM Device and Subscription\"),IF(Table1[[#This Row],[QTÉ A3]]>0,AB34*1,0),AB34*(Table1[[#This Row],[QTÉ A3]]))","v":0},{"$f":"IF(OR(B34=\"Voltage stabilizers\",B34=\"CCE temperature recorders_30 DTRs\",B34=\"RTM Device and Subscription\"),IF(Table1[[#This Row],[QTÉ A4]]>0,AB34*1,0),AB34*(Table1[[#This Row],[QTÉ A4]]))","v":0},{"$f":"IF(OR(B34=\"Voltage stabilizers\",B34=\"CCE temperature recorders_30 DTRs\",B34=\"RTM Device and Subscription\"),IF(Table1[[#This Row],[QTÉ A5]]>0,AB34*1,0),AB34*(Table1[[#This Row],[QTÉ A5]]))","v":0}]
[null,null,null,null,null,null,{"$f":"_xlfn.IFNA(INDEX('CCEOP Av Px_Min Floor & Cash '!$A$1:$B$300,MATCH(AA35,'CCEOP Av Px_Min Floor & Cash '!$A$1:$A$300,0),MATCH(Table1[[#Headers],[Prix unitaire moyen]],'CCEOP Av Px_Min Floor & Cash '!$A$1:$B$1,0)),\"\")","v":""},null,null,{"$f":"IFERROR(Table1[[#This Row],[Prix unitaire moyen]]+Table1[[#This Row],[Coût unitaire du groupe de services (dir. fournisseur)]]+Table1[[#This Row],[Coût unitaire du groupe de services (dir. pays)]],Table1[[#This Row],[Prix unitaire moyen]])","v":""},null,{"$f":"IFERROR(Table1[[#This Row],[Coût unitaire total]]*Table1[[#This Row],[QTÉ A1]],\"\")","v":""},null,{"$f":"IFERROR(Table1[[#This Row],[Coût unitaire total]]*Table1[[#This Row],[QTÉ A2]],\"\")","v":""},null,{"$f":"IFERROR(Table1[[#This Row],[Coût unitaire total]]*Table1[[#This Row],[QTÉ A3]],\"\")","v":""},null,{"$f":"IFERROR(Table1[[#This Row],[Coût unitaire total]]*Table1[[#This Row],[QTÉ A4]],\"\")","v":""},null,{"$f":"IFERROR(Table1[[#This Row],[Coût unitaire total]]*Table1[[#This Row],[QTÉ A5]],\"\")","v":""},{"$f":"Table1[[#This Row],[QTÉ A1]]+Table1[[#This Row],[QTÉ A2]]+Table1[[#This Row],[QTÉ A3]]+Table1[[#This Row],[QTÉ A4]]","v":0},{"$f":"IFERROR(Table1[[#This Row],[Coût total A1]]+Table1[[#This Row],[Coût total A2]]+Table1[[#This Row],[Coût total A3]]+Table1[[#This Row],[Coût total A4]]+Table1[[#This Row],[Coût total A5]],\"\")","v":""},{"$f":"IFERROR(Table1[[#This Row],[Budget total]]*(1-$F$6),\"\")","v":""},{"$f":"IFERROR(Table1[[#This Row],[Budget total]]*$F$6,\"\")","v":""},null,null,{"$f":"SUBSTITUTE(B35,\" \",\"\")&SUBSTITUTE(C35,\" \",\"\")&SUBSTITUTE(D35,\" \",\"\")&SUBSTITUTE(E35,\" \",\"\")&SUBSTITUTE(Table1[[#This Row],[Catégorie de prix moyen]],\" \",\"\")","v":""},0,{"$f":"IF(OR(B35=\"Voltage stabilizers\",B35=\"CCE temperature recorders_30 DTRs\",B35=\"RTM Device and Subscription\"),IF(Table1[[#This Row],[QTÉ A1]]>0,AB35*1,0),AB35*(Table1[[#This Row],[QTÉ A1]]))","v":0},{"$f":"IF(OR(B35=\"Voltage stabilizers\",B35=\"CCE temperature recorders_30 DTRs\",B35=\"RTM Device and Subscription\"),IF(Table1[[#This Row],[QTÉ A2]]>0,AB35*1,0),AB35*(Table1[[#This Row],[QTÉ A2]]))","v":0},{"$f":"IF(OR(B35=\"Voltage stabilizers\",B35=\"CCE temperature recorders_30 DTRs\",B35=\"RTM Device and Subscription\"),IF(Table1[[#This Row],[QTÉ A3]]>0,AB35*1,0),AB35*(Table1[[#This Row],[QTÉ A3]]))","v":0},{"$f":"IF(OR(B35=\"Voltage stabilizers\",B35=\"CCE temperature recorders_30 DTRs\",B35=\"RTM Device and Subscription\"),IF(Table1[[#This Row],[QTÉ A4]]>0,AB35*1,0),AB35*(Table1[[#This Row],[QTÉ A4]]))","v":0},{"$f":"IF(OR(B35=\"Voltage stabilizers\",B35=\"CCE temperature recorders_30 DTRs\",B35=\"RTM Device and Subscription\"),IF(Table1[[#This Row],[QTÉ A5]]>0,AB35*1,0),AB35*(Table1[[#This Row],[QTÉ A5]]))","v":0}]
[null,null,null,null,null,null,{"$f":"_xlfn.IFNA(INDEX('CCEOP Av Px_Min Floor & Cash '!$A$1:$B$300,MATCH(AA36,'CCEOP Av Px_Min Floor & Cash '!$A$1:$A$300,0),MATCH(Table1[[#Headers],[Prix unitaire moyen]],'CCEOP Av Px_Min Floor & Cash '!$A$1:$B$1,0)),\"\")","v":""},null,null,{"$f":"IFERROR(Table1[[#This Row],[Prix unitaire moyen]]+Table1[[#This Row],[Coût unitaire du groupe de services (dir. fournisseur)]]+Table1[[#This Row],[Coût unitaire du groupe de services (dir. pays)]],Table1[[#This Row],[Prix unitaire moyen]])","v":""},null,{"$f":"IFERROR(Table1[[#This Row],[Coût unitaire total]]*Table1[[#This Row],[QTÉ A1]],\"\")","v":""},null,{"$f":"IFERROR(Table1[[#This Row],[Coût unitaire total]]*Table1[[#This Row],[QTÉ A2]],\"\")","v":""},null,{"$f":"IFERROR(Table1[[#This Row],[Coût unitaire total]]*Table1[[#This Row],[QTÉ A3]],\"\")","v":""},null,{"$f":"IFERROR(Table1[[#This Row],[Coût unitaire total]]*Table1[[#This Row],[QTÉ A4]],\"\")","v":""},null,{"$f":"IFERROR(Table1[[#This Row],[Coût unitaire total]]*Table1[[#This Row],[QTÉ A5]],\"\")","v":""},{"$f":"Table1[[#This Row],[QTÉ A1]]+Table1[[#This Row],[QTÉ A2]]+Table1[[#This Row],[QTÉ A3]]+Table1[[#This Row],[QTÉ A4]]","v":0},{"$f":"IFERROR(Table1[[#This Row],[Coût total A1]]+Table1[[#This Row],[Coût total A2]]+Table1[[#This Row],[Coût total A3]]+Table1[[#This Row],[Coût total A4]]+Table1[[#This Row],[Coût total A5]],\"\")","v":""},{"$f":"IFERROR(Table1[[#This Row],[Budget total]]*(1-$F$6),\"\")","v":""},{"$f":"IFERROR(Table1[[#This Row],[Budget total]]*$F$6,\"\")","v":""},null,null,{"$f":"SUBSTITUTE(B36,\" \",\"\")&SUBSTITUTE(C36,\" \",\"\")&SUBSTITUTE(D36,\" \",\"\")&SUBSTITUTE(E36,\" \",\"\")&SUBSTITUTE(Table1[[#This Row],[Catégorie de prix moyen]],\" \",\"\")","v":""},0,{"$f":"IF(OR(B36=\"Voltage stabilizers\",B36=\"CCE temperature recorders_30 DTRs\",B36=\"RTM Device and Subscription\"),IF(Table1[[#This Row],[QTÉ A1]]>0,AB36*1,0),AB36*(Table1[[#This Row],[QTÉ A1]]))","v":0},{"$f":"IF(OR(B36=\"Voltage stabilizers\",B36=\"CCE temperature recorders_30 DTRs\",B36=\"RTM Device and Subscription\"),IF(Table1[[#This Row],[QTÉ A2]]>0,AB36*1,0),AB36*(Table1[[#This Row],[QTÉ A2]]))","v":0},{"$f":"IF(OR(B36=\"Voltage stabilizers\",B36=\"CCE temperature recorders_30 DTRs\",B36=\"RTM Device and Subscription\"),IF(Table1[[#This Row],[QTÉ A3]]>0,AB36*1,0),AB36*(Table1[[#This Row],[QTÉ A3]]))","v":0},{"$f":"IF(OR(B36=\"Voltage stabilizers\",B36=\"CCE temperature recorders_30 DTRs\",B36=\"RTM Device and Subscription\"),IF(Table1[[#This Row],[QTÉ A4]]>0,AB36*1,0),AB36*(Table1[[#This Row],[QTÉ A4]]))","v":0},{"$f":"IF(OR(B36=\"Voltage stabilizers\",B36=\"CCE temperature recorders_30 DTRs\",B36=\"RTM Device and Subscription\"),IF(Table1[[#This Row],[QTÉ A5]]>0,AB36*1,0),AB36*(Table1[[#This Row],[QTÉ A5]]))","v":0}]
[null,null,null,null,null,null,{"$f":"_xlfn.IFNA(INDEX('CCEOP Av Px_Min Floor & Cash '!$A$1:$B$300,MATCH(AA37,'CCEOP Av Px_Min Floor & Cash '!$A$1:$A$300,0),MATCH(Table1[[#Headers],[Prix unitaire moyen]],'CCEOP Av Px_Min Floor & Cash '!$A$1:$B$1,0)),\"\")","v":""},null,null,{"$f":"IFERROR(Table1[[#This Row],[Prix unitaire moyen]]+Table1[[#This Row],[Coût unitaire du groupe de services (dir. fournisseur)]]+Table1[[#This Row],[Coût unitaire du groupe de services (dir. pays)]],Table1[[#This Row],[Prix unitaire moyen]])","v":""},null,{"$f":"IFERROR(Table1[[#This Row],[Coût unitaire total]]*Table1[[#This Row],[QTÉ A1]],\"\")","v":""},null,{"$f":"IFERROR(Table1[[#This Row],[Coût unitaire total]]*Table1[[#This Row],[QTÉ A2]],\"\")","v":""},null,{"$f":"IFERROR(Table1[[#This Row],[Coût unitaire total]]*Table1[[#This Row],[QTÉ A3]],\"\")","v":""},null,{"$f":"IFERROR(Table1[[#This Row],[Coût unitaire total]]*Table1[[#This Row],[QTÉ A4]],\"\")","v":""},null,{"$f":"IFERROR(Table1[[#This Row],[Coût unitaire total]]*Table1[[#This Row],[QTÉ A5]],\"\")","v":""},{"$f":"Table1[[#This Row],[QTÉ A1]]+Table1[[#This Row],[QTÉ A2]]+Table1[[#This Row],[QTÉ A3]]+Table1[[#This Row],[QTÉ A4]]","v":0},{"$f":"IFERROR(Table1[[#This Row],[Coût total A1]]+Table1[[#This Row],[Coût total A2]]+Table1[[#This Row],[Coût total A3]]+Table1[[#This Row],[Coût total A4]]+Table1[[#This Row],[Coût total A5]],\"\")","v":""},{"$f":"IFERROR(Table1[[#This Row],[Budget total]]*(1-$F$6),\"\")","v":""},{"$f":"IFERROR(Table1[[#This Row],[Budget total]]*$F$6,\"\")","v":""},null,null,{"$f":"SUBSTITUTE(B37,\" \",\"\")&SUBSTITUTE(C37,\" \",\"\")&SUBSTITUTE(D37,\" \",\"\")&SUBSTITUTE(E37,\" \",\"\")&SUBSTITUTE(Table1[[#This Row],[Catégorie de prix moyen]],\" \",\"\")","v":""},0,{"$f":"IF(OR(B37=\"Voltage stabilizers\",B37=\"CCE temperature recorders_30 DTRs\",B37=\"RTM Device and Subscription\"),IF(Table1[[#This Row],[QTÉ A1]]>0,AB37*1,0),AB37*(Table1[[#This Row],[QTÉ A1]]))","v":0},{"$f":"IF(OR(B37=\"Voltage stabilizers\",B37=\"CCE temperature recorders_30 DTRs\",B37=\"RTM Device and Subscription\"),IF(Table1[[#This Row],[QTÉ A2]]>0,AB37*1,0),AB37*(Table1[[#This Row],[QTÉ A2]]))","v":0},{"$f":"IF(OR(B37=\"Voltage stabilizers\",B37=\"CCE temperature recorders_30 DTRs\",B37=\"RTM Device and Subscription\"),IF(Table1[[#This Row],[QTÉ A3]]>0,AB37*1,0),AB37*(Table1[[#This Row],[QTÉ A3]]))","v":0},{"$f":"IF(OR(B37=\"Voltage stabilizers\",B37=\"CCE temperature recorders_30 DTRs\",B37=\"RTM Device and Subscription\"),IF(Table1[[#This Row],[QTÉ A4]]>0,AB37*1,0),AB37*(Table1[[#This Row],[QTÉ A4]]))","v":0},{"$f":"IF(OR(B37=\"Voltage stabilizers\",B37=\"CCE temperature recorders_30 DTRs\",B37=\"RTM Device and Subscription\"),IF(Table1[[#This Row],[QTÉ A5]]>0,AB37*1,0),AB37*(Table1[[#This Row],[QTÉ A5]]))","v":0}]
[null,null,null,null,null,null,{"$f":"_xlfn.IFNA(INDEX('CCEOP Av Px_Min Floor & Cash '!$A$1:$B$300,MATCH(AA38,'CCEOP Av Px_Min Floor & Cash '!$A$1:$A$300,0),MATCH(Table1[[#Headers],[Prix unitaire moyen]],'CCEOP Av Px_Min Floor & Cash '!$A$1:$B$1,0)),\"\")","v":""},null,null,{"$f":"IFERROR(Table1[[#This Row],[Prix unitaire moyen]]+Table1[[#This Row],[Coût unitaire du groupe de services (dir. fournisseur)]]+Table1[[#This Row],[Coût unitaire du groupe de services (dir. pays)]],Table1[[#This Row],[Prix unitaire moyen]])","v":""},null,{"$f":"IFERROR(Table1[[#This Row],[Coût unitaire total]]*Table1[[#This Row],[QTÉ A1]],\"\")","v":""},null,{"$f":"IFERROR(Table1[[#This Row],[Coût unitaire total]]*Table1[[#This Row],[QTÉ A2]],\"\")","v":""},null,{"$f":"IFERROR(Table1[[#This Row],[Coût unitaire total]]*Table1[[#This Row],[QTÉ A3]],\"\")","v":""},null,{"$f":"IFERROR(Table1[[#This Row],[Coût unitaire total]]*Table1[[#This Row],[QTÉ A4]],\"\")","v":""},null,{"$f":"IFERROR(Table1[[#This Row],[Coût unitaire total]]*Table1[[#This Row],[QTÉ A5]],\"\")","v":""},{"$f":"Table1[[#This Row],[QTÉ A1]]+Table1[[#This Row],[QTÉ A2]]+Table1[[#This Row],[QTÉ A3]]+Table1[[#This Row],[QTÉ A4]]","v":0},{"$f":"IFERROR(Table1[[#This Row],[Coût total A1]]+Table1[[#This Row],[Coût total A2]]+Table1[[#This Row],[Coût total A3]]+Table1[[#This Row],[Coût total A4]]+Table1[[#This Row],[Coût total A5]],\"\")","v":""},{"$f":"IFERROR(Table1[[#This Row],[Budget total]]*(1-$F$6),\"\")","v":""},{"$f":"IFERROR(Table1[[#This Row],[Budget total]]*$F$6,\"\")","v":""},null,null,{"$f":"SUBSTITUTE(B38,\" \",\"\")&SUBSTITUTE(C38,\" \",\"\")&SUBSTITUTE(D38,\" \",\"\")&SUBSTITUTE(E38,\" \",\"\")&SUBSTITUTE(Table1[[#This Row],[Catégorie de prix moyen]],\" \",\"\")","v":""},0,{"$f":"IF(OR(B38=\"Voltage stabilizers\",B38=\"CCE temperature recorders_30 DTRs\",B38=\"RTM Device and Subscription\"),IF(Table1[[#This Row],[QTÉ A1]]>0,AB38*1,0),AB38*(Table1[[#This Row],[QTÉ A1]]))","v":0},{"$f":"IF(OR(B38=\"Voltage stabilizers\",B38=\"CCE temperature recorders_30 DTRs\",B38=\"RTM Device and Subscription\"),IF(Table1[[#This Row],[QTÉ A2]]>0,AB38*1,0),AB38*(Table1[[#This Row],[QTÉ A2]]))","v":0},{"$f":"IF(OR(B38=\"Voltage stabilizers\",B38=\"CCE temperature recorders_30 DTRs\",B38=\"RTM Device and Subscription\"),IF(Table1[[#This Row],[QTÉ A3]]>0,AB38*1,0),AB38*(Table1[[#This Row],[QTÉ A3]]))","v":0},{"$f":"IF(OR(B38=\"Voltage stabilizers\",B38=\"CCE temperature recorders_30 DTRs\",B38=\"RTM Device and Subscription\"),IF(Table1[[#This Row],[QTÉ A4]]>0,AB38*1,0),AB38*(Table1[[#This Row],[QTÉ A4]]))","v":0},{"$f":"IF(OR(B38=\"Voltage stabilizers\",B38=\"CCE temperature recorders_30 DTRs\",B38=\"RTM Device and Subscription\"),IF(Table1[[#This Row],[QTÉ A5]]>0,AB38*1,0),AB38*(Table1[[#This Row],[QTÉ A5]]))","v":0}]
[null,null,null,null,null,null,{"$f":"_xlfn.IFNA(INDEX('CCEOP Av Px_Min Floor & Cash '!$A$1:$B$300,MATCH(AA39,'CCEOP Av Px_Min Floor & Cash '!$A$1:$A$300,0),MATCH(Table1[[#Headers],[Prix unitaire moyen]],'CCEOP Av Px_Min Floor & Cash '!$A$1:$B$1,0)),\"\")","v":""},null,null,{"$f":"IFERROR(Table1[[#This Row],[Prix unitaire moyen]]+Table1[[#This Row],[Coût unitaire du groupe de services (dir. fournisseur)]]+Table1[[#This Row],[Coût unitaire du groupe de services (dir. pays)]],Table1[[#This Row],[Prix unitaire moyen]])","v":""},null,{"$f":"IFERROR(Table1[[#This Row],[Coût unitaire total]]*Table1[[#This Row],[QTÉ A1]],\"\")","v":""},null,{"$f":"IFERROR(Table1[[#This Row],[Coût unitaire total]]*Table1[[#This Row],[QTÉ A2]],\"\")","v":""},null,{"$f":"IFERROR(Table1[[#This Row],[Coût unitaire total]]*Table1[[#This Row],[QTÉ A3]],\"\")","v":""},null,{"$f":"IFERROR(Table1[[#This Row],[Coût unitaire total]]*Table1[[#This Row],[QTÉ A4]],\"\")","v":""},null,{"$f":"IFERROR(Table1[[#This Row],[Coût unitaire total]]*Table1[[#This Row],[QTÉ A5]],\"\")","v":""},{"$f":"Table1[[#This Row],[QTÉ A1]]+Table1[[#This Row],[QTÉ A2]]+Table1[[#This Row],[QTÉ A3]]+Table1[[#This Row],[QTÉ A4]]","v":0},{"$f":"IFERROR(Table1[[#This Row],[Coût total A1]]+Table1[[#This Row],[Coût total A2]]+Table1[[#This Row],[Coût total A3]]+Table1[[#This Row],[Coût total A4]]+Table1[[#This Row],[Coût total A5]],\"\")","v":""},{"$f":"IFERROR(Table1[[#This Row],[Budget total]]*(1-$F$6),\"\")","v":""},{"$f":"IFERROR(Table1[[#This Row],[Budget total]]*$F$6,\"\")","v":""},null,null,{"$f":"SUBSTITUTE(B39,\" \",\"\")&SUBSTITUTE(C39,\" \",\"\")&SUBSTITUTE(D39,\" \",\"\")&SUBSTITUTE(E39,\" \",\"\")&SUBSTITUTE(Table1[[#This Row],[Catégorie de prix moyen]],\" \",\"\")","v":""},0,{"$f":"IF(OR(B39=\"Voltage stabilizers\",B39=\"CCE temperature recorders_30 DTRs\",B39=\"RTM Device and Subscription\"),IF(Table1[[#This Row],[QTÉ A1]]>0,AB39*1,0),AB39*(Table1[[#This Row],[QTÉ A1]]))","v":0},{"$f":"IF(OR(B39=\"Voltage stabilizers\",B39=\"CCE temperature recorders_30 DTRs\",B39=\"RTM Device and Subscription\"),IF(Table1[[#This Row],[QTÉ A2]]>0,AB39*1,0),AB39*(Table1[[#This Row],[QTÉ A2]]))","v":0},{"$f":"IF(OR(B39=\"Voltage stabilizers\",B39=\"CCE temperature recorders_30 DTRs\",B39=\"RTM Device and Subscription\"),IF(Table1[[#This Row],[QTÉ A3]]>0,AB39*1,0),AB39*(Table1[[#This Row],[QTÉ A3]]))","v":0},{"$f":"IF(OR(B39=\"Voltage stabilizers\",B39=\"CCE temperature recorders_30 DTRs\",B39=\"RTM Device and Subscription\"),IF(Table1[[#This Row],[QTÉ A4]]>0,AB39*1,0),AB39*(Table1[[#This Row],[QTÉ A4]]))","v":0},{"$f":"IF(OR(B39=\"Voltage stabilizers\",B39=\"CCE temperature recorders_30 DTRs\",B39=\"RTM Device and Subscription\"),IF(Table1[[#This Row],[QTÉ A5]]>0,AB39*1,0),AB39*(Table1[[#This Row],[QTÉ A5]]))","v":0}]
[null,null,null,null,null,null,{"$f":"_xlfn.IFNA(INDEX('CCEOP Av Px_Min Floor & Cash '!$A$1:$B$300,MATCH(AA40,'CCEOP Av Px_Min Floor & Cash '!$A$1:$A$300,0),MATCH(Table1[[#Headers],[Prix unitaire moyen]],'CCEOP Av Px_Min Floor & Cash '!$A$1:$B$1,0)),\"\")","v":""},null,null,{"$f":"IFERROR(Table1[[#This Row],[Prix unitaire moyen]]+Table1[[#This Row],[Coût unitaire du groupe de services (dir. fournisseur)]]+Table1[[#This Row],[Coût unitaire du groupe de services (dir. pays)]],Table1[[#This Row],[Prix unitaire moyen]])","v":""},null,{"$f":"IFERROR(Table1[[#This Row],[Coût unitaire total]]*Table1[[#This Row],[QTÉ A1]],\"\")","v":""},null,{"$f":"IFERROR(Table1[[#This Row],[Coût unitaire total]]*Table1[[#This Row],[QTÉ A2]],\"\")","v":""},null,{"$f":"IFERROR(Table1[[#This Row],[Coût unitaire total]]*Table1[[#This Row],[QTÉ A3]],\"\")","v":""},null,{"$f":"IFERROR(Table1[[#This Row],[Coût unitaire total]]*Table1[[#This Row],[QTÉ A4]],\"\")","v":""},null,{"$f":"IFERROR(Table1[[#This Row],[Coût unitaire total]]*Table1[[#This Row],[QTÉ A5]],\"\")","v":""},{"$f":"Table1[[#This Row],[QTÉ A1]]+Table1[[#This Row],[QTÉ A2]]+Table1[[#This Row],[QTÉ A3]]+Table1[[#This Row],[QTÉ A4]]","v":0},{"$f":"IFERROR(Table1[[#This Row],[Coût total A1]]+Table1[[#This Row],[Coût total A2]]+Table1[[#This Row],[Coût total A3]]+Table1[[#This Row],[Coût total A4]]+Table1[[#This Row],[Coût total A5]],\"\")","v":""},{"$f":"IFERROR(Table1[[#This Row],[Budget total]]*(1-$F$6),\"\")","v":""},{"$f":"IFERROR(Table1[[#This Row],[Budget total]]*$F$6,\"\")","v":""},null,null,{"$f":"SUBSTITUTE(B40,\" \",\"\")&SUBSTITUTE(C40,\" \",\"\")&SUBSTITUTE(D40,\" \",\"\")&SUBSTITUTE(E40,\" \",\"\")&SUBSTITUTE(Table1[[#This Row],[Catégorie de prix moyen]],\" \",\"\")","v":""},0,{"$f":"IF(OR(B40=\"Voltage stabilizers\",B40=\"CCE temperature recorders_30 DTRs\",B40=\"RTM Device and Subscription\"),IF(Table1[[#This Row],[QTÉ A1]]>0,AB40*1,0),AB40*(Table1[[#This Row],[QTÉ A1]]))","v":0},{"$f":"IF(OR(B40=\"Voltage stabilizers\",B40=\"CCE temperature recorders_30 DTRs\",B40=\"RTM Device and Subscription\"),IF(Table1[[#This Row],[QTÉ A2]]>0,AB40*1,0),AB40*(Table1[[#This Row],[QTÉ A2]]))","v":0},{"$f":"IF(OR(B40=\"Voltage stabilizers\",B40=\"CCE temperature recorders_30 DTRs\",B40=\"RTM Device and Subscription\"),IF(Table1[[#This Row],[QTÉ A3]]>0,AB40*1,0),AB40*(Table1[[#This Row],[QTÉ A3]]))","v":0},{"$f":"IF(OR(B40=\"Voltage stabilizers\",B40=\"CCE temperature recorders_30 DTRs\",B40=\"RTM Device and Subscription\"),IF(Table1[[#This Row],[QTÉ A4]]>0,AB40*1,0),AB40*(Table1[[#This Row],[QTÉ A4]]))","v":0},{"$f":"IF(OR(B40=\"Voltage stabilizers\",B40=\"CCE temperature recorders_30 DTRs\",B40=\"RTM Device and Subscription\"),IF(Table1[[#This Row],[QTÉ A5]]>0,AB40*1,0),AB40*(Table1[[#This Row],[QTÉ A5]]))","v":0}]
[null,null,null,null,null,null,{"$f":"_xlfn.IFNA(INDEX('CCEOP Av Px_Min Floor & Cash '!$A$1:$B$300,MATCH(AA41,'CCEOP Av Px_Min Floor & Cash '!$A$1:$A$300,0),MATCH(Table1[[#Headers],[Prix unitaire moyen]],'CCEOP Av Px_Min Floor & Cash '!$A$1:$B$1,0)),\"\")","v":""},null,null,{"$f":"IFERROR(Table1[[#This Row],[Prix unitaire moyen]]+Table1[[#This Row],[Coût unitaire du groupe de services (dir. fournisseur)]]+Table1[[#This Row],[Coût unitaire du groupe de services (dir. pays)]],Table1[[#This Row],[Prix unitaire moyen]])","v":""},null,{"$f":"IFERROR(Table1[[#This Row],[Coût unitaire total]]*Table1[[#This Row],[QTÉ A1]],\"\")","v":""},null,{"$f":"IFERROR(Table1[[#This Row],[Coût unitaire total]]*Table1[[#This Row],[QTÉ A2]],\"\")","v":""},null,{"$f":"IFERROR(Table1[[#This Row],[Coût unitaire total]]*Table1[[#This Row],[QTÉ A3]],\"\")","v":""},null,{"$f":"IFERROR(Table1[[#This Row],[Coût unitaire total]]*Table1[[#This Row],[QTÉ A4]],\"\")","v":""},null,{"$f":"IFERROR(Table1[[#This Row],[Coût unitaire total]]*Table1[[#This Row],[QTÉ A5]],\"\")","v":""},{"$f":"Table1[[#This Row],[QTÉ A1]]+Table1[[#This Row],[QTÉ A2]]+Table1[[#This Row],[QTÉ A3]]+Table1[[#This Row],[QTÉ A4]]","v":0},{"$f":"IFERROR(Table1[[#This Row],[Coût total A1]]+Table1[[#This Row],[Coût total A2]]+Table1[[#This Row],[Coût total A3]]+Table1[[#This Row],[Coût total A4]]+Table1[[#This Row],[Coût total A5]],\"\")","v":""},{"$f":"IFERROR(Table1[[#This Row],[Budget total]]*(1-$F$6),\"\")","v":""},{"$f":"IFERROR(Table1[[#This Row],[Budget total]]*$F$6,\"\")","v":""},null,null,{"$f":"SUBSTITUTE(B41,\" \",\"\")&SUBSTITUTE(C41,\" \",\"\")&SUBSTITUTE(D41,\" \",\"\")&SUBSTITUTE(E41,\" \",\"\")&SUBSTITUTE(Table1[[#This Row],[Catégorie de prix moyen]],\" \",\"\")","v":""},0,{"$f":"IF(OR(B41=\"Voltage stabilizers\",B41=\"CCE temperature recorders_30 DTRs\",B41=\"RTM Device and Subscription\"),IF(Table1[[#This Row],[QTÉ A1]]>0,AB41*1,0),AB41*(Table1[[#This Row],[QTÉ A1]]))","v":0},{"$f":"IF(OR(B41=\"Voltage stabilizers\",B41=\"CCE temperature recorders_30 DTRs\",B41=\"RTM Device and Subscription\"),IF(Table1[[#This Row],[QTÉ A2]]>0,AB41*1,0),AB41*(Table1[[#This Row],[QTÉ A2]]))","v":0},{"$f":"IF(OR(B41=\"Voltage stabilizers\",B41=\"CCE temperature recorders_30 DTRs\",B41=\"RTM Device and Subscription\"),IF(Table1[[#This Row],[QTÉ A3]]>0,AB41*1,0),AB41*(Table1[[#This Row],[QTÉ A3]]))","v":0},{"$f":"IF(OR(B41=\"Voltage stabilizers\",B41=\"CCE temperature recorders_30 DTRs\",B41=\"RTM Device and Subscription\"),IF(Table1[[#This Row],[QTÉ A4]]>0,AB41*1,0),AB41*(Table1[[#This Row],[QTÉ A4]]))","v":0},{"$f":"IF(OR(B41=\"Voltage stabilizers\",B41=\"CCE temperature recorders_30 DTRs\",B41=\"RTM Device and Subscription\"),IF(Table1[[#This Row],[QTÉ A5]]>0,AB41*1,0),AB41*(Table1[[#This Row],[QTÉ A5]]))","v":0}]
[null,null,null,null,null,null,{"$f":"_xlfn.IFNA(INDEX('CCEOP Av Px_Min Floor & Cash '!$A$1:$B$300,MATCH(AA42,'CCEOP Av Px_Min Floor & Cash '!$A$1:$A$300,0),MATCH(Table1[[#Headers],[Prix unitaire moyen]],'CCEOP Av Px_Min Floor & Cash '!$A$1:$B$1,0)),\"\")","v":""},null,null,{"$f":"IFERROR(Table1[[#This Row],[Prix unitaire moyen]]+Table1[[#This Row],[Coût unitaire du groupe de services (dir. fournisseur)]]+Table1[[#This Row],[Coût unitaire du groupe de services (dir. pays)]],Table1[[#This Row],[Prix unitaire moyen]])","v":""},null,{"$f":"IFERROR(Table1[[#This Row],[Coût unitaire total]]*Table1[[#This Row],[QTÉ A1]],\"\")","v":""},null,{"$f":"IFERROR(Table1[[#This Row],[Coût unitaire total]]*Table1[[#This Row],[QTÉ A2]],\"\")","v":""},null,{"$f":"IFERROR(Table1[[#This Row],[Coût unitaire total]]*Table1[[#This Row],[QTÉ A3]],\"\")","v":""},null,{"$f":"IFERROR(Table1[[#This Row],[Coût unitaire total]]*Table1[[#This Row],[QTÉ A4]],\"\")","v":""},null,{"$f":"IFERROR(Table1[[#This Row],[Coût unitaire total]]*Table1[[#This Row],[QTÉ A5]],\"\")","v":""},{"$f":"Table1[[#This Row],[QTÉ A1]]+Table1[[#This Row],[QTÉ A2]]+Table1[[#This Row],[QTÉ A3]]+Table1[[#This Row],[QTÉ A4]]","v":0},{"$f":"IFERROR(Table1[[#This Row],[Coût total A1]]+Table1[[#This Row],[Coût total A2]]+Table1[[#This Row],[Coût total A3]]+Table1[[#This Row],[Coût total A4]]+Table1[[#This Row],[Coût total A5]],\"\")","v":""},{"$f":"IFERROR(Table1[[#This Row],[Budget total]]*(1-$F$6),\"\")","v":""},{"$f":"IFERROR(Table1[[#This Row],[Budget total]]*$F$6,\"\")","v":""},null,null,{"$f":"SUBSTITUTE(B42,\" \",\"\")&SUBSTITUTE(C42,\" \",\"\")&SUBSTITUTE(D42,\" \",\"\")&SUBSTITUTE(E42,\" \",\"\")&SUBSTITUTE(Table1[[#This Row],[Catégorie de prix moyen]],\" \",\"\")","v":""},0,{"$f":"IF(OR(B42=\"Voltage stabilizers\",B42=\"CCE temperature recorders_30 DTRs\",B42=\"RTM Device and Subscription\"),IF(Table1[[#This Row],[QTÉ A1]]>0,AB42*1,0),AB42*(Table1[[#This Row],[QTÉ A1]]))","v":0},{"$f":"IF(OR(B42=\"Voltage stabilizers\",B42=\"CCE temperature recorders_30 DTRs\",B42=\"RTM Device and Subscription\"),IF(Table1[[#This Row],[QTÉ A2]]>0,AB42*1,0),AB42*(Table1[[#This Row],[QTÉ A2]]))","v":0},{"$f":"IF(OR(B42=\"Voltage stabilizers\",B42=\"CCE temperature recorders_30 DTRs\",B42=\"RTM Device and Subscription\"),IF(Table1[[#This Row],[QTÉ A3]]>0,AB42*1,0),AB42*(Table1[[#This Row],[QTÉ A3]]))","v":0},{"$f":"IF(OR(B42=\"Voltage stabilizers\",B42=\"CCE temperature recorders_30 DTRs\",B42=\"RTM Device and Subscription\"),IF(Table1[[#This Row],[QTÉ A4]]>0,AB42*1,0),AB42*(Table1[[#This Row],[QTÉ A4]]))","v":0},{"$f":"IF(OR(B42=\"Voltage stabilizers\",B42=\"CCE temperature recorders_30 DTRs\",B42=\"RTM Device and Subscription\"),IF(Table1[[#This Row],[QTÉ A5]]>0,AB42*1,0),AB42*(Table1[[#This Row],[QTÉ A5]]))","v":0}]
[null,null,null,null,null,null,{"$f":"_xlfn.IFNA(INDEX('CCEOP Av Px_Min Floor & Cash '!$A$1:$B$300,MATCH(AA43,'CCEOP Av Px_Min Floor & Cash '!$A$1:$A$300,0),MATCH(Table1[[#Headers],[Prix unitaire moyen]],'CCEOP Av Px_Min Floor & Cash '!$A$1:$B$1,0)),\"\")","v":""},null,null,{"$f":"IFERROR(Table1[[#This Row],[Prix unitaire moyen]]+Table1[[#This Row],[Coût unitaire du groupe de services (dir. fournisseur)]]+Table1[[#This Row],[Coût unitaire du groupe de services (dir. pays)]],Table1[[#This Row],[Prix unitaire moyen]])","v":""},null,{"$f":"IFERROR(Table1[[#This Row],[Coût unitaire total]]*Table1[[#This Row],[QTÉ A1]],\"\")","v":""},null,{"$f":"IFERROR(Table1[[#This Row],[Coût unitaire total]]*Table1[[#This Row],[QTÉ A2]],\"\")","v":""},null,{"$f":"IFERROR(Table1[[#This Row],[Coût unitaire total]]*Table1[[#This Row],[QTÉ A3]],\"\")","v":""},null,{"$f":"IFERROR(Table1[[#This Row],[Coût unitaire total]]*Table1[[#This Row],[QTÉ A4]],\"\")","v":""},null,{"$f":"IFERROR(Table1[[#This Row],[Coût unitaire total]]*Table1[[#This Row],[QTÉ A5]],\"\")","v":""},{"$f":"Table1[[#This Row],[QTÉ A1]]+Table1[[#This Row],[QTÉ A2]]+Table1[[#This Row],[QTÉ A3]]+Table1[[#This Row],[QTÉ A4]]","v":0},{"$f":"IFERROR(Table1[[#This Row],[Coût total A1]]+Table1[[#This Row],[Coût total A2]]+Table1[[#This Row],[Coût total A3]]+Table1[[#This Row],[Coût total A4]]+Table1[[#This Row],[Coût total A5]],\"\")","v":""},{"$f":"IFERROR(Table1[[#This Row],[Budget total]]*(1-$F$6),\"\")","v":""},{"$f":"IFERROR(Table1[[#This Row],[Budget total]]*$F$6,\"\")","v":""},null,null,{"$f":"SUBSTITUTE(B43,\" \",\"\")&SUBSTITUTE(C43,\" \",\"\")&SUBSTITUTE(D43,\" \",\"\")&SUBSTITUTE(E43,\" \",\"\")&SUBSTITUTE(Table1[[#This Row],[Catégorie de prix moyen]],\" \",\"\")","v":""},0,{"$f":"IF(OR(B43=\"Voltage stabilizers\",B43=\"CCE temperature recorders_30 DTRs\",B43=\"RTM Device and Subscription\"),IF(Table1[[#This Row],[QTÉ A1]]>0,AB43*1,0),AB43*(Table1[[#This Row],[QTÉ A1]]))","v":0},{"$f":"IF(OR(B43=\"Voltage stabilizers\",B43=\"CCE temperature recorders_30 DTRs\",B43=\"RTM Device and Subscription\"),IF(Table1[[#This Row],[QTÉ A2]]>0,AB43*1,0),AB43*(Table1[[#This Row],[QTÉ A2]]))","v":0},{"$f":"IF(OR(B43=\"Voltage stabilizers\",B43=\"CCE temperature recorders_30 DTRs\",B43=\"RTM Device and Subscription\"),IF(Table1[[#This Row],[QTÉ A3]]>0,AB43*1,0),AB43*(Table1[[#This Row],[QTÉ A3]]))","v":0},{"$f":"IF(OR(B43=\"Voltage stabilizers\",B43=\"CCE temperature recorders_30 DTRs\",B43=\"RTM Device and Subscription\"),IF(Table1[[#This Row],[QTÉ A4]]>0,AB43*1,0),AB43*(Table1[[#This Row],[QTÉ A4]]))","v":0},{"$f":"IF(OR(B43=\"Voltage stabilizers\",B43=\"CCE temperature recorders_30 DTRs\",B43=\"RTM Device and Subscription\"),IF(Table1[[#This Row],[QTÉ A5]]>0,AB43*1,0),AB43*(Table1[[#This Row],[QTÉ A5]]))","v":0}]
[null,null,null,null,null,null,{"$f":"_xlfn.IFNA(INDEX('CCEOP Av Px_Min Floor & Cash '!$A$1:$B$300,MATCH(AA44,'CCEOP Av Px_Min Floor & Cash '!$A$1:$A$300,0),MATCH(Table1[[#Headers],[Prix unitaire moyen]],'CCEOP Av Px_Min Floor & Cash '!$A$1:$B$1,0)),\"\")","v":""},null,null,{"$f":"IFERROR(Table1[[#This Row],[Prix unitaire moyen]]+Table1[[#This Row],[Coût unitaire du groupe de services (dir. fournisseur)]]+Table1[[#This Row],[Coût unitaire du groupe de services (dir. pays)]],Table1[[#This Row],[Prix unitaire moyen]])","v":""},null,{"$f":"IFERROR(Table1[[#This Row],[Coût unitaire total]]*Table1[[#This Row],[QTÉ A1]],\"\")","v":""},null,{"$f":"IFERROR(Table1[[#This Row],[Coût unitaire total]]*Table1[[#This Row],[QTÉ A2]],\"\")","v":""},null,{"$f":"IFERROR(Table1[[#This Row],[Coût unitaire total]]*Table1[[#This Row],[QTÉ A3]],\"\")","v":""},null,{"$f":"IFERROR(Table1[[#This Row],[Coût unitaire total]]*Table1[[#This Row],[QTÉ A4]],\"\")","v":""},null,{"$f":"IFERROR(Table1[[#This Row],[Coût unitaire total]]*Table1[[#This Row],[QTÉ A5]],\"\")","v":""},{"$f":"Table1[[#This Row],[QTÉ A1]]+Table1[[#This Row],[QTÉ A2]]+Table1[[#This Row],[QTÉ A3]]+Table1[[#This Row],[QTÉ A4]]","v":0},{"$f":"IFERROR(Table1[[#This Row],[Coût total A1]]+Table1[[#This Row],[Coût total A2]]+Table1[[#This Row],[Coût total A3]]+Table1[[#This Row],[Coût total A4]]+Table1[[#This Row],[Coût total A5]],\"\")","v":""},{"$f":"IFERROR(Table1[[#This Row],[Budget total]]*(1-$F$6),\"\")","v":""},{"$f":"IFERROR(Table1[[#This Row],[Budget total]]*$F$6,\"\")","v":""},null,null,{"$f":"SUBSTITUTE(B44,\" \",\"\")&SUBSTITUTE(C44,\" \",\"\")&SUBSTITUTE(D44,\" \",\"\")&SUBSTITUTE(E44,\" \",\"\")&SUBSTITUTE(Table1[[#This Row],[Catégorie de prix moyen]],\" \",\"\")","v":""},0,{"$f":"IF(OR(B44=\"Voltage stabilizers\",B44=\"CCE temperature recorders_30 DTRs\",B44=\"RTM Device and Subscription\"),IF(Table1[[#This Row],[QTÉ A1]]>0,AB44*1,0),AB44*(Table1[[#This Row],[QTÉ A1]]))","v":0},{"$f":"IF(OR(B44=\"Voltage stabilizers\",B44=\"CCE temperature recorders_30 DTRs\",B44=\"RTM Device and Subscription\"),IF(Table1[[#This Row],[QTÉ A2]]>0,AB44*1,0),AB44*(Table1[[#This Row],[QTÉ A2]]))","v":0},{"$f":"IF(OR(B44=\"Voltage stabilizers\",B44=\"CCE temperature recorders_30 DTRs\",B44=\"RTM Device and Subscription\"),IF(Table1[[#This Row],[QTÉ A3]]>0,AB44*1,0),AB44*(Table1[[#This Row],[QTÉ A3]]))","v":0},{"$f":"IF(OR(B44=\"Voltage stabilizers\",B44=\"CCE temperature recorders_30 DTRs\",B44=\"RTM Device and Subscription\"),IF(Table1[[#This Row],[QTÉ A4]]>0,AB44*1,0),AB44*(Table1[[#This Row],[QTÉ A4]]))","v":0},{"$f":"IF(OR(B44=\"Voltage stabilizers\",B44=\"CCE temperature recorders_30 DTRs\",B44=\"RTM Device and Subscription\"),IF(Table1[[#This Row],[QTÉ A5]]>0,AB44*1,0),AB44*(Table1[[#This Row],[QTÉ A5]]))","v":0}]
[null,null,null,null,null,null,{"$f":"_xlfn.IFNA(INDEX('CCEOP Av Px_Min Floor & Cash '!$A$1:$B$300,MATCH(AA45,'CCEOP Av Px_Min Floor & Cash '!$A$1:$A$300,0),MATCH(Table1[[#Headers],[Prix unitaire moyen]],'CCEOP Av Px_Min Floor & Cash '!$A$1:$B$1,0)),\"\")","v":""},null,null,{"$f":"IFERROR(Table1[[#This Row],[Prix unitaire moyen]]+Table1[[#This Row],[Coût unitaire du groupe de services (dir. fournisseur)]]+Table1[[#This Row],[Coût unitaire du groupe de services (dir. pays)]],Table1[[#This Row],[Prix unitaire moyen]])","v":""},null,{"$f":"IFERROR(Table1[[#This Row],[Coût unitaire total]]*Table1[[#This Row],[QTÉ A1]],\"\")","v":""},null,{"$f":"IFERROR(Table1[[#This Row],[Coût unitaire total]]*Table1[[#This Row],[QTÉ A2]],\"\")","v":""},null,{"$f":"IFERROR(Table1[[#This Row],[Coût unitaire total]]*Table1[[#This Row],[QTÉ A3]],\"\")","v":""},null,{"$f":"IFERROR(Table1[[#This Row],[Coût unitaire total]]*Table1[[#This Row],[QTÉ A4]],\"\")","v":""},null,{"$f":"IFERROR(Table1[[#This Row],[Coût unitaire total]]*Table1[[#This Row],[QTÉ A5]],\"\")","v":""},{"$f":"Table1[[#This Row],[QTÉ A1]]+Table1[[#This Row],[QTÉ A2]]+Table1[[#This Row],[QTÉ A3]]+Table1[[#This Row],[QTÉ A4]]","v":0},{"$f":"IFERROR(Table1[[#This Row],[Coût total A1]]+Table1[[#This Row],[Coût total A2]]+Table1[[#This Row],[Coût total A3]]+Table1[[#This Row],[Coût total A4]]+Table1[[#This Row],[Coût total A5]],\"\")","v":""},{"$f":"IFERROR(Table1[[#This Row],[Budget total]]*(1-$F$6),\"\")","v":""},{"$f":"IFERROR(Table1[[#This Row],[Budget total]]*$F$6,\"\")","v":""},null,null,{"$f":"SUBSTITUTE(B45,\" \",\"\")&SUBSTITUTE(C45,\" \",\"\")&SUBSTITUTE(D45,\" \",\"\")&SUBSTITUTE(E45,\" \",\"\")&SUBSTITUTE(Table1[[#This Row],[Catégorie de prix moyen]],\" \",\"\")","v":""},0,{"$f":"IF(OR(B45=\"Voltage stabilizers\",B45=\"CCE temperature recorders_30 DTRs\",B45=\"RTM Device and Subscription\"),IF(Table1[[#This Row],[QTÉ A1]]>0,AB45*1,0),AB45*(Table1[[#This Row],[QTÉ A1]]))","v":0},{"$f":"IF(OR(B45=\"Voltage stabilizers\",B45=\"CCE temperature recorders_30 DTRs\",B45=\"RTM Device and Subscription\"),IF(Table1[[#This Row],[QTÉ A2]]>0,AB45*1,0),AB45*(Table1[[#This Row],[QTÉ A2]]))","v":0},{"$f":"IF(OR(B45=\"Voltage stabilizers\",B45=\"CCE temperature recorders_30 DTRs\",B45=\"RTM Device and Subscription\"),IF(Table1[[#This Row],[QTÉ A3]]>0,AB45*1,0),AB45*(Table1[[#This Row],[QTÉ A3]]))","v":0},{"$f":"IF(OR(B45=\"Voltage stabilizers\",B45=\"CCE temperature recorders_30 DTRs\",B45=\"RTM Device and Subscription\"),IF(Table1[[#This Row],[QTÉ A4]]>0,AB45*1,0),AB45*(Table1[[#This Row],[QTÉ A4]]))","v":0},{"$f":"IF(OR(B45=\"Voltage stabilizers\",B45=\"CCE temperature recorders_30 DTRs\",B45=\"RTM Device and Subscription\"),IF(Table1[[#This Row],[QTÉ A5]]>0,AB45*1,0),AB45*(Table1[[#This Row],[QTÉ A5]]))","v":0}]
[null,null,null,null,null,null,{"$f":"_xlfn.IFNA(INDEX('CCEOP Av Px_Min Floor & Cash '!$A$1:$B$300,MATCH(AA46,'CCEOP Av Px_Min Floor & Cash '!$A$1:$A$300,0),MATCH(Table1[[#Headers],[Prix unitaire moyen]],'CCEOP Av Px_Min Floor & Cash '!$A$1:$B$1,0)),\"\")","v":""},null,null,{"$f":"IFERROR(Table1[[#This Row],[Prix unitaire moyen]]+Table1[[#This Row],[Coût unitaire du groupe de services (dir. fournisseur)]]+Table1[[#This Row],[Coût unitaire du groupe de services (dir. pays)]],Table1[[#This Row],[Prix unitaire moyen]])","v":""},null,{"$f":"IFERROR(Table1[[#This Row],[Coût unitaire total]]*Table1[[#This Row],[QTÉ A1]],\"\")","v":""},null,{"$f":"IFERROR(Table1[[#This Row],[Coût unitaire total]]*Table1[[#This Row],[QTÉ A2]],\"\")","v":""},null,{"$f":"IFERROR(Table1[[#This Row],[Coût unitaire total]]*Table1[[#This Row],[QTÉ A3]],\"\")","v":""},null,{"$f":"IFERROR(Table1[[#This Row],[Coût unitaire total]]*Table1[[#This Row],[QTÉ A4]],\"\")","v":""},null,{"$f":"IFERROR(Table1[[#This Row],[Coût unitaire total]]*Table1[[#This Row],[QTÉ A5]],\"\")","v":""},{"$f":"Table1[[#This Row],[QTÉ A1]]+Table1[[#This Row],[QTÉ A2]]+Table1[[#This Row],[QTÉ A3]]+Table1[[#This Row],[QTÉ A4]]","v":0},{"$f":"IFERROR(Table1[[#This Row],[Coût total A1]]+Table1[[#This Row],[Coût total A2]]+Table1[[#This Row],[Coût total A3]]+Table1[[#This Row],[Coût total A4]]+Table1[[#This Row],[Coût total A5]],\"\")","v":""},{"$f":"IFERROR(Table1[[#This Row],[Budget total]]*(1-$F$6),\"\")","v":""},{"$f":"IFERROR(Table1[[#This Row],[Budget total]]*$F$6,\"\")","v":""},null,null,{"$f":"SUBSTITUTE(B46,\" \",\"\")&SUBSTITUTE(C46,\" \",\"\")&SUBSTITUTE(D46,\" \",\"\")&SUBSTITUTE(E46,\" \",\"\")&SUBSTITUTE(Table1[[#This Row],[Catégorie de prix moyen]],\" \",\"\")","v":""},0,{"$f":"IF(OR(B46=\"Voltage stabilizers\",B46=\"CCE temperature recorders_30 DTRs\",B46=\"RTM Device and Subscription\"),IF(Table1[[#This Row],[QTÉ A1]]>0,AB46*1,0),AB46*(Table1[[#This Row],[QTÉ A1]]))","v":0},{"$f":"IF(OR(B46=\"Voltage stabilizers\",B46=\"CCE temperature recorders_30 DTRs\",B46=\"RTM Device and Subscription\"),IF(Table1[[#This Row],[QTÉ A2]]>0,AB46*1,0),AB46*(Table1[[#This Row],[QTÉ A2]]))","v":0},{"$f":"IF(OR(B46=\"Voltage stabilizers\",B46=\"CCE temperature recorders_30 DTRs\",B46=\"RTM Device and Subscription\"),IF(Table1[[#This Row],[QTÉ A3]]>0,AB46*1,0),AB46*(Table1[[#This Row],[QTÉ A3]]))","v":0},{"$f":"IF(OR(B46=\"Voltage stabilizers\",B46=\"CCE temperature recorders_30 DTRs\",B46=\"RTM Device and Subscription\"),IF(Table1[[#This Row],[QTÉ A4]]>0,AB46*1,0),AB46*(Table1[[#This Row],[QTÉ A4]]))","v":0},{"$f":"IF(OR(B46=\"Voltage stabilizers\",B46=\"CCE temperature recorders_30 DTRs\",B46=\"RTM Device and Subscription\"),IF(Table1[[#This Row],[QTÉ A5]]>0,AB46*1,0),AB46*(Table1[[#This Row],[QTÉ A5]]))","v":0}]
[null,null,null,null,null,null,{"$f":"_xlfn.IFNA(INDEX('CCEOP Av Px_Min Floor & Cash '!$A$1:$B$300,MATCH(AA47,'CCEOP Av Px_Min Floor & Cash '!$A$1:$A$300,0),MATCH(Table1[[#Headers],[Prix unitaire moyen]],'CCEOP Av Px_Min Floor & Cash '!$A$1:$B$1,0)),\"\")","v":""},null,null,{"$f":"IFERROR(Table1[[#This Row],[Prix unitaire moyen]]+Table1[[#This Row],[Coût unitaire du groupe de services (dir. fournisseur)]]+Table1[[#This Row],[Coût unitaire du groupe de services (dir. pays)]],Table1[[#This Row],[Prix unitaire moyen]])","v":""},null,{"$f":"IFERROR(Table1[[#This Row],[Coût unitaire total]]*Table1[[#This Row],[QTÉ A1]],\"\")","v":""},null,{"$f":"IFERROR(Table1[[#This Row],[Coût unitaire total]]*Table1[[#This Row],[QTÉ A2]],\"\")","v":""},null,{"$f":"IFERROR(Table1[[#This Row],[Coût unitaire total]]*Table1[[#This Row],[QTÉ A3]],\"\")","v":""},null,{"$f":"IFERROR(Table1[[#This Row],[Coût unitaire total]]*Table1[[#This Row],[QTÉ A4]],\"\")","v":""},null,{"$f":"IFERROR(Table1[[#This Row],[Coût unitaire total]]*Table1[[#This Row],[QTÉ A5]],\"\")","v":""},{"$f":"Table1[[#This Row],[QTÉ A1]]+Table1[[#This Row],[QTÉ A2]]+Table1[[#This Row],[QTÉ A3]]+Table1[[#This Row],[QTÉ A4]]","v":0},{"$f":"IFERROR(Table1[[#This Row],[Coût total A1]]+Table1[[#This Row],[Coût total A2]]+Table1[[#This Row],[Coût total A3]]+Table1[[#This Row],[Coût total A4]]+Table1[[#This Row],[Coût total A5]],\"\")","v":""},{"$f":"IFERROR(Table1[[#This Row],[Budget total]]*(1-$F$6),\"\")","v":""},{"$f":"IFERROR(Table1[[#This Row],[Budget total]]*$F$6,\"\")","v":""},null,null,{"$f":"SUBSTITUTE(B47,\" \",\"\")&SUBSTITUTE(C47,\" \",\"\")&SUBSTITUTE(D47,\" \",\"\")&SUBSTITUTE(E47,\" \",\"\")&SUBSTITUTE(Table1[[#This Row],[Catégorie de prix moyen]],\" \",\"\")","v":""},0,{"$f":"IF(OR(B47=\"Voltage stabilizers\",B47=\"CCE temperature recorders_30 DTRs\",B47=\"RTM Device and Subscription\"),IF(Table1[[#This Row],[QTÉ A1]]>0,AB47*1,0),AB47*(Table1[[#This Row],[QTÉ A1]]))","v":0},{"$f":"IF(OR(B47=\"Voltage stabilizers\",B47=\"CCE temperature recorders_30 DTRs\",B47=\"RTM Device and Subscription\"),IF(Table1[[#This Row],[QTÉ A2]]>0,AB47*1,0),AB47*(Table1[[#This Row],[QTÉ A2]]))","v":0},{"$f":"IF(OR(B47=\"Voltage stabilizers\",B47=\"CCE temperature recorders_30 DTRs\",B47=\"RTM Device and Subscription\"),IF(Table1[[#This Row],[QTÉ A3]]>0,AB47*1,0),AB47*(Table1[[#This Row],[QTÉ A3]]))","v":0},{"$f":"IF(OR(B47=\"Voltage stabilizers\",B47=\"CCE temperature recorders_30 DTRs\",B47=\"RTM Device and Subscription\"),IF(Table1[[#This Row],[QTÉ A4]]>0,AB47*1,0),AB47*(Table1[[#This Row],[QTÉ A4]]))","v":0},{"$f":"IF(OR(B47=\"Voltage stabilizers\",B47=\"CCE temperature recorders_30 DTRs\",B47=\"RTM Device and Subscription\"),IF(Table1[[#This Row],[QTÉ A5]]>0,AB47*1,0),AB47*(Table1[[#This Row],[QTÉ A5]]))","v":0}]
[null,null,null,null,null,null,{"$f":"_xlfn.IFNA(INDEX('CCEOP Av Px_Min Floor & Cash '!$A$1:$B$300,MATCH(AA48,'CCEOP Av Px_Min Floor & Cash '!$A$1:$A$300,0),MATCH(Table1[[#Headers],[Prix unitaire moyen]],'CCEOP Av Px_Min Floor & Cash '!$A$1:$B$1,0)),\"\")","v":""},null,null,{"$f":"IFERROR(Table1[[#This Row],[Prix unitaire moyen]]+Table1[[#This Row],[Coût unitaire du groupe de services (dir. fournisseur)]]+Table1[[#This Row],[Coût unitaire du groupe de services (dir. pays)]],Table1[[#This Row],[Prix unitaire moyen]])","v":""},null,{"$f":"IFERROR(Table1[[#This Row],[Coût unitaire total]]*Table1[[#This Row],[QTÉ A1]],\"\")","v":""},null,{"$f":"IFERROR(Table1[[#This Row],[Coût unitaire total]]*Table1[[#This Row],[QTÉ A2]],\"\")","v":""},null,{"$f":"IFERROR(Table1[[#This Row],[Coût unitaire total]]*Table1[[#This Row],[QTÉ A3]],\"\")","v":""},null,{"$f":"IFERROR(Table1[[#This Row],[Coût unitaire total]]*Table1[[#This Row],[QTÉ A4]],\"\")","v":""},null,{"$f":"IFERROR(Table1[[#This Row],[Coût unitaire total]]*Table1[[#This Row],[QTÉ A5]],\"\")","v":""},{"$f":"Table1[[#This Row],[QTÉ A1]]+Table1[[#This Row],[QTÉ A2]]+Table1[[#This Row],[QTÉ A3]]+Table1[[#This Row],[QTÉ A4]]","v":0},{"$f":"IFERROR(Table1[[#This Row],[Coût total A1]]+Table1[[#This Row],[Coût total A2]]+Table1[[#This Row],[Coût total A3]]+Table1[[#This Row],[Coût total A4]]+Table1[[#This Row],[Coût total A5]],\"\")","v":""},{"$f":"IFERROR(Table1[[#This Row],[Budget total]]*(1-$F$6),\"\")","v":""},{"$f":"IFERROR(Table1[[#This Row],[Budget total]]*$F$6,\"\")","v":""},null,null,{"$f":"SUBSTITUTE(B48,\" \",\"\")&SUBSTITUTE(C48,\" \",\"\")&SUBSTITUTE(D48,\" \",\"\")&SUBSTITUTE(E48,\" \",\"\")&SUBSTITUTE(Table1[[#This Row],[Catégorie de prix moyen]],\" \",\"\")","v":""},0,{"$f":"IF(OR(B48=\"Voltage stabilizers\",B48=\"CCE temperature recorders_30 DTRs\",B48=\"RTM Device and Subscription\"),IF(Table1[[#This Row],[QTÉ A1]]>0,AB48*1,0),AB48*(Table1[[#This Row],[QTÉ A1]]))","v":0},{"$f":"IF(OR(B48=\"Voltage stabilizers\",B48=\"CCE temperature recorders_30 DTRs\",B48=\"RTM Device and Subscription\"),IF(Table1[[#This Row],[QTÉ A2]]>0,AB48*1,0),AB48*(Table1[[#This Row],[QTÉ A2]]))","v":0},{"$f":"IF(OR(B48=\"Voltage stabilizers\",B48=\"CCE temperature recorders_30 DTRs\",B48=\"RTM Device and Subscription\"),IF(Table1[[#This Row],[QTÉ A3]]>0,AB48*1,0),AB48*(Table1[[#This Row],[QTÉ A3]]))","v":0},{"$f":"IF(OR(B48=\"Voltage stabilizers\",B48=\"CCE temperature recorders_30 DTRs\",B48=\"RTM Device and Subscription\"),IF(Table1[[#This Row],[QTÉ A4]]>0,AB48*1,0),AB48*(Table1[[#This Row],[QTÉ A4]]))","v":0},{"$f":"IF(OR(B48=\"Voltage stabilizers\",B48=\"CCE temperature recorders_30 DTRs\",B48=\"RTM Device and Subscription\"),IF(Table1[[#This Row],[QTÉ A5]]>0,AB48*1,0),AB48*(Table1[[#This Row],[QTÉ A5]]))","v":0}]
[null,null,null,null,null,null,{"$f":"_xlfn.IFNA(INDEX('CCEOP Av Px_Min Floor & Cash '!$A$1:$B$300,MATCH(AA49,'CCEOP Av Px_Min Floor & Cash '!$A$1:$A$300,0),MATCH(Table1[[#Headers],[Prix unitaire moyen]],'CCEOP Av Px_Min Floor & Cash '!$A$1:$B$1,0)),\"\")","v":""},null,null,{"$f":"IFERROR(Table1[[#This Row],[Prix unitaire moyen]]+Table1[[#This Row],[Coût unitaire du groupe de services (dir. fournisseur)]]+Table1[[#This Row],[Coût unitaire du groupe de services (dir. pays)]],Table1[[#This Row],[Prix unitaire moyen]])","v":""},null,{"$f":"IFERROR(Table1[[#This Row],[Coût unitaire total]]*Table1[[#This Row],[QTÉ A1]],\"\")","v":""},null,{"$f":"IFERROR(Table1[[#This Row],[Coût unitaire total]]*Table1[[#This Row],[QTÉ A2]],\"\")","v":""},null,{"$f":"IFERROR(Table1[[#This Row],[Coût unitaire total]]*Table1[[#This Row],[QTÉ A3]],\"\")","v":""},null,{"$f":"IFERROR(Table1[[#This Row],[Coût unitaire total]]*Table1[[#This Row],[QTÉ A4]],\"\")","v":""},null,{"$f":"IFERROR(Table1[[#This Row],[Coût unitaire total]]*Table1[[#This Row],[QTÉ A5]],\"\")","v":""},{"$f":"Table1[[#This Row],[QTÉ A1]]+Table1[[#This Row],[QTÉ A2]]+Table1[[#This Row],[QTÉ A3]]+Table1[[#This Row],[QTÉ A4]]","v":0},{"$f":"IFERROR(Table1[[#This Row],[Coût total A1]]+Table1[[#This Row],[Coût total A2]]+Table1[[#This Row],[Coût total A3]]+Table1[[#This Row],[Coût total A4]]+Table1[[#This Row],[Coût total A5]],\"\")","v":""},{"$f":"IFERROR(Table1[[#This Row],[Budget total]]*(1-$F$6),\"\")","v":""},{"$f":"IFERROR(Table1[[#This Row],[Budget total]]*$F$6,\"\")","v":""},null,null,{"$f":"SUBSTITUTE(B49,\" \",\"\")&SUBSTITUTE(C49,\" \",\"\")&SUBSTITUTE(D49,\" \",\"\")&SUBSTITUTE(E49,\" \",\"\")&SUBSTITUTE(Table1[[#This Row],[Catégorie de prix moyen]],\" \",\"\")","v":""},0,{"$f":"IF(OR(B49=\"Voltage stabilizers\",B49=\"CCE temperature recorders_30 DTRs\",B49=\"RTM Device and Subscription\"),IF(Table1[[#This Row],[QTÉ A1]]>0,AB49*1,0),AB49*(Table1[[#This Row],[QTÉ A1]]))","v":0},{"$f":"IF(OR(B49=\"Voltage stabilizers\",B49=\"CCE temperature recorders_30 DTRs\",B49=\"RTM Device and Subscription\"),IF(Table1[[#This Row],[QTÉ A2]]>0,AB49*1,0),AB49*(Table1[[#This Row],[QTÉ A2]]))","v":0},{"$f":"IF(OR(B49=\"Voltage stabilizers\",B49=\"CCE temperature recorders_30 DTRs\",B49=\"RTM Device and Subscription\"),IF(Table1[[#This Row],[QTÉ A3]]>0,AB49*1,0),AB49*(Table1[[#This Row],[QTÉ A3]]))","v":0},{"$f":"IF(OR(B49=\"Voltage stabilizers\",B49=\"CCE temperature recorders_30 DTRs\",B49=\"RTM Device and Subscription\"),IF(Table1[[#This Row],[QTÉ A4]]>0,AB49*1,0),AB49*(Table1[[#This Row],[QTÉ A4]]))","v":0},{"$f":"IF(OR(B49=\"Voltage stabilizers\",B49=\"CCE temperature recorders_30 DTRs\",B49=\"RTM Device and Subscription\"),IF(Table1[[#This Row],[QTÉ A5]]>0,AB49*1,0),AB49*(Table1[[#This Row],[QTÉ A5]]))","v":0}]
[null,null,null,null,null,null,{"$f":"_xlfn.IFNA(INDEX('CCEOP Av Px_Min Floor & Cash '!$A$1:$B$300,MATCH(AA50,'CCEOP Av Px_Min Floor & Cash '!$A$1:$A$300,0),MATCH(Table1[[#Headers],[Prix unitaire moyen]],'CCEOP Av Px_Min Floor & Cash '!$A$1:$B$1,0)),\"\")","v":""},null,null,{"$f":"IFERROR(Table1[[#This Row],[Prix unitaire moyen]]+Table1[[#This Row],[Coût unitaire du groupe de services (dir. fournisseur)]]+Table1[[#This Row],[Coût unitaire du groupe de services (dir. pays)]],Table1[[#This Row],[Prix unitaire moyen]])","v":""},null,{"$f":"IFERROR(Table1[[#This Row],[Coût unitaire total]]*Table1[[#This Row],[QTÉ A1]],\"\")","v":""},null,{"$f":"IFERROR(Table1[[#This Row],[Coût unitaire total]]*Table1[[#This Row],[QTÉ A2]],\"\")","v":""},null,{"$f":"IFERROR(Table1[[#This Row],[Coût unitaire total]]*Table1[[#This Row],[QTÉ A3]],\"\")","v":""},null,{"$f":"IFERROR(Table1[[#This Row],[Coût unitaire total]]*Table1[[#This Row],[QTÉ A4]],\"\")","v":""},null,{"$f":"IFERROR(Table1[[#This Row],[Coût unitaire total]]*Table1[[#This Row],[QTÉ A5]],\"\")","v":""},{"$f":"Table1[[#This Row],[QTÉ A1]]+Table1[[#This Row],[QTÉ A2]]+Table1[[#This Row],[QTÉ A3]]+Table1[[#This Row],[QTÉ A4]]","v":0},{"$f":"IFERROR(Table1[[#This Row],[Coût total A1]]+Table1[[#This Row],[Coût total A2]]+Table1[[#This Row],[Coût total A3]]+Table1[[#This Row],[Coût total A4]]+Table1[[#This Row],[Coût total A5]],\"\")","v":""},{"$f":"IFERROR(Table1[[#This Row],[Budget total]]*(1-$F$6),\"\")","v":""},{"$f":"IFERROR(Table1[[#This Row],[Budget total]]*$F$6,\"\")","v":""},null,null,{"$f":"SUBSTITUTE(B50,\" \",\"\")&SUBSTITUTE(C50,\" \",\"\")&SUBSTITUTE(D50,\" \",\"\")&SUBSTITUTE(E50,\" \",\"\")&SUBSTITUTE(Table1[[#This Row],[Catégorie de prix moyen]],\" \",\"\")","v":""},0,{"$f":"IF(OR(B50=\"Voltage stabilizers\",B50=\"CCE temperature recorders_30 DTRs\",B50=\"RTM Device and Subscription\"),IF(Table1[[#This Row],[QTÉ A1]]>0,AB50*1,0),AB50*(Table1[[#This Row],[QTÉ A1]]))","v":0},{"$f":"IF(OR(B50=\"Voltage stabilizers\",B50=\"CCE temperature recorders_30 DTRs\",B50=\"RTM Device and Subscription\"),IF(Table1[[#This Row],[QTÉ A2]]>0,AB50*1,0),AB50*(Table1[[#This Row],[QTÉ A2]]))","v":0},{"$f":"IF(OR(B50=\"Voltage stabilizers\",B50=\"CCE temperature recorders_30 DTRs\",B50=\"RTM Device and Subscription\"),IF(Table1[[#This Row],[QTÉ A3]]>0,AB50*1,0),AB50*(Table1[[#This Row],[QTÉ A3]]))","v":0},{"$f":"IF(OR(B50=\"Voltage stabilizers\",B50=\"CCE temperature recorders_30 DTRs\",B50=\"RTM Device and Subscription\"),IF(Table1[[#This Row],[QTÉ A4]]>0,AB50*1,0),AB50*(Table1[[#This Row],[QTÉ A4]]))","v":0},{"$f":"IF(OR(B50=\"Voltage stabilizers\",B50=\"CCE temperature recorders_30 DTRs\",B50=\"RTM Device and Subscription\"),IF(Table1[[#This Row],[QTÉ A5]]>0,AB50*1,0),AB50*(Table1[[#This Row],[QTÉ A5]]))","v":0}]
[null,null,null,null,null,null,{"$f":"_xlfn.IFNA(INDEX('CCEOP Av Px_Min Floor & Cash '!$A$1:$B$300,MATCH(AA51,'CCEOP Av Px_Min Floor & Cash '!$A$1:$A$300,0),MATCH(Table1[[#Headers],[Prix unitaire moyen]],'CCEOP Av Px_Min Floor & Cash '!$A$1:$B$1,0)),\"\")","v":""},null,null,{"$f":"IFERROR(Table1[[#This Row],[Prix unitaire moyen]]+Table1[[#This Row],[Coût unitaire du groupe de services (dir. fournisseur)]]+Table1[[#This Row],[Coût unitaire du groupe de services (dir. pays)]],Table1[[#This Row],[Prix unitaire moyen]])","v":""},null,{"$f":"IFERROR(Table1[[#This Row],[Coût unitaire total]]*Table1[[#This Row],[QTÉ A1]],\"\")","v":""},null,{"$f":"IFERROR(Table1[[#This Row],[Coût unitaire total]]*Table1[[#This Row],[QTÉ A2]],\"\")","v":""},null,{"$f":"IFERROR(Table1[[#This Row],[Coût unitaire total]]*Table1[[#This Row],[QTÉ A3]],\"\")","v":""},null,{"$f":"IFERROR(Table1[[#This Row],[Coût unitaire total]]*Table1[[#This Row],[QTÉ A4]],\"\")","v":""},null,{"$f":"IFERROR(Table1[[#This Row],[Coût unitaire total]]*Table1[[#This Row],[QTÉ A5]],\"\")","v":""},{"$f":"Table1[[#This Row],[QTÉ A1]]+Table1[[#This Row],[QTÉ A2]]+Table1[[#This Row],[QTÉ A3]]+Table1[[#This Row],[QTÉ A4]]","v":0},{"$f":"IFERROR(Table1[[#This Row],[Coût total A1]]+Table1[[#This Row],[Coût total A2]]+Table1[[#This Row],[Coût total A3]]+Table1[[#This Row],[Coût total A4]]+Table1[[#This Row],[Coût total A5]],\"\")","v":""},{"$f":"IFERROR(Table1[[#This Row],[Budget total]]*(1-$F$6),\"\")","v":""},{"$f":"IFERROR(Table1[[#This Row],[Budget total]]*$F$6,\"\")","v":""},null,null,{"$f":"SUBSTITUTE(B51,\" \",\"\")&SUBSTITUTE(C51,\" \",\"\")&SUBSTITUTE(D51,\" \",\"\")&SUBSTITUTE(E51,\" \",\"\")&SUBSTITUTE(Table1[[#This Row],[Catégorie de prix moyen]],\" \",\"\")","v":""},0,{"$f":"IF(OR(B51=\"Voltage stabilizers\",B51=\"CCE temperature recorders_30 DTRs\",B51=\"RTM Device and Subscription\"),IF(Table1[[#This Row],[QTÉ A1]]>0,AB51*1,0),AB51*(Table1[[#This Row],[QTÉ A1]]))","v":0},{"$f":"IF(OR(B51=\"Voltage stabilizers\",B51=\"CCE temperature recorders_30 DTRs\",B51=\"RTM Device and Subscription\"),IF(Table1[[#This Row],[QTÉ A2]]>0,AB51*1,0),AB51*(Table1[[#This Row],[QTÉ A2]]))","v":0},{"$f":"IF(OR(B51=\"Voltage stabilizers\",B51=\"CCE temperature recorders_30 DTRs\",B51=\"RTM Device and Subscription\"),IF(Table1[[#This Row],[QTÉ A3]]>0,AB51*1,0),AB51*(Table1[[#This Row],[QTÉ A3]]))","v":0},{"$f":"IF(OR(B51=\"Voltage stabilizers\",B51=\"CCE temperature recorders_30 DTRs\",B51=\"RTM Device and Subscription\"),IF(Table1[[#This Row],[QTÉ A4]]>0,AB51*1,0),AB51*(Table1[[#This Row],[QTÉ A4]]))","v":0},{"$f":"IF(OR(B51=\"Voltage stabilizers\",B51=\"CCE temperature recorders_30 DTRs\",B51=\"RTM Device and Subscription\"),IF(Table1[[#This Row],[QTÉ A5]]>0,AB51*1,0),AB51*(Table1[[#This Row],[QTÉ A5]]))","v":0}]
[null,null,null,null,null,null,{"$f":"_xlfn.IFNA(INDEX('CCEOP Av Px_Min Floor & Cash '!$A$1:$B$300,MATCH(AA52,'CCEOP Av Px_Min Floor & Cash '!$A$1:$A$300,0),MATCH(Table1[[#Headers],[Prix unitaire moyen]],'CCEOP Av Px_Min Floor & Cash '!$A$1:$B$1,0)),\"\")","v":""},null,null,{"$f":"IFERROR(Table1[[#This Row],[Prix unitaire moyen]]+Table1[[#This Row],[Coût unitaire du groupe de services (dir. fournisseur)]]+Table1[[#This Row],[Coût unitaire du groupe de services (dir. pays)]],Table1[[#This Row],[Prix unitaire moyen]])","v":""},null,{"$f":"IFERROR(Table1[[#This Row],[Coût unitaire total]]*Table1[[#This Row],[QTÉ A1]],\"\")","v":""},null,{"$f":"IFERROR(Table1[[#This Row],[Coût unitaire total]]*Table1[[#This Row],[QTÉ A2]],\"\")","v":""},null,{"$f":"IFERROR(Table1[[#This Row],[Coût unitaire total]]*Table1[[#This Row],[QTÉ A3]],\"\")","v":""},null,{"$f":"IFERROR(Table1[[#This Row],[Coût unitaire total]]*Table1[[#This Row],[QTÉ A4]],\"\")","v":""},null,{"$f":"IFERROR(Table1[[#This Row],[Coût unitaire total]]*Table1[[#This Row],[QTÉ A5]],\"\")","v":""},{"$f":"Table1[[#This Row],[QTÉ A1]]+Table1[[#This Row],[QTÉ A2]]+Table1[[#This Row],[QTÉ A3]]+Table1[[#This Row],[QTÉ A4]]","v":0},{"$f":"IFERROR(Table1[[#This Row],[Coût total A1]]+Table1[[#This Row],[Coût total A2]]+Table1[[#This Row],[Coût total A3]]+Table1[[#This Row],[Coût total A4]]+Table1[[#This Row],[Coût total A5]],\"\")","v":""},{"$f":"IFERROR(Table1[[#This Row],[Budget total]]*(1-$F$6),\"\")","v":""},{"$f":"IFERROR(Table1[[#This Row],[Budget total]]*$F$6,\"\")","v":""},null,null,{"$f":"SUBSTITUTE(B52,\" \",\"\")&SUBSTITUTE(C52,\" \",\"\")&SUBSTITUTE(D52,\" \",\"\")&SUBSTITUTE(E52,\" \",\"\")&SUBSTITUTE(Table1[[#This Row],[Catégorie de prix moyen]],\" \",\"\")","v":""},0,{"$f":"IF(OR(B52=\"Voltage stabilizers\",B52=\"CCE temperature recorders_30 DTRs\",B52=\"RTM Device and Subscription\"),IF(Table1[[#This Row],[QTÉ A1]]>0,AB52*1,0),AB52*(Table1[[#This Row],[QTÉ A1]]))","v":0},{"$f":"IF(OR(B52=\"Voltage stabilizers\",B52=\"CCE temperature recorders_30 DTRs\",B52=\"RTM Device and Subscription\"),IF(Table1[[#This Row],[QTÉ A2]]>0,AB52*1,0),AB52*(Table1[[#This Row],[QTÉ A2]]))","v":0},{"$f":"IF(OR(B52=\"Voltage stabilizers\",B52=\"CCE temperature recorders_30 DTRs\",B52=\"RTM Device and Subscription\"),IF(Table1[[#This Row],[QTÉ A3]]>0,AB52*1,0),AB52*(Table1[[#This Row],[QTÉ A3]]))","v":0},{"$f":"IF(OR(B52=\"Voltage stabilizers\",B52=\"CCE temperature recorders_30 DTRs\",B52=\"RTM Device and Subscription\"),IF(Table1[[#This Row],[QTÉ A4]]>0,AB52*1,0),AB52*(Table1[[#This Row],[QTÉ A4]]))","v":0},{"$f":"IF(OR(B52=\"Voltage stabilizers\",B52=\"CCE temperature recorders_30 DTRs\",B52=\"RTM Device and Subscription\"),IF(Table1[[#This Row],[QTÉ A5]]>0,AB52*1,0),AB52*(Table1[[#This Row],[QTÉ A5]]))","v":0}]
[null,null,null,null,null,null,{"$f":"_xlfn.IFNA(INDEX('CCEOP Av Px_Min Floor & Cash '!$A$1:$B$300,MATCH(AA53,'CCEOP Av Px_Min Floor & Cash '!$A$1:$A$300,0),MATCH(Table1[[#Headers],[Prix unitaire moyen]],'CCEOP Av Px_Min Floor & Cash '!$A$1:$B$1,0)),\"\")","v":""},null,null,{"$f":"IFERROR(Table1[[#This Row],[Prix unitaire moyen]]+Table1[[#This Row],[Coût unitaire du groupe de services (dir. fournisseur)]]+Table1[[#This Row],[Coût unitaire du groupe de services (dir. pays)]],Table1[[#This Row],[Prix unitaire moyen]])","v":""},null,{"$f":"IFERROR(Table1[[#This Row],[Coût unitaire total]]*Table1[[#This Row],[QTÉ A1]],\"\")","v":""},null,{"$f":"IFERROR(Table1[[#This Row],[Coût unitaire total]]*Table1[[#This Row],[QTÉ A2]],\"\")","v":""},null,{"$f":"IFERROR(Table1[[#This Row],[Coût unitaire total]]*Table1[[#This Row],[QTÉ A3]],\"\")","v":""},null,{"$f":"IFERROR(Table1[[#This Row],[Coût unitaire total]]*Table1[[#This Row],[QTÉ A4]],\"\")","v":""},null,{"$f":"IFERROR(Table1[[#This Row],[Coût unitaire total]]*Table1[[#This Row],[QTÉ A5]],\"\")","v":""},{"$f":"Table1[[#This Row],[QTÉ A1]]+Table1[[#This Row],[QTÉ A2]]+Table1[[#This Row],[QTÉ A3]]+Table1[[#This Row],[QTÉ A4]]","v":0},{"$f":"IFERROR(Table1[[#This Row],[Coût total A1]]+Table1[[#This Row],[Coût total A2]]+Table1[[#This Row],[Coût total A3]]+Table1[[#This Row],[Coût total A4]]+Table1[[#This Row],[Coût total A5]],\"\")","v":""},{"$f":"IFERROR(Table1[[#This Row],[Budget total]]*(1-$F$6),\"\")","v":""},{"$f":"IFERROR(Table1[[#This Row],[Budget total]]*$F$6,\"\")","v":""},null,null,{"$f":"SUBSTITUTE(B53,\" \",\"\")&SUBSTITUTE(C53,\" \",\"\")&SUBSTITUTE(D53,\" \",\"\")&SUBSTITUTE(E53,\" \",\"\")&SUBSTITUTE(Table1[[#This Row],[Catégorie de prix moyen]],\" \",\"\")","v":""},0,{"$f":"IF(OR(B53=\"Voltage stabilizers\",B53=\"CCE temperature recorders_30 DTRs\",B53=\"RTM Device and Subscription\"),IF(Table1[[#This Row],[QTÉ A1]]>0,AB53*1,0),AB53*(Table1[[#This Row],[QTÉ A1]]))","v":0},{"$f":"IF(OR(B53=\"Voltage stabilizers\",B53=\"CCE temperature recorders_30 DTRs\",B53=\"RTM Device and Subscription\"),IF(Table1[[#This Row],[QTÉ A2]]>0,AB53*1,0),AB53*(Table1[[#This Row],[QTÉ A2]]))","v":0},{"$f":"IF(OR(B53=\"Voltage stabilizers\",B53=\"CCE temperature recorders_30 DTRs\",B53=\"RTM Device and Subscription\"),IF(Table1[[#This Row],[QTÉ A3]]>0,AB53*1,0),AB53*(Table1[[#This Row],[QTÉ A3]]))","v":0},{"$f":"IF(OR(B53=\"Voltage stabilizers\",B53=\"CCE temperature recorders_30 DTRs\",B53=\"RTM Device and Subscription\"),IF(Table1[[#This Row],[QTÉ A4]]>0,AB53*1,0),AB53*(Table1[[#This Row],[QTÉ A4]]))","v":0},{"$f":"IF(OR(B53=\"Voltage stabilizers\",B53=\"CCE temperature recorders_30 DTRs\",B53=\"RTM Device and Subscription\"),IF(Table1[[#This Row],[QTÉ A5]]>0,AB53*1,0),AB53*(Table1[[#This Row],[QTÉ A5]]))","v":0}]
[null,null,null,null,null,null,{"$f":"_xlfn.IFNA(INDEX('CCEOP Av Px_Min Floor & Cash '!$A$1:$B$300,MATCH(AA54,'CCEOP Av Px_Min Floor & Cash '!$A$1:$A$300,0),MATCH(Table1[[#Headers],[Prix unitaire moyen]],'CCEOP Av Px_Min Floor & Cash '!$A$1:$B$1,0)),\"\")","v":""},null,null,{"$f":"IFERROR(Table1[[#This Row],[Prix unitaire moyen]]+Table1[[#This Row],[Coût unitaire du groupe de services (dir. fournisseur)]]+Table1[[#This Row],[Coût unitaire du groupe de services (dir. pays)]],Table1[[#This Row],[Prix unitaire moyen]])","v":""},null,{"$f":"IFERROR(Table1[[#This Row],[Coût unitaire total]]*Table1[[#This Row],[QTÉ A1]],\"\")","v":""},null,{"$f":"IFERROR(Table1[[#This Row],[Coût unitaire total]]*Table1[[#This Row],[QTÉ A2]],\"\")","v":""},null,{"$f":"IFERROR(Table1[[#This Row],[Coût unitaire total]]*Table1[[#This Row],[QTÉ A3]],\"\")","v":""},null,{"$f":"IFERROR(Table1[[#This Row],[Coût unitaire total]]*Table1[[#This Row],[QTÉ A4]],\"\")","v":""},null,{"$f":"IFERROR(Table1[[#This Row],[Coût unitaire total]]*Table1[[#This Row],[QTÉ A5]],\"\")","v":""},{"$f":"Table1[[#This Row],[QTÉ A1]]+Table1[[#This Row],[QTÉ A2]]+Table1[[#This Row],[QTÉ A3]]+Table1[[#This Row],[QTÉ A4]]","v":0},{"$f":"IFERROR(Table1[[#This Row],[Coût total A1]]+Table1[[#This Row],[Coût total A2]]+Table1[[#This Row],[Coût total A3]]+Table1[[#This Row],[Coût total A4]]+Table1[[#This Row],[Coût total A5]],\"\")","v":""},{"$f":"IFERROR(Table1[[#This Row],[Budget total]]*(1-$F$6),\"\")","v":""},{"$f":"IFERROR(Table1[[#This Row],[Budget total]]*$F$6,\"\")","v":""},null,null,{"$f":"SUBSTITUTE(B54,\" \",\"\")&SUBSTITUTE(C54,\" \",\"\")&SUBSTITUTE(D54,\" \",\"\")&SUBSTITUTE(E54,\" \",\"\")&SUBSTITUTE(Table1[[#This Row],[Catégorie de prix moyen]],\" \",\"\")","v":""},0,{"$f":"IF(OR(B54=\"Voltage stabilizers\",B54=\"CCE temperature recorders_30 DTRs\",B54=\"RTM Device and Subscription\"),IF(Table1[[#This Row],[QTÉ A1]]>0,AB54*1,0),AB54*(Table1[[#This Row],[QTÉ A1]]))","v":0},{"$f":"IF(OR(B54=\"Voltage stabilizers\",B54=\"CCE temperature recorders_30 DTRs\",B54=\"RTM Device and Subscription\"),IF(Table1[[#This Row],[QTÉ A2]]>0,AB54*1,0),AB54*(Table1[[#This Row],[QTÉ A2]]))","v":0},{"$f":"IF(OR(B54=\"Voltage stabilizers\",B54=\"CCE temperature recorders_30 DTRs\",B54=\"RTM Device and Subscription\"),IF(Table1[[#This Row],[QTÉ A3]]>0,AB54*1,0),AB54*(Table1[[#This Row],[QTÉ A3]]))","v":0},{"$f":"IF(OR(B54=\"Voltage stabilizers\",B54=\"CCE temperature recorders_30 DTRs\",B54=\"RTM Device and Subscription\"),IF(Table1[[#This Row],[QTÉ A4]]>0,AB54*1,0),AB54*(Table1[[#This Row],[QTÉ A4]]))","v":0},{"$f":"IF(OR(B54=\"Voltage stabilizers\",B54=\"CCE temperature recorders_30 DTRs\",B54=\"RTM Device and Subscription\"),IF(Table1[[#This Row],[QTÉ A5]]>0,AB54*1,0),AB54*(Table1[[#This Row],[QTÉ A5]]))","v":0}]
[null,null,null,null,null,null,{"$f":"_xlfn.IFNA(INDEX('CCEOP Av Px_Min Floor & Cash '!$A$1:$B$300,MATCH(AA55,'CCEOP Av Px_Min Floor & Cash '!$A$1:$A$300,0),MATCH(Table1[[#Headers],[Prix unitaire moyen]],'CCEOP Av Px_Min Floor & Cash '!$A$1:$B$1,0)),\"\")","v":""},null,null,{"$f":"IFERROR(Table1[[#This Row],[Prix unitaire moyen]]+Table1[[#This Row],[Coût unitaire du groupe de services (dir. fournisseur)]]+Table1[[#This Row],[Coût unitaire du groupe de services (dir. pays)]],Table1[[#This Row],[Prix unitaire moyen]])","v":""},null,{"$f":"IFERROR(Table1[[#This Row],[Coût unitaire total]]*Table1[[#This Row],[QTÉ A1]],\"\")","v":""},null,{"$f":"IFERROR(Table1[[#This Row],[Coût unitaire total]]*Table1[[#This Row],[QTÉ A2]],\"\")","v":""},null,{"$f":"IFERROR(Table1[[#This Row],[Coût unitaire total]]*Table1[[#This Row],[QTÉ A3]],\"\")","v":""},null,{"$f":"IFERROR(Table1[[#This Row],[Coût unitaire total]]*Table1[[#This Row],[QTÉ A4]],\"\")","v":""},null,{"$f":"IFERROR(Table1[[#This Row],[Coût unitaire total]]*Table1[[#This Row],[QTÉ A5]],\"\")","v":""},{"$f":"Table1[[#This Row],[QTÉ A1]]+Table1[[#This Row],[QTÉ A2]]+Table1[[#This Row],[QTÉ A3]]+Table1[[#This Row],[QTÉ A4]]","v":0},{"$f":"IFERROR(Table1[[#This Row],[Coût total A1]]+Table1[[#This Row],[Coût total A2]]+Table1[[#This Row],[Coût total A3]]+Table1[[#This Row],[Coût total A4]]+Table1[[#This Row],[Coût total A5]],\"\")","v":""},{"$f":"IFERROR(Table1[[#This Row],[Budget total]]*(1-$F$6),\"\")","v":""},{"$f":"IFERROR(Table1[[#This Row],[Budget total]]*$F$6,\"\")","v":""},null,null,{"$f":"SUBSTITUTE(B55,\" \",\"\")&SUBSTITUTE(C55,\" \",\"\")&SUBSTITUTE(D55,\" \",\"\")&SUBSTITUTE(E55,\" \",\"\")&SUBSTITUTE(Table1[[#This Row],[Catégorie de prix moyen]],\" \",\"\")","v":""},0,{"$f":"IF(OR(B55=\"Voltage stabilizers\",B55=\"CCE temperature recorders_30 DTRs\",B55=\"RTM Device and Subscription\"),IF(Table1[[#This Row],[QTÉ A1]]>0,AB55*1,0),AB55*(Table1[[#This Row],[QTÉ A1]]))","v":0},{"$f":"IF(OR(B55=\"Voltage stabilizers\",B55=\"CCE temperature recorders_30 DTRs\",B55=\"RTM Device and Subscription\"),IF(Table1[[#This Row],[QTÉ A2]]>0,AB55*1,0),AB55*(Table1[[#This Row],[QTÉ A2]]))","v":0},{"$f":"IF(OR(B55=\"Voltage stabilizers\",B55=\"CCE temperature recorders_30 DTRs\",B55=\"RTM Device and Subscription\"),IF(Table1[[#This Row],[QTÉ A3]]>0,AB55*1,0),AB55*(Table1[[#This Row],[QTÉ A3]]))","v":0},{"$f":"IF(OR(B55=\"Voltage stabilizers\",B55=\"CCE temperature recorders_30 DTRs\",B55=\"RTM Device and Subscription\"),IF(Table1[[#This Row],[QTÉ A4]]>0,AB55*1,0),AB55*(Table1[[#This Row],[QTÉ A4]]))","v":0},{"$f":"IF(OR(B55=\"Voltage stabilizers\",B55=\"CCE temperature recorders_30 DTRs\",B55=\"RTM Device and Subscription\"),IF(Table1[[#This Row],[QTÉ A5]]>0,AB55*1,0),AB55*(Table1[[#This Row],[QTÉ A5]]))","v":0}]
[null,null,null,null,null,null,{"$f":"_xlfn.IFNA(INDEX('CCEOP Av Px_Min Floor & Cash '!$A$1:$B$300,MATCH(AA56,'CCEOP Av Px_Min Floor & Cash '!$A$1:$A$300,0),MATCH(Table1[[#Headers],[Prix unitaire moyen]],'CCEOP Av Px_Min Floor & Cash '!$A$1:$B$1,0)),\"\")","v":""},null,null,{"$f":"IFERROR(Table1[[#This Row],[Prix unitaire moyen]]+Table1[[#This Row],[Coût unitaire du groupe de services (dir. fournisseur)]]+Table1[[#This Row],[Coût unitaire du groupe de services (dir. pays)]],Table1[[#This Row],[Prix unitaire moyen]])","v":""},null,{"$f":"IFERROR(Table1[[#This Row],[Coût unitaire total]]*Table1[[#This Row],[QTÉ A1]],\"\")","v":""},null,{"$f":"IFERROR(Table1[[#This Row],[Coût unitaire total]]*Table1[[#This Row],[QTÉ A2]],\"\")","v":""},null,{"$f":"IFERROR(Table1[[#This Row],[Coût unitaire total]]*Table1[[#This Row],[QTÉ A3]],\"\")","v":""},null,{"$f":"IFERROR(Table1[[#This Row],[Coût unitaire total]]*Table1[[#This Row],[QTÉ A4]],\"\")","v":""},null,{"$f":"IFERROR(Table1[[#This Row],[Coût unitaire total]]*Table1[[#This Row],[QTÉ A5]],\"\")","v":""},{"$f":"Table1[[#This Row],[QTÉ A1]]+Table1[[#This Row],[QTÉ A2]]+Table1[[#This Row],[QTÉ A3]]+Table1[[#This Row],[QTÉ A4]]","v":0},{"$f":"IFERROR(Table1[[#This Row],[Coût total A1]]+Table1[[#This Row],[Coût total A2]]+Table1[[#This Row],[Coût total A3]]+Table1[[#This Row],[Coût total A4]]+Table1[[#This Row],[Coût total A5]],\"\")","v":""},{"$f":"IFERROR(Table1[[#This Row],[Budget total]]*(1-$F$6),\"\")","v":""},{"$f":"IFERROR(Table1[[#This Row],[Budget total]]*$F$6,\"\")","v":""},null,null,{"$f":"SUBSTITUTE(B56,\" \",\"\")&SUBSTITUTE(C56,\" \",\"\")&SUBSTITUTE(D56,\" \",\"\")&SUBSTITUTE(E56,\" \",\"\")&SUBSTITUTE(Table1[[#This Row],[Catégorie de prix moyen]],\" \",\"\")","v":""},0,{"$f":"IF(OR(B56=\"Voltage stabilizers\",B56=\"CCE temperature recorders_30 DTRs\",B56=\"RTM Device and Subscription\"),IF(Table1[[#This Row],[QTÉ A1]]>0,AB56*1,0),AB56*(Table1[[#This Row],[QTÉ A1]]))","v":0},{"$f":"IF(OR(B56=\"Voltage stabilizers\",B56=\"CCE temperature recorders_30 DTRs\",B56=\"RTM Device and Subscription\"),IF(Table1[[#This Row],[QTÉ A2]]>0,AB56*1,0),AB56*(Table1[[#This Row],[QTÉ A2]]))","v":0},{"$f":"IF(OR(B56=\"Voltage stabilizers\",B56=\"CCE temperature recorders_30 DTRs\",B56=\"RTM Device and Subscription\"),IF(Table1[[#This Row],[QTÉ A3]]>0,AB56*1,0),AB56*(Table1[[#This Row],[QTÉ A3]]))","v":0},{"$f":"IF(OR(B56=\"Voltage stabilizers\",B56=\"CCE temperature recorders_30 DTRs\",B56=\"RTM Device and Subscription\"),IF(Table1[[#This Row],[QTÉ A4]]>0,AB56*1,0),AB56*(Table1[[#This Row],[QTÉ A4]]))","v":0},{"$f":"IF(OR(B56=\"Voltage stabilizers\",B56=\"CCE temperature recorders_30 DTRs\",B56=\"RTM Device and Subscription\"),IF(Table1[[#This Row],[QTÉ A5]]>0,AB56*1,0),AB56*(Table1[[#This Row],[QTÉ A5]]))","v":0}]
[null,null,null,null,null,null,{"$f":"_xlfn.IFNA(INDEX('CCEOP Av Px_Min Floor & Cash '!$A$1:$B$300,MATCH(AA57,'CCEOP Av Px_Min Floor & Cash '!$A$1:$A$300,0),MATCH(Table1[[#Headers],[Prix unitaire moyen]],'CCEOP Av Px_Min Floor & Cash '!$A$1:$B$1,0)),\"\")","v":""},null,null,{"$f":"IFERROR(Table1[[#This Row],[Prix unitaire moyen]]+Table1[[#This Row],[Coût unitaire du groupe de services (dir. fournisseur)]]+Table1[[#This Row],[Coût unitaire du groupe de services (dir. pays)]],Table1[[#This Row],[Prix unitaire moyen]])","v":""},null,{"$f":"IFERROR(Table1[[#This Row],[Coût unitaire total]]*Table1[[#This Row],[QTÉ A1]],\"\")","v":""},null,{"$f":"IFERROR(Table1[[#This Row],[Coût unitaire total]]*Table1[[#This Row],[QTÉ A2]],\"\")","v":""},null,{"$f":"IFERROR(Table1[[#This Row],[Coût unitaire total]]*Table1[[#This Row],[QTÉ A3]],\"\")","v":""},null,{"$f":"IFERROR(Table1[[#This Row],[Coût unitaire total]]*Table1[[#This Row],[QTÉ A4]],\"\")","v":""},null,{"$f":"IFERROR(Table1[[#This Row],[Coût unitaire total]]*Table1[[#This Row],[QTÉ A5]],\"\")","v":""},{"$f":"Table1[[#This Row],[QTÉ A1]]+Table1[[#This Row],[QTÉ A2]]+Table1[[#This Row],[QTÉ A3]]+Table1[[#This Row],[QTÉ A4]]","v":0},{"$f":"IFERROR(Table1[[#This Row],[Coût total A1]]+Table1[[#This Row],[Coût total A2]]+Table1[[#This Row],[Coût total A3]]+Table1[[#This Row],[Coût total A4]]+Table1[[#This Row],[Coût total A5]],\"\")","v":""},{"$f":"IFERROR(Table1[[#This Row],[Budget total]]*(1-$F$6),\"\")","v":""},{"$f":"IFERROR(Table1[[#This Row],[Budget total]]*$F$6,\"\")","v":""},null,null,{"$f":"SUBSTITUTE(B57,\" \",\"\")&SUBSTITUTE(C57,\" \",\"\")&SUBSTITUTE(D57,\" \",\"\")&SUBSTITUTE(E57,\" \",\"\")&SUBSTITUTE(Table1[[#This Row],[Catégorie de prix moyen]],\" \",\"\")","v":""},0,{"$f":"IF(OR(B57=\"Voltage stabilizers\",B57=\"CCE temperature recorders_30 DTRs\",B57=\"RTM Device and Subscription\"),IF(Table1[[#This Row],[QTÉ A1]]>0,AB57*1,0),AB57*(Table1[[#This Row],[QTÉ A1]]))","v":0},{"$f":"IF(OR(B57=\"Voltage stabilizers\",B57=\"CCE temperature recorders_30 DTRs\",B57=\"RTM Device and Subscription\"),IF(Table1[[#This Row],[QTÉ A2]]>0,AB57*1,0),AB57*(Table1[[#This Row],[QTÉ A2]]))","v":0},{"$f":"IF(OR(B57=\"Voltage stabilizers\",B57=\"CCE temperature recorders_30 DTRs\",B57=\"RTM Device and Subscription\"),IF(Table1[[#This Row],[QTÉ A3]]>0,AB57*1,0),AB57*(Table1[[#This Row],[QTÉ A3]]))","v":0},{"$f":"IF(OR(B57=\"Voltage stabilizers\",B57=\"CCE temperature recorders_30 DTRs\",B57=\"RTM Device and Subscription\"),IF(Table1[[#This Row],[QTÉ A4]]>0,AB57*1,0),AB57*(Table1[[#This Row],[QTÉ A4]]))","v":0},{"$f":"IF(OR(B57=\"Voltage stabilizers\",B57=\"CCE temperature recorders_30 DTRs\",B57=\"RTM Device and Subscription\"),IF(Table1[[#This Row],[QTÉ A5]]>0,AB57*1,0),AB57*(Table1[[#This Row],[QTÉ A5]]))","v":0}]
[null,null,null,null,null,null,{"$f":"_xlfn.IFNA(INDEX('CCEOP Av Px_Min Floor & Cash '!$A$1:$B$300,MATCH(AA58,'CCEOP Av Px_Min Floor & Cash '!$A$1:$A$300,0),MATCH(Table1[[#Headers],[Prix unitaire moyen]],'CCEOP Av Px_Min Floor & Cash '!$A$1:$B$1,0)),\"\")","v":""},null,null,{"$f":"IFERROR(Table1[[#This Row],[Prix unitaire moyen]]+Table1[[#This Row],[Coût unitaire du groupe de services (dir. fournisseur)]]+Table1[[#This Row],[Coût unitaire du groupe de services (dir. pays)]],Table1[[#This Row],[Prix unitaire moyen]])","v":""},null,{"$f":"IFERROR(Table1[[#This Row],[Coût unitaire total]]*Table1[[#This Row],[QTÉ A1]],\"\")","v":""},null,{"$f":"IFERROR(Table1[[#This Row],[Coût unitaire total]]*Table1[[#This Row],[QTÉ A2]],\"\")","v":""},null,{"$f":"IFERROR(Table1[[#This Row],[Coût unitaire total]]*Table1[[#This Row],[QTÉ A3]],\"\")","v":""},null,{"$f":"IFERROR(Table1[[#This Row],[Coût unitaire total]]*Table1[[#This Row],[QTÉ A4]],\"\")","v":""},null,{"$f":"IFERROR(Table1[[#This Row],[Coût unitaire total]]*Table1[[#This Row],[QTÉ A5]],\"\")","v":""},{"$f":"Table1[[#This Row],[QTÉ A1]]+Table1[[#This Row],[QTÉ A2]]+Table1[[#This Row],[QTÉ A3]]+Table1[[#This Row],[QTÉ A4]]","v":0},{"$f":"IFERROR(Table1[[#This Row],[Coût total A1]]+Table1[[#This Row],[Coût total A2]]+Table1[[#This Row],[Coût total A3]]+Table1[[#This Row],[Coût total A4]]+Table1[[#This Row],[Coût total A5]],\"\")","v":""},{"$f":"IFERROR(Table1[[#This Row],[Budget total]]*(1-$F$6),\"\")","v":""},{"$f":"IFERROR(Table1[[#This Row],[Budget total]]*$F$6,\"\")","v":""},null,null,{"$f":"SUBSTITUTE(B58,\" \",\"\")&SUBSTITUTE(C58,\" \",\"\")&SUBSTITUTE(D58,\" \",\"\")&SUBSTITUTE(E58,\" \",\"\")&SUBSTITUTE(Table1[[#This Row],[Catégorie de prix moyen]],\" \",\"\")","v":""},0,{"$f":"IF(OR(B58=\"Voltage stabilizers\",B58=\"CCE temperature recorders_30 DTRs\",B58=\"RTM Device and Subscription\"),IF(Table1[[#This Row],[QTÉ A1]]>0,AB58*1,0),AB58*(Table1[[#This Row],[QTÉ A1]]))","v":0},{"$f":"IF(OR(B58=\"Voltage stabilizers\",B58=\"CCE temperature recorders_30 DTRs\",B58=\"RTM Device and Subscription\"),IF(Table1[[#This Row],[QTÉ A2]]>0,AB58*1,0),AB58*(Table1[[#This Row],[QTÉ A2]]))","v":0},{"$f":"IF(OR(B58=\"Voltage stabilizers\",B58=\"CCE temperature recorders_30 DTRs\",B58=\"RTM Device and Subscription\"),IF(Table1[[#This Row],[QTÉ A3]]>0,AB58*1,0),AB58*(Table1[[#This Row],[QTÉ A3]]))","v":0},{"$f":"IF(OR(B58=\"Voltage stabilizers\",B58=\"CCE temperature recorders_30 DTRs\",B58=\"RTM Device and Subscription\"),IF(Table1[[#This Row],[QTÉ A4]]>0,AB58*1,0),AB58*(Table1[[#This Row],[QTÉ A4]]))","v":0},{"$f":"IF(OR(B58=\"Voltage stabilizers\",B58=\"CCE temperature recorders_30 DTRs\",B58=\"RTM Device and Subscription\"),IF(Table1[[#This Row],[QTÉ A5]]>0,AB58*1,0),AB58*(Table1[[#This Row],[QTÉ A5]]))","v":0}]
[null,null,null,null,null,null,{"$f":"_xlfn.IFNA(INDEX('CCEOP Av Px_Min Floor & Cash '!$A$1:$B$300,MATCH(AA59,'CCEOP Av Px_Min Floor & Cash '!$A$1:$A$300,0),MATCH(Table1[[#Headers],[Prix unitaire moyen]],'CCEOP Av Px_Min Floor & Cash '!$A$1:$B$1,0)),\"\")","v":""},null,null,{"$f":"IFERROR(Table1[[#This Row],[Prix unitaire moyen]]+Table1[[#This Row],[Coût unitaire du groupe de services (dir. fournisseur)]]+Table1[[#This Row],[Coût unitaire du groupe de services (dir. pays)]],Table1[[#This Row],[Prix unitaire moyen]])","v":""},null,{"$f":"IFERROR(Table1[[#This Row],[Coût unitaire total]]*Table1[[#This Row],[QTÉ A1]],\"\")","v":""},null,{"$f":"IFERROR(Table1[[#This Row],[Coût unitaire total]]*Table1[[#This Row],[QTÉ A2]],\"\")","v":""},null,{"$f":"IFERROR(Table1[[#This Row],[Coût unitaire total]]*Table1[[#This Row],[QTÉ A3]],\"\")","v":""},null,{"$f":"IFERROR(Table1[[#This Row],[Coût unitaire total]]*Table1[[#This Row],[QTÉ A4]],\"\")","v":""},null,{"$f":"IFERROR(Table1[[#This Row],[Coût unitaire total]]*Table1[[#This Row],[QTÉ A5]],\"\")","v":""},{"$f":"Table1[[#This Row],[QTÉ A1]]+Table1[[#This Row],[QTÉ A2]]+Table1[[#This Row],[QTÉ A3]]+Table1[[#This Row],[QTÉ A4]]","v":0},{"$f":"IFERROR(Table1[[#This Row],[Coût total A1]]+Table1[[#This Row],[Coût total A2]]+Table1[[#This Row],[Coût total A3]]+Table1[[#This Row],[Coût total A4]]+Table1[[#This Row],[Coût total A5]],\"\")","v":""},{"$f":"IFERROR(Table1[[#This Row],[Budget total]]*(1-$F$6),\"\")","v":""},{"$f":"IFERROR(Table1[[#This Row],[Budget total]]*$F$6,\"\")","v":""},null,null,{"$f":"SUBSTITUTE(B59,\" \",\"\")&SUBSTITUTE(C59,\" \",\"\")&SUBSTITUTE(D59,\" \",\"\")&SUBSTITUTE(E59,\" \",\"\")&SUBSTITUTE(Table1[[#This Row],[Catégorie de prix moyen]],\" \",\"\")","v":""},0,{"$f":"IF(OR(B59=\"Voltage stabilizers\",B59=\"CCE temperature recorders_30 DTRs\",B59=\"RTM Device and Subscription\"),IF(Table1[[#This Row],[QTÉ A1]]>0,AB59*1,0),AB59*(Table1[[#This Row],[QTÉ A1]]))","v":0},{"$f":"IF(OR(B59=\"Voltage stabilizers\",B59=\"CCE temperature recorders_30 DTRs\",B59=\"RTM Device and Subscription\"),IF(Table1[[#This Row],[QTÉ A2]]>0,AB59*1,0),AB59*(Table1[[#This Row],[QTÉ A2]]))","v":0},{"$f":"IF(OR(B59=\"Voltage stabilizers\",B59=\"CCE temperature recorders_30 DTRs\",B59=\"RTM Device and Subscription\"),IF(Table1[[#This Row],[QTÉ A3]]>0,AB59*1,0),AB59*(Table1[[#This Row],[QTÉ A3]]))","v":0},{"$f":"IF(OR(B59=\"Voltage stabilizers\",B59=\"CCE temperature recorders_30 DTRs\",B59=\"RTM Device and Subscription\"),IF(Table1[[#This Row],[QTÉ A4]]>0,AB59*1,0),AB59*(Table1[[#This Row],[QTÉ A4]]))","v":0},{"$f":"IF(OR(B59=\"Voltage stabilizers\",B59=\"CCE temperature recorders_30 DTRs\",B59=\"RTM Device and Subscription\"),IF(Table1[[#This Row],[QTÉ A5]]>0,AB59*1,0),AB59*(Table1[[#This Row],[QTÉ A5]]))","v":0}]
[null,null,null,null,null,null,{"$f":"_xlfn.IFNA(INDEX('CCEOP Av Px_Min Floor & Cash '!$A$1:$B$300,MATCH(AA60,'CCEOP Av Px_Min Floor & Cash '!$A$1:$A$300,0),MATCH(Table1[[#Headers],[Prix unitaire moyen]],'CCEOP Av Px_Min Floor & Cash '!$A$1:$B$1,0)),\"\")","v":""},null,null,{"$f":"IFERROR(Table1[[#This Row],[Prix unitaire moyen]]+Table1[[#This Row],[Coût unitaire du groupe de services (dir. fournisseur)]]+Table1[[#This Row],[Coût unitaire du groupe de services (dir. pays)]],Table1[[#This Row],[Prix unitaire moyen]])","v":""},null,{"$f":"IFERROR(Table1[[#This Row],[Coût unitaire total]]*Table1[[#This Row],[QTÉ A1]],\"\")","v":""},null,{"$f":"IFERROR(Table1[[#This Row],[Coût unitaire total]]*Table1[[#This Row],[QTÉ A2]],\"\")","v":""},null,{"$f":"IFERROR(Table1[[#This Row],[Coût unitaire total]]*Table1[[#This Row],[QTÉ A3]],\"\")","v":""},null,{"$f":"IFERROR(Table1[[#This Row],[Coût unitaire total]]*Table1[[#This Row],[QTÉ A4]],\"\")","v":""},null,{"$f":"IFERROR(Table1[[#This Row],[Coût unitaire total]]*Table1[[#This Row],[QTÉ A5]],\"\")","v":""},{"$f":"Table1[[#This Row],[QTÉ A1]]+Table1[[#This Row],[QTÉ A2]]+Table1[[#This Row],[QTÉ A3]]+Table1[[#This Row],[QTÉ A4]]","v":0},{"$f":"IFERROR(Table1[[#This Row],[Coût total A1]]+Table1[[#This Row],[Coût total A2]]+Table1[[#This Row],[Coût total A3]]+Table1[[#This Row],[Coût total A4]]+Table1[[#This Row],[Coût total A5]],\"\")","v":""},{"$f":"IFERROR(Table1[[#This Row],[Budget total]]*(1-$F$6),\"\")","v":""},{"$f":"IFERROR(Table1[[#This Row],[Budget total]]*$F$6,\"\")","v":""},null,null,{"$f":"SUBSTITUTE(B60,\" \",\"\")&SUBSTITUTE(C60,\" \",\"\")&SUBSTITUTE(D60,\" \",\"\")&SUBSTITUTE(E60,\" \",\"\")&SUBSTITUTE(Table1[[#This Row],[Catégorie de prix moyen]],\" \",\"\")","v":""},0,{"$f":"IF(OR(B60=\"Voltage stabilizers\",B60=\"CCE temperature recorders_30 DTRs\",B60=\"RTM Device and Subscription\"),IF(Table1[[#This Row],[QTÉ A1]]>0,AB60*1,0),AB60*(Table1[[#This Row],[QTÉ A1]]))","v":0},{"$f":"IF(OR(B60=\"Voltage stabilizers\",B60=\"CCE temperature recorders_30 DTRs\",B60=\"RTM Device and Subscription\"),IF(Table1[[#This Row],[QTÉ A2]]>0,AB60*1,0),AB60*(Table1[[#This Row],[QTÉ A2]]))","v":0},{"$f":"IF(OR(B60=\"Voltage stabilizers\",B60=\"CCE temperature recorders_30 DTRs\",B60=\"RTM Device and Subscription\"),IF(Table1[[#This Row],[QTÉ A3]]>0,AB60*1,0),AB60*(Table1[[#This Row],[QTÉ A3]]))","v":0},{"$f":"IF(OR(B60=\"Voltage stabilizers\",B60=\"CCE temperature recorders_30 DTRs\",B60=\"RTM Device and Subscription\"),IF(Table1[[#This Row],[QTÉ A4]]>0,AB60*1,0),AB60*(Table1[[#This Row],[QTÉ A4]]))","v":0},{"$f":"IF(OR(B60=\"Voltage stabilizers\",B60=\"CCE temperature recorders_30 DTRs\",B60=\"RTM Device and Subscription\"),IF(Table1[[#This Row],[QTÉ A5]]>0,AB60*1,0),AB60*(Table1[[#This Row],[QTÉ A5]]))","v":0}]
[null,null,null,null,null,null,{"$f":"_xlfn.IFNA(INDEX('CCEOP Av Px_Min Floor & Cash '!$A$1:$B$300,MATCH(AA61,'CCEOP Av Px_Min Floor & Cash '!$A$1:$A$300,0),MATCH(Table1[[#Headers],[Prix unitaire moyen]],'CCEOP Av Px_Min Floor & Cash '!$A$1:$B$1,0)),\"\")","v":""},null,null,{"$f":"IFERROR(Table1[[#This Row],[Prix unitaire moyen]]+Table1[[#This Row],[Coût unitaire du groupe de services (dir. fournisseur)]]+Table1[[#This Row],[Coût unitaire du groupe de services (dir. pays)]],Table1[[#This Row],[Prix unitaire moyen]])","v":""},null,{"$f":"IFERROR(Table1[[#This Row],[Coût unitaire total]]*Table1[[#This Row],[QTÉ A1]],\"\")","v":""},null,{"$f":"IFERROR(Table1[[#This Row],[Coût unitaire total]]*Table1[[#This Row],[QTÉ A2]],\"\")","v":""},null,{"$f":"IFERROR(Table1[[#This Row],[Coût unitaire total]]*Table1[[#This Row],[QTÉ A3]],\"\")","v":""},null,{"$f":"IFERROR(Table1[[#This Row],[Coût unitaire total]]*Table1[[#This Row],[QTÉ A4]],\"\")","v":""},null,{"$f":"IFERROR(Table1[[#This Row],[Coût unitaire total]]*Table1[[#This Row],[QTÉ A5]],\"\")","v":""},{"$f":"Table1[[#This Row],[QTÉ A1]]+Table1[[#This Row],[QTÉ A2]]+Table1[[#This Row],[QTÉ A3]]+Table1[[#This Row],[QTÉ A4]]","v":0},{"$f":"IFERROR(Table1[[#This Row],[Coût total A1]]+Table1[[#This Row],[Coût total A2]]+Table1[[#This Row],[Coût total A3]]+Table1[[#This Row],[Coût total A4]]+Table1[[#This Row],[Coût total A5]],\"\")","v":""},{"$f":"IFERROR(Table1[[#This Row],[Budget total]]*(1-$F$6),\"\")","v":""},{"$f":"IFERROR(Table1[[#This Row],[Budget total]]*$F$6,\"\")","v":""},null,null,{"$f":"SUBSTITUTE(B61,\" \",\"\")&SUBSTITUTE(C61,\" \",\"\")&SUBSTITUTE(D61,\" \",\"\")&SUBSTITUTE(E61,\" \",\"\")&SUBSTITUTE(Table1[[#This Row],[Catégorie de prix moyen]],\" \",\"\")","v":""},0,{"$f":"IF(OR(B61=\"Voltage stabilizers\",B61=\"CCE temperature recorders_30 DTRs\",B61=\"RTM Device and Subscription\"),IF(Table1[[#This Row],[QTÉ A1]]>0,AB61*1,0),AB61*(Table1[[#This Row],[QTÉ A1]]))","v":0},{"$f":"IF(OR(B61=\"Voltage stabilizers\",B61=\"CCE temperature recorders_30 DTRs\",B61=\"RTM Device and Subscription\"),IF(Table1[[#This Row],[QTÉ A2]]>0,AB61*1,0),AB61*(Table1[[#This Row],[QTÉ A2]]))","v":0},{"$f":"IF(OR(B61=\"Voltage stabilizers\",B61=\"CCE temperature recorders_30 DTRs\",B61=\"RTM Device and Subscription\"),IF(Table1[[#This Row],[QTÉ A3]]>0,AB61*1,0),AB61*(Table1[[#This Row],[QTÉ A3]]))","v":0},{"$f":"IF(OR(B61=\"Voltage stabilizers\",B61=\"CCE temperature recorders_30 DTRs\",B61=\"RTM Device and Subscription\"),IF(Table1[[#This Row],[QTÉ A4]]>0,AB61*1,0),AB61*(Table1[[#This Row],[QTÉ A4]]))","v":0},{"$f":"IF(OR(B61=\"Voltage stabilizers\",B61=\"CCE temperature recorders_30 DTRs\",B61=\"RTM Device and Subscription\"),IF(Table1[[#This Row],[QTÉ A5]]>0,AB61*1,0),AB61*(Table1[[#This Row],[QTÉ A5]]))","v":0}]
[null,null,null,null,null,null,{"$f":"_xlfn.IFNA(INDEX('CCEOP Av Px_Min Floor & Cash '!$A$1:$B$300,MATCH(AA62,'CCEOP Av Px_Min Floor & Cash '!$A$1:$A$300,0),MATCH(Table1[[#Headers],[Prix unitaire moyen]],'CCEOP Av Px_Min Floor & Cash '!$A$1:$B$1,0)),\"\")","v":""},null,null,{"$f":"IFERROR(Table1[[#This Row],[Prix unitaire moyen]]+Table1[[#This Row],[Coût unitaire du groupe de services (dir. fournisseur)]]+Table1[[#This Row],[Coût unitaire du groupe de services (dir. pays)]],Table1[[#This Row],[Prix unitaire moyen]])","v":""},null,{"$f":"IFERROR(Table1[[#This Row],[Coût unitaire total]]*Table1[[#This Row],[QTÉ A1]],\"\")","v":""},null,{"$f":"IFERROR(Table1[[#This Row],[Coût unitaire total]]*Table1[[#This Row],[QTÉ A2]],\"\")","v":""},null,{"$f":"IFERROR(Table1[[#This Row],[Coût unitaire total]]*Table1[[#This Row],[QTÉ A3]],\"\")","v":""},null,{"$f":"IFERROR(Table1[[#This Row],[Coût unitaire total]]*Table1[[#This Row],[QTÉ A4]],\"\")","v":""},null,{"$f":"IFERROR(Table1[[#This Row],[Coût unitaire total]]*Table1[[#This Row],[QTÉ A5]],\"\")","v":""},{"$f":"Table1[[#This Row],[QTÉ A1]]+Table1[[#This Row],[QTÉ A2]]+Table1[[#This Row],[QTÉ A3]]+Table1[[#This Row],[QTÉ A4]]","v":0},{"$f":"IFERROR(Table1[[#This Row],[Coût total A1]]+Table1[[#This Row],[Coût total A2]]+Table1[[#This Row],[Coût total A3]]+Table1[[#This Row],[Coût total A4]]+Table1[[#This Row],[Coût total A5]],\"\")","v":""},{"$f":"IFERROR(Table1[[#This Row],[Budget total]]*(1-$F$6),\"\")","v":""},{"$f":"IFERROR(Table1[[#This Row],[Budget total]]*$F$6,\"\")","v":""},null,null,{"$f":"SUBSTITUTE(B62,\" \",\"\")&SUBSTITUTE(C62,\" \",\"\")&SUBSTITUTE(D62,\" \",\"\")&SUBSTITUTE(E62,\" \",\"\")&SUBSTITUTE(Table1[[#This Row],[Catégorie de prix moyen]],\" \",\"\")","v":""},0,{"$f":"IF(OR(B62=\"Voltage stabilizers\",B62=\"CCE temperature recorders_30 DTRs\",B62=\"RTM Device and Subscription\"),IF(Table1[[#This Row],[QTÉ A1]]>0,AB62*1,0),AB62*(Table1[[#This Row],[QTÉ A1]]))","v":0},{"$f":"IF(OR(B62=\"Voltage stabilizers\",B62=\"CCE temperature recorders_30 DTRs\",B62=\"RTM Device and Subscription\"),IF(Table1[[#This Row],[QTÉ A2]]>0,AB62*1,0),AB62*(Table1[[#This Row],[QTÉ A2]]))","v":0},{"$f":"IF(OR(B62=\"Voltage stabilizers\",B62=\"CCE temperature recorders_30 DTRs\",B62=\"RTM Device and Subscription\"),IF(Table1[[#This Row],[QTÉ A3]]>0,AB62*1,0),AB62*(Table1[[#This Row],[QTÉ A3]]))","v":0},{"$f":"IF(OR(B62=\"Voltage stabilizers\",B62=\"CCE temperature recorders_30 DTRs\",B62=\"RTM Device and Subscription\"),IF(Table1[[#This Row],[QTÉ A4]]>0,AB62*1,0),AB62*(Table1[[#This Row],[QTÉ A4]]))","v":0},{"$f":"IF(OR(B62=\"Voltage stabilizers\",B62=\"CCE temperature recorders_30 DTRs\",B62=\"RTM Device and Subscription\"),IF(Table1[[#This Row],[QTÉ A5]]>0,AB62*1,0),AB62*(Table1[[#This Row],[QTÉ A5]]))","v":0}]
[null,null,null,null,null,null,{"$f":"_xlfn.IFNA(INDEX('CCEOP Av Px_Min Floor & Cash '!$A$1:$B$300,MATCH(AA63,'CCEOP Av Px_Min Floor & Cash '!$A$1:$A$300,0),MATCH(Table1[[#Headers],[Prix unitaire moyen]],'CCEOP Av Px_Min Floor & Cash '!$A$1:$B$1,0)),\"\")","v":""},null,null,{"$f":"IFERROR(Table1[[#This Row],[Prix unitaire moyen]]+Table1[[#This Row],[Coût unitaire du groupe de services (dir. fournisseur)]]+Table1[[#This Row],[Coût unitaire du groupe de services (dir. pays)]],Table1[[#This Row],[Prix unitaire moyen]])","v":""},null,{"$f":"IFERROR(Table1[[#This Row],[Coût unitaire total]]*Table1[[#This Row],[QTÉ A1]],\"\")","v":""},null,{"$f":"IFERROR(Table1[[#This Row],[Coût unitaire total]]*Table1[[#This Row],[QTÉ A2]],\"\")","v":""},null,{"$f":"IFERROR(Table1[[#This Row],[Coût unitaire total]]*Table1[[#This Row],[QTÉ A3]],\"\")","v":""},null,{"$f":"IFERROR(Table1[[#This Row],[Coût unitaire total]]*Table1[[#This Row],[QTÉ A4]],\"\")","v":""},null,{"$f":"IFERROR(Table1[[#This Row],[Coût unitaire total]]*Table1[[#This Row],[QTÉ A5]],\"\")","v":""},{"$f":"Table1[[#This Row],[QTÉ A1]]+Table1[[#This Row],[QTÉ A2]]+Table1[[#This Row],[QTÉ A3]]+Table1[[#This Row],[QTÉ A4]]","v":0},{"$f":"IFERROR(Table1[[#This Row],[Coût total A1]]+Table1[[#This Row],[Coût total A2]]+Table1[[#This Row],[Coût total A3]]+Table1[[#This Row],[Coût total A4]]+Table1[[#This Row],[Coût total A5]],\"\")","v":""},{"$f":"IFERROR(Table1[[#This Row],[Budget total]]*(1-$F$6),\"\")","v":""},{"$f":"IFERROR(Table1[[#This Row],[Budget total]]*$F$6,\"\")","v":""},null,null,{"$f":"SUBSTITUTE(B63,\" \",\"\")&SUBSTITUTE(C63,\" \",\"\")&SUBSTITUTE(D63,\" \",\"\")&SUBSTITUTE(E63,\" \",\"\")&SUBSTITUTE(Table1[[#This Row],[Catégorie de prix moyen]],\" \",\"\")","v":""},0,{"$f":"IF(OR(B63=\"Voltage stabilizers\",B63=\"CCE temperature recorders_30 DTRs\",B63=\"RTM Device and Subscription\"),IF(Table1[[#This Row],[QTÉ A1]]>0,AB63*1,0),AB63*(Table1[[#This Row],[QTÉ A1]]))","v":0},{"$f":"IF(OR(B63=\"Voltage stabilizers\",B63=\"CCE temperature recorders_30 DTRs\",B63=\"RTM Device and Subscription\"),IF(Table1[[#This Row],[QTÉ A2]]>0,AB63*1,0),AB63*(Table1[[#This Row],[QTÉ A2]]))","v":0},{"$f":"IF(OR(B63=\"Voltage stabilizers\",B63=\"CCE temperature recorders_30 DTRs\",B63=\"RTM Device and Subscription\"),IF(Table1[[#This Row],[QTÉ A3]]>0,AB63*1,0),AB63*(Table1[[#This Row],[QTÉ A3]]))","v":0},{"$f":"IF(OR(B63=\"Voltage stabilizers\",B63=\"CCE temperature recorders_30 DTRs\",B63=\"RTM Device and Subscription\"),IF(Table1[[#This Row],[QTÉ A4]]>0,AB63*1,0),AB63*(Table1[[#This Row],[QTÉ A4]]))","v":0},{"$f":"IF(OR(B63=\"Voltage stabilizers\",B63=\"CCE temperature recorders_30 DTRs\",B63=\"RTM Device and Subscription\"),IF(Table1[[#This Row],[QTÉ A5]]>0,AB63*1,0),AB63*(Table1[[#This Row],[QTÉ A5]]))","v":0}]
[null,null,null,null,null,null,{"$f":"_xlfn.IFNA(INDEX('CCEOP Av Px_Min Floor & Cash '!$A$1:$B$300,MATCH(AA64,'CCEOP Av Px_Min Floor & Cash '!$A$1:$A$300,0),MATCH(Table1[[#Headers],[Prix unitaire moyen]],'CCEOP Av Px_Min Floor & Cash '!$A$1:$B$1,0)),\"\")","v":""},null,null,{"$f":"IFERROR(Table1[[#This Row],[Prix unitaire moyen]]+Table1[[#This Row],[Coût unitaire du groupe de services (dir. fournisseur)]]+Table1[[#This Row],[Coût unitaire du groupe de services (dir. pays)]],Table1[[#This Row],[Prix unitaire moyen]])","v":""},null,{"$f":"IFERROR(Table1[[#This Row],[Coût unitaire total]]*Table1[[#This Row],[QTÉ A1]],\"\")","v":""},null,{"$f":"IFERROR(Table1[[#This Row],[Coût unitaire total]]*Table1[[#This Row],[QTÉ A2]],\"\")","v":""},null,{"$f":"IFERROR(Table1[[#This Row],[Coût unitaire total]]*Table1[[#This Row],[QTÉ A3]],\"\")","v":""},null,{"$f":"IFERROR(Table1[[#This Row],[Coût unitaire total]]*Table1[[#This Row],[QTÉ A4]],\"\")","v":""},null,{"$f":"IFERROR(Table1[[#This Row],[Coût unitaire total]]*Table1[[#This Row],[QTÉ A5]],\"\")","v":""},{"$f":"Table1[[#This Row],[QTÉ A1]]+Table1[[#This Row],[QTÉ A2]]+Table1[[#This Row],[QTÉ A3]]+Table1[[#This Row],[QTÉ A4]]","v":0},{"$f":"IFERROR(Table1[[#This Row],[Coût total A1]]+Table1[[#This Row],[Coût total A2]]+Table1[[#This Row],[Coût total A3]]+Table1[[#This Row],[Coût total A4]]+Table1[[#This Row],[Coût total A5]],\"\")","v":""},{"$f":"IFERROR(Table1[[#This Row],[Budget total]]*(1-$F$6),\"\")","v":""},{"$f":"IFERROR(Table1[[#This Row],[Budget total]]*$F$6,\"\")","v":""},null,null,{"$f":"SUBSTITUTE(B64,\" \",\"\")&SUBSTITUTE(C64,\" \",\"\")&SUBSTITUTE(D64,\" \",\"\")&SUBSTITUTE(E64,\" \",\"\")&SUBSTITUTE(Table1[[#This Row],[Catégorie de prix moyen]],\" \",\"\")","v":""},0,{"$f":"IF(OR(B64=\"Voltage stabilizers\",B64=\"CCE temperature recorders_30 DTRs\",B64=\"RTM Device and Subscription\"),IF(Table1[[#This Row],[QTÉ A1]]>0,AB64*1,0),AB64*(Table1[[#This Row],[QTÉ A1]]))","v":0},{"$f":"IF(OR(B64=\"Voltage stabilizers\",B64=\"CCE temperature recorders_30 DTRs\",B64=\"RTM Device and Subscription\"),IF(Table1[[#This Row],[QTÉ A2]]>0,AB64*1,0),AB64*(Table1[[#This Row],[QTÉ A2]]))","v":0},{"$f":"IF(OR(B64=\"Voltage stabilizers\",B64=\"CCE temperature recorders_30 DTRs\",B64=\"RTM Device and Subscription\"),IF(Table1[[#This Row],[QTÉ A3]]>0,AB64*1,0),AB64*(Table1[[#This Row],[QTÉ A3]]))","v":0},{"$f":"IF(OR(B64=\"Voltage stabilizers\",B64=\"CCE temperature recorders_30 DTRs\",B64=\"RTM Device and Subscription\"),IF(Table1[[#This Row],[QTÉ A4]]>0,AB64*1,0),AB64*(Table1[[#This Row],[QTÉ A4]]))","v":0},{"$f":"IF(OR(B64=\"Voltage stabilizers\",B64=\"CCE temperature recorders_30 DTRs\",B64=\"RTM Device and Subscription\"),IF(Table1[[#This Row],[QTÉ A5]]>0,AB64*1,0),AB64*(Table1[[#This Row],[QTÉ A5]]))","v":0}]
[null,null,null,null,null,null,{"$f":"_xlfn.IFNA(INDEX('CCEOP Av Px_Min Floor & Cash '!$A$1:$B$300,MATCH(AA65,'CCEOP Av Px_Min Floor & Cash '!$A$1:$A$300,0),MATCH(Table1[[#Headers],[Prix unitaire moyen]],'CCEOP Av Px_Min Floor & Cash '!$A$1:$B$1,0)),\"\")","v":""},null,null,{"$f":"IFERROR(Table1[[#This Row],[Prix unitaire moyen]]+Table1[[#This Row],[Coût unitaire du groupe de services (dir. fournisseur)]]+Table1[[#This Row],[Coût unitaire du groupe de services (dir. pays)]],Table1[[#This Row],[Prix unitaire moyen]])","v":""},null,{"$f":"IFERROR(Table1[[#This Row],[Coût unitaire total]]*Table1[[#This Row],[QTÉ A1]],\"\")","v":""},null,{"$f":"IFERROR(Table1[[#This Row],[Coût unitaire total]]*Table1[[#This Row],[QTÉ A2]],\"\")","v":""},null,{"$f":"IFERROR(Table1[[#This Row],[Coût unitaire total]]*Table1[[#This Row],[QTÉ A3]],\"\")","v":""},null,{"$f":"IFERROR(Table1[[#This Row],[Coût unitaire total]]*Table1[[#This Row],[QTÉ A4]],\"\")","v":""},null,{"$f":"IFERROR(Table1[[#This Row],[Coût unitaire total]]*Table1[[#This Row],[QTÉ A5]],\"\")","v":""},{"$f":"Table1[[#This Row],[QTÉ A1]]+Table1[[#This Row],[QTÉ A2]]+Table1[[#This Row],[QTÉ A3]]+Table1[[#This Row],[QTÉ A4]]","v":0},{"$f":"IFERROR(Table1[[#This Row],[Coût total A1]]+Table1[[#This Row],[Coût total A2]]+Table1[[#This Row],[Coût total A3]]+Table1[[#This Row],[Coût total A4]]+Table1[[#This Row],[Coût total A5]],\"\")","v":""},{"$f":"IFERROR(Table1[[#This Row],[Budget total]]*(1-$F$6),\"\")","v":""},{"$f":"IFERROR(Table1[[#This Row],[Budget total]]*$F$6,\"\")","v":""},null,null,{"$f":"SUBSTITUTE(B65,\" \",\"\")&SUBSTITUTE(C65,\" \",\"\")&SUBSTITUTE(D65,\" \",\"\")&SUBSTITUTE(E65,\" \",\"\")&SUBSTITUTE(Table1[[#This Row],[Catégorie de prix moyen]],\" \",\"\")","v":""},0,{"$f":"IF(OR(B65=\"Voltage stabilizers\",B65=\"CCE temperature recorders_30 DTRs\",B65=\"RTM Device and Subscription\"),IF(Table1[[#This Row],[QTÉ A1]]>0,AB65*1,0),AB65*(Table1[[#This Row],[QTÉ A1]]))","v":0},{"$f":"IF(OR(B65=\"Voltage stabilizers\",B65=\"CCE temperature recorders_30 DTRs\",B65=\"RTM Device and Subscription\"),IF(Table1[[#This Row],[QTÉ A2]]>0,AB65*1,0),AB65*(Table1[[#This Row],[QTÉ A2]]))","v":0},{"$f":"IF(OR(B65=\"Voltage stabilizers\",B65=\"CCE temperature recorders_30 DTRs\",B65=\"RTM Device and Subscription\"),IF(Table1[[#This Row],[QTÉ A3]]>0,AB65*1,0),AB65*(Table1[[#This Row],[QTÉ A3]]))","v":0},{"$f":"IF(OR(B65=\"Voltage stabilizers\",B65=\"CCE temperature recorders_30 DTRs\",B65=\"RTM Device and Subscription\"),IF(Table1[[#This Row],[QTÉ A4]]>0,AB65*1,0),AB65*(Table1[[#This Row],[QTÉ A4]]))","v":0},{"$f":"IF(OR(B65=\"Voltage stabilizers\",B65=\"CCE temperature recorders_30 DTRs\",B65=\"RTM Device and Subscription\"),IF(Table1[[#This Row],[QTÉ A5]]>0,AB65*1,0),AB65*(Table1[[#This Row],[QTÉ A5]]))","v":0}]
[null,null,null,null,null,null,{"$f":"_xlfn.IFNA(INDEX('CCEOP Av Px_Min Floor & Cash '!$A$1:$B$300,MATCH(AA66,'CCEOP Av Px_Min Floor & Cash '!$A$1:$A$300,0),MATCH(Table1[[#Headers],[Prix unitaire moyen]],'CCEOP Av Px_Min Floor & Cash '!$A$1:$B$1,0)),\"\")","v":""},null,null,{"$f":"IFERROR(Table1[[#This Row],[Prix unitaire moyen]]+Table1[[#This Row],[Coût unitaire du groupe de services (dir. fournisseur)]]+Table1[[#This Row],[Coût unitaire du groupe de services (dir. pays)]],Table1[[#This Row],[Prix unitaire moyen]])","v":""},null,{"$f":"IFERROR(Table1[[#This Row],[Coût unitaire total]]*Table1[[#This Row],[QTÉ A1]],\"\")","v":""},null,{"$f":"IFERROR(Table1[[#This Row],[Coût unitaire total]]*Table1[[#This Row],[QTÉ A2]],\"\")","v":""},null,{"$f":"IFERROR(Table1[[#This Row],[Coût unitaire total]]*Table1[[#This Row],[QTÉ A3]],\"\")","v":""},null,{"$f":"IFERROR(Table1[[#This Row],[Coût unitaire total]]*Table1[[#This Row],[QTÉ A4]],\"\")","v":""},null,{"$f":"IFERROR(Table1[[#This Row],[Coût unitaire total]]*Table1[[#This Row],[QTÉ A5]],\"\")","v":""},{"$f":"Table1[[#This Row],[QTÉ A1]]+Table1[[#This Row],[QTÉ A2]]+Table1[[#This Row],[QTÉ A3]]+Table1[[#This Row],[QTÉ A4]]","v":0},{"$f":"IFERROR(Table1[[#This Row],[Coût total A1]]+Table1[[#This Row],[Coût total A2]]+Table1[[#This Row],[Coût total A3]]+Table1[[#This Row],[Coût total A4]]+Table1[[#This Row],[Coût total A5]],\"\")","v":""},{"$f":"IFERROR(Table1[[#This Row],[Budget total]]*(1-$F$6),\"\")","v":""},{"$f":"IFERROR(Table1[[#This Row],[Budget total]]*$F$6,\"\")","v":""},null,null,{"$f":"SUBSTITUTE(B66,\" \",\"\")&SUBSTITUTE(C66,\" \",\"\")&SUBSTITUTE(D66,\" \",\"\")&SUBSTITUTE(E66,\" \",\"\")&SUBSTITUTE(Table1[[#This Row],[Catégorie de prix moyen]],\" \",\"\")","v":""},0,{"$f":"IF(OR(B66=\"Voltage stabilizers\",B66=\"CCE temperature recorders_30 DTRs\",B66=\"RTM Device and Subscription\"),IF(Table1[[#This Row],[QTÉ A1]]>0,AB66*1,0),AB66*(Table1[[#This Row],[QTÉ A1]]))","v":0},{"$f":"IF(OR(B66=\"Voltage stabilizers\",B66=\"CCE temperature recorders_30 DTRs\",B66=\"RTM Device and Subscription\"),IF(Table1[[#This Row],[QTÉ A2]]>0,AB66*1,0),AB66*(Table1[[#This Row],[QTÉ A2]]))","v":0},{"$f":"IF(OR(B66=\"Voltage stabilizers\",B66=\"CCE temperature recorders_30 DTRs\",B66=\"RTM Device and Subscription\"),IF(Table1[[#This Row],[QTÉ A3]]>0,AB66*1,0),AB66*(Table1[[#This Row],[QTÉ A3]]))","v":0},{"$f":"IF(OR(B66=\"Voltage stabilizers\",B66=\"CCE temperature recorders_30 DTRs\",B66=\"RTM Device and Subscription\"),IF(Table1[[#This Row],[QTÉ A4]]>0,AB66*1,0),AB66*(Table1[[#This Row],[QTÉ A4]]))","v":0},{"$f":"IF(OR(B66=\"Voltage stabilizers\",B66=\"CCE temperature recorders_30 DTRs\",B66=\"RTM Device and Subscription\"),IF(Table1[[#This Row],[QTÉ A5]]>0,AB66*1,0),AB66*(Table1[[#This Row],[QTÉ A5]]))","v":0}]
[null,null,null,null,null,null,{"$f":"_xlfn.IFNA(INDEX('CCEOP Av Px_Min Floor & Cash '!$A$1:$B$300,MATCH(AA67,'CCEOP Av Px_Min Floor & Cash '!$A$1:$A$300,0),MATCH(Table1[[#Headers],[Prix unitaire moyen]],'CCEOP Av Px_Min Floor & Cash '!$A$1:$B$1,0)),\"\")","v":""},null,null,{"$f":"IFERROR(Table1[[#This Row],[Prix unitaire moyen]]+Table1[[#This Row],[Coût unitaire du groupe de services (dir. fournisseur)]]+Table1[[#This Row],[Coût unitaire du groupe de services (dir. pays)]],Table1[[#This Row],[Prix unitaire moyen]])","v":""},null,{"$f":"IFERROR(Table1[[#This Row],[Coût unitaire total]]*Table1[[#This Row],[QTÉ A1]],\"\")","v":""},null,{"$f":"IFERROR(Table1[[#This Row],[Coût unitaire total]]*Table1[[#This Row],[QTÉ A2]],\"\")","v":""},null,{"$f":"IFERROR(Table1[[#This Row],[Coût unitaire total]]*Table1[[#This Row],[QTÉ A3]],\"\")","v":""},null,{"$f":"IFERROR(Table1[[#This Row],[Coût unitaire total]]*Table1[[#This Row],[QTÉ A4]],\"\")","v":""},null,{"$f":"IFERROR(Table1[[#This Row],[Coût unitaire total]]*Table1[[#This Row],[QTÉ A5]],\"\")","v":""},{"$f":"Table1[[#This Row],[QTÉ A1]]+Table1[[#This Row],[QTÉ A2]]+Table1[[#This Row],[QTÉ A3]]+Table1[[#This Row],[QTÉ A4]]","v":0},{"$f":"IFERROR(Table1[[#This Row],[Coût total A1]]+Table1[[#This Row],[Coût total A2]]+Table1[[#This Row],[Coût total A3]]+Table1[[#This Row],[Coût total A4]]+Table1[[#This Row],[Coût total A5]],\"\")","v":""},{"$f":"IFERROR(Table1[[#This Row],[Budget total]]*(1-$F$6),\"\")","v":""},{"$f":"IFERROR(Table1[[#This Row],[Budget total]]*$F$6,\"\")","v":""},null,null,{"$f":"SUBSTITUTE(B67,\" \",\"\")&SUBSTITUTE(C67,\" \",\"\")&SUBSTITUTE(D67,\" \",\"\")&SUBSTITUTE(E67,\" \",\"\")&SUBSTITUTE(Table1[[#This Row],[Catégorie de prix moyen]],\" \",\"\")","v":""},0,{"$f":"IF(OR(B67=\"Voltage stabilizers\",B67=\"CCE temperature recorders_30 DTRs\",B67=\"RTM Device and Subscription\"),IF(Table1[[#This Row],[QTÉ A1]]>0,AB67*1,0),AB67*(Table1[[#This Row],[QTÉ A1]]))","v":0},{"$f":"IF(OR(B67=\"Voltage stabilizers\",B67=\"CCE temperature recorders_30 DTRs\",B67=\"RTM Device and Subscription\"),IF(Table1[[#This Row],[QTÉ A2]]>0,AB67*1,0),AB67*(Table1[[#This Row],[QTÉ A2]]))","v":0},{"$f":"IF(OR(B67=\"Voltage stabilizers\",B67=\"CCE temperature recorders_30 DTRs\",B67=\"RTM Device and Subscription\"),IF(Table1[[#This Row],[QTÉ A3]]>0,AB67*1,0),AB67*(Table1[[#This Row],[QTÉ A3]]))","v":0},{"$f":"IF(OR(B67=\"Voltage stabilizers\",B67=\"CCE temperature recorders_30 DTRs\",B67=\"RTM Device and Subscription\"),IF(Table1[[#This Row],[QTÉ A4]]>0,AB67*1,0),AB67*(Table1[[#This Row],[QTÉ A4]]))","v":0},{"$f":"IF(OR(B67=\"Voltage stabilizers\",B67=\"CCE temperature recorders_30 DTRs\",B67=\"RTM Device and Subscription\"),IF(Table1[[#This Row],[QTÉ A5]]>0,AB67*1,0),AB67*(Table1[[#This Row],[QTÉ A5]]))","v":0}]
[null,null,null,null,null,null,{"$f":"_xlfn.IFNA(INDEX('CCEOP Av Px_Min Floor & Cash '!$A$1:$B$300,MATCH(AA68,'CCEOP Av Px_Min Floor & Cash '!$A$1:$A$300,0),MATCH(Table1[[#Headers],[Prix unitaire moyen]],'CCEOP Av Px_Min Floor & Cash '!$A$1:$B$1,0)),\"\")","v":""},null,null,{"$f":"IFERROR(Table1[[#This Row],[Prix unitaire moyen]]+Table1[[#This Row],[Coût unitaire du groupe de services (dir. fournisseur)]]+Table1[[#This Row],[Coût unitaire du groupe de services (dir. pays)]],Table1[[#This Row],[Prix unitaire moyen]])","v":""},null,{"$f":"IFERROR(Table1[[#This Row],[Coût unitaire total]]*Table1[[#This Row],[QTÉ A1]],\"\")","v":""},null,{"$f":"IFERROR(Table1[[#This Row],[Coût unitaire total]]*Table1[[#This Row],[QTÉ A2]],\"\")","v":""},null,{"$f":"IFERROR(Table1[[#This Row],[Coût unitaire total]]*Table1[[#This Row],[QTÉ A3]],\"\")","v":""},null,{"$f":"IFERROR(Table1[[#This Row],[Coût unitaire total]]*Table1[[#This Row],[QTÉ A4]],\"\")","v":""},null,{"$f":"IFERROR(Table1[[#This Row],[Coût unitaire total]]*Table1[[#This Row],[QTÉ A5]],\"\")","v":""},{"$f":"Table1[[#This Row],[QTÉ A1]]+Table1[[#This Row],[QTÉ A2]]+Table1[[#This Row],[QTÉ A3]]+Table1[[#This Row],[QTÉ A4]]","v":0},{"$f":"IFERROR(Table1[[#This Row],[Coût total A1]]+Table1[[#This Row],[Coût total A2]]+Table1[[#This Row],[Coût total A3]]+Table1[[#This Row],[Coût total A4]]+Table1[[#This Row],[Coût total A5]],\"\")","v":""},{"$f":"IFERROR(Table1[[#This Row],[Budget total]]*(1-$F$6),\"\")","v":""},{"$f":"IFERROR(Table1[[#This Row],[Budget total]]*$F$6,\"\")","v":""},null,null,{"$f":"SUBSTITUTE(B68,\" \",\"\")&SUBSTITUTE(C68,\" \",\"\")&SUBSTITUTE(D68,\" \",\"\")&SUBSTITUTE(E68,\" \",\"\")&SUBSTITUTE(Table1[[#This Row],[Catégorie de prix moyen]],\" \",\"\")","v":""},0,{"$f":"IF(OR(B68=\"Voltage stabilizers\",B68=\"CCE temperature recorders_30 DTRs\",B68=\"RTM Device and Subscription\"),IF(Table1[[#This Row],[QTÉ A1]]>0,AB68*1,0),AB68*(Table1[[#This Row],[QTÉ A1]]))","v":0},{"$f":"IF(OR(B68=\"Voltage stabilizers\",B68=\"CCE temperature recorders_30 DTRs\",B68=\"RTM Device and Subscription\"),IF(Table1[[#This Row],[QTÉ A2]]>0,AB68*1,0),AB68*(Table1[[#This Row],[QTÉ A2]]))","v":0},{"$f":"IF(OR(B68=\"Voltage stabilizers\",B68=\"CCE temperature recorders_30 DTRs\",B68=\"RTM Device and Subscription\"),IF(Table1[[#This Row],[QTÉ A3]]>0,AB68*1,0),AB68*(Table1[[#This Row],[QTÉ A3]]))","v":0},{"$f":"IF(OR(B68=\"Voltage stabilizers\",B68=\"CCE temperature recorders_30 DTRs\",B68=\"RTM Device and Subscription\"),IF(Table1[[#This Row],[QTÉ A4]]>0,AB68*1,0),AB68*(Table1[[#This Row],[QTÉ A4]]))","v":0},{"$f":"IF(OR(B68=\"Voltage stabilizers\",B68=\"CCE temperature recorders_30 DTRs\",B68=\"RTM Device and Subscription\"),IF(Table1[[#This Row],[QTÉ A5]]>0,AB68*1,0),AB68*(Table1[[#This Row],[QTÉ A5]]))","v":0}]
[null,null,null,null,null,null,{"$f":"_xlfn.IFNA(INDEX('CCEOP Av Px_Min Floor & Cash '!$A$1:$B$300,MATCH(AA69,'CCEOP Av Px_Min Floor & Cash '!$A$1:$A$300,0),MATCH(Table1[[#Headers],[Prix unitaire moyen]],'CCEOP Av Px_Min Floor & Cash '!$A$1:$B$1,0)),\"\")","v":""},null,null,{"$f":"IFERROR(Table1[[#This Row],[Prix unitaire moyen]]+Table1[[#This Row],[Coût unitaire du groupe de services (dir. fournisseur)]]+Table1[[#This Row],[Coût unitaire du groupe de services (dir. pays)]],Table1[[#This Row],[Prix unitaire moyen]])","v":""},null,{"$f":"IFERROR(Table1[[#This Row],[Coût unitaire total]]*Table1[[#This Row],[QTÉ A1]],\"\")","v":""},null,{"$f":"IFERROR(Table1[[#This Row],[Coût unitaire total]]*Table1[[#This Row],[QTÉ A2]],\"\")","v":""},null,{"$f":"IFERROR(Table1[[#This Row],[Coût unitaire total]]*Table1[[#This Row],[QTÉ A3]],\"\")","v":""},null,{"$f":"IFERROR(Table1[[#This Row],[Coût unitaire total]]*Table1[[#This Row],[QTÉ A4]],\"\")","v":""},null,{"$f":"IFERROR(Table1[[#This Row],[Coût unitaire total]]*Table1[[#This Row],[QTÉ A5]],\"\")","v":""},{"$f":"Table1[[#This Row],[QTÉ A1]]+Table1[[#This Row],[QTÉ A2]]+Table1[[#This Row],[QTÉ A3]]+Table1[[#This Row],[QTÉ A4]]","v":0},{"$f":"IFERROR(Table1[[#This Row],[Coût total A1]]+Table1[[#This Row],[Coût total A2]]+Table1[[#This Row],[Coût total A3]]+Table1[[#This Row],[Coût total A4]]+Table1[[#This Row],[Coût total A5]],\"\")","v":""},{"$f":"IFERROR(Table1[[#This Row],[Budget total]]*(1-$F$6),\"\")","v":""},{"$f":"IFERROR(Table1[[#This Row],[Budget total]]*$F$6,\"\")","v":""},null,null,{"$f":"SUBSTITUTE(B69,\" \",\"\")&SUBSTITUTE(C69,\" \",\"\")&SUBSTITUTE(D69,\" \",\"\")&SUBSTITUTE(E69,\" \",\"\")&SUBSTITUTE(Table1[[#This Row],[Catégorie de prix moyen]],\" \",\"\")","v":""},0,{"$f":"IF(OR(B69=\"Voltage stabilizers\",B69=\"CCE temperature recorders_30 DTRs\",B69=\"RTM Device and Subscription\"),IF(Table1[[#This Row],[QTÉ A1]]>0,AB69*1,0),AB69*(Table1[[#This Row],[QTÉ A1]]))","v":0},{"$f":"IF(OR(B69=\"Voltage stabilizers\",B69=\"CCE temperature recorders_30 DTRs\",B69=\"RTM Device and Subscription\"),IF(Table1[[#This Row],[QTÉ A2]]>0,AB69*1,0),AB69*(Table1[[#This Row],[QTÉ A2]]))","v":0},{"$f":"IF(OR(B69=\"Voltage stabilizers\",B69=\"CCE temperature recorders_30 DTRs\",B69=\"RTM Device and Subscription\"),IF(Table1[[#This Row],[QTÉ A3]]>0,AB69*1,0),AB69*(Table1[[#This Row],[QTÉ A3]]))","v":0},{"$f":"IF(OR(B69=\"Voltage stabilizers\",B69=\"CCE temperature recorders_30 DTRs\",B69=\"RTM Device and Subscription\"),IF(Table1[[#This Row],[QTÉ A4]]>0,AB69*1,0),AB69*(Table1[[#This Row],[QTÉ A4]]))","v":0},{"$f":"IF(OR(B69=\"Voltage stabilizers\",B69=\"CCE temperature recorders_30 DTRs\",B69=\"RTM Device and Subscription\"),IF(Table1[[#This Row],[QTÉ A5]]>0,AB69*1,0),AB69*(Table1[[#This Row],[QTÉ A5]]))","v":0}]
[null,null,null,null,null,null,{"$f":"_xlfn.IFNA(INDEX('CCEOP Av Px_Min Floor & Cash '!$A$1:$B$300,MATCH(AA70,'CCEOP Av Px_Min Floor & Cash '!$A$1:$A$300,0),MATCH(Table1[[#Headers],[Prix unitaire moyen]],'CCEOP Av Px_Min Floor & Cash '!$A$1:$B$1,0)),\"\")","v":""},null,null,{"$f":"IFERROR(Table1[[#This Row],[Prix unitaire moyen]]+Table1[[#This Row],[Coût unitaire du groupe de services (dir. fournisseur)]]+Table1[[#This Row],[Coût unitaire du groupe de services (dir. pays)]],Table1[[#This Row],[Prix unitaire moyen]])","v":""},null,{"$f":"IFERROR(Table1[[#This Row],[Coût unitaire total]]*Table1[[#This Row],[QTÉ A1]],\"\")","v":""},null,{"$f":"IFERROR(Table1[[#This Row],[Coût unitaire total]]*Table1[[#This Row],[QTÉ A2]],\"\")","v":""},null,{"$f":"IFERROR(Table1[[#This Row],[Coût unitaire total]]*Table1[[#This Row],[QTÉ A3]],\"\")","v":""},null,{"$f":"IFERROR(Table1[[#This Row],[Coût unitaire total]]*Table1[[#This Row],[QTÉ A4]],\"\")","v":""},null,{"$f":"IFERROR(Table1[[#This Row],[Coût unitaire total]]*Table1[[#This Row],[QTÉ A5]],\"\")","v":""},{"$f":"Table1[[#This Row],[QTÉ A1]]+Table1[[#This Row],[QTÉ A2]]+Table1[[#This Row],[QTÉ A3]]+Table1[[#This Row],[QTÉ A4]]","v":0},{"$f":"IFERROR(Table1[[#This Row],[Coût total A1]]+Table1[[#This Row],[Coût total A2]]+Table1[[#This Row],[Coût total A3]]+Table1[[#This Row],[Coût total A4]]+Table1[[#This Row],[Coût total A5]],\"\")","v":""},{"$f":"IFERROR(Table1[[#This Row],[Budget total]]*(1-$F$6),\"\")","v":""},{"$f":"IFERROR(Table1[[#This Row],[Budget total]]*$F$6,\"\")","v":""},null,null,{"$f":"SUBSTITUTE(B70,\" \",\"\")&SUBSTITUTE(C70,\" \",\"\")&SUBSTITUTE(D70,\" \",\"\")&SUBSTITUTE(E70,\" \",\"\")&SUBSTITUTE(Table1[[#This Row],[Catégorie de prix moyen]],\" \",\"\")","v":""},0,{"$f":"IF(OR(B70=\"Voltage stabilizers\",B70=\"CCE temperature recorders_30 DTRs\",B70=\"RTM Device and Subscription\"),IF(Table1[[#This Row],[QTÉ A1]]>0,AB70*1,0),AB70*(Table1[[#This Row],[QTÉ A1]]))","v":0},{"$f":"IF(OR(B70=\"Voltage stabilizers\",B70=\"CCE temperature recorders_30 DTRs\",B70=\"RTM Device and Subscription\"),IF(Table1[[#This Row],[QTÉ A2]]>0,AB70*1,0),AB70*(Table1[[#This Row],[QTÉ A2]]))","v":0},{"$f":"IF(OR(B70=\"Voltage stabilizers\",B70=\"CCE temperature recorders_30 DTRs\",B70=\"RTM Device and Subscription\"),IF(Table1[[#This Row],[QTÉ A3]]>0,AB70*1,0),AB70*(Table1[[#This Row],[QTÉ A3]]))","v":0},{"$f":"IF(OR(B70=\"Voltage stabilizers\",B70=\"CCE temperature recorders_30 DTRs\",B70=\"RTM Device and Subscription\"),IF(Table1[[#This Row],[QTÉ A4]]>0,AB70*1,0),AB70*(Table1[[#This Row],[QTÉ A4]]))","v":0},{"$f":"IF(OR(B70=\"Voltage stabilizers\",B70=\"CCE temperature recorders_30 DTRs\",B70=\"RTM Device and Subscription\"),IF(Table1[[#This Row],[QTÉ A5]]>0,AB70*1,0),AB70*(Table1[[#This Row],[QTÉ A5]]))","v":0}]
[null,null,null,null,null,null,{"$f":"_xlfn.IFNA(INDEX('CCEOP Av Px_Min Floor & Cash '!$A$1:$B$300,MATCH(AA71,'CCEOP Av Px_Min Floor & Cash '!$A$1:$A$300,0),MATCH(Table1[[#Headers],[Prix unitaire moyen]],'CCEOP Av Px_Min Floor & Cash '!$A$1:$B$1,0)),\"\")","v":""},null,null,{"$f":"IFERROR(Table1[[#This Row],[Prix unitaire moyen]]+Table1[[#This Row],[Coût unitaire du groupe de services (dir. fournisseur)]]+Table1[[#This Row],[Coût unitaire du groupe de services (dir. pays)]],Table1[[#This Row],[Prix unitaire moyen]])","v":""},null,{"$f":"IFERROR(Table1[[#This Row],[Coût unitaire total]]*Table1[[#This Row],[QTÉ A1]],\"\")","v":""},null,{"$f":"IFERROR(Table1[[#This Row],[Coût unitaire total]]*Table1[[#This Row],[QTÉ A2]],\"\")","v":""},null,{"$f":"IFERROR(Table1[[#This Row],[Coût unitaire total]]*Table1[[#This Row],[QTÉ A3]],\"\")","v":""},null,{"$f":"IFERROR(Table1[[#This Row],[Coût unitaire total]]*Table1[[#This Row],[QTÉ A4]],\"\")","v":""},null,{"$f":"IFERROR(Table1[[#This Row],[Coût unitaire total]]*Table1[[#This Row],[QTÉ A5]],\"\")","v":""},{"$f":"Table1[[#This Row],[QTÉ A1]]+Table1[[#This Row],[QTÉ A2]]+Table1[[#This Row],[QTÉ A3]]+Table1[[#This Row],[QTÉ A4]]","v":0},{"$f":"IFERROR(Table1[[#This Row],[Coût total A1]]+Table1[[#This Row],[Coût total A2]]+Table1[[#This Row],[Coût total A3]]+Table1[[#This Row],[Coût total A4]]+Table1[[#This Row],[Coût total A5]],\"\")","v":""},{"$f":"IFERROR(Table1[[#This Row],[Budget total]]*(1-$F$6),\"\")","v":""},{"$f":"IFERROR(Table1[[#This Row],[Budget total]]*$F$6,\"\")","v":""},null,null,{"$f":"SUBSTITUTE(B71,\" \",\"\")&SUBSTITUTE(C71,\" \",\"\")&SUBSTITUTE(D71,\" \",\"\")&SUBSTITUTE(E71,\" \",\"\")&SUBSTITUTE(Table1[[#This Row],[Catégorie de prix moyen]],\" \",\"\")","v":""},0,{"$f":"IF(OR(B71=\"Voltage stabilizers\",B71=\"CCE temperature recorders_30 DTRs\",B71=\"RTM Device and Subscription\"),IF(Table1[[#This Row],[QTÉ A1]]>0,AB71*1,0),AB71*(Table1[[#This Row],[QTÉ A1]]))","v":0},{"$f":"IF(OR(B71=\"Voltage stabilizers\",B71=\"CCE temperature recorders_30 DTRs\",B71=\"RTM Device and Subscription\"),IF(Table1[[#This Row],[QTÉ A2]]>0,AB71*1,0),AB71*(Table1[[#This Row],[QTÉ A2]]))","v":0},{"$f":"IF(OR(B71=\"Voltage stabilizers\",B71=\"CCE temperature recorders_30 DTRs\",B71=\"RTM Device and Subscription\"),IF(Table1[[#This Row],[QTÉ A3]]>0,AB71*1,0),AB71*(Table1[[#This Row],[QTÉ A3]]))","v":0},{"$f":"IF(OR(B71=\"Voltage stabilizers\",B71=\"CCE temperature recorders_30 DTRs\",B71=\"RTM Device and Subscription\"),IF(Table1[[#This Row],[QTÉ A4]]>0,AB71*1,0),AB71*(Table1[[#This Row],[QTÉ A4]]))","v":0},{"$f":"IF(OR(B71=\"Voltage stabilizers\",B71=\"CCE temperature recorders_30 DTRs\",B71=\"RTM Device and Subscription\"),IF(Table1[[#This Row],[QTÉ A5]]>0,AB71*1,0),AB71*(Table1[[#This Row],[QTÉ A5]]))","v":0}]
[null,null,null,null,null,null,{"$f":"_xlfn.IFNA(INDEX('CCEOP Av Px_Min Floor & Cash '!$A$1:$B$300,MATCH(AA72,'CCEOP Av Px_Min Floor & Cash '!$A$1:$A$300,0),MATCH(Table1[[#Headers],[Prix unitaire moyen]],'CCEOP Av Px_Min Floor & Cash '!$A$1:$B$1,0)),\"\")","v":""},null,null,{"$f":"IFERROR(Table1[[#This Row],[Prix unitaire moyen]]+Table1[[#This Row],[Coût unitaire du groupe de services (dir. fournisseur)]]+Table1[[#This Row],[Coût unitaire du groupe de services (dir. pays)]],Table1[[#This Row],[Prix unitaire moyen]])","v":""},null,{"$f":"IFERROR(Table1[[#This Row],[Coût unitaire total]]*Table1[[#This Row],[QTÉ A1]],\"\")","v":""},null,{"$f":"IFERROR(Table1[[#This Row],[Coût unitaire total]]*Table1[[#This Row],[QTÉ A2]],\"\")","v":""},null,{"$f":"IFERROR(Table1[[#This Row],[Coût unitaire total]]*Table1[[#This Row],[QTÉ A3]],\"\")","v":""},null,{"$f":"IFERROR(Table1[[#This Row],[Coût unitaire total]]*Table1[[#This Row],[QTÉ A4]],\"\")","v":""},null,{"$f":"IFERROR(Table1[[#This Row],[Coût unitaire total]]*Table1[[#This Row],[QTÉ A5]],\"\")","v":""},{"$f":"Table1[[#This Row],[QTÉ A1]]+Table1[[#This Row],[QTÉ A2]]+Table1[[#This Row],[QTÉ A3]]+Table1[[#This Row],[QTÉ A4]]","v":0},{"$f":"IFERROR(Table1[[#This Row],[Coût total A1]]+Table1[[#This Row],[Coût total A2]]+Table1[[#This Row],[Coût total A3]]+Table1[[#This Row],[Coût total A4]]+Table1[[#This Row],[Coût total A5]],\"\")","v":""},{"$f":"IFERROR(Table1[[#This Row],[Budget total]]*(1-$F$6),\"\")","v":""},{"$f":"IFERROR(Table1[[#This Row],[Budget total]]*$F$6,\"\")","v":""},null,null,{"$f":"SUBSTITUTE(B72,\" \",\"\")&SUBSTITUTE(C72,\" \",\"\")&SUBSTITUTE(D72,\" \",\"\")&SUBSTITUTE(E72,\" \",\"\")&SUBSTITUTE(Table1[[#This Row],[Catégorie de prix moyen]],\" \",\"\")","v":""},0,{"$f":"IF(OR(B72=\"Voltage stabilizers\",B72=\"CCE temperature recorders_30 DTRs\",B72=\"RTM Device and Subscription\"),IF(Table1[[#This Row],[QTÉ A1]]>0,AB72*1,0),AB72*(Table1[[#This Row],[QTÉ A1]]))","v":0},{"$f":"IF(OR(B72=\"Voltage stabilizers\",B72=\"CCE temperature recorders_30 DTRs\",B72=\"RTM Device and Subscription\"),IF(Table1[[#This Row],[QTÉ A2]]>0,AB72*1,0),AB72*(Table1[[#This Row],[QTÉ A2]]))","v":0},{"$f":"IF(OR(B72=\"Voltage stabilizers\",B72=\"CCE temperature recorders_30 DTRs\",B72=\"RTM Device and Subscription\"),IF(Table1[[#This Row],[QTÉ A3]]>0,AB72*1,0),AB72*(Table1[[#This Row],[QTÉ A3]]))","v":0},{"$f":"IF(OR(B72=\"Voltage stabilizers\",B72=\"CCE temperature recorders_30 DTRs\",B72=\"RTM Device and Subscription\"),IF(Table1[[#This Row],[QTÉ A4]]>0,AB72*1,0),AB72*(Table1[[#This Row],[QTÉ A4]]))","v":0},{"$f":"IF(OR(B72=\"Voltage stabilizers\",B72=\"CCE temperature recorders_30 DTRs\",B72=\"RTM Device and Subscription\"),IF(Table1[[#This Row],[QTÉ A5]]>0,AB72*1,0),AB72*(Table1[[#This Row],[QTÉ A5]]))","v":0}]
[null,null,null,null,null,null,{"$f":"_xlfn.IFNA(INDEX('CCEOP Av Px_Min Floor & Cash '!$A$1:$B$300,MATCH(AA73,'CCEOP Av Px_Min Floor & Cash '!$A$1:$A$300,0),MATCH(Table1[[#Headers],[Prix unitaire moyen]],'CCEOP Av Px_Min Floor & Cash '!$A$1:$B$1,0)),\"\")","v":""},null,null,{"$f":"IFERROR(Table1[[#This Row],[Prix unitaire moyen]]+Table1[[#This Row],[Coût unitaire du groupe de services (dir. fournisseur)]]+Table1[[#This Row],[Coût unitaire du groupe de services (dir. pays)]],Table1[[#This Row],[Prix unitaire moyen]])","v":""},null,{"$f":"IFERROR(Table1[[#This Row],[Coût unitaire total]]*Table1[[#This Row],[QTÉ A1]],\"\")","v":""},null,{"$f":"IFERROR(Table1[[#This Row],[Coût unitaire total]]*Table1[[#This Row],[QTÉ A2]],\"\")","v":""},null,{"$f":"IFERROR(Table1[[#This Row],[Coût unitaire total]]*Table1[[#This Row],[QTÉ A3]],\"\")","v":""},null,{"$f":"IFERROR(Table1[[#This Row],[Coût unitaire total]]*Table1[[#This Row],[QTÉ A4]],\"\")","v":""},null,{"$f":"IFERROR(Table1[[#This Row],[Coût unitaire total]]*Table1[[#This Row],[QTÉ A5]],\"\")","v":""},{"$f":"Table1[[#This Row],[QTÉ A1]]+Table1[[#This Row],[QTÉ A2]]+Table1[[#This Row],[QTÉ A3]]+Table1[[#This Row],[QTÉ A4]]","v":0},{"$f":"IFERROR(Table1[[#This Row],[Coût total A1]]+Table1[[#This Row],[Coût total A2]]+Table1[[#This Row],[Coût total A3]]+Table1[[#This Row],[Coût total A4]]+Table1[[#This Row],[Coût total A5]],\"\")","v":""},{"$f":"IFERROR(Table1[[#This Row],[Budget total]]*(1-$F$6),\"\")","v":""},{"$f":"IFERROR(Table1[[#This Row],[Budget total]]*$F$6,\"\")","v":""},null,null,{"$f":"SUBSTITUTE(B73,\" \",\"\")&SUBSTITUTE(C73,\" \",\"\")&SUBSTITUTE(D73,\" \",\"\")&SUBSTITUTE(E73,\" \",\"\")&SUBSTITUTE(Table1[[#This Row],[Catégorie de prix moyen]],\" \",\"\")","v":""},0,{"$f":"IF(OR(B73=\"Voltage stabilizers\",B73=\"CCE temperature recorders_30 DTRs\",B73=\"RTM Device and Subscription\"),IF(Table1[[#This Row],[QTÉ A1]]>0,AB73*1,0),AB73*(Table1[[#This Row],[QTÉ A1]]))","v":0},{"$f":"IF(OR(B73=\"Voltage stabilizers\",B73=\"CCE temperature recorders_30 DTRs\",B73=\"RTM Device and Subscription\"),IF(Table1[[#This Row],[QTÉ A2]]>0,AB73*1,0),AB73*(Table1[[#This Row],[QTÉ A2]]))","v":0},{"$f":"IF(OR(B73=\"Voltage stabilizers\",B73=\"CCE temperature recorders_30 DTRs\",B73=\"RTM Device and Subscription\"),IF(Table1[[#This Row],[QTÉ A3]]>0,AB73*1,0),AB73*(Table1[[#This Row],[QTÉ A3]]))","v":0},{"$f":"IF(OR(B73=\"Voltage stabilizers\",B73=\"CCE temperature recorders_30 DTRs\",B73=\"RTM Device and Subscription\"),IF(Table1[[#This Row],[QTÉ A4]]>0,AB73*1,0),AB73*(Table1[[#This Row],[QTÉ A4]]))","v":0},{"$f":"IF(OR(B73=\"Voltage stabilizers\",B73=\"CCE temperature recorders_30 DTRs\",B73=\"RTM Device and Subscription\"),IF(Table1[[#This Row],[QTÉ A5]]>0,AB73*1,0),AB73*(Table1[[#This Row],[QTÉ A5]]))","v":0}]
[null,null,null,null,null,null,{"$f":"_xlfn.IFNA(INDEX('CCEOP Av Px_Min Floor & Cash '!$A$1:$B$300,MATCH(AA74,'CCEOP Av Px_Min Floor & Cash '!$A$1:$A$300,0),MATCH(Table1[[#Headers],[Prix unitaire moyen]],'CCEOP Av Px_Min Floor & Cash '!$A$1:$B$1,0)),\"\")","v":""},null,null,{"$f":"IFERROR(Table1[[#This Row],[Prix unitaire moyen]]+Table1[[#This Row],[Coût unitaire du groupe de services (dir. fournisseur)]]+Table1[[#This Row],[Coût unitaire du groupe de services (dir. pays)]],Table1[[#This Row],[Prix unitaire moyen]])","v":""},null,{"$f":"IFERROR(Table1[[#This Row],[Coût unitaire total]]*Table1[[#This Row],[QTÉ A1]],\"\")","v":""},null,{"$f":"IFERROR(Table1[[#This Row],[Coût unitaire total]]*Table1[[#This Row],[QTÉ A2]],\"\")","v":""},null,{"$f":"IFERROR(Table1[[#This Row],[Coût unitaire total]]*Table1[[#This Row],[QTÉ A3]],\"\")","v":""},null,{"$f":"IFERROR(Table1[[#This Row],[Coût unitaire total]]*Table1[[#This Row],[QTÉ A4]],\"\")","v":""},null,{"$f":"IFERROR(Table1[[#This Row],[Coût unitaire total]]*Table1[[#This Row],[QTÉ A5]],\"\")","v":""},{"$f":"Table1[[#This Row],[QTÉ A1]]+Table1[[#This Row],[QTÉ A2]]+Table1[[#This Row],[QTÉ A3]]+Table1[[#This Row],[QTÉ A4]]","v":0},{"$f":"IFERROR(Table1[[#This Row],[Coût total A1]]+Table1[[#This Row],[Coût total A2]]+Table1[[#This Row],[Coût total A3]]+Table1[[#This Row],[Coût total A4]]+Table1[[#This Row],[Coût total A5]],\"\")","v":""},{"$f":"IFERROR(Table1[[#This Row],[Budget total]]*(1-$F$6),\"\")","v":""},{"$f":"IFERROR(Table1[[#This Row],[Budget total]]*$F$6,\"\")","v":""},null,null,{"$f":"SUBSTITUTE(B74,\" \",\"\")&SUBSTITUTE(C74,\" \",\"\")&SUBSTITUTE(D74,\" \",\"\")&SUBSTITUTE(E74,\" \",\"\")&SUBSTITUTE(Table1[[#This Row],[Catégorie de prix moyen]],\" \",\"\")","v":""},0,{"$f":"IF(OR(B74=\"Voltage stabilizers\",B74=\"CCE temperature recorders_30 DTRs\",B74=\"RTM Device and Subscription\"),IF(Table1[[#This Row],[QTÉ A1]]>0,AB74*1,0),AB74*(Table1[[#This Row],[QTÉ A1]]))","v":0},{"$f":"IF(OR(B74=\"Voltage stabilizers\",B74=\"CCE temperature recorders_30 DTRs\",B74=\"RTM Device and Subscription\"),IF(Table1[[#This Row],[QTÉ A2]]>0,AB74*1,0),AB74*(Table1[[#This Row],[QTÉ A2]]))","v":0},{"$f":"IF(OR(B74=\"Voltage stabilizers\",B74=\"CCE temperature recorders_30 DTRs\",B74=\"RTM Device and Subscription\"),IF(Table1[[#This Row],[QTÉ A3]]>0,AB74*1,0),AB74*(Table1[[#This Row],[QTÉ A3]]))","v":0},{"$f":"IF(OR(B74=\"Voltage stabilizers\",B74=\"CCE temperature recorders_30 DTRs\",B74=\"RTM Device and Subscription\"),IF(Table1[[#This Row],[QTÉ A4]]>0,AB74*1,0),AB74*(Table1[[#This Row],[QTÉ A4]]))","v":0},{"$f":"IF(OR(B74=\"Voltage stabilizers\",B74=\"CCE temperature recorders_30 DTRs\",B74=\"RTM Device and Subscription\"),IF(Table1[[#This Row],[QTÉ A5]]>0,AB74*1,0),AB74*(Table1[[#This Row],[QTÉ A5]]))","v":0}]
[null,null,null,null,null,null,{"$f":"_xlfn.IFNA(INDEX('CCEOP Av Px_Min Floor & Cash '!$A$1:$B$300,MATCH(AA75,'CCEOP Av Px_Min Floor & Cash '!$A$1:$A$300,0),MATCH(Table1[[#Headers],[Prix unitaire moyen]],'CCEOP Av Px_Min Floor & Cash '!$A$1:$B$1,0)),\"\")","v":""},null,null,{"$f":"IFERROR(Table1[[#This Row],[Prix unitaire moyen]]+Table1[[#This Row],[Coût unitaire du groupe de services (dir. fournisseur)]]+Table1[[#This Row],[Coût unitaire du groupe de services (dir. pays)]],Table1[[#This Row],[Prix unitaire moyen]])","v":""},null,{"$f":"IFERROR(Table1[[#This Row],[Coût unitaire total]]*Table1[[#This Row],[QTÉ A1]],\"\")","v":""},null,{"$f":"IFERROR(Table1[[#This Row],[Coût unitaire total]]*Table1[[#This Row],[QTÉ A2]],\"\")","v":""},null,{"$f":"IFERROR(Table1[[#This Row],[Coût unitaire total]]*Table1[[#This Row],[QTÉ A3]],\"\")","v":""},null,{"$f":"IFERROR(Table1[[#This Row],[Coût unitaire total]]*Table1[[#This Row],[QTÉ A4]],\"\")","v":""},null,{"$f":"IFERROR(Table1[[#This Row],[Coût unitaire total]]*Table1[[#This Row],[QTÉ A5]],\"\")","v":""},{"$f":"Table1[[#This Row],[QTÉ A1]]+Table1[[#This Row],[QTÉ A2]]+Table1[[#This Row],[QTÉ A3]]+Table1[[#This Row],[QTÉ A4]]","v":0},{"$f":"IFERROR(Table1[[#This Row],[Coût total A1]]+Table1[[#This Row],[Coût total A2]]+Table1[[#This Row],[Coût total A3]]+Table1[[#This Row],[Coût total A4]]+Table1[[#This Row],[Coût total A5]],\"\")","v":""},{"$f":"IFERROR(Table1[[#This Row],[Budget total]]*(1-$F$6),\"\")","v":""},{"$f":"IFERROR(Table1[[#This Row],[Budget total]]*$F$6,\"\")","v":""},null,null,{"$f":"SUBSTITUTE(B75,\" \",\"\")&SUBSTITUTE(C75,\" \",\"\")&SUBSTITUTE(D75,\" \",\"\")&SUBSTITUTE(E75,\" \",\"\")&SUBSTITUTE(Table1[[#This Row],[Catégorie de prix moyen]],\" \",\"\")","v":""},0,{"$f":"IF(OR(B75=\"Voltage stabilizers\",B75=\"CCE temperature recorders_30 DTRs\",B75=\"RTM Device and Subscription\"),IF(Table1[[#This Row],[QTÉ A1]]>0,AB75*1,0),AB75*(Table1[[#This Row],[QTÉ A1]]))","v":0},{"$f":"IF(OR(B75=\"Voltage stabilizers\",B75=\"CCE temperature recorders_30 DTRs\",B75=\"RTM Device and Subscription\"),IF(Table1[[#This Row],[QTÉ A2]]>0,AB75*1,0),AB75*(Table1[[#This Row],[QTÉ A2]]))","v":0},{"$f":"IF(OR(B75=\"Voltage stabilizers\",B75=\"CCE temperature recorders_30 DTRs\",B75=\"RTM Device and Subscription\"),IF(Table1[[#This Row],[QTÉ A3]]>0,AB75*1,0),AB75*(Table1[[#This Row],[QTÉ A3]]))","v":0},{"$f":"IF(OR(B75=\"Voltage stabilizers\",B75=\"CCE temperature recorders_30 DTRs\",B75=\"RTM Device and Subscription\"),IF(Table1[[#This Row],[QTÉ A4]]>0,AB75*1,0),AB75*(Table1[[#This Row],[QTÉ A4]]))","v":0},{"$f":"IF(OR(B75=\"Voltage stabilizers\",B75=\"CCE temperature recorders_30 DTRs\",B75=\"RTM Device and Subscription\"),IF(Table1[[#This Row],[QTÉ A5]]>0,AB75*1,0),AB75*(Table1[[#This Row],[QTÉ A5]]))","v":0}]
[null,null,null,null,null,null,{"$f":"_xlfn.IFNA(INDEX('CCEOP Av Px_Min Floor & Cash '!$A$1:$B$300,MATCH(AA76,'CCEOP Av Px_Min Floor & Cash '!$A$1:$A$300,0),MATCH(Table1[[#Headers],[Prix unitaire moyen]],'CCEOP Av Px_Min Floor & Cash '!$A$1:$B$1,0)),\"\")","v":""},null,null,{"$f":"IFERROR(Table1[[#This Row],[Prix unitaire moyen]]+Table1[[#This Row],[Coût unitaire du groupe de services (dir. fournisseur)]]+Table1[[#This Row],[Coût unitaire du groupe de services (dir. pays)]],Table1[[#This Row],[Prix unitaire moyen]])","v":""},null,{"$f":"IFERROR(Table1[[#This Row],[Coût unitaire total]]*Table1[[#This Row],[QTÉ A1]],\"\")","v":""},null,{"$f":"IFERROR(Table1[[#This Row],[Coût unitaire total]]*Table1[[#This Row],[QTÉ A2]],\"\")","v":""},null,{"$f":"IFERROR(Table1[[#This Row],[Coût unitaire total]]*Table1[[#This Row],[QTÉ A3]],\"\")","v":""},null,{"$f":"IFERROR(Table1[[#This Row],[Coût unitaire total]]*Table1[[#This Row],[QTÉ A4]],\"\")","v":""},null,{"$f":"IFERROR(Table1[[#This Row],[Coût unitaire total]]*Table1[[#This Row],[QTÉ A5]],\"\")","v":""},{"$f":"Table1[[#This Row],[QTÉ A1]]+Table1[[#This Row],[QTÉ A2]]+Table1[[#This Row],[QTÉ A3]]+Table1[[#This Row],[QTÉ A4]]","v":0},{"$f":"IFERROR(Table1[[#This Row],[Coût total A1]]+Table1[[#This Row],[Coût total A2]]+Table1[[#This Row],[Coût total A3]]+Table1[[#This Row],[Coût total A4]]+Table1[[#This Row],[Coût total A5]],\"\")","v":""},{"$f":"IFERROR(Table1[[#This Row],[Budget total]]*(1-$F$6),\"\")","v":""},{"$f":"IFERROR(Table1[[#This Row],[Budget total]]*$F$6,\"\")","v":""},null,null,{"$f":"SUBSTITUTE(B76,\" \",\"\")&SUBSTITUTE(C76,\" \",\"\")&SUBSTITUTE(D76,\" \",\"\")&SUBSTITUTE(E76,\" \",\"\")&SUBSTITUTE(Table1[[#This Row],[Catégorie de prix moyen]],\" \",\"\")","v":""},0,{"$f":"IF(OR(B76=\"Voltage stabilizers\",B76=\"CCE temperature recorders_30 DTRs\",B76=\"RTM Device and Subscription\"),IF(Table1[[#This Row],[QTÉ A1]]>0,AB76*1,0),AB76*(Table1[[#This Row],[QTÉ A1]]))","v":0},{"$f":"IF(OR(B76=\"Voltage stabilizers\",B76=\"CCE temperature recorders_30 DTRs\",B76=\"RTM Device and Subscription\"),IF(Table1[[#This Row],[QTÉ A2]]>0,AB76*1,0),AB76*(Table1[[#This Row],[QTÉ A2]]))","v":0},{"$f":"IF(OR(B76=\"Voltage stabilizers\",B76=\"CCE temperature recorders_30 DTRs\",B76=\"RTM Device and Subscription\"),IF(Table1[[#This Row],[QTÉ A3]]>0,AB76*1,0),AB76*(Table1[[#This Row],[QTÉ A3]]))","v":0},{"$f":"IF(OR(B76=\"Voltage stabilizers\",B76=\"CCE temperature recorders_30 DTRs\",B76=\"RTM Device and Subscription\"),IF(Table1[[#This Row],[QTÉ A4]]>0,AB76*1,0),AB76*(Table1[[#This Row],[QTÉ A4]]))","v":0},{"$f":"IF(OR(B76=\"Voltage stabilizers\",B76=\"CCE temperature recorders_30 DTRs\",B76=\"RTM Device and Subscription\"),IF(Table1[[#This Row],[QTÉ A5]]>0,AB76*1,0),AB76*(Table1[[#This Row],[QTÉ A5]]))","v":0}]
[null,null,null,null,null,null,{"$f":"_xlfn.IFNA(INDEX('CCEOP Av Px_Min Floor & Cash '!$A$1:$B$300,MATCH(AA77,'CCEOP Av Px_Min Floor & Cash '!$A$1:$A$300,0),MATCH(Table1[[#Headers],[Prix unitaire moyen]],'CCEOP Av Px_Min Floor & Cash '!$A$1:$B$1,0)),\"\")","v":""},null,null,{"$f":"IFERROR(Table1[[#This Row],[Prix unitaire moyen]]+Table1[[#This Row],[Coût unitaire du groupe de services (dir. fournisseur)]]+Table1[[#This Row],[Coût unitaire du groupe de services (dir. pays)]],Table1[[#This Row],[Prix unitaire moyen]])","v":""},null,{"$f":"IFERROR(Table1[[#This Row],[Coût unitaire total]]*Table1[[#This Row],[QTÉ A1]],\"\")","v":""},null,{"$f":"IFERROR(Table1[[#This Row],[Coût unitaire total]]*Table1[[#This Row],[QTÉ A2]],\"\")","v":""},null,{"$f":"IFERROR(Table1[[#This Row],[Coût unitaire total]]*Table1[[#This Row],[QTÉ A3]],\"\")","v":""},null,{"$f":"IFERROR(Table1[[#This Row],[Coût unitaire total]]*Table1[[#This Row],[QTÉ A4]],\"\")","v":""},null,{"$f":"IFERROR(Table1[[#This Row],[Coût unitaire total]]*Table1[[#This Row],[QTÉ A5]],\"\")","v":""},{"$f":"Table1[[#This Row],[QTÉ A1]]+Table1[[#This Row],[QTÉ A2]]+Table1[[#This Row],[QTÉ A3]]+Table1[[#This Row],[QTÉ A4]]","v":0},{"$f":"IFERROR(Table1[[#This Row],[Coût total A1]]+Table1[[#This Row],[Coût total A2]]+Table1[[#This Row],[Coût total A3]]+Table1[[#This Row],[Coût total A4]]+Table1[[#This Row],[Coût total A5]],\"\")","v":""},{"$f":"IFERROR(Table1[[#This Row],[Budget total]]*(1-$F$6),\"\")","v":""},{"$f":"IFERROR(Table1[[#This Row],[Budget total]]*$F$6,\"\")","v":""},null,null,{"$f":"SUBSTITUTE(B77,\" \",\"\")&SUBSTITUTE(C77,\" \",\"\")&SUBSTITUTE(D77,\" \",\"\")&SUBSTITUTE(E77,\" \",\"\")&SUBSTITUTE(Table1[[#This Row],[Catégorie de prix moyen]],\" \",\"\")","v":""},0,{"$f":"IF(OR(B77=\"Voltage stabilizers\",B77=\"CCE temperature recorders_30 DTRs\",B77=\"RTM Device and Subscription\"),IF(Table1[[#This Row],[QTÉ A1]]>0,AB77*1,0),AB77*(Table1[[#This Row],[QTÉ A1]]))","v":0},{"$f":"IF(OR(B77=\"Voltage stabilizers\",B77=\"CCE temperature recorders_30 DTRs\",B77=\"RTM Device and Subscription\"),IF(Table1[[#This Row],[QTÉ A2]]>0,AB77*1,0),AB77*(Table1[[#This Row],[QTÉ A2]]))","v":0},{"$f":"IF(OR(B77=\"Voltage stabilizers\",B77=\"CCE temperature recorders_30 DTRs\",B77=\"RTM Device and Subscription\"),IF(Table1[[#This Row],[QTÉ A3]]>0,AB77*1,0),AB77*(Table1[[#This Row],[QTÉ A3]]))","v":0},{"$f":"IF(OR(B77=\"Voltage stabilizers\",B77=\"CCE temperature recorders_30 DTRs\",B77=\"RTM Device and Subscription\"),IF(Table1[[#This Row],[QTÉ A4]]>0,AB77*1,0),AB77*(Table1[[#This Row],[QTÉ A4]]))","v":0},{"$f":"IF(OR(B77=\"Voltage stabilizers\",B77=\"CCE temperature recorders_30 DTRs\",B77=\"RTM Device and Subscription\"),IF(Table1[[#This Row],[QTÉ A5]]>0,AB77*1,0),AB77*(Table1[[#This Row],[QTÉ A5]]))","v":0}]
[null,null,null,null,null,null,{"$f":"_xlfn.IFNA(INDEX('CCEOP Av Px_Min Floor & Cash '!$A$1:$B$300,MATCH(AA78,'CCEOP Av Px_Min Floor & Cash '!$A$1:$A$300,0),MATCH(Table1[[#Headers],[Prix unitaire moyen]],'CCEOP Av Px_Min Floor & Cash '!$A$1:$B$1,0)),\"\")","v":""},null,null,{"$f":"IFERROR(Table1[[#This Row],[Prix unitaire moyen]]+Table1[[#This Row],[Coût unitaire du groupe de services (dir. fournisseur)]]+Table1[[#This Row],[Coût unitaire du groupe de services (dir. pays)]],Table1[[#This Row],[Prix unitaire moyen]])","v":""},null,{"$f":"IFERROR(Table1[[#This Row],[Coût unitaire total]]*Table1[[#This Row],[QTÉ A1]],\"\")","v":""},null,{"$f":"IFERROR(Table1[[#This Row],[Coût unitaire total]]*Table1[[#This Row],[QTÉ A2]],\"\")","v":""},null,{"$f":"IFERROR(Table1[[#This Row],[Coût unitaire total]]*Table1[[#This Row],[QTÉ A3]],\"\")","v":""},null,{"$f":"IFERROR(Table1[[#This Row],[Coût unitaire total]]*Table1[[#This Row],[QTÉ A4]],\"\")","v":""},null,{"$f":"IFERROR(Table1[[#This Row],[Coût unitaire total]]*Table1[[#This Row],[QTÉ A5]],\"\")","v":""},{"$f":"Table1[[#This Row],[QTÉ A1]]+Table1[[#This Row],[QTÉ A2]]+Table1[[#This Row],[QTÉ A3]]+Table1[[#This Row],[QTÉ A4]]","v":0},{"$f":"IFERROR(Table1[[#This Row],[Coût total A1]]+Table1[[#This Row],[Coût total A2]]+Table1[[#This Row],[Coût total A3]]+Table1[[#This Row],[Coût total A4]]+Table1[[#This Row],[Coût total A5]],\"\")","v":""},{"$f":"IFERROR(Table1[[#This Row],[Budget total]]*(1-$F$6),\"\")","v":""},{"$f":"IFERROR(Table1[[#This Row],[Budget total]]*$F$6,\"\")","v":""},null,null,{"$f":"SUBSTITUTE(B78,\" \",\"\")&SUBSTITUTE(C78,\" \",\"\")&SUBSTITUTE(D78,\" \",\"\")&SUBSTITUTE(E78,\" \",\"\")&SUBSTITUTE(Table1[[#This Row],[Catégorie de prix moyen]],\" \",\"\")","v":""},0,{"$f":"IF(OR(B78=\"Voltage stabilizers\",B78=\"CCE temperature recorders_30 DTRs\",B78=\"RTM Device and Subscription\"),IF(Table1[[#This Row],[QTÉ A1]]>0,AB78*1,0),AB78*(Table1[[#This Row],[QTÉ A1]]))","v":0},{"$f":"IF(OR(B78=\"Voltage stabilizers\",B78=\"CCE temperature recorders_30 DTRs\",B78=\"RTM Device and Subscription\"),IF(Table1[[#This Row],[QTÉ A2]]>0,AB78*1,0),AB78*(Table1[[#This Row],[QTÉ A2]]))","v":0},{"$f":"IF(OR(B78=\"Voltage stabilizers\",B78=\"CCE temperature recorders_30 DTRs\",B78=\"RTM Device and Subscription\"),IF(Table1[[#This Row],[QTÉ A3]]>0,AB78*1,0),AB78*(Table1[[#This Row],[QTÉ A3]]))","v":0},{"$f":"IF(OR(B78=\"Voltage stabilizers\",B78=\"CCE temperature recorders_30 DTRs\",B78=\"RTM Device and Subscription\"),IF(Table1[[#This Row],[QTÉ A4]]>0,AB78*1,0),AB78*(Table1[[#This Row],[QTÉ A4]]))","v":0},{"$f":"IF(OR(B78=\"Voltage stabilizers\",B78=\"CCE temperature recorders_30 DTRs\",B78=\"RTM Device and Subscription\"),IF(Table1[[#This Row],[QTÉ A5]]>0,AB78*1,0),AB78*(Table1[[#This Row],[QTÉ A5]]))","v":0}]
[null,null,null,null,null,null,{"$f":"_xlfn.IFNA(INDEX('CCEOP Av Px_Min Floor & Cash '!$A$1:$B$300,MATCH(AA79,'CCEOP Av Px_Min Floor & Cash '!$A$1:$A$300,0),MATCH(Table1[[#Headers],[Prix unitaire moyen]],'CCEOP Av Px_Min Floor & Cash '!$A$1:$B$1,0)),\"\")","v":""},null,null,{"$f":"IFERROR(Table1[[#This Row],[Prix unitaire moyen]]+Table1[[#This Row],[Coût unitaire du groupe de services (dir. fournisseur)]]+Table1[[#This Row],[Coût unitaire du groupe de services (dir. pays)]],Table1[[#This Row],[Prix unitaire moyen]])","v":""},null,{"$f":"IFERROR(Table1[[#This Row],[Coût unitaire total]]*Table1[[#This Row],[QTÉ A1]],\"\")","v":""},null,{"$f":"IFERROR(Table1[[#This Row],[Coût unitaire total]]*Table1[[#This Row],[QTÉ A2]],\"\")","v":""},null,{"$f":"IFERROR(Table1[[#This Row],[Coût unitaire total]]*Table1[[#This Row],[QTÉ A3]],\"\")","v":""},null,{"$f":"IFERROR(Table1[[#This Row],[Coût unitaire total]]*Table1[[#This Row],[QTÉ A4]],\"\")","v":""},null,{"$f":"IFERROR(Table1[[#This Row],[Coût unitaire total]]*Table1[[#This Row],[QTÉ A5]],\"\")","v":""},{"$f":"Table1[[#This Row],[QTÉ A1]]+Table1[[#This Row],[QTÉ A2]]+Table1[[#This Row],[QTÉ A3]]+Table1[[#This Row],[QTÉ A4]]","v":0},{"$f":"IFERROR(Table1[[#This Row],[Coût total A1]]+Table1[[#This Row],[Coût total A2]]+Table1[[#This Row],[Coût total A3]]+Table1[[#This Row],[Coût total A4]]+Table1[[#This Row],[Coût total A5]],\"\")","v":""},{"$f":"IFERROR(Table1[[#This Row],[Budget total]]*(1-$F$6),\"\")","v":""},{"$f":"IFERROR(Table1[[#This Row],[Budget total]]*$F$6,\"\")","v":""},null,null,{"$f":"SUBSTITUTE(B79,\" \",\"\")&SUBSTITUTE(C79,\" \",\"\")&SUBSTITUTE(D79,\" \",\"\")&SUBSTITUTE(E79,\" \",\"\")&SUBSTITUTE(Table1[[#This Row],[Catégorie de prix moyen]],\" \",\"\")","v":""},0,{"$f":"IF(OR(B79=\"Voltage stabilizers\",B79=\"CCE temperature recorders_30 DTRs\",B79=\"RTM Device and Subscription\"),IF(Table1[[#This Row],[QTÉ A1]]>0,AB79*1,0),AB79*(Table1[[#This Row],[QTÉ A1]]))","v":0},{"$f":"IF(OR(B79=\"Voltage stabilizers\",B79=\"CCE temperature recorders_30 DTRs\",B79=\"RTM Device and Subscription\"),IF(Table1[[#This Row],[QTÉ A2]]>0,AB79*1,0),AB79*(Table1[[#This Row],[QTÉ A2]]))","v":0},{"$f":"IF(OR(B79=\"Voltage stabilizers\",B79=\"CCE temperature recorders_30 DTRs\",B79=\"RTM Device and Subscription\"),IF(Table1[[#This Row],[QTÉ A3]]>0,AB79*1,0),AB79*(Table1[[#This Row],[QTÉ A3]]))","v":0},{"$f":"IF(OR(B79=\"Voltage stabilizers\",B79=\"CCE temperature recorders_30 DTRs\",B79=\"RTM Device and Subscription\"),IF(Table1[[#This Row],[QTÉ A4]]>0,AB79*1,0),AB79*(Table1[[#This Row],[QTÉ A4]]))","v":0},{"$f":"IF(OR(B79=\"Voltage stabilizers\",B79=\"CCE temperature recorders_30 DTRs\",B79=\"RTM Device and Subscription\"),IF(Table1[[#This Row],[QTÉ A5]]>0,AB79*1,0),AB79*(Table1[[#This Row],[QTÉ A5]]))","v":0}]
[null,null,null,null,null,null,{"$f":"_xlfn.IFNA(INDEX('CCEOP Av Px_Min Floor & Cash '!$A$1:$B$300,MATCH(AA80,'CCEOP Av Px_Min Floor & Cash '!$A$1:$A$300,0),MATCH(Table1[[#Headers],[Prix unitaire moyen]],'CCEOP Av Px_Min Floor & Cash '!$A$1:$B$1,0)),\"\")","v":""},null,null,{"$f":"IFERROR(Table1[[#This Row],[Prix unitaire moyen]]+Table1[[#This Row],[Coût unitaire du groupe de services (dir. fournisseur)]]+Table1[[#This Row],[Coût unitaire du groupe de services (dir. pays)]],Table1[[#This Row],[Prix unitaire moyen]])","v":""},null,{"$f":"IFERROR(Table1[[#This Row],[Coût unitaire total]]*Table1[[#This Row],[QTÉ A1]],\"\")","v":""},null,{"$f":"IFERROR(Table1[[#This Row],[Coût unitaire total]]*Table1[[#This Row],[QTÉ A2]],\"\")","v":""},null,{"$f":"IFERROR(Table1[[#This Row],[Coût unitaire total]]*Table1[[#This Row],[QTÉ A3]],\"\")","v":""},null,{"$f":"IFERROR(Table1[[#This Row],[Coût unitaire total]]*Table1[[#This Row],[QTÉ A4]],\"\")","v":""},null,{"$f":"IFERROR(Table1[[#This Row],[Coût unitaire total]]*Table1[[#This Row],[QTÉ A5]],\"\")","v":""},{"$f":"Table1[[#This Row],[QTÉ A1]]+Table1[[#This Row],[QTÉ A2]]+Table1[[#This Row],[QTÉ A3]]+Table1[[#This Row],[QTÉ A4]]","v":0},{"$f":"IFERROR(Table1[[#This Row],[Coût total A1]]+Table1[[#This Row],[Coût total A2]]+Table1[[#This Row],[Coût total A3]]+Table1[[#This Row],[Coût total A4]]+Table1[[#This Row],[Coût total A5]],\"\")","v":""},{"$f":"IFERROR(Table1[[#This Row],[Budget total]]*(1-$F$6),\"\")","v":""},{"$f":"IFERROR(Table1[[#This Row],[Budget total]]*$F$6,\"\")","v":""},null,null,{"$f":"SUBSTITUTE(B80,\" \",\"\")&SUBSTITUTE(C80,\" \",\"\")&SUBSTITUTE(D80,\" \",\"\")&SUBSTITUTE(E80,\" \",\"\")&SUBSTITUTE(Table1[[#This Row],[Catégorie de prix moyen]],\" \",\"\")","v":""},0,{"$f":"IF(OR(B80=\"Voltage stabilizers\",B80=\"CCE temperature recorders_30 DTRs\",B80=\"RTM Device and Subscription\"),IF(Table1[[#This Row],[QTÉ A1]]>0,AB80*1,0),AB80*(Table1[[#This Row],[QTÉ A1]]))","v":0},{"$f":"IF(OR(B80=\"Voltage stabilizers\",B80=\"CCE temperature recorders_30 DTRs\",B80=\"RTM Device and Subscription\"),IF(Table1[[#This Row],[QTÉ A2]]>0,AB80*1,0),AB80*(Table1[[#This Row],[QTÉ A2]]))","v":0},{"$f":"IF(OR(B80=\"Voltage stabilizers\",B80=\"CCE temperature recorders_30 DTRs\",B80=\"RTM Device and Subscription\"),IF(Table1[[#This Row],[QTÉ A3]]>0,AB80*1,0),AB80*(Table1[[#This Row],[QTÉ A3]]))","v":0},{"$f":"IF(OR(B80=\"Voltage stabilizers\",B80=\"CCE temperature recorders_30 DTRs\",B80=\"RTM Device and Subscription\"),IF(Table1[[#This Row],[QTÉ A4]]>0,AB80*1,0),AB80*(Table1[[#This Row],[QTÉ A4]]))","v":0},{"$f":"IF(OR(B80=\"Voltage stabilizers\",B80=\"CCE temperature recorders_30 DTRs\",B80=\"RTM Device and Subscription\"),IF(Table1[[#This Row],[QTÉ A5]]>0,AB80*1,0),AB80*(Table1[[#This Row],[QTÉ A5]]))","v":0}]
[null,null,null,null,null,null,{"$f":"_xlfn.IFNA(INDEX('CCEOP Av Px_Min Floor & Cash '!$A$1:$B$300,MATCH(AA81,'CCEOP Av Px_Min Floor & Cash '!$A$1:$A$300,0),MATCH(Table1[[#Headers],[Prix unitaire moyen]],'CCEOP Av Px_Min Floor & Cash '!$A$1:$B$1,0)),\"\")","v":""},null,null,{"$f":"IFERROR(Table1[[#This Row],[Prix unitaire moyen]]+Table1[[#This Row],[Coût unitaire du groupe de services (dir. fournisseur)]]+Table1[[#This Row],[Coût unitaire du groupe de services (dir. pays)]],Table1[[#This Row],[Prix unitaire moyen]])","v":""},null,{"$f":"IFERROR(Table1[[#This Row],[Coût unitaire total]]*Table1[[#This Row],[QTÉ A1]],\"\")","v":""},null,{"$f":"IFERROR(Table1[[#This Row],[Coût unitaire total]]*Table1[[#This Row],[QTÉ A2]],\"\")","v":""},null,{"$f":"IFERROR(Table1[[#This Row],[Coût unitaire total]]*Table1[[#This Row],[QTÉ A3]],\"\")","v":""},null,{"$f":"IFERROR(Table1[[#This Row],[Coût unitaire total]]*Table1[[#This Row],[QTÉ A4]],\"\")","v":""},null,{"$f":"IFERROR(Table1[[#This Row],[Coût unitaire total]]*Table1[[#This Row],[QTÉ A5]],\"\")","v":""},{"$f":"Table1[[#This Row],[QTÉ A1]]+Table1[[#This Row],[QTÉ A2]]+Table1[[#This Row],[QTÉ A3]]+Table1[[#This Row],[QTÉ A4]]","v":0},{"$f":"IFERROR(Table1[[#This Row],[Coût total A1]]+Table1[[#This Row],[Coût total A2]]+Table1[[#This Row],[Coût total A3]]+Table1[[#This Row],[Coût total A4]]+Table1[[#This Row],[Coût total A5]],\"\")","v":""},{"$f":"IFERROR(Table1[[#This Row],[Budget total]]*(1-$F$6),\"\")","v":""},{"$f":"IFERROR(Table1[[#This Row],[Budget total]]*$F$6,\"\")","v":""},null,null,{"$f":"SUBSTITUTE(B81,\" \",\"\")&SUBSTITUTE(C81,\" \",\"\")&SUBSTITUTE(D81,\" \",\"\")&SUBSTITUTE(E81,\" \",\"\")&SUBSTITUTE(Table1[[#This Row],[Catégorie de prix moyen]],\" \",\"\")","v":""},0,{"$f":"IF(OR(B81=\"Voltage stabilizers\",B81=\"CCE temperature recorders_30 DTRs\",B81=\"RTM Device and Subscription\"),IF(Table1[[#This Row],[QTÉ A1]]>0,AB81*1,0),AB81*(Table1[[#This Row],[QTÉ A1]]))","v":0},{"$f":"IF(OR(B81=\"Voltage stabilizers\",B81=\"CCE temperature recorders_30 DTRs\",B81=\"RTM Device and Subscription\"),IF(Table1[[#This Row],[QTÉ A2]]>0,AB81*1,0),AB81*(Table1[[#This Row],[QTÉ A2]]))","v":0},{"$f":"IF(OR(B81=\"Voltage stabilizers\",B81=\"CCE temperature recorders_30 DTRs\",B81=\"RTM Device and Subscription\"),IF(Table1[[#This Row],[QTÉ A3]]>0,AB81*1,0),AB81*(Table1[[#This Row],[QTÉ A3]]))","v":0},{"$f":"IF(OR(B81=\"Voltage stabilizers\",B81=\"CCE temperature recorders_30 DTRs\",B81=\"RTM Device and Subscription\"),IF(Table1[[#This Row],[QTÉ A4]]>0,AB81*1,0),AB81*(Table1[[#This Row],[QTÉ A4]]))","v":0},{"$f":"IF(OR(B81=\"Voltage stabilizers\",B81=\"CCE temperature recorders_30 DTRs\",B81=\"RTM Device and Subscription\"),IF(Table1[[#This Row],[QTÉ A5]]>0,AB81*1,0),AB81*(Table1[[#This Row],[QTÉ A5]]))","v":0}]
[null,null,null,null,null,null,{"$f":"_xlfn.IFNA(INDEX('CCEOP Av Px_Min Floor & Cash '!$A$1:$B$300,MATCH(AA82,'CCEOP Av Px_Min Floor & Cash '!$A$1:$A$300,0),MATCH(Table1[[#Headers],[Prix unitaire moyen]],'CCEOP Av Px_Min Floor & Cash '!$A$1:$B$1,0)),\"\")","v":""},null,null,{"$f":"IFERROR(Table1[[#This Row],[Prix unitaire moyen]]+Table1[[#This Row],[Coût unitaire du groupe de services (dir. fournisseur)]]+Table1[[#This Row],[Coût unitaire du groupe de services (dir. pays)]],Table1[[#This Row],[Prix unitaire moyen]])","v":""},null,{"$f":"IFERROR(Table1[[#This Row],[Coût unitaire total]]*Table1[[#This Row],[QTÉ A1]],\"\")","v":""},null,{"$f":"IFERROR(Table1[[#This Row],[Coût unitaire total]]*Table1[[#This Row],[QTÉ A2]],\"\")","v":""},null,{"$f":"IFERROR(Table1[[#This Row],[Coût unitaire total]]*Table1[[#This Row],[QTÉ A3]],\"\")","v":""},null,{"$f":"IFERROR(Table1[[#This Row],[Coût unitaire total]]*Table1[[#This Row],[QTÉ A4]],\"\")","v":""},null,{"$f":"IFERROR(Table1[[#This Row],[Coût unitaire total]]*Table1[[#This Row],[QTÉ A5]],\"\")","v":""},{"$f":"Table1[[#This Row],[QTÉ A1]]+Table1[[#This Row],[QTÉ A2]]+Table1[[#This Row],[QTÉ A3]]+Table1[[#This Row],[QTÉ A4]]","v":0},{"$f":"IFERROR(Table1[[#This Row],[Coût total A1]]+Table1[[#This Row],[Coût total A2]]+Table1[[#This Row],[Coût total A3]]+Table1[[#This Row],[Coût total A4]]+Table1[[#This Row],[Coût total A5]],\"\")","v":""},{"$f":"IFERROR(Table1[[#This Row],[Budget total]]*(1-$F$6),\"\")","v":""},{"$f":"IFERROR(Table1[[#This Row],[Budget total]]*$F$6,\"\")","v":""},null,null,{"$f":"SUBSTITUTE(B82,\" \",\"\")&SUBSTITUTE(C82,\" \",\"\")&SUBSTITUTE(D82,\" \",\"\")&SUBSTITUTE(E82,\" \",\"\")&SUBSTITUTE(Table1[[#This Row],[Catégorie de prix moyen]],\" \",\"\")","v":""},0,{"$f":"IF(OR(B82=\"Voltage stabilizers\",B82=\"CCE temperature recorders_30 DTRs\",B82=\"RTM Device and Subscription\"),IF(Table1[[#This Row],[QTÉ A1]]>0,AB82*1,0),AB82*(Table1[[#This Row],[QTÉ A1]]))","v":0},{"$f":"IF(OR(B82=\"Voltage stabilizers\",B82=\"CCE temperature recorders_30 DTRs\",B82=\"RTM Device and Subscription\"),IF(Table1[[#This Row],[QTÉ A2]]>0,AB82*1,0),AB82*(Table1[[#This Row],[QTÉ A2]]))","v":0},{"$f":"IF(OR(B82=\"Voltage stabilizers\",B82=\"CCE temperature recorders_30 DTRs\",B82=\"RTM Device and Subscription\"),IF(Table1[[#This Row],[QTÉ A3]]>0,AB82*1,0),AB82*(Table1[[#This Row],[QTÉ A3]]))","v":0},{"$f":"IF(OR(B82=\"Voltage stabilizers\",B82=\"CCE temperature recorders_30 DTRs\",B82=\"RTM Device and Subscription\"),IF(Table1[[#This Row],[QTÉ A4]]>0,AB82*1,0),AB82*(Table1[[#This Row],[QTÉ A4]]))","v":0},{"$f":"IF(OR(B82=\"Voltage stabilizers\",B82=\"CCE temperature recorders_30 DTRs\",B82=\"RTM Device and Subscription\"),IF(Table1[[#This Row],[QTÉ A5]]>0,AB82*1,0),AB82*(Table1[[#This Row],[QTÉ A5]]))","v":0}]
[null,null,null,null,null,null,{"$f":"_xlfn.IFNA(INDEX('CCEOP Av Px_Min Floor & Cash '!$A$1:$B$300,MATCH(AA83,'CCEOP Av Px_Min Floor & Cash '!$A$1:$A$300,0),MATCH(Table1[[#Headers],[Prix unitaire moyen]],'CCEOP Av Px_Min Floor & Cash '!$A$1:$B$1,0)),\"\")","v":""},null,null,{"$f":"IFERROR(Table1[[#This Row],[Prix unitaire moyen]]+Table1[[#This Row],[Coût unitaire du groupe de services (dir. fournisseur)]]+Table1[[#This Row],[Coût unitaire du groupe de services (dir. pays)]],Table1[[#This Row],[Prix unitaire moyen]])","v":""},null,{"$f":"IFERROR(Table1[[#This Row],[Coût unitaire total]]*Table1[[#This Row],[QTÉ A1]],\"\")","v":""},null,{"$f":"IFERROR(Table1[[#This Row],[Coût unitaire total]]*Table1[[#This Row],[QTÉ A2]],\"\")","v":""},null,{"$f":"IFERROR(Table1[[#This Row],[Coût unitaire total]]*Table1[[#This Row],[QTÉ A3]],\"\")","v":""},null,{"$f":"IFERROR(Table1[[#This Row],[Coût unitaire total]]*Table1[[#This Row],[QTÉ A4]],\"\")","v":""},null,{"$f":"IFERROR(Table1[[#This Row],[Coût unitaire total]]*Table1[[#This Row],[QTÉ A5]],\"\")","v":""},{"$f":"Table1[[#This Row],[QTÉ A1]]+Table1[[#This Row],[QTÉ A2]]+Table1[[#This Row],[QTÉ A3]]+Table1[[#This Row],[QTÉ A4]]","v":0},{"$f":"IFERROR(Table1[[#This Row],[Coût total A1]]+Table1[[#This Row],[Coût total A2]]+Table1[[#This Row],[Coût total A3]]+Table1[[#This Row],[Coût total A4]]+Table1[[#This Row],[Coût total A5]],\"\")","v":""},{"$f":"IFERROR(Table1[[#This Row],[Budget total]]*(1-$F$6),\"\")","v":""},{"$f":"IFERROR(Table1[[#This Row],[Budget total]]*$F$6,\"\")","v":""},null,null,{"$f":"SUBSTITUTE(B83,\" \",\"\")&SUBSTITUTE(C83,\" \",\"\")&SUBSTITUTE(D83,\" \",\"\")&SUBSTITUTE(E83,\" \",\"\")&SUBSTITUTE(Table1[[#This Row],[Catégorie de prix moyen]],\" \",\"\")","v":""},0,{"$f":"IF(OR(B83=\"Voltage stabilizers\",B83=\"CCE temperature recorders_30 DTRs\",B83=\"RTM Device and Subscription\"),IF(Table1[[#This Row],[QTÉ A1]]>0,AB83*1,0),AB83*(Table1[[#This Row],[QTÉ A1]]))","v":0},{"$f":"IF(OR(B83=\"Voltage stabilizers\",B83=\"CCE temperature recorders_30 DTRs\",B83=\"RTM Device and Subscription\"),IF(Table1[[#This Row],[QTÉ A2]]>0,AB83*1,0),AB83*(Table1[[#This Row],[QTÉ A2]]))","v":0},{"$f":"IF(OR(B83=\"Voltage stabilizers\",B83=\"CCE temperature recorders_30 DTRs\",B83=\"RTM Device and Subscription\"),IF(Table1[[#This Row],[QTÉ A3]]>0,AB83*1,0),AB83*(Table1[[#This Row],[QTÉ A3]]))","v":0},{"$f":"IF(OR(B83=\"Voltage stabilizers\",B83=\"CCE temperature recorders_30 DTRs\",B83=\"RTM Device and Subscription\"),IF(Table1[[#This Row],[QTÉ A4]]>0,AB83*1,0),AB83*(Table1[[#This Row],[QTÉ A4]]))","v":0},{"$f":"IF(OR(B83=\"Voltage stabilizers\",B83=\"CCE temperature recorders_30 DTRs\",B83=\"RTM Device and Subscription\"),IF(Table1[[#This Row],[QTÉ A5]]>0,AB83*1,0),AB83*(Table1[[#This Row],[QTÉ A5]]))","v":0}]
[null,"Coût total des équipements et services",null,null,null,null,null,null,null,null,{"$f":"SUM(K$20:K83)","v":0},{"$f":"SUM(L$20:L83)","v":0},{"$f":"SUM(M$20:M83)","v":0},{"$f":"SUM(N$20:N83)","v":0},{"$f":"SUM(O$20:O83)","v":0},{"$f":"SUM(P$20:P83)","v":0},{"$f":"SUM(Q$20:Q83)","v":0},{"$f":"SUM(R$20:R83)","v":0},{"$f":"SUM(S$20:S83)","v":0},{"$f":"SUM(T$20:T83)","v":0},{"$f":"SUM(U$20:U83)","v":0},{"$f":"SUM(V$20:V83)","v":0},{"$f":"SUM(W$20:W83)","v":0},{"$f":"SUM(X$20:X83)","v":0},null,null,null,null,{"$f":"SUM(AC20:AC83)","v":0},{"$f":"SUM(AD20:AD83)","v":0},0,0,0]
[]
[null,"Coût total estimé du fret",null,null,null,null,null,null,null,null,1,{"$f":"AC84","v":0},null,{"$f":"AD84","v":0},null,{"$f":"AE84","v":0},null,{"$f":"AF84","v":0},null,{"$f":"AG84","v":0},null,{"$f":"SUM(L86,N86,P86,R86,T86)","v":0},{"$f":"V86*(1-$F$6)","v":0},{"$f":"V86*$F$6","v":0}]
[null,"Tampon (standard 6 %)",null,null,null,null,null,null,null,0.06,1,{"$f":"$J$87*(L$84+L86)*$K$87","v":0},null,{"$f":"$J$87*(N$84+N86)*$K$87","v":0},null,0,null,0,null,0,null,{"$f":"$J$87*(V$84+V86)*$K$87","v":0},0,0]
[null,"Frais de gestion de la Division des approvisionnements de l’UNICEF sur l’investissement conjoint du pays (8 % ou 8,5 %)",null,null,null,null,null,null,null,8.5000000000000006E-2,{"$f":"F6","v":0.1},{"$f":"$J$88*(L$84+L87+L86)*$K$88","v":0},null,{"$f":"$J$88*(N$84+N87+N86)*$K$88","v":0},null,{"$f":"$J$88*(P$84+P87+P86)*$K$88","v":0},null,{"$f":"$J$88*(R$84+R87+R86)*$K$88","v":0},null,0,null,{"$f":"$J$88*(V$84+V87+V86)*$K$88","v":0},0,{"$f":"V88","v":0}]
[null,null,null,null,null,null,null,null,null,null,null,{"$f":"SUM(L86:L88)","v":0},null,{"$f":"SUM(N86:N88)","v":0},null,0,null,0,null,0,null,{"$f":"SUM(V86:V88)","v":0},0,0]
[]
[null,"Coût de soutien aux programmes (CSP) totaux (coût des ECF et des services, du fret international, du tampon d’urgence, du CSP sur l’investissement conjoint du pays)",null,null,null,null,null,null,null,null,null,{"$f":"L84+L89","v":0},{"$f":"M84+M89","v":0},0,0,0,0,0,0,0,0,0,0,0]
[]
[]
[]
[null,"DÉPLOIEMENT DIRIGÉ PAR LE PAYS – FICHE RÉCAPITULATIVE"]
[]
[null,"Sommaire du pays"]
[null,"Catégorie de coût","Quantité","Élément de coût",null,"Coût total",null,"Coûts unitaires du groupe de services pour les déploiements dirigés par le pays"]
[null,"Sommaire des coûts SCD",{"$f":"'Budget GS dir. pays'!C44","v":0},"Frais de dédouanement",null,{"$f":"'Budget GS dir. pays'!F16","v":0},null,null,"Appliquez les coûts unitaires moyens du groupe de services en rouge ci-dessous pour SCD, RGR, DSTA, DSTD et DP dans l’outil de budgétisation POECF ci-dessus à la colonne I « Coût unitaire du groupe de services (dir. pays) »."]
[null,null,null,"Coûts d’entreposage et de distribution dans le pays",null,{"$f":"'Budget GS dir. pays'!F17","v":0}]
[null,null,null,"Coûts d’installation et de mise en service",null,{"$f":"'Budget GS dir. pays'!F18","v":0}]
[null,null,null,"Coûts de formation technique (si demandés)",null,{"$f":"'Budget GS dir. pays'!F20","v":0}]
[null,null,null,"Total",null,{"$f":"SUM(F99:F102)","v":0}]
[]
[null,"Sommaire des coûts RGR",{"$f":"'Budget GS dir. pays'!C45","v":0},"Frais de dédouanement",null,{"$f":"'Budget GS dir. pays'!G21","v":0}]
[null,null,null,"Coûts d’entreposage et de distribution dans le pays",null,{"$f":"'Budget GS dir. pays'!G22","v":0},null,null,"Coût unitaire total SCD",null,{"$f":"IF(C99=0,0,IF(ISERROR(K$121+K$128),0,(K$121+K$128))*(1.06))*(100%+$F$134)","v":0}]
[null,null,null,"Coûts d’installation et de mise en service",null,{"$f":"'Budget GS dir. pays'!G23","v":0}]
[null,null,null,"Coûts de formation technique (si demandés)",null,{"$f":"'Budget GS dir. pays'!G24","v":0},null,null,"Coût unitaire total RGR",null,{"$f":"IF(C105=0,0,IF(ISERROR(K$122+K$128),0,(K$122+K$128))*(1.06))*(100%+$F$134)","v":0}]
[null,null,null,"Total",null,{"$f":"SUM(F105:F108)","v":0}]
[]
[null,"Sommaire des coûts DSTA",{"$f":"'Budget GS dir. pays'!C46","v":0},"Frais de dédouanement",null,{"$f":"'Budget GS dir. pays'!H25","v":0},null,null,"Coût unitaire total DSTA",null,{"$f":"IF(C111=0,0,IF(ISERROR(K$123+K$128),0,(K$123+K$128))*(1.06))*(100%+$F$134)","v":0}]
[null,null,null,"Coûts d’entreposage et de distribution dans le pays",null,{"$f":"'Budget GS dir. pays'!H26","v":0}]
[null,null,null,"Coûts de formation technique (si demandés)",null,{"$f":"'Budget GS dir. pays'!H27","v":0},null,null,"Coût unitaire total DSTD",null,{"$f":"IF(C116=0,0,IF(ISERROR(K$125+K$128),0,(K$125+K$128))*(1.06))*(100%+$F$134)","v":0}]
[null,null,null,"Total",null,{"$f":"SUM(F111:F113)","v":0}]
[]
[null,"Sommaire des coûts DSTD (autonome)",{"$f":"'Budget GS dir. pays'!C47","v":0},"Coûts d’entreposage et de distribution dans le pays",null,{"$f":"'Budget GS dir. pays'!I28","v":0},null,null,"Coût unitaire total DP",null,{"$f":"IF(C121=0,0,IF(ISERROR(K$126+K$128),0,(K$126+K$128))*(1.06))*(100%+$F$134)","v":0}]
[null,null,null,"Coûts d’installation et de mise en service",null,{"$f":"'Budget GS dir. pays'!I29","v":0}]
[null,null,null,"Coûts de formation technique (si demandés)",null,{"$f":"'Budget GS dir. pays'!I30","v":0}]
[null,null,null,"Total",null,{"$f":"SUM(F116:F118)","v":0},null,null,"Quantité totale d’équipement",null,{"$f":"$C$99+$C$105+$C$111+$C$116+$C$121","v":0}]
[]
[null,"Sommaire des coûts - dispositifs passifs",{"$f":"'Budget GS dir. pays'!C48","v":0},"Frais de dédouanement",null,{"$f":"'Budget GS dir. pays'!J31","v":0},null,null,"Coût unitaire SCD",null,{"$f":"IF(ISERROR($F$103/$C$99),0,$F$103/$C$99)","v":0}]
[null,null,null,"Coûts d’entreposage et de distribution dans le pays",null,{"$f":"'Budget GS dir. pays'!J32","v":0},null,null,"Coût unitaire RGR",null,{"$f":"IF(ISERROR($F$109/$C$105),0,$F$109/$C$105)","v":0}]
[null,null,null,"Total",null,{"$f":"SUM(F121:F122)","v":0},null,null,"Coût unitaire DSTA",null,{"$f":"IF(ISERROR($F$114/$C$111),0,$F$114/$C$111)","v":0}]
[]
[null,"Trousse à outils pour techniciens",null,"Veillez à ce que les trousses à outils soient budgétisées dans le modèle principal de RSS",null,null,null,null,"Coût unitaire DSTD (autonome)",null,{"$f":"IF(ISERROR($F$119/$C$116),0,$F$119/$C$116)","v":0}]
[null,null,null,null,null,{"$f":"C125*F125","v":0},null,null,"Coût unitaire DP",null,{"$f":"IF(ISERROR($F$123/C121),0,$F$123/C121)","v":0}]
[]
[null,"Gestion de projet",{"$f":"C99+C105+C111+C116+C121","v":0},"Agence responsable de la gestion de projet ",null,{"$f":"'Budget GS dir. pays'!F7+'Budget GS dir. pays'!F8","v":0},null,null,"Coût unitaire de la gestion de projet",null,{"$f":"IF(ISERROR(($F$130)/$K$119),0,(($F$130)/$K$119))","v":0}]
[null,null,null,"Inspec. post-instal. (an 1 - nouveaux pays)",null,{"$f":"'Budget GS dir. pays'!F9","v":0},null,null,"Tampon 6 % du coût unitaire",null,{"$f":"IF(ISERROR(($F$133)/$K$119),0,(($F$133)/$K$119))","v":0}]
[null,null,null,"Total",null,{"$f":"SUM(F128:F129)","v":0},null,null,"CSP 8 % ou 5 % du coût unitaire",null,{"$f":"IF(ISERROR(($F$135)/$K$119),0,(($F$135)/$K$119))","v":0}]
[]
[null,"Sous-total",null,null,null,{"$f":"F103+F109+F114+F119+F123+F126+F130","v":0},null,null,"Les coûts du tampon/CSP sont inclus dans le coût unitaire."]
[null,"Tampon d’urgence 6 %",null,null,null,{"$f":"F132*0.06","v":0}]
[null,"CSP % ",null,null,null,0.08]
[null,"CSP total",null,"Accords - tripartite (5 %) ; bilatéral (8 %)",null,{"$f":"F134*(F132)","v":0}]
[]
[null,"TOTAL GÉNÉRAL",null,null,null,{"$f":"F132+F133+F135","v":0},null,0.08]
[null,null,null,null,null,null,null,0.08]

{"sheet":"Budget GS dir. pays","index":13,"n_rows":77,"n_cols":25,"rows_kept":77,"cut":false,"hidden":true,"merged":[[20,1,23,1],[4,1,4,5],[6,1,7,1],[9,2,9,4],[13,1,13,5],[15,1,19,1],[59,13,59,17],[59,18,59,22],[24,1,26,1],[27,1,29,1],[30,1,31,1],[32,2,32,4],[59,3,59,7],[59,8,59,12]]}
[null,"BUDGET DU GROUPE DE SERVICES DIRIGÉ PAR LE PAYS"]
[]
[null,"I. Budget de gestion de projet "]
[]
[null,"Coûts de gestion de projet"]
[null,"Catégorie de coût","Élément de coût","Coût unitaire","Nombre d’unités","Coût total","Source du prix\n(obligatoire)","Commentaires"]
[null,"Agence responsable de la gestion de projet\n(selon le cas)","Gestion financière bur. pays - personnel",null,null,{"$f":"D7*E7","v":0}]
[null,null,"Gestion de projet bur. pays - personnel",null,null,0]
[null,"Inspection après installation \n(an 1 - nouveaux pays)","3PL indépendant sous contrat local",null,null,0]
[null,null,"Total",null,null,{"$f":"SUM(F7:F9)","v":0}]
[]
[null,"II. Modèle pour les équipements de la chaîne du froid"]
[]
[null,"Réfrigérateurs/congélateurs/combinés à gaine réfrigérante/solaires à connexion directe, DSTA, DSTD, dispositifs passifs"]
[null,"Déploiement dirigé par le pays","Élément de coût","Coût unitaire","Nombre d’unités","Coût total SCD","Coût total RGR","Coût total DSTA","Coût total DSTD","Coût total dispositifs passifs"]
[null,"SCD \n","Frais de dédouanement",{"$f":"H41","v":0},{"$f":"$C$44","v":0},{"$f":"D16*E16","v":0}]
[null,null,"Coûts d’entreposage et de distribution dans le pays",{"$f":"K44","v":0},{"$f":"$C$44","v":0},{"$f":"D17*E17","v":0}]
[null,null,"Coûts d’installation et de mise en service (montage sur toit)",{"$f":"L52","v":0},{"$f":"$C$52","v":0},0]
[null,null,"Coûts d’installation et de mise en service (montage sur support)",{"$f":"L53","v":0},{"$f":"$C$53","v":0},0]
[null,null,"Coûts de formation technique (si demandés)",{"$f":"H77","v":0},{"$f":"$H$70","v":0},0]
[null,"RGR\n","Frais de dédouanement",{"$f":"I41","v":0},{"$f":"$C$45","v":0},null,{"$f":"D21*E21","v":0}]
[null,null,"Coûts d’entreposage et de distribution dans le pays",{"$f":"K45","v":0},{"$f":"$C$45","v":0},null,{"$f":"D22*E22","v":0}]
[null,null,"Coûts d’installation et de mise en service",{"$f":"L54","v":0},{"$f":"$C$54","v":0},null,0]
[null,null,"Coûts de formation technique (si demandés)",{"$f":"M77","v":0},{"$f":"$M$72","v":0},null,0]
[null,"Dispositifs de stockage des vaccins transportables et alimentés (DSTA)","Frais de dédouanement",{"$f":"J40","v":0},{"$f":"$C$46","v":0},null,null,{"$f":"D25*E25","v":0}]
[null,null,"Coûts d’entreposage et de distribution dans le pays",{"$f":"K46","v":0},{"$f":"$C$46","v":0},null,null,{"$f":"D26*E26","v":0}]
[null,null,"Coûts de formation technique (si demandés)",{"$f":"R77","v":0},{"$f":"$R$74","v":0},null,null,{"$f":"D27*E27","v":0}]
[null,"DSTD (autonome)","Coûts d’entreposage et de distribution dans le pays (uniquement pour les appareils autonomes sans ECF)",{"$f":"K47","v":0},{"$f":"$C$47","v":0},null,null,null,{"$f":"D28*E28","v":0}]
[null,null,"Coûts d’installation et de mise en service",{"$f":"L55","v":0},{"$f":"$C$55","v":0},null,null,null,{"$f":"D29*E29","v":0}]
[null,null,"Coûts de formation technique (si demandés)",{"$f":"W77","v":0},{"$f":"$W$76","v":0},null,null,null,{"$f":"D30*E30","v":0}]
[null,"Dispositifs passifs (y compris DPLT)","Frais de dédouanement",{"$f":"K41","v":0},{"$f":"$C$48","v":0},null,null,null,null,{"$f":"D31*E31","v":0}]
[null,null,"Coûts d’entreposage et de distribution dans le pays",{"$f":"K48","v":0},{"$f":"$C$48","v":0},null,null,null,null,{"$f":"D32*E32","v":0}]
[null,null,"Total",null,null,{"$f":"SUM(F16:F20)","v":0},{"$f":"SUM(G21:G24)","v":0},{"$f":"SUM(H25:H27)","v":0},{"$f":"SUM(I28:I30)","v":0},{"$f":"SUM(J31:J32)","v":0}]
[]
[]
[]
[null,"III. VENTILATION DÉTAILLÉE DES COÛTS UNITAIRES DES ECF "]
[]
[null,"Frais de dédouanement","Coût par conteneur","Nombre de SCD par conteneur","Nombre de RGR par conteneur","Nombre de DSTA par conteneur","Nombre de DP par conteneur","Coût en $US par SCD","Coût en $US par RGR","Coût en $US par DSTA","Coûts en $US par DP","Source du prix\n(obligatoire)","Commentaires"]
[null,"Frais de dédouanement",null,null,null,null,null,{"$f":"IF(ISERROR(C40/D40),0,C40/D40)","v":0},{"$f":"IF(ISERROR(C40/E40),0,C40/E40)","v":0},{"$f":"IF(ISERROR(C40/F40),0,C40/F40)","v":0},{"$f":"IF(ISERROR(C40/G40),0,C40/G40)","v":0}]
[null,null,null,null,null,null,null,{"$f":"SUM(H40:H40)","v":0},{"$f":"SUM(I40:I40)","v":0},{"$f":"SUM(J40:J40)","v":0},0]
[]
[null,"Coûts de distribution","UNITÉS","Coûts d’entreposage ($US)","Coûts d’assurance ($US)","Coût de chargement et de déchargement ($US)","Coûts de transport du centre national aux centres provinciaux","Coût de transport des centres provinciaux aux établissements de santé","Coût total de distribution du centre national jusqu’au point de service","Coût total ($US)","Coût unitaire\n \n($US)","Source du prix (obligatoire)","Commentaires"]
[null,"Total SCD",{"$f":"SUMIFS(Table1[QTÉ totale],Table1[Équipements et services éligibles au POECF],\"Solaire à connexion directe_Réfrigérateurs et congélateurs SCD\")","v":0},null,null,null,null,null,{"$f":"D44+E44+F44+G44+H44","v":0},{"$f":"I44*C44","v":0},{"$f":"IF(ISERROR(J44/C44),0,J44/C44)","v":0}]
[null,"Total RGR",{"$f":"SUMIFS(Table1[QTÉ totale],Table1[Équipements et services éligibles au POECF],\"Réfrigérateurs et congélateurs sur secteur\")","v":0},null,null,null,null,null,{"$f":"D45+E45+F45+G45+H45","v":0},{"$f":"I45*C45","v":0},{"$f":"IF(ISERROR(J45/C45),0,J45/C45)","v":0}]
[null,"Total DSTA",{"$f":"SUMIFS(Table1[QTÉ totale],Table1[Équipements et services éligibles au POECF],\"Dispositifs de stockage des vaccins transportables et alimentés_DSTA\")","v":0},null,null,null,null,null,{"$f":"D46+E46+F46+G46+H46","v":0},{"$f":"I46*C46","v":0},{"$f":"IF(ISERROR(J46/C46),0,J46/C46)","v":0}]
[null,"Total DSTD (seulement pour les dispositifs autonomes sans ECF)",{"$f":"SUMIFS(Table1[QTÉ totale],Table1[Équipements et services éligibles au POECF],\"Dispositif et abonnement STD\")","v":0},null,null,null,null,null,{"$f":"D47+E47+F47+G47+H47","v":0},{"$f":"I47*C47","v":0},{"$f":"IF(ISERROR(J47/C47),0,J47/C47)","v":0}]
[null,"Dispositifs passifs (y compris DPLT)",{"$f":"SUMIFS(Table1[QTÉ totale],Table1[Équipements et services éligibles au POECF],\"Dispositifs passifs à long terme_DPLT\")","v":0},null,null,null,null,null,{"$f":"D48+E48+F48+G48+H48","v":0},{"$f":"I48*C48","v":0},{"$f":"IF(ISERROR(J48/C48),0,J48/C48)","v":0}]
[null,null,{"$f":"SUM(C44:C48)","v":0},null,null,null,null,null,null,{"$f":"SUM(J44:J48)","v":0}]
[]
[null,"Coûts d’installation","UNITÉS","Nombre de jours nécessaires à l’installation","Indemnités journalières ($US)","Coûts de déplacement ($US)","Travaux de génie civil (montage sur support uniquement)","Total indemnités journalières ($US)","Total coûts de déplacement ($US)","Total travaux de génie civil (support)","Coût total ($US)","Coût unitaire \n($US)","Source du prix (obligatoire)","Commentaires"]
[null,"Total SCD",null,null,null,null,null,{"$f":"C52*D52*E52","v":0},{"$f":"C52*F52","v":0},null,{"$f":"H52+I52","v":0},{"$f":"IF(ISERROR(K52/C52),0,K52/C52)","v":0}]
[null,"Total SCD (support) ",null,null,null,null,null,{"$f":"C53*D53*E53","v":0},{"$f":"C53*F53","v":0},{"$f":"C53*G53","v":0},{"$f":"H53+I53+J53","v":0},{"$f":"IF(ISERROR(K53/C53),0,K53/C53)","v":0}]
[null,"Total RGR",{"$f":"C45","v":0},null,null,null,null,{"$f":"C54*D54*E54","v":0},{"$f":"C54*F54","v":0},null,{"$f":"H54+I54","v":0},{"$f":"IF(ISERROR(K54/C54),0,K54/C54)","v":0}]
[null,"Total DSTD (seulement pour les dispositifs autonomes sans ECF)",{"$f":"C47","v":0},null,null,null,null,{"$f":"C55*D55*E55","v":0},{"$f":"C55*F55","v":0},null,{"$f":"H55+I55","v":0},{"$f":"IF(ISERROR(K55/C55),0,K55/C55)","v":0}]
[null,null,{"$f":"SUM(C52:C55)","v":0},null,null,null,null,null,null,null,{"$f":"SUM(K52:K55)","v":0}]
[]
[null,"IV. VENTILATION DÉTAILLÉE DES COÛTS DE FORMATION, selon le cas",null,null,"[La formation à l’installation d’ECF comprend les DSTD, le cas échéant, et la maintenance préventive et curative]"]
[]
[null,"Estimations sur la formation",null,"SCD",null,null,null,null,"RGR",null,null,null,null,"DSTA",null,null,null,null,"DSTD (autonome)"]
[null,"Description","Nombre de participants","Coût unitaire \n($US)","Nombre de formations","Nombre de jours par formation","Nombre total de jours de formation","Coût total \n($US)","Coût unitaire \n($US)","Nombre de formations","Nombre de jours par formation","Nombre total de jours de formation","Coût total \n($US)","Coût unitaire \n($US)","Nombre de formations","Nombre de jours par formation","Nombre total de jours de formation","Coût total \n($US)","Coût unitaire \n($US)","Nombre de formations","Nombre de jours par formation","Nombre total de jours de formation","Coût total \n($US)","Source du prix (obligatoire)","Commentaires"]
[null,"Coût du formateur @XXX $ par jour",null,null,null,null,{"$f":"E62*F62","v":0},{"$f":"D62*G62","v":0},null,null,null,{"$f":"J62*K62","v":0},{"$f":"I62*L62","v":0},null,null,null,{"$f":"O62*P62","v":0},{"$f":"N62*Q62","v":0},null,null,null,{"$f":"T62*U62","v":0},{"$f":"S62*V62","v":0}]
[null,"Frais de déplacement du formateur",null,null,null,null,null,{"$f":"D63","v":0},null,null,null,null,{"$f":"I63","v":0},null,null,null,null,{"$f":"N63","v":0},null,null,null,null,{"$f":"S63","v":0}]
[null,"Indemnité journalière du formateur",null,null,null,null,{"$f":"E64*F64","v":0},{"$f":"D64*G64","v":0},null,null,null,{"$f":"J64*K64","v":0},{"$f":"I64*L64","v":0},null,null,null,{"$f":"O64*P64","v":0},{"$f":"N64*Q64","v":0},null,null,null,{"$f":"T64*U64","v":0},{"$f":"S64*V64","v":0}]
[null,"Frais de déplacement des participants",null,null,null,null,{"$f":"E65*F65","v":0},{"$f":"C65*(D65*G65)","v":0},null,null,null,{"$f":"J65*K65","v":0},{"$f":"C65*(I65*L65)","v":0},null,null,null,{"$f":"O65*P65","v":0},0,null,null,null,{"$f":"T65*U65","v":0},0]
[null,"Indemnité journalière locale des participants",null,null,null,null,{"$f":"E66*F66","v":0},{"$f":"C66*(D66*G66)","v":0},null,null,null,0,{"$f":"C66*(I66*L66)","v":0},null,null,null,0,0,null,null,null,0,0]
[null,"Coût du lieu",null,null,null,null,0,{"$f":"D67*G67","v":0},null,null,null,0,{"$f":"I67*L67","v":0},null,null,null,0,0,null,null,null,0,0]
[]
[null,"Coût total de la formation SCD",null,null,null,null,null,{"$f":"SUM(H62:H67)","v":0}]
[null,"Nombre total SCD"]
[null,"Coût total de la formation RGR",null,null,null,null,null,null,null,null,null,null,{"$f":"SUM(M62:M67)","v":0}]
[null,"Nombre total de RGR"]
[null,"Coût total de la formation DSTA",null,null,null,null,null,null,null,null,null,null,null,null,null,null,null,{"$f":"SUM(R62:R67)","v":0}]
[null,"Nombre total de DSTA"]
[null,"Coût total des DSTD (autonome)",null,null,null,null,null,null,null,null,null,null,null,null,null,null,null,null,null,null,null,null,{"$f":"SUM(W62:W67)","v":0}]
[null,"Nombre total de DSTD (autonome)"]
[null,"Coût unitaire par SCD/RGR",null,null,null,null,null,{"$f":"IF(ISERROR(H69/H70),0,H69/H70)","v":0},null,null,null,null,{"$f":"IF(ISERROR(M71/M72),0,M71/M72)","v":0},null,null,null,null,{"$f":"IF(ISERROR(R73/R74),0,R73/R74)","v":0},null,null,null,null,{"$f":"IF(ISERROR(W75/W76),0,W75/W76)","v":0}]

{"sheet":"CCEOP Price List","index":14,"n_rows":111,"n_cols":10,"rows_kept":111,"cut":false,"hidden":true,"merged":[[1,6,1,8]]}
[]
[null,null,null,null,null,null,"Average unit prices"]
[null,"No.","Équipements et services éligibles à la POECF financés par la subvention en espèces","Type","Type/description SSE","Capacity","Low","Medium","High"]
[null,1,"Réfrigérateurs sur secteur (RGR)","Réfrigérateur","SSE N2","30-<60L",1604.4682500000001,2349.3912553125001,3401.4726900000001,4]
[null,2,"Réfrigérateurs sur secteur (RGR)","Réfrigérateur","SSE N2","60-<120L",2005.5853125000001,2811.7090574999997,3704.8630499999999,5]
[null,3,"Réfrigérateurs sur secteur (RGR)","Réfrigérateur","SSE N2",">-120L",2127.1359375000002,3575.1685331250001,5062.8266324999995,6]
[null,4,"Réfrigérateurs sur secteur (RGR)","Réfrigérateur","SSE N3 + abonnements","30-<60L",2123.1357500000004,2868.0587553125001,3920.1401900000001,7]
[null,5,"Réfrigérateurs sur secteur (RGR)","Réfrigérateur","SSE N3 + abonnements","60-<120L",2524.2528124999999,3330.3765574999998,4223.5305499999995,8]
[null,6,"Réfrigérateurs sur secteur (RGR)","Réfrigérateur","SSE N3 + abonnements",">-120L",2645.8034375000002,4093.8360331250001,5581.4941325,9]
[null,7,"Réfrigérateurs sur secteur (RGR)","Congélateur",null,"90-<150L",747.53634375000001,1213.6424737499999,1702.1949524999998,10]
[null,8,"Réfrigérateurs sur secteur (RGR)","Congélateur",null,">-150L",856.93190625,1377.5940084375,1986.6234149999998,11]
[null,9,"Réfrigérateurs sur secteur (RGR)","Congélateur",null,"90-<150L",null,null,null,12]
[null,10,"Réfrigérateurs sur secteur (RGR)","Congélateur",null,">-150L",null,null,null,13]
[null,11,"Réfrigérateurs sur secteur (RGR)","Combiné","SSE N2","30-<60L",2042.0505000000001,2427.36598125,2812.6814625000002,14]
[null,12,"Réfrigérateurs sur secteur (RGR)","Combiné","SSE N2","60-<120L",2309.461875,4644.7735162499994,7765.6263300000001,15]
[null,13,"Réfrigérateurs sur secteur (RGR)","Combiné","SSE N2",">-120L",3389,3754.175340625,4119.35068125,16]
[null,14,"Réfrigérateurs sur secteur (RGR)","Combiné","SSE N3 + abonnements","30-<60L",2560.7179999999998,2946.03348125,3331.3489625000002,17]
[null,15,"Réfrigérateurs sur secteur (RGR)","Combiné","SSE N3 + abonnements","60-<120L",2828.129375,5163.4410162499989,8284.2938300000005,18]
[null,16,"Réfrigérateurs sur secteur (RGR)","Combiné","SSE N3 + abonnements",">-120L",3907.6675,4272.8428406250005,4638.0181812499995,19]
[null,17,"Réfrigérateurs sur secteur (RGR)",null,"SSE N2",null,null,null,null,20]
[null,18,"Réfrigérateurs sur secteur (RGR)",null,"SSE N2",null,null,null,null,21]
[null,19,"Réfrigérateurs sur secteur (RGR)",null,"SSE N2",null,null,null,null,22]
[null,20,"Réfrigérateurs sur secteur (RGR)",null,"SSE N2",null,null,null,null,23]
[null,21,"Réfrigérateurs sur secteur (RGR)",null,"SSE N2",null,null,null,null,24]
[null,22,"Réfrigérateurs sur secteur (RGR)",null,"SSE N2",null,null,null,null,25]
[null,23,"Réfrigérateurs sur secteur (RGR)",null,"SSE N3 + abonnements",null,null,null,null,26]
[null,24,"Réfrigérateurs sur secteur (RGR)",null,"SSE N3 + abonnements",null,null,null,null,27]
[null,25,"Réfrigérateurs sur secteur (RGR)",null,"SSE N3 + abonnements",null,null,null,null,28]
[null,26,"Réfrigérateurs sur secteur (RGR)",null,"SSE N3 + abonnements",null,null,null,null,29]
[null,27,"Réfrigérateurs sur secteur (RGR)",null,"SSE N3 + abonnements",null,null,null,null,30]
[null,28,"Réfrigérateurs sur secteur (RGR)",null,"SSE N3 + abonnements",null,null,null,null,31]
[null,29,"Réfrigérateurs/congélateurs solaires à connexion directe (SCD)","Réfrigérateur","SSE N2","30-<60L",3494.5804687499999,4775.1568199999992,6451.4209724999992,32]
[null,30,"Réfrigérateurs/congélateurs solaires à connexion directe (SCD)","Réfrigérateur","SSE N2","60-<120L",5368.8911062500001,6574.8353737500001,7380.5539500000004,33]
[null,31,"Réfrigérateurs/congélateurs solaires à connexion directe (SCD)","Réfrigérateur","SSE N2",">-120L",5869.6796812499997,7284.85309125,8319.8971799999999,34]
[null,32,"Réfrigérateurs/congélateurs solaires à connexion directe (SCD)","Réfrigérateur","SSE N3 + abonnements","30-<60L",4013.2479687499999,5293.8243199999997,6970.0884724999996,35]
[null,33,"Réfrigérateurs/congélateurs solaires à connexion directe (SCD)","Réfrigérateur","SSE N3 + abonnements","60-<120L",5887.5586062500006,7093.5028737499997,7899.2214500000009,36]
[null,34,"Réfrigérateurs/congélateurs solaires à connexion directe (SCD)","Réfrigérateur","SSE N3 + abonnements",">-120L",6388.3471812499993,7803.5205912500005,8838.5646799999995,37]
[null,35,"Réfrigérateurs/congélateurs solaires à connexion directe (SCD)","Congélateur",null,"30-<120L",2856.4396875000002,3691.2493800000002,4526.0590725000002,38]
[null,36,"Réfrigérateurs/congélateurs solaires à connexion directe (SCD)","Congélateur",null,"30-<120L",null,null,null,39]
[null,37,"Réfrigérateurs/congélateurs solaires à connexion directe (SCD)","Combiné","SSE N2","30-<60L",3768.069375,7769.1756082499996,10324.023885000001,40]
[null,38,"Réfrigérateurs/congélateurs solaires à connexion directe (SCD)","Combiné","SSE N2","60-<120L",7920.2387250000002,9584.5098825000005,11345.049135000001,41]
[null,39,"Réfrigérateurs/congélateurs solaires à connexion directe (SCD)","Combiné","SSE N2",">-120L",5384.6926874999999,6812.3047781249998,8239.9168687500005,42]
[null,40,"Réfrigérateurs/congélateurs solaires à connexion directe (SCD)","Combiné","SSE N3 + abonnements","30-<60L",4286.7368750000005,8287.8431082499992,10842.691385,43]
[null,41,"Réfrigérateurs/congélateurs solaires à connexion directe (SCD)","Combiné","SSE N3 + abonnements","60-<120L",8438.9062250000006,10103.1773825,11863.716635000001,44]
[null,42,"Réfrigérateurs/congélateurs solaires à connexion directe (SCD)","Combiné","SSE N3 + abonnements",">-120L",5903.3601875000004,7330.9722781250002,8758.5843687500001,45]
[null,43,"Réfrigérateurs/congélateurs solaires à connexion directe (SCD)",null,"SSE N2",null,null,null,null,46]
[null,44,"Réfrigérateurs/congélateurs solaires à connexion directe (SCD)",null,"SSE N2",null,null,null,null,47]
[null,45,"Réfrigérateurs/congélateurs solaires à connexion directe (SCD)",null,"SSE N2",null,null,null,null,48]
[null,46,"Réfrigérateurs/congélateurs solaires à connexion directe (SCD)",null,"SSE N2",null,null,null,null,49]
[null,47,"Réfrigérateurs/congélateurs solaires à connexion directe (SCD)",null,"SSE N2",null,null,null,null,50]
[null,48,"Réfrigérateurs/congélateurs solaires à connexion directe (SCD)",null,"SSE N2",null,null,null,null,51]
[null,49,"Réfrigérateurs/congélateurs solaires à connexion directe (SCD)",null,"SSE N3 + abonnements",null,null,null,null,52]
[null,50,"Réfrigérateurs/congélateurs solaires à connexion directe (SCD)",null,"SSE N3 + abonnements",null,null,null,null,53]
[null,51,"Réfrigérateurs/congélateurs solaires à connexion directe (SCD)",null,"SSE N3 + abonnements",null,null,null,null,54]
[null,52,"Réfrigérateurs/congélateurs solaires à connexion directe (SCD)",null,"SSE N3 + abonnements",null,null,null,null,55]
[null,53,"Réfrigérateurs/congélateurs solaires à connexion directe (SCD)",null,"SSE N3 + abonnements",null,null,null,null,56]
[null,54,"Réfrigérateurs/congélateurs solaires à connexion directe (SCD)",null,"SSE N3 + abonnements",null,null,null,null,57]
[null,55,"Dispositifs passifs à long terme (DPLT)","SO","SO","5-<10L",2393,2512.65,2632.3,58]
[null,56,"Porte vaccins avec prévention du gel","SO","SO","1-<2L",38.542857142857144,42.695970446428575,46.849083750000005,59]
[null,57,"Porte vaccins avec prévention du gel","SO","SO","2-<5L",47.7,52.8398240625,57.979648125000004,60]
[null,58,"Glacières avec prévention du gel ","SO","SO","5L - < 10L",null,null,null,61]
[null,59,"Glacières avec prévention du gel ","SO","SO","20L - < 25L",234,259.14999999999998,284.3,62]
[null,60,"Dispositifs de surveillance de la température (ET30J) ","SO","SO","NA",83.567499999999995,92.572159273437492,101.57681854687499,63]
[null,61,"Dispositifs de surveillance de la température à distance (DSTD) ","Réfrigérateur","SO","NA",527.34333487499998,584.1662271557027,640.98911943640542,64]
[null,62,"Dispositifs de surveillance de la température à distance (DSTD) ","CFAD/RÉF","SO","NA",1340.616,1485.071563425,1629.5271268500001,65]
[null,63,"Régulateurs de tension","Réfrigérateur","SO","NA",250,277,303.87656249999998,66]
[null,64,"Régulateurs de tension",null,"SO","NA",null,null,null,67]
[null,65,"Pièces de rechange pour les ECF (sur secteur) éligibles au POECF","Réfrigérateur","SO","NA",457.63,506.94106259375002,556.25212518750004,68]
[null,66,"Pièces de rechange pour les ECF (sur secteur) éligibles au POECF","Congélateur","SO","NA",184,203.82657499999999,223.65315000000001,69]
[null,67,"Pièces de rechange pour les ECF (sur secteur) éligibles au POECF","Combiné","SO","NA",502.27,556.39116209374993,610.51232418749998,70]
[null,68,"Pièces de rechange pour les ECF (SCD) éligibles au POECF","Réfrigérateur","SO","NA",557.9,618.01546843749998,678.13093687499997,71]
[null,69,"Pièces de rechange pour les ECF (SCD) éligibles au POECF","Congélateur","SO","NA",457.63,506.94106259375002,556.25212518750004,72]
[null,70,"Pièces de rechange pour les ECF (SCD) éligibles au POECF","Combiné","SO","NA",708,784.28921250000008,860.57842500000004,73]
[null,71,"Pièces de rechange pour les ECF (SCD) éligibles au POECF",null,"SO","NA",null,null,null,74]
[null,72,"Formations autonomes (SSE)","Réfrigérateur","En personne","NA",null,null,null,75]
[null,73,"Formations autonomes (SSE)","Réfrigérateur","À distance","NA",null,null,null,76]
[null,74,"Formations autonomes (SSE)",null,"En personne","NA",null,null,null,77]
[null,75,"Formations autonomes (SSE)",null,"À distance","NA",null,null,null,78]
[null,76,null,null,null,null,null,null,null,79]
[null,77,"Formations autonomes (DSTD)","Réfrigérateur","En personne","NA",8400,8800,9200,80]
["0 - < 5L",78,"Formations autonomes (DSTD)","Réfrigérateur","À distance","NA",2625,2750,2875,81]
[null,79,"Formations autonomes (DSTD)","CFAD/RÉF","En personne","NA",8400,8800,9200,82]
[null,80,"Formations autonomes (DSTD)","CFAD/RÉF","À distance","NA",3150,3300.0000000000005,3449.9999999999995,83]
[null,81,"Formations autonomes (maintenance)","Réfrigérateur","En personne","NA",19425,20350,21275,84]
[null,82,"Formations autonomes (maintenance)","Réfrigérateur","À distance","NA",null,null,null,85]
[null,83,"Formations autonomes (maintenance)","CFAD/RÉF","En personne","NA",{"$f":"G84/2","v":9712.5},{"$f":"H84/2","v":10175},10637.5,86]
[null,84,"Formations autonomes (maintenance)","CFAD/RÉF","À distance","NA",null,null,null,87]
[null,85,"Abonnements annuels aux données (DSTD)","Réfrigérateur","SO","NA",208.5,230.95165400787067,253.40330801574137,88]
[null,86,null,null,null,null,null,null,null,89]
[null,87,"Abonnements annuels aux données (DSTD)","CFAD/RÉF","SO","NA",404,447.84366099502068,491.68732199004137,90]
[null,88,null,null,null,null,null,null,null,91]
[null,89,"Abonnements annuels aux données (SSE)","Réfrigérateur","SO","NA",518.70000000000005,574.16499999999996,629.63,92]
[null,90,"Abonnements annuels aux données (SSE)",null,"SO","NA",null,0,null,93]
[null,91,"Pains de glace","SO","SO","0.3L",0.30142857142857149,0.33390844196428582,0.36638831250000009,94]
[null,92,"Pains de glace","SO","SO","0.4L",0.39400000000000002,0.43645473125000001,0.47890946250000005,95]
[null,93,"Pains de glace","SO","SO","0.6L",9,9.9697781250000013,10.939556250000001,96]
[null,94,null,null,null,null,null,null,null,97]
[null,95,null,null,null,null,null,null,null,98]
[null,96,null,null,null,null,null,null,null,99]
[null,97,"Dispositifs de stockage des vaccins transportables et alimentés (DSTA)","Porte vaccins","SO","0-<5L",2073.75,2177.4375,2281.125,100]
[null,98,"Dispositifs de stockage des vaccins transportables et alimentés (DSTA)","Chargeur","SO","NA",3045,3197.25,3349.5,101]
[null,99,"Support de panneau solaire pour SCD","Matériel","SO","NA",1468.44,1626.6689988749999,1784.8979977500001,102]
[null,100,null,null,null,null,null,null,null,103]
[null,101,"Porte vaccins conventionnels","SO","SO","1-<2L",13.3,14.75,16.2,104]
[null,102,"Porte vaccins conventionnels","SO","SO","2-<5L",21.6,23.925000000000001,26.25,105]
[null,103,"Glacières conventionnelles","SO","SO","5L - < 10L",104.46,115.72999999999999,127,106]
[null,104,"Glacières conventionnelles","SO","SO","20L - < 25L",144.38999999999999,159.94999999999999,175.51,107]
[null,105,"Enregistreur de température programmable par l’utilisateur","SO","SO","NA",77.099999999999994,102.05,127,108]
[null,106,"Indicateur de gel","SO","SO","NA",8.65,9.5820645312500012,10.5141290625,109]
[null,107,null,null,null,null,null,null,null,110]
[null,108,null,null,null,null,null,null,null,111]

{"sheet":"CCEOP Drop Downs","index":15,"n_rows":23,"n_cols":17,"rows_kept":23,"cut":false,"hidden":true,"merged":[]}
["Type_Équipement",null,"Fourchette_Capacité",null,"Type_de_ECF",null,"Type_SSE_Mode_de _Formation",null,"DSTD",null,"Contributions_Investissement_Conjoint",null,"Coûts_CSP",null,"Type_de_GS",null,"Catégorie_Prix_Moyen"]
["Réfrigérateurs et congélateurs sur secteur",null,"> 120L",null,"Réfrigérateur",null,"SSE N2",null,"Réfrigérateur",null,0.1,null,0.05,null,"Dirigé par le fournisseur",null,"Bas"]
["Solaire à connexion directe_Réfrigérateurs et congélateurs SCD",null,"60 - < 120L",null,"Congélateur à vaccins et briquettes d’eau",null,"SSE N3 et abonnements",null,"CFAD/RÉF",null,0.2,null,0.08,null,"Dirigé par le pays",null,"Moyen"]
["Dispositifs passifs à long terme_DPLT",null,"0 - < 60L",null,"Congélateur à briquettes d’eau",null,"En personne",null,null,null,0.35,null,8.5000000000000006E-2,null,null,null,"Haut"]
["Porte vaccins avec prévention du gel",null,"> 15L",null,"Combiné_RÉF et CON",null,"À distance",null,null,null,0]
["Glacières avec prévention du gel ",null,"20L - < 25L",null,"CFAD/RÉF",null,"SO"]
["Enregistreur de température ECF_ET30J",null,"5 - < 15L",null,"SO"]
["Dispositif et abonnement STD",null,"0 - < 5L"]
["Régulateurs de tension",null,"0,2L"]
["Pièces de rechange pour ECF sur secteur ",null,"0,4L"]
["Pièces de rechange pour ECF SCD ",null,"0,6L"]
["Formation SSE par le fabricant",null,"SO"]
["Formation DSTD par le fabricant",null,"0,3L"]
["Formation maintenance ECF par le fabricant",null,"0,4L"]
["Abonnements annuels aux données DSTD",null,"0,6L"]
["Abonnements annuels aux données SSE"]
["Pains de glace"]
["Dispositifs de stockage des vaccins transportables et alimentés_DSTA"]
["Support de panneau solaire pour SCD"]
["Porte vaccins conventionnels"]
["Glacières conventionnelles"]
["Enregistreur de température programmable par l’utilisateur"]
["Indicateur de gel"]

{"sheet":"CCEOP Drop Downs_2","index":16,"n_rows":372,"n_cols":318,"rows_kept":372,"cut":false,"hidden":true,"merged":[]}
["Type d’ECF"]
["RéfrigérateursEtCongélateursSurSecteur","SolaireÀConnexionDirecte_RéfrigérateursEtCongélateursSCD","DispositifsPassifsÀLongTerme_DPLT","PorteVaccinsAvecpréventiondugel","GlacièresAvecPréventionDuGel","EnregistreurDeTempératureECF_ET30J","DispositifEtAbonnementSTD","RégulateursDeTension","PiècesDeRechangePourECFSurSecteur","PiècesDeRechangePourECFSCD","FormationSSEParLeFabricant","FormationDSTDParLeFabricant","FormationMaintenanceECFParLeFabricant","AbonnementsAnnuelsAuxDonnéesDSTD","AbonnementsAnnuelsAuxDonnéesSSE","PainsDeGlace","DispositifsDeStockageDesVaccinsTransportablesEtAlimentés_DSTA","SupportDePanneauSolairePourSCD","PorteVaccinsConventionnels","GlacièresConventionnelles","EnregistreurDeTempératureProgrammableParL’Utilisateur","IndicateurDeGel"]
["Réfrigérateur","Réfrigérateur","Actifs Passifs","Dispositifs passifs","Dispositifs passifs","DST pour réfrigérateurs","DSTD pour réfrigérateurs","Régulateurs","Réfrigérateur","Réfrigérateur","Services pour réfrigérateurs","Services pour réfrigérateurs","Services pour réfrigérateurs","Services pour réfrigérateurs","Services pour réfrigérateurs","SO","Porte vaccins DSTA","Matériel","Dispositifs passifs","Dispositifs passifs","DST pour réfrigérateurs","SO"]
["Congélateur à vaccins et briquettes d’eau","Congélateur à briquettes d’eau",null,null,null,null,"DSTD pour CFAD",null,"Congélateur à vaccins et briquettes d’eau","Congélateur à briquettes d’eau",null,"Services pour CFAD","Services pour CFAD","Services pour CFAD",null,null,"Chargeurs DSTA"]
["Combiné_RÉF et CON","Combiné_RÉF et CON",null,null,null,null,null,null,"Combiné_RÉF et CON","Combiné_RÉF et CON"]
[]
[]
[]
["SSE/Mode de formation"]
[{"$f":"A$2&SUBSTITUTE(A3,\" \",\"\")","v":"RéfrigérateursEtCongélateursSurSecteurRéfrigérateur"},{"$f":"A$2&SUBSTITUTE(A4,\" \",\"\")","v":"RéfrigérateursEtCongélateursSurSecteurCongélateuràvaccinsetbriquettesd’eau"},{"$f":"A$2&SUBSTITUTE(A5,\" \",\"\")","v":"RéfrigérateursEtCongélateursSurSecteurCombiné_RÉFetCON"},{"$f":"A$2&SUBSTITUTE(A6,\" \",\"\")","v":"RéfrigérateursEtCongélateursSurSecteur"},{"$f":"B$2&SUBSTITUTE(B3,\" \",\"\")","v":"SolaireÀConnexionDirecte_RéfrigérateursEtCongélateursSCDRéfrigérateur"},{"$f":"B$2&SUBSTITUTE(B4,\" \",\"\")","v":"SolaireÀConnexionDirecte_RéfrigérateursEtCongélateursSCDCongélateuràbriquettesd’eau"},{"$f":"B$2&SUBSTITUTE(B5,\" \",\"\")","v":"SolaireÀConnexionDirecte_RéfrigérateursEtCongélateursSCDCombiné_RÉFetCON"},{"$f":"B$2&SUBSTITUTE(B6,\" \",\"\")","v":"SolaireÀConnexionDirecte_RéfrigérateursEtCongélateursSCD"},{"$f":"C$2&SUBSTITUTE(C3,\" \",\"\")","v":"DispositifsPassifsÀLongTerme_DPLTActifsPassifs"},{"$f":"D$2&SUBSTITUTE(D3,\" \",\"\")","v":"PorteVaccinsAvecpréventiondugelDispositifspassifs"},{"$f":"E$2&SUBSTITUTE(E3,\" \",\"\")","v":"GlacièresAvecPréventionDuGelDispositifspassifs"},{"$f":"F$2&SUBSTITUTE(F3,\" \",\"\")","v":"EnregistreurDeTempératureECF_ET30JDSTpourréfrigérateurs"},{"$f":"G$2&SUBSTITUTE(G3,\" \",\"\")","v":"DispositifEtAbonnementSTDDSTDpourréfrigérateurs"},{"$f":"G$2&SUBSTITUTE(G4,\" \",\"\")","v":"DispositifEtAbonnementSTDDSTDpourCFAD"},{"$f":"H$2&SUBSTITUTE(H3,\" \",\"\")","v":"RégulateursDeTensionRégulateurs"},{"$f":"H$2&SUBSTITUTE(H4,\" \",\"\")","v":"RégulateursDeTension"},{"$f":"I$2&SUBSTITUTE(I3,\" \",\"\")","v":"PiècesDeRechangePourECFSurSecteurRéfrigérateur"},{"$f":"I$2&SUBSTITUTE(I4,\" \",\"\")","v":"PiècesDeRechangePourECFSurSecteurCongélateuràvaccinsetbriquettesd’eau"},{"$f":"I$2&SUBSTITUTE(I5,\" \",\"\")","v":"PiècesDeRechangePourECFSurSecteurCombiné_RÉFetCON"},{"$f":"J$2&SUBSTITUTE(J3,\" \",\"\")","v":"PiècesDeRechangePourECFSCDRéfrigérateur"},{"$f":"J$2&SUBSTITUTE(J4,\" \",\"\")","v":"PiècesDeRechangePourECFSCDCongélateuràbriquettesd’eau"},{"$f":"J$2&SUBSTITUTE(J5,\" \",\"\")","v":"PiècesDeRechangePourECFSCDCombiné_RÉFetCON"},{"$f":"J$2&SUBSTITUTE(J6,\" \",\"\")","v":"PiècesDeRechangePourECFSCD"},{"$f":"K$2&SUBSTITUTE(K3,\" \",\"\")","v":"FormationSSEParLeFabricantServicespourréfrigérateurs"},{"$f":"K$2&SUBSTITUTE(K4,\" \",\"\")","v":"FormationSSEParLeFabricant"},{"$f":"K$2&SUBSTITUTE(K5,\" \",\"\")","v":"FormationSSEParLeFabricant"},{"$f":"K$2&SUBSTITUTE(K6,\" \",\"\")","v":"FormationSSEParLeFabricant"},{"$f":"L$2&SUBSTITUTE(L3,\" \",\"\")","v":"FormationDSTDParLeFabricantServicespourréfrigérateurs"},{"$f":"L$2&SUBSTITUTE(L4,\" \",\"\")","v":"FormationDSTDParLeFabricantServicespourCFAD"},{"$f":"M$2&SUBSTITUTE(M3,\" \",\"\")","v":"FormationMaintenanceECFParLeFabricantServicespourréfrigérateurs"},{"$f":"M$2&SUBSTITUTE(M4,\" \",\"\")","v":"FormationMaintenanceECFParLeFabricantServicespourCFAD"},{"$f":"N$2&SUBSTITUTE(N3,\" \",\"\")","v":"AbonnementsAnnuelsAuxDonnéesDSTDServicespourréfrigérateurs"},{"$f":"N$2&SUBSTITUTE(N4,\" \",\"\")","v":"AbonnementsAnnuelsAuxDonnéesDSTDServicespourCFAD"},{"$f":"O$2&SUBSTITUTE(O3,\" \",\"\")","v":"AbonnementsAnnuelsAuxDonnéesSSEServicespourréfrigérateurs"},{"$f":"O$2&SUBSTITUTE(O4,\" \",\"\")","v":"AbonnementsAnnuelsAuxDonnéesSSE"},{"$f":"P$2&SUBSTITUTE(P3,\" \",\"\")","v":"PainsDeGlaceSO"},{"$f":"P$2&SUBSTITUTE(P4,\" \",\"\")","v":"PainsDeGlace"},{"$f":"Q$2&SUBSTITUTE(Q3,\" \",\"\")","v":"DispositifsDeStockageDesVaccinsTransportablesEtAlimentés_DSTAPortevaccinsDSTA"},{"$f":"Q$2&SUBSTITUTE(Q4,\" \",\"\")","v":"DispositifsDeStockageDesVaccinsTransportablesEtAlimentés_DSTAChargeursDSTA"},{"$f":"R$2&SUBSTITUTE(R3,\" \",\"\")","v":"SupportDePanneauSolairePourSCDMatériel"},{"$f":"R$2&SUBSTITUTE(R4,\" \",\"\")","v":"SupportDePanneauSolairePourSCD"},{"$f":"S$2&SUBSTITUTE(S3,\" \",\"\")","v":"PorteVaccinsConventionnelsDispositifspassifs"},"GlacièresConventionnellesDispositifspassifs",{"$f":"U$2&SUBSTITUTE(U3,\" \",\"\")","v":"EnregistreurDeTempératureProgrammableParL’UtilisateurDSTpourréfrigérateurs"},{"$f":"V$2&SUBSTITUTE(V3,\" \",\"\")","v":"IndicateurDeGelSO"},"","","","","","","","","","",""]
["SSE N2","SO","SSE N2","SSE N2","SSE N2","SO","SSE N2","SSE N2","SO","SO","SO","SO","SO","SO","SO","SO","SO","SO","SO","SO","SO","SO","SO","En personne","En personne","En personne","En personne","En personne","En personne","En personne","En personne","SO","SO","SO","SO","SO","SO","SO","SO","SO","SO","SO","SO","SO","SO"]
["SSE N3 et abonnements",null,"SSE N3 et abonnements","SSE N3 et abonnements","SSE N3 et abonnements",null,"SSE N3 et abonnements","SSE N3 et abonnements",null,null,null,null,null,null,null,null,null,null,null,null,null,null,null,"À distance","À distance","À distance","À distance","À distance","À distance","À distance","À distance"]
[]
[]
["Capacité"]
[{"$f":"A$10&SUBSTITUTE(A11,\" \",\"\")","v":"RéfrigérateursEtCongélateursSurSecteurRéfrigérateurSSEN2"},{"$f":"A$10&SUBSTITUTE(A12,\" \",\"\")","v":"RéfrigérateursEtCongélateursSurSecteurRéfrigérateurSSEN3etabonnements"},{"$f":"B$10&SUBSTITUTE(B11,\" \",\"\")","v":"RéfrigérateursEtCongélateursSurSecteurCongélateuràvaccinsetbriquettesd’eauSO"},{"$f":"B$10&SUBSTITUTE(B12,\" \",\"\")","v":"RéfrigérateursEtCongélateursSurSecteurCongélateuràvaccinsetbriquettesd’eau"},{"$f":"C$10&SUBSTITUTE(C11,\" \",\"\")","v":"RéfrigérateursEtCongélateursSurSecteurCombiné_RÉFetCONSSEN2"},{"$f":"C$10&SUBSTITUTE(C12,\" \",\"\")","v":"RéfrigérateursEtCongélateursSurSecteurCombiné_RÉFetCONSSEN3etabonnements"},{"$f":"D$10&SUBSTITUTE(D11,\" \",\"\")","v":"RéfrigérateursEtCongélateursSurSecteurSSEN2"},{"$f":"D$10&SUBSTITUTE(D12,\" \",\"\")","v":"RéfrigérateursEtCongélateursSurSecteurSSEN3etabonnements"},{"$f":"E$10&SUBSTITUTE(E11,\" \",\"\")","v":"SolaireÀConnexionDirecte_RéfrigérateursEtCongélateursSCDRéfrigérateurSSEN2"},{"$f":"E$10&SUBSTITUTE(E12,\" \",\"\")","v":"SolaireÀConnexionDirecte_RéfrigérateursEtCongélateursSCDRéfrigérateurSSEN3etabonnements"},{"$f":"F$10&SUBSTITUTE(F11,\" \",\"\")","v":"SolaireÀConnexionDirecte_RéfrigérateursEtCongélateursSCDCongélateuràbriquettesd’eauSO"},{"$f":"F$10&SUBSTITUTE(F12,\" \",\"\")","v":"SolaireÀConnexionDirecte_RéfrigérateursEtCongélateursSCDCongélateuràbriquettesd’eau"},{"$f":"G$10&SUBSTITUTE(G11,\" \",\"\")","v":"SolaireÀConnexionDirecte_RéfrigérateursEtCongélateursSCDCombiné_RÉFetCONSSEN2"},{"$f":"G$10&SUBSTITUTE(G12,\" \",\"\")","v":"SolaireÀConnexionDirecte_RéfrigérateursEtCongélateursSCDCombiné_RÉFetCONSSEN3etabonnements"},{"$f":"H$10&SUBSTITUTE(H11,\" \",\"\")","v":"SolaireÀConnexionDirecte_RéfrigérateursEtCongélateursSCDSSEN2"},{"$f":"H$10&SUBSTITUTE(H12,\" \",\"\")","v":"SolaireÀConnexionDirecte_RéfrigérateursEtCongélateursSCDSSEN3etabonnements"},{"$f":"I$10&SUBSTITUTE(I11,\" \",\"\")","v":"DispositifsPassifsÀLongTerme_DPLTActifsPassifsSO"},{"$f":"J$10&SUBSTITUTE(J11,\" \",\"\")","v":"PorteVaccinsAvecpréventiondugelDispositifspassifsSO"},{"$f":"K$10&SUBSTITUTE(K11,\" \",\"\")","v":"GlacièresAvecPréventionDuGelDispositifspassifsSO"},{"$f":"L$10&SUBSTITUTE(L11,\" \",\"\")","v":"EnregistreurDeTempératureECF_ET30JDSTpourréfrigérateursSO"},{"$f":"M$10&SUBSTITUTE(M11,\" \",\"\")","v":"DispositifEtAbonnementSTDDSTDpourréfrigérateursSO"},{"$f":"N$10&SUBSTITUTE(N11,\" \",\"\")","v":"DispositifEtAbonnementSTDDSTDpourCFADSO"},{"$f":"O$10&SUBSTITUTE(O11,\" \",\"\")","v":"RégulateursDeTensionRégulateursSO"},{"$f":"P$10&SUBSTITUTE(P11,\" \",\"\")","v":"RégulateursDeTensionSO"},{"$f":"Q$10&SUBSTITUTE(Q11,\" \",\"\")","v":"PiècesDeRechangePourECFSurSecteurRéfrigérateurSO"},{"$f":"R$10&SUBSTITUTE(R11,\" \",\"\")","v":"PiècesDeRechangePourECFSurSecteurCongélateuràvaccinsetbriquettesd’eauSO"},{"$f":"S$10&SUBSTITUTE(S11,\" \",\"\")","v":"PiècesDeRechangePourECFSurSecteurCombiné_RÉFetCONSO"},"PiècesDeRechangePourECFSCDRéfrigérateurSO",{"$f":"U$10&SUBSTITUTE(U11,\" \",\"\")","v":"PiècesDeRechangePourECFSCDCongélateuràbriquettesd’eauSO"},{"$f":"V$10&SUBSTITUTE(V11,\" \",\"\")","v":"PiècesDeRechangePourECFSCDCombiné_RÉFetCONSO"},{"$f":"W$10&SUBSTITUTE(W11,\" \",\"\")","v":"PiècesDeRechangePourECFSCDSO"},{"$f":"X$10&SUBSTITUTE(X11,\" \",\"\")","v":"FormationSSEParLeFabricantServicespourréfrigérateursEnpersonne"},{"$f":"X$10&SUBSTITUTE(X12,\" \",\"\")","v":"FormationSSEParLeFabricantServicespourréfrigérateursÀdistance"},{"$f":"Y$10&SUBSTITUTE(Y11,\" \",\"\")","v":"FormationSSEParLeFabricantEnpersonne"},{"$f":"Z$10&SUBSTITUTE(Z11,\" \",\"\")","v":"FormationSSEParLeFabricantEnpersonne"},{"$f":"AA$10&SUBSTITUTE(AA11,\" \",\"\")","v":"FormationSSEParLeFabricantEnpersonne"},{"$f":"AB$10&SUBSTITUTE(AB11,\" \",\"\")","v":"FormationDSTDParLeFabricantServicespourréfrigérateursEnpersonne"},{"$f":"AB$10&SUBSTITUTE(AB12,\" \",\"\")","v":"FormationDSTDParLeFabricantServicespourréfrigérateursÀdistance"},{"$f":"AC$10&SUBSTITUTE(AC11,\" \",\"\")","v":"FormationDSTDParLeFabricantServicespourCFADEnpersonne"},{"$f":"AC$10&SUBSTITUTE(AC12,\" \",\"\")","v":"FormationDSTDParLeFabricantServicespourCFADÀdistance"},{"$f":"AD$10&SUBSTITUTE(AD11,\" \",\"\")","v":"FormationMaintenanceECFParLeFabricantServicespourréfrigérateursEnpersonne"},{"$f":"AD$10&SUBSTITUTE(AD12,\" \",\"\")","v":"FormationMaintenanceECFParLeFabricantServicespourréfrigérateursÀdistance"},{"$f":"AE$10&SUBSTITUTE(AE11,\" \",\"\")","v":"FormationMaintenanceECFParLeFabricantServicespourCFADEnpersonne"},{"$f":"AE$10&SUBSTITUTE(AE12,\" \",\"\")","v":"FormationMaintenanceECFParLeFabricantServicespourCFADÀdistance"},{"$f":"AF$10&SUBSTITUTE(AF11,\" \",\"\")","v":"AbonnementsAnnuelsAuxDonnéesDSTDServicespourréfrigérateursSO"},{"$f":"AF$10&SUBSTITUTE(AF12,\" \",\"\")","v":"AbonnementsAnnuelsAuxDonnéesDSTDServicespourréfrigérateurs"},{"$f":"AG$10&SUBSTITUTE(AG11,\" \",\"\")","v":"AbonnementsAnnuelsAuxDonnéesDSTDServicespourCFADSO"},{"$f":"AG$10&SUBSTITUTE(AG12,\" \",\"\")","v":"AbonnementsAnnuelsAuxDonnéesDSTDServicespourCFAD"},{"$f":"AH$10&SUBSTITUTE(AH11,\" \",\"\")","v":"AbonnementsAnnuelsAuxDonnéesSSEServicespourréfrigérateursSO"},"AbonnementsAnnuelsAuxDonnéesSSESO","PainsDeGlaceSOSO","PainsDeGlaceSO","DispositifsDeStockageDesVaccinsTransportablesEtAlimentés_DSTAPortevaccinsDSTASO","DispositifsDeStockageDesVaccinsTransportablesEtAlimentés_DSTAChargeursDSTASO","SupportDePanneauSolairePourSCDMatérielSO","SupportDePanneauSolairePourSCDSO","PorteVaccinsConventionnelsDispositifspassifsSO","GlacièresConventionnellesDispositifspassifsSO","EnregistreurDeTempératureProgrammableParL’UtilisateurDSTpourréfrigérateursSO","IndicateurDeGelSOSO","","","","","","","","","","","","","","","","","","","","",""]
["30 - < 60L","30 - < 60L","90 - < 150L","90 - < 150L","30 - < 60L","30 - < 60L",null,null,"30 - < 60L","30 - < 60L","30 - < 120L","30 - < 120L","30 - < 60L","30 - < 60L",null,null,"5 - <10L","1 - <2L",null,"SO","SO","SO","SO","SO","SO","SO","SO","SO","SO","SO","SO","SO","SO","SO","SO","SO","SO","SO","SO","SO","SO","SO","SO","SO","SO","SO","SO","SO","SO","SO","0.3L","0.3L","0 - <5L","SO","SO","SO","1 - <2L","5L - < 10L","SO","SO"]
["60 - <120L","60 - <120L","> 150L","> 150L","60 - <120L","60 - <120L",null,null,"60 - <120L","60 - <120L",null,null,"60 - <120L","60 - <120L",null,null,null,"2 - <5L","20L - < 25L",null,null,null,null,null,null,null,null,null,null,null,null,null,null,null,null,null,null,null,null,null,null,null,null,null,null,null,null,null,null,null,"0.4L","0.4L",null,null,null,null,"2 - <5L","20L - < 25L"]
["> 120L","> 120L",null,null,"> 120L","> 120L",null,null,"> 120L","> 120L",null,null,"> 120L","> 120L",null,null,null,null,null,null,null,null,null,null,null,null,null,null,null,null,null,null,null,null,null,null,null,null,null,null,null,null,null,null,null,null,null,null,null,null,"0.6L","0.6L"]
[]
[]
[]
[]
["Catégorie de prix moyen"]
[{"$f":"A$16&SUBSTITUTE(A17,\" \",\"\")","v":"RéfrigérateursEtCongélateursSurSecteurRéfrigérateurSSEN230-<60L"},{"$f":"A$16&SUBSTITUTE(A18,\" \",\"\")","v":"RéfrigérateursEtCongélateursSurSecteurRéfrigérateurSSEN260-<120L"},{"$f":"A$16&SUBSTITUTE(A19,\" \",\"\")","v":"RéfrigérateursEtCongélateursSurSecteurRéfrigérateurSSEN2>120L"},{"$f":"B$16&SUBSTITUTE(B17,\" \",\"\")","v":"RéfrigérateursEtCongélateursSurSecteurRéfrigérateurSSEN3etabonnements30-<60L"},{"$f":"B$16&SUBSTITUTE(B18,\" \",\"\")","v":"RéfrigérateursEtCongélateursSurSecteurRéfrigérateurSSEN3etabonnements60-<120L"},{"$f":"B$16&SUBSTITUTE(B19,\" \",\"\")","v":"RéfrigérateursEtCongélateursSurSecteurRéfrigérateurSSEN3etabonnements>120L"},{"$f":"C$16&SUBSTITUTE(C17,\" \",\"\")","v":"RéfrigérateursEtCongélateursSurSecteurCongélateuràvaccinsetbriquettesd’eauSO90-<150L"},{"$f":"C$16&SUBSTITUTE(C18,\" \",\"\")","v":"RéfrigérateursEtCongélateursSurSecteurCongélateuràvaccinsetbriquettesd’eauSO>150L"},{"$f":"D$16&SUBSTITUTE(D17,\" \",\"\")","v":"RéfrigérateursEtCongélateursSurSecteurCongélateuràvaccinsetbriquettesd’eau90-<150L"},{"$f":"D$16&SUBSTITUTE(D18,\" \",\"\")","v":"RéfrigérateursEtCongélateursSurSecteurCongélateuràvaccinsetbriquettesd’eau>150L"},{"$f":"E$16&SUBSTITUTE(E17,\" \",\"\")","v":"RéfrigérateursEtCongélateursSurSecteurCombiné_RÉFetCONSSEN230-<60L"},{"$f":"E$16&SUBSTITUTE(E18,\" \",\"\")","v":"RéfrigérateursEtCongélateursSurSecteurCombiné_RÉFetCONSSEN260-<120L"},{"$f":"E$16&SUBSTITUTE(E19,\" \",\"\")","v":"RéfrigérateursEtCongélateursSurSecteurCombiné_RÉFetCONSSEN2>120L"},{"$f":"F$16&SUBSTITUTE(F17,\" \",\"\")","v":"RéfrigérateursEtCongélateursSurSecteurCombiné_RÉFetCONSSEN3etabonnements30-<60L"},{"$f":"F$16&SUBSTITUTE(F18,\" \",\"\")","v":"RéfrigérateursEtCongélateursSurSecteurCombiné_RÉFetCONSSEN3etabonnements60-<120L"},{"$f":"F$16&SUBSTITUTE(F19,\" \",\"\")","v":"RéfrigérateursEtCongélateursSurSecteurCombiné_RÉFetCONSSEN3etabonnements>120L"},{"$f":"G$16&SUBSTITUTE(G17,\" \",\"\")","v":"RéfrigérateursEtCongélateursSurSecteurSSEN2"},{"$f":"G$16&SUBSTITUTE(G18,\" \",\"\")","v":"RéfrigérateursEtCongélateursSurSecteurSSEN2"},{"$f":"G$16&SUBSTITUTE(G19,\" \",\"\")","v":"RéfrigérateursEtCongélateursSurSecteurSSEN2"},{"$f":"G$16&SUBSTITUTE(G20,\" \",\"\")","v":"RéfrigérateursEtCongélateursSurSecteurSSEN2"},{"$f":"G$16&SUBSTITUTE(G21,\" \",\"\")","v":"RéfrigérateursEtCongélateursSurSecteurSSEN2"},{"$f":"G$16&SUBSTITUTE(G22,\" \",\"\")","v":"RéfrigérateursEtCongélateursSurSecteurSSEN2"},{"$f":"H$16&SUBSTITUTE(H17,\" \",\"\")","v":"RéfrigérateursEtCongélateursSurSecteurSSEN3etabonnements"},{"$f":"H$16&SUBSTITUTE(H18,\" \",\"\")","v":"RéfrigérateursEtCongélateursSurSecteurSSEN3etabonnements"},{"$f":"H$16&SUBSTITUTE(H19,\" \",\"\")","v":"RéfrigérateursEtCongélateursSurSecteurSSEN3etabonnements"},{"$f":"H$16&SUBSTITUTE(H20,\" \",\"\")","v":"RéfrigérateursEtCongélateursSurSecteurSSEN3etabonnements"},{"$f":"H$16&SUBSTITUTE(H21,\" \",\"\")","v":"RéfrigérateursEtCongélateursSurSecteurSSEN3etabonnements"},{"$f":"H$16&SUBSTITUTE(H22,\" \",\"\")","v":"RéfrigérateursEtCongélateursSurSecteurSSEN3etabonnements"},{"$f":"I$16&SUBSTITUTE(I17,\" \",\"\")","v":"SolaireÀConnexionDirecte_RéfrigérateursEtCongélateursSCDRéfrigérateurSSEN230-<60L"},{"$f":"I$16&SUBSTITUTE(I18,\" \",\"\")","v":"SolaireÀConnexionDirecte_RéfrigérateursEtCongélateursSCDRéfrigérateurSSEN260-<120L"},{"$f":"I$16&SUBSTITUTE(I19,\" \",\"\")","v":"SolaireÀConnexionDirecte_RéfrigérateursEtCongélateursSCDRéfrigérateurSSEN2>120L"},{"$f":"J$16&SUBSTITUTE(J17,\" \",\"\")","v":"SolaireÀConnexionDirecte_RéfrigérateursEtCongélateursSCDRéfrigérateurSSEN3etabonnements30-<60L"},{"$f":"J$16&SUBSTITUTE(J18,\" \",\"\")","v":"SolaireÀConnexionDirecte_RéfrigérateursEtCongélateursSCDRéfrigérateurSSEN3etabonnements60-<120L"},{"$f":"J$16&SUBSTITUTE(J19,\" \",\"\")","v":"SolaireÀConnexionDirecte_RéfrigérateursEtCongélateursSCDRéfrigérateurSSEN3etabonnements>120L"},{"$f":"K$16&SUBSTITUTE(K17,\" \",\"\")","v":"SolaireÀConnexionDirecte_RéfrigérateursEtCongélateursSCDCongélateuràbriquettesd’eauSO30-<120L"},{"$f":"L$16&SUBSTITUTE(L17,\" \",\"\")","v":"SolaireÀConnexionDirecte_RéfrigérateursEtCongélateursSCDCongélateuràbriquettesd’eau30-<120L"},{"$f":"M$16&SUBSTITUTE(M17,\" \",\"\")","v":"SolaireÀConnexionDirecte_RéfrigérateursEtCongélateursSCDCombiné_RÉFetCONSSEN230-<60L"},{"$f":"M$16&SUBSTITUTE(M18,\" \",\"\")","v":"SolaireÀConnexionDirecte_RéfrigérateursEtCongélateursSCDCombiné_RÉFetCONSSEN260-<120L"},{"$f":"M$16&SUBSTITUTE(M19,\" \",\"\")","v":"SolaireÀConnexionDirecte_RéfrigérateursEtCongélateursSCDCombiné_RÉFetCONSSEN2>120L"},{"$f":"N$16&SUBSTITUTE(N17,\" \",\"\")","v":"SolaireÀConnexionDirecte_RéfrigérateursEtCongélateursSCDCombiné_RÉFetCONSSEN3etabonnements30-<60L"},{"$f":"N$16&SUBSTITUTE(N18,\" \",\"\")","v":"SolaireÀConnexionDirecte_RéfrigérateursEtCongélateursSCDCombiné_RÉFetCONSSEN3etabonnements60-<120L"},{"$f":"N$16&SUBSTITUTE(N19,\" \",\"\")","v":"SolaireÀConnexionDirecte_RéfrigérateursEtCongélateursSCDCombiné_RÉFetCONSSEN3etabonnements>120L"},{"$f":"O$16&SUBSTITUTE(O17,\" \",\"\")","v":"SolaireÀConnexionDirecte_RéfrigérateursEtCongélateursSCDSSEN2"},{"$f":"O$16&SUBSTITUTE(O18,\" \",\"\")","v":"SolaireÀConnexionDirecte_RéfrigérateursEtCongélateursSCDSSEN2"},{"$f":"O$16&SUBSTITUTE(O19,\" \",\"\")","v":"SolaireÀConnexionDirecte_RéfrigérateursEtCongélateursSCDSSEN2"},{"$f":"O$16&SUBSTITUTE(O20,\" \",\"\")","v":"SolaireÀConnexionDirecte_RéfrigérateursEtCongélateursSCDSSEN2"},{"$f":"O$16&SUBSTITUTE(O21,\" \",\"\")","v":"SolaireÀConnexionDirecte_RéfrigérateursEtCongélateursSCDSSEN2"},{"$f":"O$16&SUBSTITUTE(O22,\" \",\"\")","v":"SolaireÀConnexionDirecte_RéfrigérateursEtCongélateursSCDSSEN2"},{"$f":"P$16&SUBSTITUTE(P17,\" \",\"\")","v":"SolaireÀConnexionDirecte_RéfrigérateursEtCongélateursSCDSSEN3etabonnements"},{"$f":"P$16&SUBSTITUTE(P18,\" \",\"\")","v":"SolaireÀConnexionDirecte_RéfrigérateursEtCongélateursSCDSSEN3etabonnements"},{"$f":"P$16&SUBSTITUTE(P19,\" \",\"\")","v":"SolaireÀConnexionDirecte_RéfrigérateursEtCongélateursSCDSSEN3etabonnements"},{"$f":"P$16&SUBSTITUTE(P20,\" \",\"\")","v":"SolaireÀConnexionDirecte_RéfrigérateursEtCongélateursSCDSSEN3etabonnements"},{"$f":"P$16&SUBSTITUTE(P21,\" \",\"\")","v":"SolaireÀConnexionDirecte_RéfrigérateursEtCongélateursSCDSSEN3etabonnements"},{"$f":"P$16&SUBSTITUTE(P22,\" \",\"\")","v":"SolaireÀConnexionDirecte_RéfrigérateursEtCongélateursSCDSSEN3etabonnements"},{"$f":"Q$16&SUBSTITUTE(Q17,\" \",\"\")","v":"DispositifsPassifsÀLongTerme_DPLTActifsPassifsSO5-<10L"},{"$f":"R$16&SUBSTITUTE(R17,\" \",\"\")","v":"PorteVaccinsAvecpréventiondugelDispositifspassifsSO1-<2L"},{"$f":"R$16&SUBSTITUTE(R18,\" \",\"\")","v":"PorteVaccinsAvecpréventiondugelDispositifspassifsSO2-<5L"},{"$f":"S$16&SUBSTITUTE(S17,\" \",\"\")","v":"GlacièresAvecPréventionDuGelDispositifspassifsSO"},{"$f":"S$16&SUBSTITUTE(S18,\" \",\"\")","v":"GlacièresAvecPréventionDuGelDispositifspassifsSO20L-<25L"},{"$f":"T$16&SUBSTITUTE(T17,\" \",\"\")","v":"EnregistreurDeTempératureECF_ET30JDSTpourréfrigérateursSOSO"},{"$f":"U$16&SUBSTITUTE(U17,\" \",\"\")","v":"DispositifEtAbonnementSTDDSTDpourréfrigérateursSOSO"},"DispositifEtAbonnementSTDDSTDpourCFADSOSO",{"$f":"W$16&SUBSTITUTE(W17,\" \",\"\")","v":"RégulateursDeTensionRégulateursSOSO"},"RégulateursDeTensionSOSO",{"$f":"Y$16&SUBSTITUTE(Y17,\" \",\"\")","v":"PiècesDeRechangePourECFSurSecteurRéfrigérateurSOSO"},{"$f":"Z$16&SUBSTITUTE(Z17,\" \",\"\")","v":"PiècesDeRechangePourECFSurSecteurCongélateuràvaccinsetbriquettesd’eauSOSO"},{"$f":"AA$16&SUBSTITUTE(AA17,\" \",\"\")","v":"PiècesDeRechangePourECFSurSecteurCombiné_RÉFetCONSOSO"},"PiècesDeRechangePourECFSCDRéfrigérateurSOSO","PiècesDeRechangePourECFSCDCongélateuràbriquettesd’eauSOSO",{"$f":"AD$16&SUBSTITUTE(AD17,\" \",\"\")","v":"PiècesDeRechangePourECFSCDCombiné_RÉFetCONSOSO"},"PiècesDeRechangePourECFSCDSOSO","FormationSSEParLeFabricantServicespourréfrigérateursEnpersonneSO",{"$f":"AG$16&SUBSTITUTE(AG17,\" \",\"\")","v":"FormationSSEParLeFabricantServicespourréfrigérateursÀdistanceSO"},{"$f":"AH$16&SUBSTITUTE(AH17,\" \",\"\")","v":"FormationSSEParLeFabricantEnpersonneSO"},"FormationSSEParLeFabricantEnpersonneSO","FormationSSEParLeFabricantEnpersonneSO","FormationDSTDParLeFabricantServicespourréfrigérateursEnpersonneSO","FormationDSTDParLeFabricantServicespourréfrigérateursÀdistanceSO","FormationDSTDParLeFabricantServicespourCFADEnpersonneSO","FormationDSTDParLeFabricantServicespourCFADÀdistanceSO","FormationMaintenanceECFParLeFabricantServicespourréfrigérateursEnpersonneSO","FormationMaintenanceECFParLeFabricantServicespourréfrigérateursÀdistanceSO","FormationMaintenanceECFParLeFabricantServicespourCFADEnpersonneSO","FormationMaintenanceECFParLeFabricantServicespourCFADÀdistanceSO","AbonnementsAnnuelsAuxDonnéesDSTDServicespourréfrigérateursSOSO","AbonnementsAnnuelsAuxDonnéesDSTDServicespourréfrigérateursSO","AbonnementsAnnuelsAuxDonnéesDSTDServicespourCFADSOSO","AbonnementsAnnuelsAuxDonnéesDSTDServicespourCFADSO","AbonnementsAnnuelsAuxDonnéesSSEServicespourréfrigérateursSOSO","AbonnementsAnnuelsAuxDonnéesSSESOSO","PainsDeGlaceSOSO0.3L",{"$f":"AY$16&SUBSTITUTE(AY18,\" \",\"\")","v":"PainsDeGlaceSOSO0.4L"},{"$f":"AY$16&SUBSTITUTE(AY19,\" \",\"\")","v":"PainsDeGlaceSOSO0.6L"},{"$f":"AZ$16&SUBSTITUTE(AZ17,\" \",\"\")","v":"PainsDeGlaceSO0.3L"},{"$f":"AZ$16&SUBSTITUTE(AZ18,\" \",\"\")","v":"PainsDeGlaceSO0.4L"},{"$f":"AZ$16&SUBSTITUTE(AZ19,\" \",\"\")","v":"PainsDeGlaceSO0.6L"},{"$f":"BA$16&SUBSTITUTE(BA17,\" \",\"\")","v":"DispositifsDeStockageDesVaccinsTransportablesEtAlimentés_DSTAPortevaccinsDSTASO0-<5L"},{"$f":"BB$16&SUBSTITUTE(BB17,\" \",\"\")","v":"DispositifsDeStockageDesVaccinsTransportablesEtAlimentés_DSTAChargeursDSTASOSO"},{"$f":"BC$16&SUBSTITUTE(BC17,\" \",\"\")","v":"SupportDePanneauSolairePourSCDMatérielSOSO"},{"$f":"BD$16&SUBSTITUTE(BD17,\" \",\"\")","v":"SupportDePanneauSolairePourSCDSOSO"},{"$f":"BE$16&SUBSTITUTE(BE17,\" \",\"\")","v":"PorteVaccinsConventionnelsDispositifspassifsSO1-<2L"},{"$f":"BE$16&SUBSTITUTE(BE18,\" \",\"\")","v":"PorteVaccinsConventionnelsDispositifspassifsSO2-<5L"},{"$f":"BF$16&SUBSTITUTE(BF17,\" \",\"\")","v":"GlacièresConventionnellesDispositifspassifsSO5L-<10L"},{"$f":"BF$16&SUBSTITUTE(BF18,\" \",\"\")","v":"GlacièresConventionnellesDispositifspassifsSO20L-<25L"},{"$f":"BG$16&SUBSTITUTE(BG17,\" \",\"\")","v":"EnregistreurDeTempératureProgrammableParL’UtilisateurDSTpourréfrigérateursSOSO"},{"$f":"BH$16&SUBSTITUTE(BH17,\" \",\"\")","v":"IndicateurDeGelSOSOSO"}]
["Bas","Bas","Bas","Bas","Bas","Bas","Bas","Bas","Bas","Bas","Bas","Bas","Bas","Bas","Bas","Bas","Bas","Bas","Bas","Bas","Bas","Bas","Bas","Bas","Bas","Bas","Bas","Bas","Bas","Bas","Bas","Bas","Bas","Bas","Bas","Bas","Bas","Bas","Bas","Bas","Bas","Bas","Bas","Bas","Bas","Bas","Bas","Bas","Bas","Bas","Bas","Bas","Bas","Bas","Bas","Bas","Bas","Bas","Bas","Bas","Bas","Bas","Bas","Bas","Bas","Bas","Bas","Bas","Bas","Bas","Bas","Bas","Bas","Bas","Bas","Bas","Bas","Bas","Bas","Bas","Bas","Bas","Bas","Bas","Bas","Bas","Bas","Bas","Bas","Bas","Bas","Bas","Bas","Bas","Bas","Bas","Bas","Bas","Bas","Bas","Bas","Bas","Bas","Bas","Bas","Bas"]
["Moyen","Moyen","Moyen","Moyen","Moyen","Moyen","Moyen","Moyen","Moyen","Moyen","Moyen","Moyen","Moyen","Moyen","Moyen","Moyen","Moyen","Moyen","Moyen","Moyen","Moyen","Moyen","Moyen","Moyen","Moyen","Moyen","Moyen","Moyen","Moyen","Moyen","Moyen","Moyen","Moyen","Moyen","Moyen","Moyen","Moyen","Moyen","Moyen","Moyen","Moyen","Moyen","Moyen","Moyen","Moyen","Moyen","Moyen","Moyen","Moyen","Moyen","Moyen","Moyen","Moyen","Moyen","Moyen","Moyen","Moyen","Moyen","Moyen","Moyen","Moyen","Moyen","Moyen","Moyen","Moyen","Moyen","Moyen","Moyen","Moyen","Moyen","Moyen","Moyen","Moyen","Moyen","Moyen","Moyen","Moyen","Moyen","Moyen","Moyen","Moyen","Moyen","Moyen","Moyen","Moyen","Moyen","Moyen","Moyen","Moyen","Moyen","Moyen","Moyen","Moyen","Moyen","Moyen","Moyen","Moyen","Moyen","Moyen","Moyen","Moyen","Moyen","Moyen","Moyen","Moyen","Moyen"]
["Haut","Haut","Haut","Haut","Haut","Haut","Haut","Haut","Haut","Haut","Haut","Haut","Haut","Haut","Haut","Haut","Haut","Haut","Haut","Haut","Haut","Haut","Haut","Haut","Haut","Haut","Haut","Haut","Haut","Haut","Haut","Haut","Haut","Haut","Haut","Haut","Haut","Haut","Haut","Haut","Haut","Haut","Haut","Haut","Haut","Haut","Haut","Haut","Haut","Haut","Haut","Haut","Haut","Haut","Haut","Haut","Haut","Haut","Haut","Haut","Haut","Haut","Haut","Haut","Haut","Haut","Haut","Haut","Haut","Haut","Haut","Haut","Haut","Haut","Haut","Haut","Haut","Haut","Haut","Haut","Haut","Haut","Haut","Haut","Haut","Haut","Haut","Haut","Haut","Haut","Haut","Haut","Haut","Haut","Haut","Haut","Haut","Haut","Haut","Haut","Haut","Haut","Haut","Haut","Haut","Haut"]
[]
["Prix moyen"]
[{"$f":"A$25&SUBSTITUTE(A26,\" \",\"\")","v":"RéfrigérateursEtCongélateursSurSecteurRéfrigérateurSSEN230-<60LBas"},{"$f":"A$25&SUBSTITUTE(A27,\" \",\"\")","v":"RéfrigérateursEtCongélateursSurSecteurRéfrigérateurSSEN230-<60LMoyen"},{"$f":"A$25&SUBSTITUTE(A28,\" \",\"\")","v":"RéfrigérateursEtCongélateursSurSecteurRéfrigérateurSSEN230-<60LHaut"},{"$f":"B$25&SUBSTITUTE(B26,\" \",\"\")","v":"RéfrigérateursEtCongélateursSurSecteurRéfrigérateurSSEN260-<120LBas"},{"$f":"B$25&SUBSTITUTE(B27,\" \",\"\")","v":"RéfrigérateursEtCongélateursSurSecteurRéfrigérateurSSEN260-<120LMoyen"},{"$f":"B$25&SUBSTITUTE(B28,\" \",\"\")","v":"RéfrigérateursEtCongélateursSurSecteurRéfrigérateurSSEN260-<120LHaut"},{"$f":"C$25&SUBSTITUTE(C26,\" \",\"\")","v":"RéfrigérateursEtCongélateursSurSecteurRéfrigérateurSSEN2>120LBas"},{"$f":"C$25&SUBSTITUTE(C27,\" \",\"\")","v":"RéfrigérateursEtCongélateursSurSecteurRéfrigérateurSSEN2>120LMoyen"},{"$f":"C$25&SUBSTITUTE(C28,\" \",\"\")","v":"RéfrigérateursEtCongélateursSurSecteurRéfrigérateurSSEN2>120LHaut"},{"$f":"D$25&SUBSTITUTE(D26,\" \",\"\")","v":"RéfrigérateursEtCongélateursSurSecteurRéfrigérateurSSEN3etabonnements30-<60LBas"},{"$f":"D$25&SUBSTITUTE(D27,\" \",\"\")","v":"RéfrigérateursEtCongélateursSurSecteurRéfrigérateurSSEN3etabonnements30-<60LMoyen"},{"$f":"D$25&SUBSTITUTE(D28,\" \",\"\")","v":"RéfrigérateursEtCongélateursSurSecteurRéfrigérateurSSEN3etabonnements30-<60LHaut"},{"$f":"E$25&SUBSTITUTE(E26,\" \",\"\")","v":"RéfrigérateursEtCongélateursSurSecteurRéfrigérateurSSEN3etabonnements60-<120LBas"},{"$f":"E$25&SUBSTITUTE(E27,\" \",\"\")","v":"RéfrigérateursEtCongélateursSurSecteurRéfrigérateurSSEN3etabonnements60-<120LMoyen"},{"$f":"E$25&SUBSTITUTE(E28,\" \",\"\")","v":"RéfrigérateursEtCongélateursSurSecteurRéfrigérateurSSEN3etabonnements60-<120LHaut"},{"$f":"F$25&SUBSTITUTE(F26,\" \",\"\")","v":"RéfrigérateursEtCongélateursSurSecteurRéfrigérateurSSEN3etabonnements>120LBas"},{"$f":"F$25&SUBSTITUTE(F27,\" \",\"\")","v":"RéfrigérateursEtCongélateursSurSecteurRéfrigérateurSSEN3etabonnements>120LMoyen"},{"$f":"F$25&SUBSTITUTE(F28,\" \",\"\")","v":"RéfrigérateursEtCongélateursSurSecteurRéfrigérateurSSEN3etabonnements>120LHaut"},{"$f":"G$25&SUBSTITUTE(G26,\" \",\"\")","v":"RéfrigérateursEtCongélateursSurSecteurCongélateuràvaccinsetbriquettesd’eauSO90-<150LBas"},{"$f":"G$25&SUBSTITUTE(G27,\" \",\"\")","v":"RéfrigérateursEtCongélateursSurSecteurCongélateuràvaccinsetbriquettesd’eauSO90-<150LMoyen"},{"$f":"G$25&SUBSTITUTE(G28,\" \",\"\")","v":"RéfrigérateursEtCongélateursSurSecteurCongélateuràvaccinsetbriquettesd’eauSO90-<150LHaut"},{"$f":"H$25&SUBSTITUTE(H26,\" \",\"\")","v":"RéfrigérateursEtCongélateursSurSecteurCongélateuràvaccinsetbriquettesd’eauSO>150LBas"},{"$f":"H$25&SUBSTITUTE(H27,\" \",\"\")","v":"RéfrigérateursEtCongélateursSurSecteurCongélateuràvaccinsetbriquettesd’eauSO>150LMoyen"},{"$f":"H$25&SUBSTITUTE(H28,\" \",\"\")","v":"RéfrigérateursEtCongélateursSurSecteurCongélateuràvaccinsetbriquettesd’eauSO>150LHaut"},{"$f":"I$25&SUBSTITUTE(I26,\" \",\"\")","v":"RéfrigérateursEtCongélateursSurSecteurCongélateuràvaccinsetbriquettesd’eau90-<150LBas"},{"$f":"I$25&SUBSTITUTE(I27,\" \",\"\")","v":"RéfrigérateursEtCongélateursSurSecteurCongélateuràvaccinsetbriquettesd’eau90-<150LMoyen"},{"$f":"I$25&SUBSTITUTE(I28,\" \",\"\")","v":"RéfrigérateursEtCongélateursSurSecteurCongélateuràvaccinsetbriquettesd’eau90-<150LHaut"},{"$f":"J$25&SUBSTITUTE(J26,\" \",\"\")","v":"RéfrigérateursEtCongélateursSurSecteurCongélateuràvaccinsetbriquettesd’eau>150LBas"},{"$f":"J$25&SUBSTITUTE(J27,\" \",\"\")","v":"RéfrigérateursEtCongélateursSurSecteurCongélateuràvaccinsetbriquettesd’eau>150LMoyen"},{"$f":"J$25&SUBSTITUTE(J28,\" \",\"\")","v":"RéfrigérateursEtCongélateursSurSecteurCongélateuràvaccinsetbriquettesd’eau>150LHaut"},{"$f":"K$25&SUBSTITUTE(K26,\" \",\"\")","v":"RéfrigérateursEtCongélateursSurSecteurCombiné_RÉFetCONSSEN230-<60LBas"},{"$f":"K$25&SUBSTITUTE(K27,\" \",\"\")","v":"RéfrigérateursEtCongélateursSurSecteurCombiné_RÉFetCONSSEN230-<60LMoyen"},{"$f":"K$25&SUBSTITUTE(K28,\" \",\"\")","v":"RéfrigérateursEtCongélateursSurSecteurCombiné_RÉFetCONSSEN230-<60LHaut"},{"$f":"L$25&SUBSTITUTE(L26,\" \",\"\")","v":"RéfrigérateursEtCongélateursSurSecteurCombiné_RÉFetCONSSEN260-<120LBas"},{"$f":"L$25&SUBSTITUTE(L27,\" \",\"\")","v":"RéfrigérateursEtCongélateursSurSecteurCombiné_RÉFetCONSSEN260-<120LMoyen"},{"$f":"L$25&SUBSTITUTE(L28,\" \",\"\")","v":"RéfrigérateursEtCongélateursSurSecteurCombiné_RÉFetCONSSEN260-<120LHaut"},{"$f":"M$25&SUBSTITUTE(M26,\" \",\"\")","v":"RéfrigérateursEtCongélateursSurSecteurCombiné_RÉFetCONSSEN2>120LBas"},{"$f":"M$25&SUBSTITUTE(M27,\" \",\"\")","v":"RéfrigérateursEtCongélateursSurSecteurCombiné_RÉFetCONSSEN2>120LMoyen"},{"$f":"M$25&SUBSTITUTE(M28,\" \",\"\")","v":"RéfrigérateursEtCongélateursSurSecteurCombiné_RÉFetCONSSEN2>120LHaut"},{"$f":"N$25&SUBSTITUTE(N26,\" \",\"\")","v":"RéfrigérateursEtCongélateursSurSecteurCombiné_RÉFetCONSSEN3etabonnements30-<60LBas"},{"$f":"N$25&SUBSTITUTE(N27,\" \",\"\")","v":"RéfrigérateursEtCongélateursSurSecteurCombiné_RÉFetCONSSEN3etabonnements30-<60LMoyen"},{"$f":"N$25&SUBSTITUTE(N28,\" \",\"\")","v":"RéfrigérateursEtCongélateursSurSecteurCombiné_RÉFetCONSSEN3etabonnements30-<60LHaut"},{"$f":"O$25&SUBSTITUTE(O26,\" \",\"\")","v":"RéfrigérateursEtCongélateursSurSecteurCombiné_RÉFetCONSSEN3etabonnements60-<120LBas"},{"$f":"O$25&SUBSTITUTE(O27,\" \",\"\")","v":"RéfrigérateursEtCongélateursSurSecteurCombiné_RÉFetCONSSEN3etabonnements60-<120LMoyen"},{"$f":"O$25&SUBSTITUTE(O28,\" \",\"\")","v":"RéfrigérateursEtCongélateursSurSecteurCombiné_RÉFetCONSSEN3etabonnements60-<120LHaut"},{"$f":"P$25&SUBSTITUTE(P26,\" \",\"\")","v":"RéfrigérateursEtCongélateursSurSecteurCombiné_RÉFetCONSSEN3etabonnements>120LBas"},{"$f":"P$25&SUBSTITUTE(P27,\" \",\"\")","v":"RéfrigérateursEtCongélateursSurSecteurCombiné_RÉFetCONSSEN3etabonnements>120LMoyen"},{"$f":"P$25&SUBSTITUTE(P28,\" \",\"\")","v":"RéfrigérateursEtCongélateursSurSecteurCombiné_RÉFetCONSSEN3etabonnements>120LHaut"},{"$f":"Q$25&SUBSTITUTE(Q26,\" \",\"\")","v":"RéfrigérateursEtCongélateursSurSecteurSSEN2Bas"},{"$f":"Q$25&SUBSTITUTE(Q27,\" \",\"\")","v":"RéfrigérateursEtCongélateursSurSecteurSSEN2Moyen"},{"$f":"Q$25&SUBSTITUTE(Q28,\" \",\"\")","v":"RéfrigérateursEtCongélateursSurSecteurSSEN2Haut"},{"$f":"R$25&SUBSTITUTE(R26,\" \",\"\")","v":"RéfrigérateursEtCongélateursSurSecteurSSEN2Bas"},{"$f":"R$25&SUBSTITUTE(R27,\" \",\"\")","v":"RéfrigérateursEtCongélateursSurSecteurSSEN2Moyen"},{"$f":"R$25&SUBSTITUTE(R28,\" \",\"\")","v":"RéfrigérateursEtCongélateursSurSecteurSSEN2Haut"},{"$f":"S$25&SUBSTITUTE(S26,\" \",\"\")","v":"RéfrigérateursEtCongélateursSurSecteurSSEN2Bas"},{"$f":"S$25&SUBSTITUTE(S27,\" \",\"\")","v":"RéfrigérateursEtCongélateursSurSecteurSSEN2Moyen"},{"$f":"S$25&SUBSTITUTE(S28,\" \",\"\")","v":"RéfrigérateursEtCongélateursSurSecteurSSEN2Haut"},{"$f":"T$25&SUBSTITUTE(T26,\" \",\"\")","v":"RéfrigérateursEtCongélateursSurSecteurSSEN2Bas"},{"$f":"T$25&SUBSTITUTE(T27,\" \",\"\")","v":"RéfrigérateursEtCongélateursSurSecteurSSEN2Moyen"},{"$f":"T$25&SUBSTITUTE(T28,\" \",\"\")","v":"RéfrigérateursEtCongélateursSurSecteurSSEN2Haut"},{"$f":"U$25&SUBSTITUTE(U26,\" \",\"\")","v":"RéfrigérateursEtCongélateursSurSecteurSSEN2Bas"},{"$f":"U$25&SUBSTITUTE(U27,\" \",\"\")","v":"RéfrigérateursEtCongélateursSurSecteurSSEN2Moyen"},{"$f":"U$25&SUBSTITUTE(U28,\" \",\"\")","v":"RéfrigérateursEtCongélateursSurSecteurSSEN2Haut"},{"$f":"V$25&SUBSTITUTE(V26,\" \",\"\")","v":"RéfrigérateursEtCongélateursSurSecteurSSEN2Bas"},{"$f":"V$25&SUBSTITUTE(V27,\" \",\"\")","v":"RéfrigérateursEtCongélateursSurSecteurSSEN2Moyen"},{"$f":"V$25&SUBSTITUTE(V28,\" \",\"\")","v":"RéfrigérateursEtCongélateursSurSecteurSSEN2Haut"},{"$f":"W$25&SUBSTITUTE(W26,\" \",\"\")","v":"RéfrigérateursEtCongélateursSurSecteurSSEN3etabonnementsBas"},{"$f":"W$25&SUBSTITUTE(W27,\" \",\"\")","v":"RéfrigérateursEtCongélateursSurSecteurSSEN3etabonnementsMoyen"},{"$f":"W$25&SUBSTITUTE(W28,\" \",\"\")","v":"RéfrigérateursEtCongélateursSurSecteurSSEN3etabonnementsHaut"},{"$f":"X$25&SUBSTITUTE(X26,\" \",\"\")","v":"RéfrigérateursEtCongélateursSurSecteurSSEN3etabonnementsBas"},{"$f":"X$25&SUBSTITUTE(X27,\" \",\"\")","v":"RéfrigérateursEtCongélateursSurSecteurSSEN3etabonnementsMoyen"},{"$f":"X$25&SUBSTITUTE(X28,\" \",\"\")","v":"RéfrigérateursEtCongélateursSurSecteurSSEN3etabonnementsHaut"},{"$f":"Y$25&SUBSTITUTE(Y26,\" \",\"\")","v":"RéfrigérateursEtCongélateursSurSecteurSSEN3etabonnementsBas"},{"$f":"Y$25&SUBSTITUTE(Y27,\" \",\"\")","v":"RéfrigérateursEtCongélateursSurSecteurSSEN3etabonnementsMoyen"},{"$f":"Y$25&SUBSTITUTE(Y28,\" \",\"\")","v":"RéfrigérateursEtCongélateursSurSecteurSSEN3etabonnementsHaut"},{"$f":"Z$25&SUBSTITUTE(Z26,\" \",\"\")","v":"RéfrigérateursEtCongélateursSurSecteurSSEN3etabonnementsBas"},{"$f":"Z$25&SUBSTITUTE(Z27,\" \",\"\")","v":"RéfrigérateursEtCongélateursSurSecteurSSEN3etabonnementsMoyen"},{"$f":"Z$25&SUBSTITUTE(Z28,\" \",\"\")","v":"RéfrigérateursEtCongélateursSurSecteurSSEN3etabonnementsHaut"},{"$f":"AA$25&SUBSTITUTE(AA26,\" \",\"\")","v":"RéfrigérateursEtCongélateursSurSecteurSSEN3etabonnementsBas"},{"$f":"AA$25&SUBSTITUTE(AA27,\" \",\"\")","v":"RéfrigérateursEtCongélateursSurSecteurSSEN3etabonnementsMoyen"},{"$f":"AA$25&SUBSTITUTE(AA28,\" \",\"\")","v":"RéfrigérateursEtCongélateursSurSecteurSSEN3etabonnementsHaut"},{"$f":"AB$25&SUBSTITUTE(AB26,\" \",\"\")","v":"RéfrigérateursEtCongélateursSurSecteurSSEN3etabonnementsBas"},{"$f":"AB$25&SUBSTITUTE(AB27,\" \",\"\")","v":"RéfrigérateursEtCongélateursSurSecteurSSEN3etabonnementsMoyen"},{"$f":"AB$25&SUBSTITUTE(AB28,\" \",\"\")","v":"RéfrigérateursEtCongélateursSurSecteurSSEN3etabonnementsHaut"},{"$f":"AC$25&SUBSTITUTE(AC26,\" \",\"\")","v":"SolaireÀConnexionDirecte_RéfrigérateursEtCongélateursSCDRéfrigérateurSSEN230-<60LBas"},{"$f":"AC$25&SUBSTITUTE(AC27,\" \",\"\")","v":"SolaireÀConnexionDirecte_RéfrigérateursEtCongélateursSCDRéfrigérateurSSEN230-<60LMoyen"},{"$f":"AC$25&SUBSTITUTE(AC28,\" \",\"\")","v":"SolaireÀConnexionDirecte_RéfrigérateursEtCongélateursSCDRéfrigérateurSSEN230-<60LHaut"},{"$f":"AD$25&SUBSTITUTE(AD26,\" \",\"\")","v":"SolaireÀConnexionDirecte_RéfrigérateursEtCongélateursSCDRéfrigérateurSSEN260-<120LBas"},{"$f":"AD$25&SUBSTITUTE(AD27,\" \",\"\")","v":"SolaireÀConnexionDirecte_RéfrigérateursEtCongélateursSCDRéfrigérateurSSEN260-<120LMoyen"},{"$f":"AD$25&SUBSTITUTE(AD28,\" \",\"\")","v":"SolaireÀConnexionDirecte_RéfrigérateursEtCongélateursSCDRéfrigérateurSSEN260-<120LHaut"},{"$f":"AE$25&SUBSTITUTE(AE26,\" \",\"\")","v":"SolaireÀConnexionDirecte_RéfrigérateursEtCongélateursSCDRéfrigérateurSSEN2>120LBas"},{"$f":"AE$25&SUBSTITUTE(AE27,\" \",\"\")","v":"SolaireÀConnexionDirecte_RéfrigérateursEtCongélateursSCDRéfrigérateurSSEN2>120LMoyen"},{"$f":"AE$25&SUBSTITUTE(AE28,\" \",\"\")","v":"SolaireÀConnexionDirecte_RéfrigérateursEtCongélateursSCDRéfrigérateurSSEN2>120LHaut"},{"$f":"AF$25&SUBSTITUTE(AF26,\" \",\"\")","v":"SolaireÀConnexionDirecte_RéfrigérateursEtCongélateursSCDRéfrigérateurSSEN3etabonnements30-<60LBas"},{"$f":"AF$25&SUBSTITUTE(AF27,\" \",\"\")","v":"SolaireÀConnexionDirecte_RéfrigérateursEtCongélateursSCDRéfrigérateurSSEN3etabonnements30-<60LMoyen"},{"$f":"AF$25&SUBSTITUTE(AF28,\" \",\"\")","v":"SolaireÀConnexionDirecte_RéfrigérateursEtCongélateursSCDRéfrigérateurSSEN3etabonnements30-<60LHaut"},{"$f":"AG$25&SUBSTITUTE(AG26,\" \",\"\")","v":"SolaireÀConnexionDirecte_RéfrigérateursEtCongélateursSCDRéfrigérateurSSEN3etabonnements60-<120LBas"},{"$f":"AG$25&SUBSTITUTE(AG27,\" \",\"\")","v":"SolaireÀConnexionDirecte_RéfrigérateursEtCongélateursSCDRéfrigérateurSSEN3etabonnements60-<120LMoyen"},{"$f":"AG$25&SUBSTITUTE(AG28,\" \",\"\")","v":"SolaireÀConnexionDirecte_RéfrigérateursEtCongélateursSCDRéfrigérateurSSEN3etabonnements60-<120LHaut"},{"$f":"AH$25&SUBSTITUTE(AH26,\" \",\"\")","v":"SolaireÀConnexionDirecte_RéfrigérateursEtCongélateursSCDRéfrigérateurSSEN3etabonnements>120LBas"},{"$f":"AH$25&SUBSTITUTE(AH27,\" \",\"\")","v":"SolaireÀConnexionDirecte_RéfrigérateursEtCongélateursSCDRéfrigérateurSSEN3etabonnements>120LMoyen"},{"$f":"AH$25&SUBSTITUTE(AH28,\" \",\"\")","v":"SolaireÀConnexionDirecte_RéfrigérateursEtCongélateursSCDRéfrigérateurSSEN3etabonnements>120LHaut"},{"$f":"AI$25&SUBSTITUTE(AI26,\" \",\"\")","v":"SolaireÀConnexionDirecte_RéfrigérateursEtCongélateursSCDCongélateuràbriquettesd’eauSO30-<120LBas"},{"$f":"AI$25&SUBSTITUTE(AI27,\" \",\"\")","v":"SolaireÀConnexionDirecte_RéfrigérateursEtCongélateursSCDCongélateuràbriquettesd’eauSO30-<120LMoyen"},{"$f":"AI$25&SUBSTITUTE(AI28,\" \",\"\")","v":"SolaireÀConnexionDirecte_RéfrigérateursEtCongélateursSCDCongélateuràbriquettesd’eauSO30-<120LHaut"},{"$f":"AJ$25&SUBSTITUTE(AJ26,\" \",\"\")","v":"SolaireÀConnexionDirecte_RéfrigérateursEtCongélateursSCDCongélateuràbriquettesd’eau30-<120LBas"},{"$f":"AJ$25&SUBSTITUTE(AJ27,\" \",\"\")","v":"SolaireÀConnexionDirecte_RéfrigérateursEtCongélateursSCDCongélateuràbriquettesd’eau30-<120LMoyen"},{"$f":"AJ$25&SUBSTITUTE(AJ28,\" \",\"\")","v":"SolaireÀConnexionDirecte_RéfrigérateursEtCongélateursSCDCongélateuràbriquettesd’eau30-<120LHaut"},{"$f":"AK$25&SUBSTITUTE(AK26,\" \",\"\")","v":"SolaireÀConnexionDirecte_RéfrigérateursEtCongélateursSCDCombiné_RÉFetCONSSEN230-<60LBas"},{"$f":"AK$25&SUBSTITUTE(AK27,\" \",\"\")","v":"SolaireÀConnexionDirecte_RéfrigérateursEtCongélateursSCDCombiné_RÉFetCONSSEN230-<60LMoyen"},{"$f":"AK$25&SUBSTITUTE(AK28,\" \",\"\")","v":"SolaireÀConnexionDirecte_RéfrigérateursEtCongélateursSCDCombiné_RÉFetCONSSEN230-<60LHaut"},{"$f":"AL$25&SUBSTITUTE(AL26,\" \",\"\")","v":"SolaireÀConnexionDirecte_RéfrigérateursEtCongélateursSCDCombiné_RÉFetCONSSEN260-<120LBas"},{"$f":"AL$25&SUBSTITUTE(AL27,\" \",\"\")","v":"SolaireÀConnexionDirecte_RéfrigérateursEtCongélateursSCDCombiné_RÉFetCONSSEN260-<120LMoyen"},{"$f":"AL$25&SUBSTITUTE(AL28,\" \",\"\")","v":"SolaireÀConnexionDirecte_RéfrigérateursEtCongélateursSCDCombiné_RÉFetCONSSEN260-<120LHaut"},{"$f":"AM$25&SUBSTITUTE(AM26,\" \",\"\")","v":"SolaireÀConnexionDirecte_RéfrigérateursEtCongélateursSCDCombiné_RÉFetCONSSEN2>120LBas"},{"$f":"AM$25&SUBSTITUTE(AM27,\" \",\"\")","v":"SolaireÀConnexionDirecte_RéfrigérateursEtCongélateursSCDCombiné_RÉFetCONSSEN2>120LMoyen"},{"$f":"AM$25&SUBSTITUTE(AM28,\" \",\"\")","v":"SolaireÀConnexionDirecte_RéfrigérateursEtCongélateursSCDCombiné_RÉFetCONSSEN2>120LHaut"},{"$f":"AN$25&SUBSTITUTE(AN26,\" \",\"\")","v":"SolaireÀConnexionDirecte_RéfrigérateursEtCongélateursSCDCombiné_RÉFetCONSSEN3etabonnements30-<60LBas"},{"$f":"AN$25&SUBSTITUTE(AN27,\" \",\"\")","v":"SolaireÀConnexionDirecte_RéfrigérateursEtCongélateursSCDCombiné_RÉFetCONSSEN3etabonnements30-<60LMoyen"},{"$f":"AN$25&SUBSTITUTE(AN28,\" \",\"\")","v":"SolaireÀConnexionDirecte_RéfrigérateursEtCongélateursSCDCombiné_RÉFetCONSSEN3etabonnements30-<60LHaut"},{"$f":"AO$25&SUBSTITUTE(AO26,\" \",\"\")","v":"SolaireÀConnexionDirecte_RéfrigérateursEtCongélateursSCDCombiné_RÉFetCONSSEN3etabonnements60-<120LBas"},{"$f":"AO$25&SUBSTITUTE(AO27,\" \",\"\")","v":"SolaireÀConnexionDirecte_RéfrigérateursEtCongélateursSCDCombiné_RÉFetCONSSEN3etabonnements60-<120LMoyen"},{"$f":"AO$25&SUBSTITUTE(AO28,\" \",\"\")","v":"SolaireÀConnexionDirecte_RéfrigérateursEtCongélateursSCDCombiné_RÉFetCONSSEN3etabonnements60-<120LHaut"},{"$f":"AP$25&SUBSTITUTE(AP26,\" \",\"\")","v":"SolaireÀConnexionDirecte_RéfrigérateursEtCongélateursSCDCombiné_RÉFetCONSSEN3etabonnements>120LBas"},{"$f":"AP$25&SUBSTITUTE(AP27,\" \",\"\")","v":"SolaireÀConnexionDirecte_RéfrigérateursEtCongélateursSCDCombiné_RÉFetCONSSEN3etabonnements>120LMoyen"},{"$f":"AP$25&SUBSTITUTE(AP28,\" \",\"\")","v":"SolaireÀConnexionDirecte_RéfrigérateursEtCongélateursSCDCombiné_RÉFetCONSSEN3etabonnements>120LHaut"},{"$f":"AQ$25&SUBSTITUTE(AQ26,\" \",\"\")","v":"SolaireÀConnexionDirecte_RéfrigérateursEtCongélateursSCDSSEN2Bas"},{"$f":"AQ$25&SUBSTITUTE(AQ27,\" \",\"\")","v":"SolaireÀConnexionDirecte_RéfrigérateursEtCongélateursSCDSSEN2Moyen"},{"$f":"AQ$25&SUBSTITUTE(AQ28,\" \",\"\")","v":"SolaireÀConnexionDirecte_RéfrigérateursEtCongélateursSCDSSEN2Haut"},{"$f":"AR$25&SUBSTITUTE(AR26,\" \",\"\")","v":"SolaireÀConnexionDirecte_RéfrigérateursEtCongélateursSCDSSEN2Bas"},{"$f":"AR$25&SUBSTITUTE(AR27,\" \",\"\")","v":"SolaireÀConnexionDirecte_RéfrigérateursEtCongélateursSCDSSEN2Moyen"},{"$f":"AR$25&SUBSTITUTE(AR28,\" \",\"\")","v":"SolaireÀConnexionDirecte_RéfrigérateursEtCongélateursSCDSSEN2Haut"},{"$f":"AS$25&SUBSTITUTE(AS26,\" \",\"\")","v":"SolaireÀConnexionDirecte_RéfrigérateursEtCongélateursSCDSSEN2Bas"},{"$f":"AS$25&SUBSTITUTE(AS27,\" \",\"\")","v":"SolaireÀConnexionDirecte_RéfrigérateursEtCongélateursSCDSSEN2Moyen"},{"$f":"AS$25&SUBSTITUTE(AS28,\" \",\"\")","v":"SolaireÀConnexionDirecte_RéfrigérateursEtCongélateursSCDSSEN2Haut"},{"$f":"AT$25&SUBSTITUTE(AT26,\" \",\"\")","v":"SolaireÀConnexionDirecte_RéfrigérateursEtCongélateursSCDSSEN2Bas"},{"$f":"AT$25&SUBSTITUTE(AT27,\" \",\"\")","v":"SolaireÀConnexionDirecte_RéfrigérateursEtCongélateursSCDSSEN2Moyen"},{"$f":"AT$25&SUBSTITUTE(AT28,\" \",\"\")","v":"SolaireÀConnexionDirecte_RéfrigérateursEtCongélateursSCDSSEN2Haut"},{"$f":"AU$25&SUBSTITUTE(AU26,\" \",\"\")","v":"SolaireÀConnexionDirecte_RéfrigérateursEtCongélateursSCDSSEN2Bas"},{"$f":"AU$25&SUBSTITUTE(AU27,\" \",\"\")","v":"SolaireÀConnexionDirecte_RéfrigérateursEtCongélateursSCDSSEN2Moyen"},{"$f":"AU$25&SUBSTITUTE(AU28,\" \",\"\")","v":"SolaireÀConnexionDirecte_RéfrigérateursEtCongélateursSCDSSEN2Haut"},{"$f":"AV$25&SUBSTITUTE(AV26,\" \",\"\")","v":"SolaireÀConnexionDirecte_RéfrigérateursEtCongélateursSCDSSEN2Bas"},{"$f":"AV$25&SUBSTITUTE(AV27,\" \",\"\")","v":"SolaireÀConnexionDirecte_RéfrigérateursEtCongélateursSCDSSEN2Moyen"},{"$f":"AV$25&SUBSTITUTE(AV28,\" \",\"\")","v":"SolaireÀConnexionDirecte_RéfrigérateursEtCongélateursSCDSSEN2Haut"},{"$f":"AW$25&SUBSTITUTE(AW26,\" \",\"\")","v":"SolaireÀConnexionDirecte_RéfrigérateursEtCongélateursSCDSSEN3etabonnementsBas"},{"$f":"AW$25&SUBSTITUTE(AW27,\" \",\"\")","v":"SolaireÀConnexionDirecte_RéfrigérateursEtCongélateursSCDSSEN3etabonnementsMoyen"},{"$f":"AW$25&SUBSTITUTE(AW28,\" \",\"\")","v":"SolaireÀConnexionDirecte_RéfrigérateursEtCongélateursSCDSSEN3etabonnementsHaut"},{"$f":"AX$25&SUBSTITUTE(AX26,\" \",\"\")","v":"SolaireÀConnexionDirecte_RéfrigérateursEtCongélateursSCDSSEN3etabonnementsBas"},{"$f":"AX$25&SUBSTITUTE(AX27,\" \",\"\")","v":"SolaireÀConnexionDirecte_RéfrigérateursEtCongélateursSCDSSEN3etabonnementsMoyen"},{"$f":"AX$25&SUBSTITUTE(AX28,\" \",\"\")","v":"SolaireÀConnexionDirecte_RéfrigérateursEtCongélateursSCDSSEN3etabonnementsHaut"},{"$f":"AY$25&SUBSTITUTE(AY26,\" \",\"\")","v":"SolaireÀConnexionDirecte_RéfrigérateursEtCongélateursSCDSSEN3etabonnementsBas"},{"$f":"AY$25&SUBSTITUTE(AY27,\" \",\"\")","v":"SolaireÀConnexionDirecte_RéfrigérateursEtCongélateursSCDSSEN3etabonnementsMoyen"},{"$f":"AY$25&SUBSTITUTE(AY28,\" \",\"\")","v":"SolaireÀConnexionDirecte_RéfrigérateursEtCongélateursSCDSSEN3etabonnementsHaut"},{"$f":"AZ$25&SUBSTITUTE(AZ26,\" \",\"\")","v":"SolaireÀConnexionDirecte_RéfrigérateursEtCongélateursSCDSSEN3etabonnementsBas"},{"$f":"AZ$25&SUBSTITUTE(AZ27,\" \",\"\")","v":"SolaireÀConnexionDirecte_RéfrigérateursEtCongélateursSCDSSEN3etabonnementsMoyen"},{"$f":"AZ$25&SUBSTITUTE(AZ28,\" \",\"\")","v":"SolaireÀConnexionDirecte_RéfrigérateursEtCongélateursSCDSSEN3etabonnementsHaut"},{"$f":"BA$25&SUBSTITUTE(BA26,\" \",\"\")","v":"SolaireÀConnexionDirecte_RéfrigérateursEtCongélateursSCDSSEN3etabonnementsBas"},{"$f":"BA$25&SUBSTITUTE(BA27,\" \",\"\")","v":"SolaireÀConnexionDirecte_RéfrigérateursEtCongélateursSCDSSEN3etabonnementsMoyen"},{"$f":"BA$25&SUBSTITUTE(BA28,\" \",\"\")","v":"SolaireÀConnexionDirecte_RéfrigérateursEtCongélateursSCDSSEN3etabonnementsHaut"},{"$f":"BB$25&SUBSTITUTE(BB26,\" \",\"\")","v":"SolaireÀConnexionDirecte_RéfrigérateursEtCongélateursSCDSSEN3etabonnementsBas"},{"$f":"BB$25&SUBSTITUTE(BB27,\" \",\"\")","v":"SolaireÀConnexionDirecte_RéfrigérateursEtCongélateursSCDSSEN3etabonnementsMoyen"},{"$f":"BB$25&SUBSTITUTE(BB28,\" \",\"\")","v":"SolaireÀConnexionDirecte_RéfrigérateursEtCongélateursSCDSSEN3etabonnementsHaut"},{"$f":"BC$25&SUBSTITUTE(BC26,\" \",\"\")","v":"DispositifsPassifsÀLongTerme_DPLTActifsPassifsSO5-<10LBas"},{"$f":"BC$25&SUBSTITUTE(BC27,\" \",\"\")","v":"DispositifsPassifsÀLongTerme_DPLTActifsPassifsSO5-<10LMoyen"},{"$f":"BC$25&SUBSTITUTE(BC28,\" \",\"\")","v":"DispositifsPassifsÀLongTerme_DPLTActifsPassifsSO5-<10LHaut"},{"$f":"BD$25&SUBSTITUTE(BD26,\" \",\"\")","v":"PorteVaccinsAvecpréventiondugelDispositifspassifsSO1-<2LBas"},{"$f":"BD$25&SUBSTITUTE(BD27,\" \",\"\")","v":"PorteVaccinsAvecpréventiondugelDispositifspassifsSO1-<2LMoyen"},{"$f":"BD$25&SUBSTITUTE(BD28,\" \",\"\")","v":"PorteVaccinsAvecpréventiondugelDispositifspassifsSO1-<2LHaut"},{"$f":"BE$25&SUBSTITUTE(BE26,\" \",\"\")","v":"PorteVaccinsAvecpréventiondugelDispositifspassifsSO2-<5LBas"},{"$f":"BE$25&SUBSTITUTE(BE27,\" \",\"\")","v":"PorteVaccinsAvecpréventiondugelDispositifspassifsSO2-<5LMoyen"},{"$f":"BE$25&SUBSTITUTE(BE28,\" \",\"\")","v":"PorteVaccinsAvecpréventiondugelDispositifspassifsSO2-<5LHaut"},{"$f":"BF$25&SUBSTITUTE(BF26,\" \",\"\")","v":"GlacièresAvecPréventionDuGelDispositifspassifsSOBas"},{"$f":"BF$25&SUBSTITUTE(BF27,\" \",\"\")","v":"GlacièresAvecPréventionDuGelDispositifspassifsSOMoyen"},{"$f":"BF$25&SUBSTITUTE(BF28,\" \",\"\")","v":"GlacièresAvecPréventionDuGelDispositifspassifsSOHaut"},{"$f":"BG$25&SUBSTITUTE(BG26,\" \",\"\")","v":"GlacièresAvecPréventionDuGelDispositifspassifsSO20L-<25LBas"},{"$f":"BG$25&SUBSTITUTE(BG27,\" \",\"\")","v":"GlacièresAvecPréventionDuGelDispositifspassifsSO20L-<25LMoyen"},{"$f":"BG$25&SUBSTITUTE(BG28,\" \",\"\")","v":"GlacièresAvecPréventionDuGelDispositifspassifsSO20L-<25LHaut"},{"$f":"BH$25&SUBSTITUTE(BH26,\" \",\"\")","v":"EnregistreurDeTempératureECF_ET30JDSTpourréfrigérateursSOSOBas"},{"$f":"BH$25&SUBSTITUTE(BH27,\" \",\"\")","v":"EnregistreurDeTempératureECF_ET30JDSTpourréfrigérateursSOSOMoyen"},{"$f":"BH$25&SUBSTITUTE(BH28,\" \",\"\")","v":"EnregistreurDeTempératureECF_ET30JDSTpourréfrigérateursSOSOHaut"},{"$f":"BI$25&SUBSTITUTE(BI26,\" \",\"\")","v":"DispositifEtAbonnementSTDDSTDpourréfrigérateursSOSOBas"},{"$f":"BI$25&SUBSTITUTE(BI27,\" \",\"\")","v":"DispositifEtAbonnementSTDDSTDpourréfrigérateursSOSOMoyen"},{"$f":"BI$25&SUBSTITUTE(BI28,\" \",\"\")","v":"DispositifEtAbonnementSTDDSTDpourréfrigérateursSOSOHaut"},{"$f":"BJ$25&SUBSTITUTE(BJ26,\" \",\"\")","v":"DispositifEtAbonnementSTDDSTDpourCFADSOSOBas"},{"$f":"BJ$25&SUBSTITUTE(BJ27,\" \",\"\")","v":"DispositifEtAbonnementSTDDSTDpourCFADSOSOMoyen"},{"$f":"BJ$25&SUBSTITUTE(BJ28,\" \",\"\")","v":"DispositifEtAbonnementSTDDSTDpourCFADSOSOHaut"},{"$f":"BK$25&SUBSTITUTE(BK26,\" \",\"\")","v":"RégulateursDeTensionRégulateursSOSOBas"},{"$f":"BK$25&SUBSTITUTE(BK27,\" \",\"\")","v":"RégulateursDeTensionRégulateursSOSOMoyen"},{"$f":"BK$25&SUBSTITUTE(BK28,\" \",\"\")","v":"RégulateursDeTensionRégulateursSOSOHaut"},{"$f":"BL$25&SUBSTITUTE(BL26,\" \",\"\")","v":"RégulateursDeTensionSOSOBas"},{"$f":"BL$25&SUBSTITUTE(BL27,\" \",\"\")","v":"RégulateursDeTensionSOSOMoyen"},{"$f":"BL$25&SUBSTITUTE(BL28,\" \",\"\")","v":"RégulateursDeTensionSOSOHaut"},{"$f":"BM$25&SUBSTITUTE(BM26,\" \",\"\")","v":"PiècesDeRechangePourECFSurSecteurRéfrigérateurSOSOBas"},{"$f":"BM$25&SUBSTITUTE(BM27,\" \",\"\")","v":"PiècesDeRechangePourECFSurSecteurRéfrigérateurSOSOMoyen"},{"$f":"BM$25&SUBSTITUTE(BM28,\" \",\"\")","v":"PiècesDeRechangePourECFSurSecteurRéfrigérateurSOSOHaut"},{"$f":"BN$25&SUBSTITUTE(BN26,\" \",\"\")","v":"PiècesDeRechangePourECFSurSecteurCongélateuràvaccinsetbriquettesd’eauSOSOBas"},{"$f":"BN$25&SUBSTITUTE(BN27,\" \",\"\")","v":"PiècesDeRechangePourECFSurSecteurCongélateuràvaccinsetbriquettesd’eauSOSOMoyen"},{"$f":"BN$25&SUBSTITUTE(BN28,\" \",\"\")","v":"PiècesDeRechangePourECFSurSecteurCongélateuràvaccinsetbriquettesd’eauSOSOHaut"},{"$f":"BO$25&SUBSTITUTE(BO26,\" \",\"\")","v":"PiècesDeRechangePourECFSurSecteurCombiné_RÉFetCONSOSOBas"},{"$f":"BO$25&SUBSTITUTE(BO27,\" \",\"\")","v":"PiècesDeRechangePourECFSurSecteurCombiné_RÉFetCONSOSOMoyen"},{"$f":"BO$25&SUBSTITUTE(BO28,\" \",\"\")","v":"PiècesDeRechangePourECFSurSecteurCombiné_RÉFetCONSOSOHaut"},{"$f":"BP$25&SUBSTITUTE(BP26,\" \",\"\")","v":"PiècesDeRechangePourECFSCDRéfrigérateurSOSOBas"},{"$f":"BP$25&SUBSTITUTE(BP27,\" \",\"\")","v":"PiècesDeRechangePourECFSCDRéfrigérateurSOSOMoyen"},{"$f":"BP$25&SUBSTITUTE(BP28,\" \",\"\")","v":"PiècesDeRechangePourECFSCDRéfrigérateurSOSOHaut"},{"$f":"BQ$25&SUBSTITUTE(BQ26,\" \",\"\")","v":"PiècesDeRechangePourECFSCDCongélateuràbriquettesd’eauSOSOBas"},{"$f":"BQ$25&SUBSTITUTE(BQ27,\" \",\"\")","v":"PiècesDeRechangePourECFSCDCongélateuràbriquettesd’eauSOSOMoyen"},{"$f":"BQ$25&SUBSTITUTE(BQ28,\" \",\"\")","v":"PiècesDeRechangePourECFSCDCongélateuràbriquettesd’eauSOSOHaut"},{"$f":"BR$25&SUBSTITUTE(BR26,\" \",\"\")","v":"PiècesDeRechangePourECFSCDCombiné_RÉFetCONSOSOBas"},{"$f":"BR$25&SUBSTITUTE(BR27,\" \",\"\")","v":"PiècesDeRechangePourECFSCDCombiné_RÉFetCONSOSOMoyen"},{"$f":"BR$25&SUBSTITUTE(BR28,\" \",\"\")","v":"PiècesDeRechangePourECFSCDCombiné_RÉFetCONSOSOHaut"},{"$f":"BS$25&SUBSTITUTE(BS26,\" \",\"\")","v":"PiècesDeRechangePourECFSCDSOSOBas"},{"$f":"BS$25&SUBSTITUTE(BS27,\" \",\"\")","v":"PiècesDeRechangePourECFSCDSOSOMoyen"},{"$f":"BS$25&SUBSTITUTE(BS28,\" \",\"\")","v":"PiècesDeRechangePourECFSCDSOSOHaut"},{"$f":"BT$25&SUBSTITUTE(BT26,\" \",\"\")","v":"FormationSSEParLeFabricantServicespourréfrigérateursEnpersonneSOBas"},{"$f":"BT$25&SUBSTITUTE(BT27,\" \",\"\")","v":"FormationSSEParLeFabricantServicespourréfrigérateursEnpersonneSOMoyen"},{"$f":"BT$25&SUBSTITUTE(BT28,\" \",\"\")","v":"FormationSSEParLeFabricantServicespourréfrigérateursEnpersonneSOHaut"},{"$f":"BU$25&SUBSTITUTE(BU26,\" \",\"\")","v":"FormationSSEParLeFabricantServicespourréfrigérateursÀdistanceSOBas"},{"$f":"BU$25&SUBSTITUTE(BU27,\" \",\"\")","v":"FormationSSEParLeFabricantServicespourréfrigérateursÀdistanceSOMoyen"},{"$f":"BU$25&SUBSTITUTE(BU28,\" \",\"\")","v":"FormationSSEParLeFabricantServicespourréfrigérateursÀdistanceSOHaut"},{"$f":"BV$25&SUBSTITUTE(BV26,\" \",\"\")","v":"FormationSSEParLeFabricantEnpersonneSOBas"},{"$f":"BV$25&SUBSTITUTE(BV27,\" \",\"\")","v":"FormationSSEParLeFabricantEnpersonneSOMoyen"},{"$f":"BV$25&SUBSTITUTE(BV28,\" \",\"\")","v":"FormationSSEParLeFabricantEnpersonneSOHaut"},{"$f":"BW$25&SUBSTITUTE(BW26,\" \",\"\")","v":"FormationSSEParLeFabricantEnpersonneSOBas"},{"$f":"BW$25&SUBSTITUTE(BW27,\" \",\"\")","v":"FormationSSEParLeFabricantEnpersonneSOMoyen"},{"$f":"BW$25&SUBSTITUTE(BW28,\" \",\"\")","v":"FormationSSEParLeFabricantEnpersonneSOHaut"},{"$f":"BX$25&SUBSTITUTE(BX26,\" \",\"\")","v":"FormationSSEParLeFabricantEnpersonneSOBas"},{"$f":"BX$25&SUBSTITUTE(BX27,\" \",\"\")","v":"FormationSSEParLeFabricantEnpersonneSOMoyen"},{"$f":"BX$25&SUBSTITUTE(BX28,\" \",\"\")","v":"FormationSSEParLeFabricantEnpersonneSOHaut"},{"$f":"BY$25&SUBSTITUTE(BY26,\" \",\"\")","v":"FormationDSTDParLeFabricantServicespourréfrigérateursEnpersonneSOBas"},{"$f":"BY$25&SUBSTITUTE(BY27,\" \",\"\")","v":"FormationDSTDParLeFabricantServicespourréfrigérateursEnpersonneSOMoyen"},{"$f":"BY$25&SUBSTITUTE(BY28,\" \",\"\")","v":"FormationDSTDParLeFabricantServicespourréfrigérateursEnpersonneSOHaut"},{"$f":"BZ$25&SUBSTITUTE(BZ26,\" \",\"\")","v":"FormationDSTDParLeFabricantServicespourréfrigérateursÀdistanceSOBas"},{"$f":"BZ$25&SUBSTITUTE(BZ27,\" \",\"\")","v":"FormationDSTDParLeFabricantServicespourréfrigérateursÀdistanceSOMoyen"},{"$f":"BZ$25&SUBSTITUTE(BZ28,\" \",\"\")","v":"FormationDSTDParLeFabricantServicespourréfrigérateursÀdistanceSOHaut"},{"$f":"CA$25&SUBSTITUTE(CA26,\" \",\"\")","v":"FormationDSTDParLeFabricantServicespourCFADEnpersonneSOBas"},{"$f":"CA$25&SUBSTITUTE(CA27,\" \",\"\")","v":"FormationDSTDParLeFabricantServicespourCFADEnpersonneSOMoyen"},{"$f":"CA$25&SUBSTITUTE(CA28,\" \",\"\")","v":"FormationDSTDParLeFabricantServicespourCFADEnpersonneSOHaut"},{"$f":"CB$25&SUBSTITUTE(CB26,\" \",\"\")","v":"FormationDSTDParLeFabricantServicespourCFADÀdistanceSOBas"},{"$f":"CB$25&SUBSTITUTE(CB27,\" \",\"\")","v":"FormationDSTDParLeFabricantServicespourCFADÀdistanceSOMoyen"},{"$f":"CB$25&SUBSTITUTE(CB28,\" \",\"\")","v":"FormationDSTDParLeFabricantServicespourCFADÀdistanceSOHaut"},{"$f":"CC$25&SUBSTITUTE(CC26,\" \",\"\")","v":"FormationMaintenanceECFParLeFabricantServicespourréfrigérateursEnpersonneSOBas"},{"$f":"CC$25&SUBSTITUTE(CC27,\" \",\"\")","v":"FormationMaintenanceECFParLeFabricantServicespourréfrigérateursEnpersonneSOMoyen"},{"$f":"CC$25&SUBSTITUTE(CC28,\" \",\"\")","v":"FormationMaintenanceECFParLeFabricantServicespourréfrigérateursEnpersonneSOHaut"},{"$f":"CD$25&SUBSTITUTE(CD26,\" \",\"\")","v":"FormationMaintenanceECFParLeFabricantServicespourréfrigérateursÀdistanceSOBas"},{"$f":"CD$25&SUBSTITUTE(CD27,\" \",\"\")","v":"FormationMaintenanceECFParLeFabricantServicespourréfrigérateursÀdistanceSOMoyen"},{"$f":"CD$25&SUBSTITUTE(CD28,\" \",\"\")","v":"FormationMaintenanceECFParLeFabricantServicespourréfrigérateursÀdistanceSOHaut"},{"$f":"CE$25&SUBSTITUTE(CE26,\" \",\"\")","v":"FormationMaintenanceECFParLeFabricantServicespourCFADEnpersonneSOBas"},{"$f":"CE$25&SUBSTITUTE(CE27,\" \",\"\")","v":"FormationMaintenanceECFParLeFabricantServicespourCFADEnpersonneSOMoyen"},{"$f":"CE$25&SUBSTITUTE(CE28,\" \",\"\")","v":"FormationMaintenanceECFParLeFabricantServicespourCFADEnpersonneSOHaut"},{"$f":"CF$25&SUBSTITUTE(CF26,\" \",\"\")","v":"FormationMaintenanceECFParLeFabricantServicespourCFADÀdistanceSOBas"},{"$f":"CF$25&SUBSTITUTE(CF27,\" \",\"\")","v":"FormationMaintenanceECFParLeFabricantServicespourCFADÀdistanceSOMoyen"},{"$f":"CF$25&SUBSTITUTE(CF28,\" \",\"\")","v":"FormationMaintenanceECFParLeFabricantServicespourCFADÀdistanceSOHaut"},{"$f":"CG$25&SUBSTITUTE(CG26,\" \",\"\")","v":"AbonnementsAnnuelsAuxDonnéesDSTDServicespourréfrigérateursSOSOBas"},{"$f":"CG$25&SUBSTITUTE(CG27,\" \",\"\")","v":"AbonnementsAnnuelsAuxDonnéesDSTDServicespourréfrigérateursSOSOMoyen"},{"$f":"CG$25&SUBSTITUTE(CG28,\" \",\"\")","v":"AbonnementsAnnuelsAuxDonnéesDSTDServicespourréfrigérateursSOSOHaut"},{"$f":"CH$25&SUBSTITUTE(CH26,\" \",\"\")","v":"AbonnementsAnnuelsAuxDonnéesDSTDServicespourréfrigérateursSOBas"},{"$f":"CH$25&SUBSTITUTE(CH27,\" \",\"\")","v":"AbonnementsAnnuelsAuxDonnéesDSTDServicespourréfrigérateursSOMoyen"},{"$f":"CH$25&SUBSTITUTE(CH28,\" \",\"\")","v":"AbonnementsAnnuelsAuxDonnéesDSTDServicespourréfrigérateursSOHaut"},{"$f":"CI$25&SUBSTITUTE(CI26,\" \",\"\")","v":"AbonnementsAnnuelsAuxDonnéesDSTDServicespourCFADSOSOBas"},{"$f":"CI$25&SUBSTITUTE(CI27,\" \",\"\")","v":"AbonnementsAnnuelsAuxDonnéesDSTDServicespourCFADSOSOMoyen"},{"$f":"CI$25&SUBSTITUTE(CI28,\" \",\"\")","v":"AbonnementsAnnuelsAuxDonnéesDSTDServicespourCFADSOSOHaut"},{"$f":"CJ$25&SUBSTITUTE(CJ26,\" \",\"\")","v":"AbonnementsAnnuelsAuxDonnéesDSTDServicespourCFADSOBas"},{"$f":"CJ$25&SUBSTITUTE(CJ27,\" \",\"\")","v":"AbonnementsAnnuelsAuxDonnéesDSTDServicespourCFADSOMoyen"},{"$f":"CJ$25&SUBSTITUTE(CJ28,\" \",\"\")","v":"AbonnementsAnnuelsAuxDonnéesDSTDServicespourCFADSOHaut"},{"$f":"CK$25&SUBSTITUTE(CK26,\" \",\"\")","v":"AbonnementsAnnuelsAuxDonnéesSSEServicespourréfrigérateursSOSOBas"},{"$f":"CK$25&SUBSTITUTE(CK27,\" \",\"\")","v":"AbonnementsAnnuelsAuxDonnéesSSEServicespourréfrigérateursSOSOMoyen"},{"$f":"CK$25&SUBSTITUTE(CK28,\" \",\"\")","v":"AbonnementsAnnuelsAuxDonnéesSSEServicespourréfrigérateursSOSOHaut"},{"$f":"CL$25&SUBSTITUTE(CL26,\" \",\"\")","v":"AbonnementsAnnuelsAuxDonnéesSSESOSOBas"},{"$f":"CL$25&SUBSTITUTE(CL27,\" \",\"\")","v":"AbonnementsAnnuelsAuxDonnéesSSESOSOMoyen"},{"$f":"CL$25&SUBSTITUTE(CL28,\" \",\"\")","v":"AbonnementsAnnuelsAuxDonnéesSSESOSOHaut"},{"$f":"CM$25&SUBSTITUTE(CM26,\" \",\"\")","v":"PainsDeGlaceSOSO0.3LBas"},{"$f":"CM$25&SUBSTITUTE(CM27,\" \",\"\")","v":"PainsDeGlaceSOSO0.3LMoyen"},{"$f":"CM$25&SUBSTITUTE(CM28,\" \",\"\")","v":"PainsDeGlaceSOSO0.3LHaut"},{"$f":"CN$25&SUBSTITUTE(CN26,\" \",\"\")","v":"PainsDeGlaceSOSO0.4LBas"},{"$f":"CN$25&SUBSTITUTE(CN27,\" \",\"\")","v":"PainsDeGlaceSOSO0.4LMoyen"},{"$f":"CN$25&SUBSTITUTE(CN28,\" \",\"\")","v":"PainsDeGlaceSOSO0.4LHaut"},{"$f":"CO$25&SUBSTITUTE(CO26,\" \",\"\")","v":"PainsDeGlaceSOSO0.6LBas"},{"$f":"CO$25&SUBSTITUTE(CO27,\" \",\"\")","v":"PainsDeGlaceSOSO0.6LMoyen"},{"$f":"CO$25&SUBSTITUTE(CO28,\" \",\"\")","v":"PainsDeGlaceSOSO0.6LHaut"},{"$f":"CP$25&SUBSTITUTE(CP26,\" \",\"\")","v":"PainsDeGlaceSO0.3LBas"},{"$f":"CP$25&SUBSTITUTE(CP27,\" \",\"\")","v":"PainsDeGlaceSO0.3LMoyen"},{"$f":"CP$25&SUBSTITUTE(CP28,\" \",\"\")","v":"PainsDeGlaceSO0.3LHaut"},{"$f":"CQ$25&SUBSTITUTE(CQ26,\" \",\"\")","v":"PainsDeGlaceSO0.4LBas"},{"$f":"CQ$25&SUBSTITUTE(CQ27,\" \",\"\")","v":"PainsDeGlaceSO0.4LMoyen"},{"$f":"CQ$25&SUBSTITUTE(CQ28,\" \",\"\")","v":"PainsDeGlaceSO0.4LHaut"},{"$f":"CR$25&SUBSTITUTE(CR26,\" \",\"\")","v":"PainsDeGlaceSO0.6LBas"},{"$f":"CR$25&SUBSTITUTE(CR27,\" \",\"\")","v":"PainsDeGlaceSO0.6LMoyen"},{"$f":"CR$25&SUBSTITUTE(CR28,\" \",\"\")","v":"PainsDeGlaceSO0.6LHaut"},{"$f":"CS$25&SUBSTITUTE(CS26,\" \",\"\")","v":"DispositifsDeStockageDesVaccinsTransportablesEtAlimentés_DSTAPortevaccinsDSTASO0-<5LBas"},{"$f":"CS$25&SUBSTITUTE(CS27,\" \",\"\")","v":"DispositifsDeStockageDesVaccinsTransportablesEtAlimentés_DSTAPortevaccinsDSTASO0-<5LMoyen"},{"$f":"CS$25&SUBSTITUTE(CS28,\" \",\"\")","v":"DispositifsDeStockageDesVaccinsTransportablesEtAlimentés_DSTAPortevaccinsDSTASO0-<5LHaut"},{"$f":"CT$25&SUBSTITUTE(CT26,\" \",\"\")","v":"DispositifsDeStockageDesVaccinsTransportablesEtAlimentés_DSTAChargeursDSTASOSOBas"},{"$f":"CT$25&SUBSTITUTE(CT27,\" \",\"\")","v":"DispositifsDeStockageDesVaccinsTransportablesEtAlimentés_DSTAChargeursDSTASOSOMoyen"},{"$f":"CT$25&SUBSTITUTE(CT28,\" \",\"\")","v":"DispositifsDeStockageDesVaccinsTransportablesEtAlimentés_DSTAChargeursDSTASOSOHaut"},{"$f":"CU$25&SUBSTITUTE(CU26,\" \",\"\")","v":"SupportDePanneauSolairePourSCDMatérielSOSOBas"},{"$f":"CU$25&SUBSTITUTE(CU27,\" \",\"\")","v":"SupportDePanneauSolairePourSCDMatérielSOSOMoyen"},{"$f":"CU$25&SUBSTITUTE(CU28,\" \",\"\")","v":"SupportDePanneauSolairePourSCDMatérielSOSOHaut"},{"$f":"CV$25&SUBSTITUTE(CV26,\" \",\"\")","v":"SupportDePanneauSolairePourSCDSOSOBas"},{"$f":"CV$25&SUBSTITUTE(CV27,\" \",\"\")","v":"SupportDePanneauSolairePourSCDSOSOMoyen"},{"$f":"CV$25&SUBSTITUTE(CV28,\" \",\"\")","v":"SupportDePanneauSolairePourSCDSOSOHaut"},{"$f":"CW$25&SUBSTITUTE(CW26,\" \",\"\")","v":"PorteVaccinsConventionnelsDispositifspassifsSO1-<2LBas"},{"$f":"CW$25&SUBSTITUTE(CW27,\" \",\"\")","v":"PorteVaccinsConventionnelsDispositifspassifsSO1-<2LMoyen"},{"$f":"CW$25&SUBSTITUTE(CW28,\" \",\"\")","v":"PorteVaccinsConventionnelsDispositifspassifsSO1-<2LHaut"},{"$f":"CX$25&SUBSTITUTE(CX26,\" \",\"\")","v":"PorteVaccinsConventionnelsDispositifspassifsSO2-<5LBas"},{"$f":"CX$25&SUBSTITUTE(CX27,\" \",\"\")","v":"PorteVaccinsConventionnelsDispositifspassifsSO2-<5LMoyen"},{"$f":"CX$25&SUBSTITUTE(CX28,\" \",\"\")","v":"PorteVaccinsConventionnelsDispositifspassifsSO2-<5LHaut"},{"$f":"CY$25&SUBSTITUTE(CY26,\" \",\"\")","v":"GlacièresConventionnellesDispositifspassifsSO5L-<10LBas"},{"$f":"CY$25&SUBSTITUTE(CY27,\" \",\"\")","v":"GlacièresConventionnellesDispositifspassifsSO5L-<10LMoyen"},{"$f":"CY$25&SUBSTITUTE(CY28,\" \",\"\")","v":"GlacièresConventionnellesDispositifspassifsSO5L-<10LHaut"},{"$f":"CZ$25&SUBSTITUTE(CZ26,\" \",\"\")","v":"GlacièresConventionnellesDispositifspassifsSO20L-<25LBas"},{"$f":"CZ$25&SUBSTITUTE(CZ27,\" \",\"\")","v":"GlacièresConventionnellesDispositifspassifsSO20L-<25LMoyen"},{"$f":"CZ$25&SUBSTITUTE(CZ28,\" \",\"\")","v":"GlacièresConventionnellesDispositifspassifsSO20L-<25LHaut"},{"$f":"DA$25&SUBSTITUTE(DA26,\" \",\"\")","v":"EnregistreurDeTempératureProgrammableParL’UtilisateurDSTpourréfrigérateursSOSOBas"},{"$f":"DA$25&SUBSTITUTE(DA27,\" \",\"\")","v":"EnregistreurDeTempératureProgrammableParL’UtilisateurDSTpourréfrigérateursSOSOMoyen"},{"$f":"DA$25&SUBSTITUTE(DA28,\" \",\"\")","v":"EnregistreurDeTempératureProgrammableParL’UtilisateurDSTpourréfrigérateursSOSOHaut"},{"$f":"DB$25&SUBSTITUTE(DB26,\" \",\"\")","v":"IndicateurDeGelSOSOSOBas"},{"$f":"DB$25&SUBSTITUTE(DB27,\" \",\"\")","v":"IndicateurDeGelSOSOSOMoyen"},{"$f":"DB$25&SUBSTITUTE(DB28,\" \",\"\")","v":"IndicateurDeGelSOSOSOHaut"}]
[]
[]
[null,null,null,null,null,null,null,"No.","Cat.","Plage","Prix",null,null,"No.","Cat.","Plage","Prix",null,null,null,null,null,null,null,null,null,"Type_Équipement"]
["`=A30",{"$f":"INDEX($31:$31, ROW(A31))","v":"RéfrigérateursEtCongélateursSurSecteurCombiné_RÉFetCONSSEN230-<60LBas"},null,"A",null,{"$f":"_xlfn.CONCAT(\"`=\",D35,E35,\"31\")","v":"`=A31"},null,1,{"$f":"A31","v":"RéfrigérateursEtCongélateursSurSecteurRéfrigérateurSSEN230-<60LBas"},{"$f":"RIGHT(I35,3)","v":"Bas"},1604.4682500000001,null,null,1,"RéfrigérateursEtCongélateursSurSecteurRéfrigérateurSSEN230-<60LBas",{"$f":"J35","v":"Bas"},1604.4682500000001,null,null,"G",4,{"$f":"_xlfn.CONCAT(\"`='CCEOP Price List'!\",T35,U35)","v":"`='CCEOP Price List'!G4"},null,null,null,null,"Réfrigérateurs et congélateurs sur secteur",{"$f":"SUBSTITUTE(AA35,\" \",\"\")","v":"Réfrigérateursetcongélateurssursecteur"},null,"RéfrigérateursEtCongélateursSurSecteur"]
["`=B30",{"$f":"INDEX($31:$31, ROW(A32))","v":"RéfrigérateursEtCongélateursSurSecteurCombiné_RÉFetCONSSEN230-<60LMoyen"},null,"B",null,"`=B31",null,2,{"$f":"B31","v":"RéfrigérateursEtCongélateursSurSecteurRéfrigérateurSSEN230-<60LMoyen"},"yen",2349.3912553125001,null,null,2,"RéfrigérateursEtCongélateursSurSecteurRéfrigérateurSSEN230-<60LMoyen",{"$f":"J36","v":"yen"},2349.3912553125001,null,null,"H",4,{"$f":"_xlfn.CONCAT(\"`='CCEOP Price List'!\",T36,U36)","v":"`='CCEOP Price List'!H4"},null,null,null,null,"Solaire à connexion directe_Réfrigérateurs et congélateurs SCD","Solaireàconnexiondirecte_RéfrigérateursetcongélateursSCD",null,"SolaireÀConnexionDirecte_RéfrigérateursEtCongélateursSCD"]
["`=C30",{"$f":"INDEX($31:$31, ROW(A33))","v":"RéfrigérateursEtCongélateursSurSecteurCombiné_RÉFetCONSSEN230-<60LHaut"},null,"C",null,"`=C31",null,3,{"$f":"C31","v":"RéfrigérateursEtCongélateursSurSecteurRéfrigérateurSSEN230-<60LHaut"},"aut",null,null,null,3,"RéfrigérateursEtCongélateursSurSecteurRéfrigérateurSSEN230-<60LHaut","aut",3401.4726900000001,null,null,"I",4,"`='CCEOP Price List'!I4",null,null,null,null,"Dispositifs passifs à long terme_DPLT","Dispositifspassifsàlongterme_DPLT",null,"DispositifsPassifsÀLongTerme_DPLT"]
[null,{"$f":"INDEX($31:$31, ROW(A34))","v":"RéfrigérateursEtCongélateursSurSecteurCombiné_RÉFetCONSSEN260-<120LBas"},null,"D",null,"`=D31",null,4,{"$f":"D31","v":"RéfrigérateursEtCongélateursSurSecteurRéfrigérateurSSEN260-<120LBas"},"Bas",2005.5853125000001,null,null,4,"RéfrigérateursEtCongélateursSurSecteurRéfrigérateurSSEN260-<120LBas","Bas",2005.5853125000001,null,null,"G",{"$f":"U35+1","v":5},"`='CCEOP Price List'!G5",null,null,null,null,"Porte-vaccins avec prévention du gel","Porte-vaccinsavecpréventiondugel",null,"TransporteursDeVaccinsAvecPréventionDuGel"]
[null,{"$f":"INDEX($31:$31, ROW(A35))","v":"RéfrigérateursEtCongélateursSurSecteurCombiné_RÉFetCONSSEN260-<120LMoyen"},null,"E",null,"`=E31",null,5,{"$f":"E31","v":"RéfrigérateursEtCongélateursSurSecteurRéfrigérateurSSEN260-<120LMoyen"},"yen",null,null,null,5,"RéfrigérateursEtCongélateursSurSecteurRéfrigérateurSSEN260-<120LMoyen","yen",2811.7090574999997,null,null,"H",{"$f":"U36+1","v":5},"`='CCEOP Price List'!H5",null,null,null,null,"Glacières avec prévention du gel ","Glacièresavecpréventiondugel",null,"GlacièresAvecPréventionDuGel"]
[null,{"$f":"INDEX($31:$31, ROW(A36))","v":"RéfrigérateursEtCongélateursSurSecteurCombiné_RÉFetCONSSEN260-<120LHaut"},null,"F",null,"`=F31",null,6,{"$f":"F31","v":"RéfrigérateursEtCongélateursSurSecteurRéfrigérateurSSEN260-<120LHaut"},"aut",null,null,null,6,"RéfrigérateursEtCongélateursSurSecteurRéfrigérateurSSEN260-<120LHaut","aut",3704.8630499999999,null,null,"I",5,"`='CCEOP Price List'!I5",null,null,null,null,"Enregistreur de température ECF_ET30J","EnregistreurdetempératureECF_ET30J",null,"EnregistreursDeTempératureECF_ET30J"]
[null,{"$f":"INDEX($31:$31, ROW(A37))","v":"RéfrigérateursEtCongélateursSurSecteurCombiné_RÉFetCONSSEN2>120LBas"},null,"G",null,"`=G31",null,7,{"$f":"G31","v":"RéfrigérateursEtCongélateursSurSecteurRéfrigérateurSSEN2>120LBas"},"Bas",2127.1359375000002,null,null,7,"RéfrigérateursEtCongélateursSurSecteurRéfrigérateurSSEN2>120LBas","Bas",2127.1359375000002,null,null,"G",6,"`='CCEOP Price List'!G6",null,null,null,null,"Dispositif et abonnement STD","DispositifetabonnementSTD",null,"DispositifEtAbonnementSTD"]
[null,{"$f":"INDEX($31:$31, ROW(A38))","v":"RéfrigérateursEtCongélateursSurSecteurCombiné_RÉFetCONSSEN2>120LMoyen"},null,"H",null,"`=H31",null,8,{"$f":"H31","v":"RéfrigérateursEtCongélateursSurSecteurRéfrigérateurSSEN2>120LMoyen"},"yen",null,null,null,8,"RéfrigérateursEtCongélateursSurSecteurRéfrigérateurSSEN2>120LMoyen","yen",3575.1685331250001,null,null,"H",6,"`='CCEOP Price List'!H6",null,null,null,null,"Régulateurs de tension","Régulateursdetension",null,"RégulateursDeTension"]
[null,{"$f":"INDEX($31:$31, ROW(A39))","v":"RéfrigérateursEtCongélateursSurSecteurCombiné_RÉFetCONSSEN2>120LHaut"},null,"I",null,"`=I31",null,9,{"$f":"I31","v":"RéfrigérateursEtCongélateursSurSecteurRéfrigérateurSSEN2>120LHaut"},"aut",null,null,null,9,"RéfrigérateursEtCongélateursSurSecteurRéfrigérateurSSEN2>120LHaut","aut",5062.8266324999995,null,null,"I",6,"`='CCEOP Price List'!I6",null,null,null,null,"Pièces de rechange pour ECF sur secteur ","PiècesderechangepourECFsursecteur",null,"PiècesDeRechangePourECFSurSecteur"]
[null,{"$f":"INDEX($31:$31, ROW(A40))","v":"RéfrigérateursEtCongélateursSurSecteurCombiné_RÉFetCONSSEN3etabonnements30-<60LBas"},null,"J",null,"`=J31",null,10,{"$f":"J31","v":"RéfrigérateursEtCongélateursSurSecteurRéfrigérateurSSEN3etabonnements30-<60LBas"},"Bas",2123.1357500000004,null,null,10,"RéfrigérateursEtCongélateursSurSecteurRéfrigérateurSSEN3etAbonnements30-<60LBas","Bas",2123.1357500000004,null,null,"G",7,"`='CCEOP Price List'!G7",null,null,null,null,"Pièces de rechange pour ECF SCD ","PiècesderechangepourECFSCD",null,"PiècesDeRechangePourECFSCD"]
[null,{"$f":"INDEX($31:$31, ROW(A41))","v":"RéfrigérateursEtCongélateursSurSecteurCombiné_RÉFetCONSSEN3etabonnements30-<60LMoyen"},null,"K",null,"`=K31",null,11,{"$f":"K31","v":"RéfrigérateursEtCongélateursSurSecteurRéfrigérateurSSEN3etabonnements30-<60LMoyen"},"yen",null,null,null,11,"RéfrigérateursEtCongélateursSurSecteurRéfrigérateurSSEN3etAbonnements30-<60LMoyen","yen",2868.0587553125001,null,null,"H",7,"`='CCEOP Price List'!H7",null,null,null,null,"Formation SSE par le fabricant","FormationSSEparlefabricant",null,"FormationSSEParLeFabricant"]
[null,{"$f":"INDEX($31:$31, ROW(A42))","v":"RéfrigérateursEtCongélateursSurSecteurCombiné_RÉFetCONSSEN3etabonnements30-<60LHaut"},null,"L",null,"`=L31",null,12,{"$f":"L31","v":"RéfrigérateursEtCongélateursSurSecteurRéfrigérateurSSEN3etabonnements30-<60LHaut"},"aut",null,null,null,12,"RéfrigérateursEtCongélateursSurSecteurRéfrigérateurSSEN3etAbonnements30-<60LHaut","aut",3920.1401900000001,null,null,"I",7,"`='CCEOP Price List'!I7",null,null,null,null,"Formation DSTD par le fabricant","FormationDSTDparlefabricant",null,"FormationDSTDParLeFabricant"]
[null,{"$f":"INDEX($31:$31, ROW(A43))","v":"RéfrigérateursEtCongélateursSurSecteurCombiné_RÉFetCONSSEN3etabonnements60-<120LBas"},null,"M",null,"`=M31",null,13,{"$f":"M31","v":"RéfrigérateursEtCongélateursSurSecteurRéfrigérateurSSEN3etabonnements60-<120LBas"},"Bas",2524.2528124999999,null,null,13,"RéfrigérateursEtCongélateursSurSecteurRéfrigérateurSSEN3etAbonnements60-<120LBas","Bas",2524.2528124999999,null,null,"G",8,"`='CCEOP Price List'!G8",null,null,null,null,"Formation maintenance ECF par le fabricant","FormationmaintenanceECFparlefabricant",null,"FormationMaintenanceECFParLeFabricant"]
[null,null,null,"N",null,"`=N31",null,14,{"$f":"N31","v":"RéfrigérateursEtCongélateursSurSecteurRéfrigérateurSSEN3etabonnements60-<120LMoyen"},"yen",null,null,null,14,"RéfrigérateursEtCongélateursSurSecteurRéfrigérateurSSEN3etAbonnements60-<120LMoyen","yen",3330.3765574999998,null,null,"H",8,"`='CCEOP Price List'!H8",null,null,null,null,"Abonnements annuels aux données DSTD","AbonnementsannuelsauxdonnéesDSTD",null,"AbonnementsAnnuelsAuxDonnéesDSTD"]
[null,null,null,"O",null,"`=O31",null,15,{"$f":"O31","v":"RéfrigérateursEtCongélateursSurSecteurRéfrigérateurSSEN3etabonnements60-<120LHaut"},"aut",null,null,null,15,"RéfrigérateursEtCongélateursSurSecteurRéfrigérateurSSEN3etAbonnements60-<120LHaut","aut",4223.5305499999995,null,null,"I",8,"`='CCEOP Price List'!I8",null,null,null,null,"Abonnements annuels aux données SSE","AbonnementsannuelsauxdonnéesSSE",null,"AbonnementsAnnuelsAuxDonnéesSSE"]
[null,null,null,"P",null,"`=P31",null,16,{"$f":"P31","v":"RéfrigérateursEtCongélateursSurSecteurRéfrigérateurSSEN3etabonnements>120LBas"},"Bas",2645.8034375000002,null,null,16,"RéfrigérateursEtCongélateursSurSecteurRéfrigérateurSSEN3etAbonnements>120LBas","Bas",2645.8034375000002,null,null,"G",9,"`='CCEOP Price List'!G9",null,null,null,null,"Pains de glace","Painsdeglace",null,"PainsDeGlace"]
[null,null,null,"Q",null,"`=Q31",null,17,{"$f":"Q31","v":"RéfrigérateursEtCongélateursSurSecteurRéfrigérateurSSEN3etabonnements>120LMoyen"},"yen",null,null,null,17,"RéfrigérateursEtCongélateursSurSecteurRéfrigérateurSSEN3etAbonnements>120LMoyen","yen",4093.8360331250001,null,null,"H",9,"`='CCEOP Price List'!H9",null,null,null,null,"Dispositifs de stockage des vaccins transportables et alimentés_DSTA","Dispositifsdestockagedesvaccinstransportablesetalimentés_DSTA",null,"DispositifsDeStockageDesVaccinsTransportablesEtAlimentés_DSTA"]
[null,null,null,"R",null,"`=R31",null,18,{"$f":"R31","v":"RéfrigérateursEtCongélateursSurSecteurRéfrigérateurSSEN3etabonnements>120LHaut"},"aut",null,null,null,18,"RéfrigérateursEtCongélateursSurSecteurRéfrigérateurSSEN3etAbonnements>120LHaut","aut",5581.4941325,null,null,"I",9,"`='CCEOP Price List'!I9",null,null,null,null,"Support de panneau solaire pour SCD","SupportdepanneausolairepourSCD",null,"SupportDePanneauSolairePourSCD"]
[null,null,null,"S",null,"`=S31",null,19,{"$f":"S31","v":"RéfrigérateursEtCongélateursSurSecteurCongélateuràvaccinsetbriquettesd’eauSO90-<150LBas"},"Bas",747.53634375000001,null,null,19,"RéfrigérateursEtCongélateursàVaccinsetBriquettesdEauSurSecteurSO90-<150LBas","Bas",747.53634375000001,null,null,"G",10,"`='CCEOP Price List'!G10",null,null,null,null,"Porte-vaccins conventionnels","Porte-vaccinsconventionnels",null,"PorteVaccinsConventionnels"]
[null,null,null,"T",null,"`=T31",null,20,{"$f":"T31","v":"RéfrigérateursEtCongélateursSurSecteurCongélateuràvaccinsetbriquettesd’eauSO90-<150LMoyen"},"yen",null,null,null,20,"RéfrigérateursEtCongélateursàVaccinsetBriquettesdEauSurSecteurSO90-<150LMoyen","yen",1213.6424737499999,null,null,"H",10,"`='CCEOP Price List'!H10",null,null,null,null,"Glacières conventionnelles","Glacièresconventionnelles",null,"GlacièresConventionnelles"]
[null,null,null,"U",null,"`=U31",null,21,{"$f":"U31","v":"RéfrigérateursEtCongélateursSurSecteurCongélateuràvaccinsetbriquettesd’eauSO90-<150LHaut"},"aut",null,null,null,21,"RéfrigérateursEtCongélateursàVaccinsetBriquettesdEauSurSecteurSO90-<150LHaut","aut",1702.1949524999998,null,null,"I",10,"`='CCEOP Price List'!I10",null,null,null,null,"Enregistreur de température programmable par l’utilisateur","Enregistreurdetempératureprogrammableparl’utilisateur",null,"EnregistreurDeTempératureProgrammableParUtilisateur"]
[null,null,null,"V",null,"`=V31",null,22,{"$f":"V31","v":"RéfrigérateursEtCongélateursSurSecteurCongélateuràvaccinsetbriquettesd’eauSO>150LBas"},"Bas",856.93190625,null,null,22,"RéfrigérateursEtCongélateursàVaccinsetBriquettesdEauSurSecteurSO>150LBas","Bas",856.93190625,null,null,"G",11,"`='CCEOP Price List'!G11",null,null,null,null,"Indicateur de gel","Indicateurdegel",null,"IndicateurDeGel"]
[null,null,null,"W",null,"`=W31",null,23,{"$f":"W31","v":"RéfrigérateursEtCongélateursSurSecteurCongélateuràvaccinsetbriquettesd’eauSO>150LMoyen"},"yen",null,null,null,23,"RéfrigérateursEtCongélateursàVaccinsetBriquettesdEauSurSecteurSOMoyen","yen",1377.5940084375,null,null,"H",11,"`='CCEOP Price List'!H11"]
[null,null,null,"X",null,"`=X31",null,24,{"$f":"X31","v":"RéfrigérateursEtCongélateursSurSecteurCongélateuràvaccinsetbriquettesd’eauSO>150LHaut"},"aut",null,null,null,24,"RéfrigérateursEtCongélateursSurSecteurCongélateurVaccinsetBriquettesdEauSO>150LHaut","aut",1986.6234149999998,null,null,"I",11,"`='CCEOP Price List'!I11"]
[null,null,null,"Y",null,"`=Y31",null,25,{"$f":"Y31","v":"RéfrigérateursEtCongélateursSurSecteurCongélateuràvaccinsetbriquettesd’eau90-<150LBas"},"Bas",0,null,null,25,"RéfrigérateursEtCongélateursSurSecteurCongélateurVaccinsetBriquettesdEau90-<150LBas","Bas",0,null,null,"G",12,"`='CCEOP Price List'!G12"]
[null,null,null,"Z",null,"`=Z31",null,26,{"$f":"Z31","v":"RéfrigérateursEtCongélateursSurSecteurCongélateuràvaccinsetbriquettesd’eau90-<150LMoyen"},"yen",null,null,null,26,"RéfrigérateursEtCongélateursSurSecteurCongélateurVaccinsetBriquettesdEau90-<150LMoyen","yen",0,null,null,"H",12,"`='CCEOP Price List'!H12"]
[null,null,null,"A","A","`=AA31",null,27,{"$f":"AA31","v":"RéfrigérateursEtCongélateursSurSecteurCongélateuràvaccinsetbriquettesd’eau90-<150LHaut"},"aut",null,null,null,27,"RéfrigérateursEtCongélateursSurSecteurCongélateurVaccinsetBriquettesdEau90-<150LHaut","aut",0,null,null,"I",12,"`='CCEOP Price List'!I12"]
[null,null,null,"A","B","`=AB31",null,28,{"$f":"AB31","v":"RéfrigérateursEtCongélateursSurSecteurCongélateuràvaccinsetbriquettesd’eau>150LBas"},"Bas",0,null,null,28,"RéfrigérateursEtCongélateursSurSecteurCongélateurVaccinsetBriquettesdEau>150LBas","Bas",0,null,null,"G",13,"`='CCEOP Price List'!G13"]
[null,null,null,"A","C","`=AC31",null,29,{"$f":"AC31","v":"RéfrigérateursEtCongélateursSurSecteurCongélateuràvaccinsetbriquettesd’eau>150LMoyen"},"yen",null,null,null,29,"RéfrigérateursEtCongélateursSurSecteurCongélateurVaccinsetBriquettesdEau>150LMoyen","yen",0,null,null,"H",13,"`='CCEOP Price List'!H13"]
[null,null,null,"A","D","`=AD31",null,30,{"$f":"AD31","v":"RéfrigérateursEtCongélateursSurSecteurCongélateuràvaccinsetbriquettesd’eau>150LHaut"},"aut",null,null,null,30,"RéfrigérateursEtCongélateursSurSecteurCongélateurVaccinsetBriquettesdEau>150LHaut","aut",0,null,null,"I",13,"`='CCEOP Price List'!I13"]
[null,null,null,"A","E","`=AE31",null,31,{"$f":"AE31","v":"RéfrigérateursEtCongélateursSurSecteurCombiné_RÉFetCONSSEN230-<60LBas"},"Bas",2042.0505000000001,null,null,31,"RéfrigérateursEtCongélateursSurSecteurCombo_RÉFetCONSSEN230-<60LBas","Bas",2042.0505000000001,null,null,"G",14,"`='CCEOP Price List'!G14"]
[null,null,null,"A","F","`=AF31",null,32,{"$f":"AF31","v":"RéfrigérateursEtCongélateursSurSecteurCombiné_RÉFetCONSSEN230-<60LMoyen"},"yen",null,null,null,32,"RéfrigérateursEtCongélateursSurSecteurCombo_RÉFetCONSSEN230-<60LMoyen","yen",2427.36598125,null,null,"H",14,"`='CCEOP Price List'!H14"]
[null,null,null,"A","G","`=AG31",null,33,{"$f":"AG31","v":"RéfrigérateursEtCongélateursSurSecteurCombiné_RÉFetCONSSEN230-<60LHaut"},"aut",null,null,null,33,"RéfrigérateursEtCongélateursSurSecteurCombo_RÉFetCONSSEN230-<60LHaut","aut",2812.6814625000002,null,null,"I",14,"`='CCEOP Price List'!I14"]
[null,null,null,"A","H","`=AH31",null,34,{"$f":"AH31","v":"RéfrigérateursEtCongélateursSurSecteurCombiné_RÉFetCONSSEN260-<120LBas"},"Bas",2309.461875,null,null,34,"RéfrigérateursEtCongélateursSurSecteurCombo_RÉFetCONSSEN260-<120LBas","Bas",2309.461875,null,null,"G",15,"`='CCEOP Price List'!G15"]
[null,null,null,"A","I","`=AI31",null,35,{"$f":"AI31","v":"RéfrigérateursEtCongélateursSurSecteurCombiné_RÉFetCONSSEN260-<120LMoyen"},"yen",null,null,null,35,"RéfrigérateursEtCongélateursSurSecteurCombo_RÉFetCONSSEN260-<120LMoyen","yen",4644.7735162499994,null,null,"H",15,"`='CCEOP Price List'!H15"]
[null,null,null,"A","J","`=AJ31",null,36,{"$f":"AJ31","v":"RéfrigérateursEtCongélateursSurSecteurCombiné_RÉFetCONSSEN260-<120LHaut"},"aut",null,null,null,36,"RéfrigérateursEtCongélateursSurSecteurCombo_RÉFetCONSSEN260-<120LHaut","aut",7765.6263300000001,null,null,"I",15,"`='CCEOP Price List'!I15"]
[null,null,null,"A","K","`=AK31",null,37,{"$f":"AK31","v":"RéfrigérateursEtCongélateursSurSecteurCombiné_RÉFetCONSSEN2>120LBas"},"Bas",3389,null,null,37,"RéfrigérateursEtCongélateursSurSecteurCombo_RÉFetCONSSEN2>120LBas","Bas",3389,null,null,"G",16,"`='CCEOP Price List'!G16"]
[null,null,null,"A","L","`=AL31",null,38,{"$f":"AL31","v":"RéfrigérateursEtCongélateursSurSecteurCombiné_RÉFetCONSSEN2>120LMoyen"},"yen",null,null,null,38,"RéfrigérateursEtCongélateursSurSecteurCombo_RÉFetCONSSEN2>120LMoyen","yen",3754.175340625,null,null,"H",16,"`='CCEOP Price List'!H16"]
[null,null,null,"A","M","`=AM31",null,39,{"$f":"AM31","v":"RéfrigérateursEtCongélateursSurSecteurCombiné_RÉFetCONSSEN2>120LHaut"},"aut",null,null,null,39,"RéfrigérateursEtCongélateursSurSecteurCombo_RÉFetCONSSEN2>120LHaut","aut",4119.35068125,null,null,"I",16,"`='CCEOP Price List'!I16"]
[null,null,null,"A","N","`=AN31",null,40,{"$f":"AN31","v":"RéfrigérateursEtCongélateursSurSecteurCombiné_RÉFetCONSSEN3etabonnements30-<60LBas"},"Bas",2560.7179999999998,null,null,40,"RéfrigérateursEtCongélateursSurSecteurCombo_RÉFetCONSSEN3etAbonnements30-<60LBas","Bas",2560.7179999999998,null,null,"G",17,"`='CCEOP Price List'!G17"]
[null,null,null,"A","O","`=AO31",null,41,{"$f":"AO31","v":"RéfrigérateursEtCongélateursSurSecteurCombiné_RÉFetCONSSEN3etabonnements30-<60LMoyen"},"yen",null,null,null,41,"RéfrigérateursEtCongélateursSurSecteurCombo_RÉFetCONSSEN3etAbonnements30-<60LMoyen","yen",2946.03348125,null,null,"H",17,"`='CCEOP Price List'!H17"]
[null,null,null,"A","P","`=AP31",null,42,{"$f":"AP31","v":"RéfrigérateursEtCongélateursSurSecteurCombiné_RÉFetCONSSEN3etabonnements30-<60LHaut"},"aut",null,null,null,42,"RéfrigérateursEtCongélateursSurSecteurCombo_RÉFetCONSSEN3etAbonnements30-<60LHaut","aut",3331.3489625000002,null,null,"I",17,"`='CCEOP Price List'!I17"]
[null,null,null,"A","Q","`=AQ31",null,43,{"$f":"AQ31","v":"RéfrigérateursEtCongélateursSurSecteurCombiné_RÉFetCONSSEN3etabonnements60-<120LBas"},"Bas",2828.129375,null,null,43,"RéfrigérateursEtCongélateursSurSecteurCombo_RÉFetCONSSEN3etAbonnements60-<120LBas","Bas",2828.129375,null,null,"G",18,"`='CCEOP Price List'!G18"]
[null,null,null,"A","R","`=AR31",null,44,{"$f":"AR31","v":"RéfrigérateursEtCongélateursSurSecteurCombiné_RÉFetCONSSEN3etabonnements60-<120LMoyen"},"yen",null,null,null,44,"RéfrigérateursEtCongélateursSurSecteurCombo_RÉFetCONSSEN3etAbonnements60-<120LMoyen","yen",5163.4410162499989,null,null,"H",18,"`='CCEOP Price List'!H18"]
[null,null,null,"A","S","`=AS31",null,45,{"$f":"AS31","v":"RéfrigérateursEtCongélateursSurSecteurCombiné_RÉFetCONSSEN3etabonnements60-<120LHaut"},"aut",null,null,null,45,"RéfrigérateursEtCongélateursSurSecteurCombo_RÉFetCONSSEN3etAbonnements60-<120LHaut","aut",8284.2938300000005,null,null,"I",18,"`='CCEOP Price List'!I18"]
[null,null,null,"A","T","`=AT31",null,46,{"$f":"AT31","v":"RéfrigérateursEtCongélateursSurSecteurCombiné_RÉFetCONSSEN3etabonnements>120LBas"},"Bas",3907.6675,null,null,46,"RéfrigérateursEtCongélateursSurSecteurCombo_RÉFetCONSSEN3etAbonnements>120LBas","Bas",3907.6675,null,null,"G",19,"`='CCEOP Price List'!G19"]
[null,null,null,"A","U","`=AU31",null,47,{"$f":"AU31","v":"RéfrigérateursEtCongélateursSurSecteurCombiné_RÉFetCONSSEN3etabonnements>120LMoyen"},"yen",null,null,null,47,"RéfrigérateursEtCongélateursSurSecteurCombo_RÉFetCONSSEN3etAbonnements>120LMoyen","yen",4272.8428406250005,null,null,"H",19,"`='CCEOP Price List'!H19"]
[null,null,null,"A","V","`=AV31",null,48,{"$f":"AV31","v":"RéfrigérateursEtCongélateursSurSecteurCombiné_RÉFetCONSSEN3etabonnements>120LHaut"},"aut",null,null,null,48,"RéfrigérateursEtCongélateursSurSecteurCombo_RÉFetCONSSEN3etAbonnements>120LHaut","aut",4638.0181812499995,null,null,"I",19,"`='CCEOP Price List'!I19"]
[null,null,null,"A","W","`=AW31",null,49,{"$f":"AW31","v":"RéfrigérateursEtCongélateursSurSecteurSSEN2Bas"},"Bas",0,null,null,49,"RéfrigérateursEtCongélateursSurSecteurSSEN2Bas","Bas",0,null,null,"G",20,"`='CCEOP Price List'!G20"]
[null,null,null,"A","X","`=AX31",null,50,{"$f":"AX31","v":"RéfrigérateursEtCongélateursSurSecteurSSEN2Moyen"},"yen",null,null,null,50,"RéfrigérateursEtCongélateursSurSecteurSSEN2Moyen","yen",0,null,null,"H",20,"`='CCEOP Price List'!H20"]
[null,null,null,"A","Y","`=AY31",null,51,{"$f":"AY31","v":"RéfrigérateursEtCongélateursSurSecteurSSEN2Haut"},"aut",null,null,null,51,"RéfrigérateursEtCongélateursSurSecteurSSEN2Haut","aut",0,null,null,"I",20,"`='CCEOP Price List'!I20"]
[null,null,null,"A","Z","`=AZ31",null,52,{"$f":"AZ31","v":"RéfrigérateursEtCongélateursSurSecteurSSEN2Bas"},"Bas",0,null,null,52,"RéfrigérateursEtCongélateursSurSecteurSSEN2Bas","Bas",0,null,null,"G",21,"`='CCEOP Price List'!G21"]
[null,null,null,"B","A","`=BA31",null,53,{"$f":"BA31","v":"RéfrigérateursEtCongélateursSurSecteurSSEN2Moyen"},"yen",null,null,null,53,"RéfrigérateursEtCongélateursSurSecteurSSEN2Moyen","yen",0,null,null,"H",21,"`='CCEOP Price List'!H21"]
[null,null,null,"B","B","`=BB31",null,54,{"$f":"BB31","v":"RéfrigérateursEtCongélateursSurSecteurSSEN2Haut"},"aut",null,null,null,54,"RéfrigérateursEtCongélateursSurSecteurSSEN2Haut","aut",0,null,null,"I",21,"`='CCEOP Price List'!I21"]
[null,null,null,"B","C","`=BC31",null,55,{"$f":"BC31","v":"RéfrigérateursEtCongélateursSurSecteurSSEN2Bas"},"Bas",0,null,null,55,"RéfrigérateursEtCongélateursSurSecteurSSEN2Bas","Bas",0,null,null,"G",22,"`='CCEOP Price List'!G22"]
[null,null,null,"B","D","`=BD31",null,56,{"$f":"BD31","v":"RéfrigérateursEtCongélateursSurSecteurSSEN2Moyen"},"yen",null,null,null,56,"RéfrigérateursEtCongélateursSurSecteurSSEN2Moyen","yen",0,null,null,"H",22,"`='CCEOP Price List'!H22"]
[null,null,null,"B","E","`=BE31",null,57,{"$f":"BE31","v":"RéfrigérateursEtCongélateursSurSecteurSSEN2Haut"},"aut",null,null,null,57,"RéfrigérateursEtCongélateursSurSecteurSSEN2Haut","aut",0,null,null,"I",22,"`='CCEOP Price List'!I22"]
[null,null,null,"B","F","`=BF31",null,58,{"$f":"BF31","v":"RéfrigérateursEtCongélateursSurSecteurSSEN2Bas"},"Bas",{"$f":"0","v":0},null,null,58,"RéfrigérateursEtCongélateursSurSecteurSSEN2Bas","Bas",0,null,null,"G",23,"`='CCEOP Price List'!G23"]
[null,null,null,"B","G","`=BG31",null,59,{"$f":"BG31","v":"RéfrigérateursEtCongélateursSurSecteurSSEN2Moyen"},"yen",null,null,null,59,"RéfrigérateursEtCongélateursSurSecteurSSEN2Moyen","yen",0,null,null,"H",23,"`='CCEOP Price List'!H23"]
[null,null,null,"B","H","`=BH31",null,60,{"$f":"BH31","v":"RéfrigérateursEtCongélateursSurSecteurSSEN2Haut"},"aut",null,null,null,60,"RéfrigérateursEtCongélateursSurSecteurSSEN2Haut","aut",0,null,null,"I",23,"`='CCEOP Price List'!I23"]
[null,null,null,"B","I","`=BI31",null,61,{"$f":"BI31","v":"RéfrigérateursEtCongélateursSurSecteurSSEN2Bas"},"Bas",0,null,null,61,"RéfrigérateursEtCongélateursSurSecteurSSEN2Bas","Bas",0,null,null,"G",24,"`='CCEOP Price List'!G24"]
[null,null,null,"B","J","`=BJ31",null,62,{"$f":"BJ31","v":"RéfrigérateursEtCongélateursSurSecteurSSEN2Moyen"},"yen",null,null,null,62,"RéfrigérateursEtCongélateursSurSecteurSSEN2Moyen","yen",0,null,null,"H",24,"`='CCEOP Price List'!H24"]
[null,null,null,"B","K","`=BK31",null,63,{"$f":"BK31","v":"RéfrigérateursEtCongélateursSurSecteurSSEN2Haut"},"aut",null,null,null,63,"RéfrigérateursEtCongélateursSurSecteurSSEN2Haut","aut",0,null,null,"I",24,"`='CCEOP Price List'!I24"]
[null,null,null,"B","L","`=BL31",null,64,{"$f":"BL31","v":"RéfrigérateursEtCongélateursSurSecteurSSEN2Bas"},"Bas",0,null,null,64,"RéfrigérateursEtCongélateursSurSecteurSSEN2Bas","Bas",0,null,null,"G",25,"`='CCEOP Price List'!G25"]
[null,null,null,"B","M","`=BM31",null,65,{"$f":"BM31","v":"RéfrigérateursEtCongélateursSurSecteurSSEN2Moyen"},{"$f":"RIGHT(I99,3)","v":"yen"},null,null,null,65,"RéfrigérateursEtCongélateursSurSecteurSSEN2Moyen","yen",0,null,null,"H",25,"`='CCEOP Price List'!H25"]
[null,null,null,"B","N",{"$f":"_xlfn.CONCAT(\"`=\",D100,E100,\"31\")","v":"`=BN31"},null,66,{"$f":"BN31","v":"RéfrigérateursEtCongélateursSurSecteurSSEN2Haut"},"aut",null,null,null,66,"RéfrigérateursEtCongélateursSurSecteurSSEN2Haut",{"$f":"J100","v":"aut"},0,null,null,"I",25,{"$f":"_xlfn.CONCAT(\"`='CCEOP Price List'!\",T100,U100)","v":"`='CCEOP Price List'!I25"}]
[null,null,null,"B","O","`=BO31",null,67,{"$f":"BO31","v":"RéfrigérateursEtCongélateursSurSecteurSSEN3etabonnementsBas"},"Bas",0,null,null,67,"RéfrigérateursEtCongélateursSurSecteurSSEN3etAbonnementsBas","Bas",0,null,null,"G",26,"`='CCEOP Price List'!G26"]
[null,null,null,"B","P","`=BP31",null,68,{"$f":"BP31","v":"RéfrigérateursEtCongélateursSurSecteurSSEN3etabonnementsMoyen"},"yen",null,null,null,68,"RéfrigérateursEtCongélateursSurSecteurSSEN3etAbonnementsMoyen","yen",0,null,null,"H",26,"`='CCEOP Price List'!H26"]
[null,null,null,"B","Q","`=BQ31",null,69,{"$f":"BQ31","v":"RéfrigérateursEtCongélateursSurSecteurSSEN3etabonnementsHaut"},"aut",null,null,null,69,"RéfrigérateursEtCongélateursSurSecteurSSEN3etAbonnementsHaut","aut",0,null,null,"I",{"$f":"U100+1","v":26},"`='CCEOP Price List'!I26"]
[null,null,null,"B","R","`=BR31",null,70,{"$f":"BR31","v":"RéfrigérateursEtCongélateursSurSecteurSSEN3etabonnementsBas"},"Bas",0,null,null,70,"RéfrigérateursEtCongélateursSurSecteurSSEN3etAbonnementsBas","Bas",0,null,null,"G",27,"`='CCEOP Price List'!G27"]
[null,null,null,"B","S","`=BS31",null,71,{"$f":"BS31","v":"RéfrigérateursEtCongélateursSurSecteurSSEN3etabonnementsMoyen"},"yen",null,null,null,71,"RéfrigérateursEtCongélateursSurSecteurSSEN3etAbonnementsMoyen","yen",0,null,null,"H",27,"`='CCEOP Price List'!H27"]
[null,null,null,"B","T","`=BT31",null,72,{"$f":"BT31","v":"RéfrigérateursEtCongélateursSurSecteurSSEN3etabonnementsHaut"},"aut",null,null,null,72,"RéfrigérateursEtCongélateursSurSecteurSSEN3etAbonnementsHaut","aut",0,null,null,"I",27,"`='CCEOP Price List'!I27"]
[null,null,null,"B","U","`=BU31",null,73,{"$f":"BU31","v":"RéfrigérateursEtCongélateursSurSecteurSSEN3etabonnementsBas"},"Bas",0,null,null,73,"RéfrigérateursEtCongélateursSurSecteurSSEN3etAbonnementsBas","Bas",0,null,null,"G",28,"`='CCEOP Price List'!G28"]
[null,null,null,"B","V","`=BV31",null,74,{"$f":"BV31","v":"RéfrigérateursEtCongélateursSurSecteurSSEN3etabonnementsMoyen"},"yen",null,null,null,74,"RéfrigérateursEtCongélateursSurSecteurSSEN3etAbonnementsMoyen","yen",0,null,null,"H",28,"`='CCEOP Price List'!H28"]
[null,null,null,"B","W","`=BW31",null,75,{"$f":"BW31","v":"RéfrigérateursEtCongélateursSurSecteurSSEN3etabonnementsHaut"},"aut",null,null,null,75,"RéfrigérateursEtCongélateursSurSecteurSSEN3etAbonnementsHaut","aut",0,null,null,"I",28,"`='CCEOP Price List'!I28"]
[null,null,null,"B","X","`=BX31",null,76,{"$f":"BX31","v":"RéfrigérateursEtCongélateursSurSecteurSSEN3etabonnementsBas"},"Bas",0,null,null,76,"RéfrigérateursEtCongélateursSurSecteurSSEN3etAbonnementsBas","Bas",0,null,null,"G",29,"`='CCEOP Price List'!G29"]
[null,null,null,"B","Y","`=BY31",null,77,{"$f":"BY31","v":"RéfrigérateursEtCongélateursSurSecteurSSEN3etabonnementsMoyen"},"yen",null,null,null,77,"RéfrigérateursEtCongélateursSurSecteurSSEN3etAbonnementsMoyen","yen",0,null,null,"H",29,"`='CCEOP Price List'!H29"]
[null,null,null,"B","Z","`=BZ31",null,78,{"$f":"BZ31","v":"RéfrigérateursEtCongélateursSurSecteurSSEN3etabonnementsHaut"},"aut",null,null,null,78,"RéfrigérateursEtCongélateursSurSecteurSSEN3etAbonnementsHaut","aut",0,null,null,"I",29,"`='CCEOP Price List'!I29"]
[null,null,null,"C","A","`=CA31",null,79,{"$f":"CA31","v":"RéfrigérateursEtCongélateursSurSecteurSSEN3etabonnementsBas"},"Bas",0,null,null,79,"RéfrigérateursEtCongélateursSurSecteurSSEN3etAbonnementsBas","Bas",0,null,null,"G",30,"`='CCEOP Price List'!G30"]
[null,null,null,"C","B","`=CB31",null,80,{"$f":"CB31","v":"RéfrigérateursEtCongélateursSurSecteurSSEN3etabonnementsMoyen"},"yen",null,null,null,80,"RéfrigérateursEtCongélateursSurSecteurSSEN3etAbonnementsMoyen","yen",0,null,null,"H",30,"`='CCEOP Price List'!H30"]
[null,null,null,"C","C","`=CC31",null,81,{"$f":"CC31","v":"RéfrigérateursEtCongélateursSurSecteurSSEN3etabonnementsHaut"},"aut",null,null,null,81,"RéfrigérateursEtCongélateursSurSecteurSSEN3etAbonnementsHaut","aut",0,null,null,"I",30,"`='CCEOP Price List'!I30"]
[null,null,null,"C","D","`=CD31",null,82,{"$f":"CD31","v":"RéfrigérateursEtCongélateursSurSecteurSSEN3etabonnementsBas"},"Bas",0,null,null,82,"RéfrigérateursEtCongélateursSurSecteurSSEN3etAbonnementsBas","Bas",0,null,null,"G",31,"`='CCEOP Price List'!G31"]
[null,null,null,"C","E","`=CE31",null,83,{"$f":"CE31","v":"RéfrigérateursEtCongélateursSurSecteurSSEN3etabonnementsMoyen"},"yen",null,null,null,83,"RéfrigérateursEtCongélateursSurSecteurSSEN3etAbonnementsMoyen","yen",0,null,null,"H",31,"`='CCEOP Price List'!H31"]
[null,null,null,"C","F","`=CF31",null,84,{"$f":"CF31","v":"RéfrigérateursEtCongélateursSurSecteurSSEN3etabonnementsHaut"},"aut",null,null,null,84,"RéfrigérateursEtCongélateursSurSecteurSSEN3etAbonnementsHaut","aut",0,null,null,"I",31,"`='CCEOP Price List'!I31"]
[null,null,null,"C","G","`=CG31",null,85,{"$f":"CG31","v":"SolaireÀConnexionDirecte_RéfrigérateursEtCongélateursSCDRéfrigérateurSSEN230-<60LBas"},"Bas",3494.5804687499999,null,null,85,"SolaireÀConnexionDirecte_RéfrigérateursEtCongélateursSCDRéfrigérateurSSEN230-<60LBas","Bas",3494.5804687499999,null,null,"G",32,"`='CCEOP Price List'!G32"]
[null,null,null,"C","H","`=CH31",null,86,{"$f":"CH31","v":"SolaireÀConnexionDirecte_RéfrigérateursEtCongélateursSCDRéfrigérateurSSEN230-<60LMoyen"},"yen",null,null,null,86,"SolaireÀConnexionDirecte_RéfrigérateursEtCongélateursSolairesRéfrigérateurSSEN230-<60LMoyen","yen",4775.1568199999992,null,null,"H",32,"`='CCEOP Price List'!H32"]
[null,null,null,"C","I","`=CI31",null,87,{"$f":"CI31","v":"SolaireÀConnexionDirecte_RéfrigérateursEtCongélateursSCDRéfrigérateurSSEN230-<60LHaut"},"aut",null,null,null,87,"SolaireÀConnexionDirecte_RéfrigérateursEtCongélateursSCDRéfrigérateurSSEN230-<60LHaut","aut",6451.4209724999992,null,null,"I",32,"`='CCEOP Price List'!I32"]
[null,null,null,"C","J","`=CJ31",null,88,{"$f":"CJ31","v":"SolaireÀConnexionDirecte_RéfrigérateursEtCongélateursSCDRéfrigérateurSSEN260-<120LBas"},"Bas",5368.8911062500001,null,null,88,"SolaireÀConnexionDirecte_RéfrigérateursEtCongélateursSCDRéfrigérateurSSEN260-<120LBas","Bas",5368.8911062500001,null,null,"G",33,"`='CCEOP Price List'!G33"]
[null,null,null,"C","K","`=CK31",null,89,{"$f":"CK31","v":"SolaireÀConnexionDirecte_RéfrigérateursEtCongélateursSCDRéfrigérateurSSEN260-<120LMoyen"},"yen",null,null,null,89,"SolaireÀConnexionDirecte_RéfrigérateursEtCongélateursSCDRéfrigérateurSSEN260-<120LMoyen","yen",6574.8353737500001,null,null,"H",33,"`='CCEOP Price List'!H33"]
[null,null,null,"C","L","`=CL31",null,90,{"$f":"CL31","v":"SolaireÀConnexionDirecte_RéfrigérateursEtCongélateursSCDRéfrigérateurSSEN260-<120LHaut"},"aut",null,null,null,90,"SolaireÀConnexionDirecte_RéfrigérateursEtCongélateursSCDRéfrigérateurSSEN260-<120LHaut","aut",7380.5539500000004,null,null,"I",33,"`='CCEOP Price List'!I33"]
[null,null,null,"C","M","`=CM31",null,91,{"$f":"CM31","v":"SolaireÀConnexionDirecte_RéfrigérateursEtCongélateursSCDRéfrigérateurSSEN2>120LBas"},"Bas",5869.6796812499997,null,null,91,"SolaireÀConnexionDirecte_RéfrigérateursEtCongélateursSCDRéfrigérateurSSEN2>120LBas","Bas",5869.6796812499997,null,null,"G",34,"`='CCEOP Price List'!G34"]
[null,null,null,"C","N","`=CN31",null,92,{"$f":"CN31","v":"SolaireÀConnexionDirecte_RéfrigérateursEtCongélateursSCDRéfrigérateurSSEN2>120LMoyen"},"yen",null,null,null,92,"SolaireÀConnexionDirecte_RéfrigérateursEtCongélateursSCDRéfrigérateurSSEN2>120LMoyen","yen",7284.85309125,null,null,"H",34,"`='CCEOP Price List'!H34"]
[null,null,null,"C","O","`=CO31",null,93,{"$f":"CO31","v":"SolaireÀConnexionDirecte_RéfrigérateursEtCongélateursSCDRéfrigérateurSSEN2>120LHaut"},"aut",null,null,null,93,"SolaireÀConnexionDirecte_RéfrigérateursEtCongélateursSCDRéfrigérateurSSEN2>120LHaut","aut",8319.8971799999999,null,null,"I",34,"`='CCEOP Price List'!I34"]
[null,null,null,"C","P","`=CP31",null,94,{"$f":"CP31","v":"SolaireÀConnexionDirecte_RéfrigérateursEtCongélateursSCDRéfrigérateurSSEN3etabonnements30-<60LBas"},"Bas",4013.2479687499999,null,null,94,"SolaireÀConnexionDirecte_RéfrigérateursEtCongélateursSCDRéfrigérateurSSEN3etAbonnements30-<60LBas","Bas",4013.2479687499999,null,null,"G",35,"`='CCEOP Price List'!G35"]
[null,null,null,"C","Q","`=CQ31",null,95,{"$f":"CQ31","v":"SolaireÀConnexionDirecte_RéfrigérateursEtCongélateursSCDRéfrigérateurSSEN3etabonnements30-<60LMoyen"},"yen",null,null,null,95,"SolaireÀConnexionDirecte_RéfrigérateursEtCongélateursSCDRéfrigérateurSSEN3etAbonnements30-<60LMoyen","yen",5293.8243199999997,null,null,"H",35,"`='CCEOP Price List'!H35"]
[null,null,null,"C","R","`=CR31",null,96,{"$f":"CR31","v":"SolaireÀConnexionDirecte_RéfrigérateursEtCongélateursSCDRéfrigérateurSSEN3etabonnements30-<60LHaut"},"aut",null,null,null,96,"SolaireÀConnexionDirecte_RéfrigérateursEtCongélateursSCDRéfrigérateurSSEN3etAbonnements30-<60LHaut","aut",6970.0884724999996,null,null,"I",35,"`='CCEOP Price List'!I35"]
[null,null,null,"C","S","`=CS31",null,97,{"$f":"CS31","v":"SolaireÀConnexionDirecte_RéfrigérateursEtCongélateursSCDRéfrigérateurSSEN3etabonnements60-<120LBas"},"Bas",5887.5586062500006,null,null,97,"SolaireÀConnexionDirecte_RéfrigérateursEtCongélateursSCDRéfrigérateurSSEN3etAbonnements60-<120LBas","Bas",5887.5586062500006,null,null,"G",36,"`='CCEOP Price List'!G36"]
[null,null,null,"C","T","`=CT31",null,98,{"$f":"CT31","v":"SolaireÀConnexionDirecte_RéfrigérateursEtCongélateursSCDRéfrigérateurSSEN3etabonnements60-<120LMoyen"},"yen",null,null,null,98,"SolaireÀConnexionDirecte_RéfrigérateursEtCongélateursSCDRéfrigérateurSSEN3etAbonnements60-<120LMoyen","yen",7093.5028737499997,null,null,"H",36,"`='CCEOP Price List'!H36"]
[null,null,null,"C","U","`=CU31",null,99,{"$f":"CU31","v":"SolaireÀConnexionDirecte_RéfrigérateursEtCongélateursSCDRéfrigérateurSSEN3etabonnements60-<120LHaut"},"aut",null,null,null,99,"SolaireÀConnexionDirecte_RéfrigérateursEtCongélateursSCDRéfrigérateurSSEN3etAbonnements60-<120LHaut","aut",7899.2214500000009,null,null,"I",36,"`='CCEOP Price List'!I36"]
[null,null,null,"C","V","`=CV31",null,100,{"$f":"CV31","v":"SolaireÀConnexionDirecte_RéfrigérateursEtCongélateursSCDRéfrigérateurSSEN3etabonnements>120LBas"},"Bas",6388.3471812499993,null,null,100,"SolaireÀConnexionDirecte_RéfrigérateursEtCongélateursSCDRéfrigérateurSSEN3etAbonnements>120LBas","Bas",6388.3471812499993,null,null,"G",37,"`='CCEOP Price List'!G37"]
[null,null,null,"C","W","`=CW31",null,101,{"$f":"CW31","v":"SolaireÀConnexionDirecte_RéfrigérateursEtCongélateursSCDRéfrigérateurSSEN3etabonnements>120LMoyen"},"yen",null,null,null,101,"SolaireÀConnexionDirecte_RéfrigérateursEtCongélateursSCDRéfrigérateurSSEN3etAbonnements>120LMoyen","yen",7803.5205912500005,null,null,"H",37,"`='CCEOP Price List'!H37"]
[null,null,null,"C","X","`=CX31",null,102,{"$f":"CX31","v":"SolaireÀConnexionDirecte_RéfrigérateursEtCongélateursSCDRéfrigérateurSSEN3etabonnements>120LHaut"},"aut",null,null,null,102,"SolaireÀConnexionDirecte_RéfrigérateursEtCongélateursSCDRéfrigérateurSSEN3etAbonnements>120LHaut","aut",8838.5646799999995,null,null,"I",37,"`='CCEOP Price List'!I37"]
[null,null,null,"C","Y","`=CY31",null,103,{"$f":"CY31","v":"SolaireÀConnexionDirecte_RéfrigérateursEtCongélateursSCDCongélateuràbriquettesd’eauSO30-<120LBas"},"Bas",2856.4396875000002,null,null,103,"SolaireÀConnexionDirecte_RéfrigérateursEtCongélateursSCDCongélateurBriquettesdEauSO30-<120LBas","Bas",2856.4396875000002,null,null,"G",38,"`='CCEOP Price List'!G38"]
[null,null,null,"C","Z","`=CZ31",null,104,{"$f":"CZ31","v":"SolaireÀConnexionDirecte_RéfrigérateursEtCongélateursSCDCongélateuràbriquettesd’eauSO30-<120LMoyen"},"yen",null,null,null,104,"SolaireÀConnexionDirecte_RéfrigérateursEtCongélateursSCDCongélateurBriquettesdEauSO30-<120LMoyen","yen",3691.2493800000002,null,null,"H",38,"`='CCEOP Price List'!H38"]
[null,null,null,"D","A","`=DA31",null,105,{"$f":"DA31","v":"SolaireÀConnexionDirecte_RéfrigérateursEtCongélateursSCDCongélateuràbriquettesd’eauSO30-<120LHaut"},"aut",null,null,null,105,"SolaireÀConnexionDirecte_RéfrigérateursEtCongélateursSCDCongélateurBriquettesdEauSO30-<120LHaut","aut",4526.0590725000002,null,null,"I",38,"`='CCEOP Price List'!I38"]
[null,null,null,"D","B","`=DB31",null,106,{"$f":"DB31","v":"SolaireÀConnexionDirecte_RéfrigérateursEtCongélateursSCDCongélateuràbriquettesd’eau30-<120LBas"},"Bas",0,null,null,106,"SolaireÀConnexionDirecte_RéfrigérateursEtCongélateursSCDCongélateurBriquettesdEau30-<120LBas","Bas",0,null,null,"G",39,"`='CCEOP Price List'!G39"]
[null,null,null,"D","C","`=DC31",null,107,{"$f":"DC31","v":"SolaireÀConnexionDirecte_RéfrigérateursEtCongélateursSCDCongélateuràbriquettesd’eau30-<120LMoyen"},"yen",null,null,null,107,"SolaireÀConnexionDirecte_RéfrigérateursEtCongélateursSCDCongélateurBriquettesdEau30-<120LMoyen","yen",0,null,null,"H",39,"`='CCEOP Price List'!H39"]
[null,null,null,"D","D","`=DD31",null,108,{"$f":"DD31","v":"SolaireÀConnexionDirecte_RéfrigérateursEtCongélateursSCDCongélateuràbriquettesd’eau30-<120LHaut"},"aut",null,null,null,108,"SolaireÀConnexionDirecte_RéfrigérateursEtCongélateursSCDCongélateurBriquettesdEau30-<120LHaut","aut",0,null,null,"I",39,"`='CCEOP Price List'!I39"]
[null,null,null,"D","E","`=DE31",null,109,{"$f":"DE31","v":"SolaireÀConnexionDirecte_RéfrigérateursEtCongélateursSCDCombiné_RÉFetCONSSEN230-<60LBas"},"Bas",3768.069375,null,null,109,"SolaireÀConnexionDirecte_RéfrigérateursEtCongélateursSCDCombiné_RÉFetCONSSEN230-<60LBas","Bas",3768.069375,null,null,"G",40,"`='CCEOP Price List'!G40"]
[null,null,null,"D","F","`=DF31",null,110,{"$f":"DF31","v":"SolaireÀConnexionDirecte_RéfrigérateursEtCongélateursSCDCombiné_RÉFetCONSSEN230-<60LMoyen"},"yen",null,null,null,110,"SolaireÀConnexionDirecte_RéfrigérateursEtCongélateursSCDCombiné_RÉFetCONSSEN230-<60LMoyen","yen",7769.1756082499996,null,null,"H",40,"`='CCEOP Price List'!H40"]
[null,null,null,"D","G","`=DG31",null,111,{"$f":"DG31","v":"SolaireÀConnexionDirecte_RéfrigérateursEtCongélateursSCDCombiné_RÉFetCONSSEN230-<60LHaut"},"aut",null,null,null,111,"SolaireÀConnexionDirecte_RéfrigérateursEtCongélateursSCDCombiné_RÉFetCONSSEN230-<60LHaut","aut",10324.023885000001,null,null,"I",40,"`='CCEOP Price List'!I40"]
[null,null,null,"D","H","`=DH31",null,112,{"$f":"DH31","v":"SolaireÀConnexionDirecte_RéfrigérateursEtCongélateursSCDCombiné_RÉFetCONSSEN260-<120LBas"},"Bas",7920.2387250000002,null,null,112,"SolaireÀConnexionDirecte_RéfrigérateursEtCongélateursSCDCombiné_RÉFetCONSSEN260-<120LBas","Bas",7920.2387250000002,null,null,"G",41,"`='CCEOP Price List'!G41"]
[null,null,null,"D","I","`=DI31",null,113,{"$f":"DI31","v":"SolaireÀConnexionDirecte_RéfrigérateursEtCongélateursSCDCombiné_RÉFetCONSSEN260-<120LMoyen"},"yen",null,null,null,113,"SolaireÀConnexionDirecte_RéfrigérateursEtCongélateursSCDCombiné_RÉFetCONSSEN260-<120LMoyen","yen",9584.5098825000005,null,null,"H",41,"`='CCEOP Price List'!H41"]
[null,null,null,"D","J","`=DJ31",null,114,{"$f":"DJ31","v":"SolaireÀConnexionDirecte_RéfrigérateursEtCongélateursSCDCombiné_RÉFetCONSSEN260-<120LHaut"},"aut",null,null,null,114,"SolaireÀConnexionDirecte_RéfrigérateursEtCongélateursSCDCombiné_RÉFetCONSSEN260-<120LHaut","aut",11345.049135000001,null,null,"I",41,"`='CCEOP Price List'!I41"]
[null,null,null,"D","K","`=DK31",null,115,{"$f":"DK31","v":"SolaireÀConnexionDirecte_RéfrigérateursEtCongélateursSCDCombiné_RÉFetCONSSEN2>120LBas"},"Bas",5384.6926874999999,null,null,115,"SolaireÀConnexionDirecte_RéfrigérateursEtCongélateursSCDCombiné_RÉFetCONSSEN2>120LBas","Bas",5384.6926874999999,null,null,"G",42,"`='CCEOP Price List'!G42"]
[null,null,null,"D","L","`=DL31",null,116,{"$f":"DL31","v":"SolaireÀConnexionDirecte_RéfrigérateursEtCongélateursSCDCombiné_RÉFetCONSSEN2>120LMoyen"},"yen",null,null,null,116,"SolaireÀConnexionDirecte_RéfrigérateursEtCongélateursSCDCombiné_RÉFetCONSSEN2>120LMoyen","yen",6812.3047781249998,null,null,"H",42,"`='CCEOP Price List'!H42"]
[null,null,null,"D","M","`=DM31",null,117,{"$f":"DM31","v":"SolaireÀConnexionDirecte_RéfrigérateursEtCongélateursSCDCombiné_RÉFetCONSSEN2>120LHaut"},"aut",null,null,null,117,"SolaireÀConnexionDirecte_RéfrigérateursEtCongélateursSCDCombiné_RÉFetCONSSEN2>120LHaut","aut",8239.9168687500005,null,null,"I",42,"`='CCEOP Price List'!I42"]
[null,null,null,"D","N","`=DN31",null,118,{"$f":"DN31","v":"SolaireÀConnexionDirecte_RéfrigérateursEtCongélateursSCDCombiné_RÉFetCONSSEN3etabonnements30-<60LBas"},"Bas",4286.7368750000005,null,null,118,"SolaireÀConnexionDirecte_RéfrigérateursEtCongélateursSCDCombiné_RÉFetCONSSEN3etAbonnements30-<60LBas","Bas",4286.7368750000005,null,null,"G",43,"`='CCEOP Price List'!G43"]
[null,null,null,"D","O","`=DO31",null,119,{"$f":"DO31","v":"SolaireÀConnexionDirecte_RéfrigérateursEtCongélateursSCDCombiné_RÉFetCONSSEN3etabonnements30-<60LMoyen"},"yen",null,null,null,119,"SolaireÀConnexionDirecte_RéfrigérateursEtCongélateursSCDCombiné_RÉFetCONSSEN3etAbonnements30-<60LMoyen","yen",8287.8431082499992,null,null,"H",43,"`='CCEOP Price List'!H43"]
[null,null,null,"D","P","`=DP31",null,120,{"$f":"DP31","v":"SolaireÀConnexionDirecte_RéfrigérateursEtCongélateursSCDCombiné_RÉFetCONSSEN3etabonnements30-<60LHaut"},"aut",null,null,null,120,"SolaireÀConnexionDirecte_RéfrigérateursEtCongélateursSCDCombiné_RÉFetCONSSEN3etAbonnements30-<60LHaut","aut",10842.691385,null,null,"I",43,"`='CCEOP Price List'!I43"]
[null,null,null,"D","Q","`=DQ31",null,121,{"$f":"DQ31","v":"SolaireÀConnexionDirecte_RéfrigérateursEtCongélateursSCDCombiné_RÉFetCONSSEN3etabonnements60-<120LBas"},"Bas",8438.9062250000006,null,null,121,"SolaireÀConnexionDirecte_RéfrigérateursEtCongélateursSCDCombiné_RÉFetCONSSEN3etAbonnements60-<120LBas","Bas",8438.9062250000006,null,null,"G",44,"`='CCEOP Price List'!G44"]
[null,null,null,"D","R","`=DR31",null,122,{"$f":"DR31","v":"SolaireÀConnexionDirecte_RéfrigérateursEtCongélateursSCDCombiné_RÉFetCONSSEN3etabonnements60-<120LMoyen"},"yen",null,null,null,122,"SolaireÀConnexionDirecte_RéfrigérateursEtCongélateursSCDCombiné_RÉFetCONSSEN3etAbonnements60-<120LMoyen","yen",10103.1773825,null,null,"H",44,"`='CCEOP Price List'!H44"]
[null,null,null,"D","S","`=DS31",null,123,{"$f":"DS31","v":"SolaireÀConnexionDirecte_RéfrigérateursEtCongélateursSCDCombiné_RÉFetCONSSEN3etabonnements60-<120LHaut"},"aut",null,null,null,123,"SolaireÀConnexionDirecte_RéfrigérateursEtCongélateursSCDCombiné_RÉFetCONSSEN3etAbonnements60-<120LHaut","aut",11863.716635000001,null,null,"I",44,"`='CCEOP Price List'!I44"]
[null,null,null,"D","T","`=DT31",null,124,{"$f":"DT31","v":"SolaireÀConnexionDirecte_RéfrigérateursEtCongélateursSCDCombiné_RÉFetCONSSEN3etabonnements>120LBas"},"Bas",5903.3601875000004,null,null,124,"SolaireÀConnexionDirecte_RéfrigérateursEtCongélateursSCDCombiné_RÉFetCONSSEN3etAbonnements>120LBas","Bas",5903.3601875000004,null,null,"G",45,"`='CCEOP Price List'!G45"]
[null,null,null,"D","U","`=DU31",null,125,{"$f":"DU31","v":"SolaireÀConnexionDirecte_RéfrigérateursEtCongélateursSCDCombiné_RÉFetCONSSEN3etabonnements>120LMoyen"},"yen",null,null,null,125,"SolaireÀConnexionDirecte_RéfrigérateursEtCongélateursSCDCombiné_RÉFetCONSSEN3etAbonnements>120LMoyen","yen",7330.9722781250002,null,null,"H",45,"`='CCEOP Price List'!H45"]
[null,null,null,"D","V","`=DV31",null,126,{"$f":"DV31","v":"SolaireÀConnexionDirecte_RéfrigérateursEtCongélateursSCDCombiné_RÉFetCONSSEN3etabonnements>120LHaut"},"aut",null,null,null,126,"SolaireÀConnexionDirecte_RéfrigérateursEtCongélateursSCDCombiné_RÉFetCONSSEN3etAbonnements>120LHaut","aut",8758.5843687500001,null,null,"I",45,"`='CCEOP Price List'!I45"]
[null,null,null,"D","W","`=DW31",null,127,{"$f":"DW31","v":"SolaireÀConnexionDirecte_RéfrigérateursEtCongélateursSCDSSEN2Bas"},"Bas",0,null,null,127,"SolaireÀConnexionDirecte_RéfrigérateursEtCongélateursSCDSSEN2Bas","Bas",0,null,null,"G",46,"`='CCEOP Price List'!G46"]
[null,null,null,"D","X","`=DX31",null,128,{"$f":"DX31","v":"SolaireÀConnexionDirecte_RéfrigérateursEtCongélateursSCDSSEN2Moyen"},"yen",null,null,null,128,"SolaireÀConnexionDirecte_RéfrigérateursEtCongélateursSCDSSEN2Moyen","yen",0,null,null,"H",46,"`='CCEOP Price List'!H46"]
[null,null,null,"D","Y","`=DY31",null,129,{"$f":"DY31","v":"SolaireÀConnexionDirecte_RéfrigérateursEtCongélateursSCDSSEN2Haut"},{"$f":"RIGHT(I163,3)","v":"aut"},null,null,null,129,"SolaireÀConnexionDirecte_RéfrigérateursEtCongélateursSCDSSEN2Haut","aut",0,null,null,"I",46,"`='CCEOP Price List'!I46"]
[null,null,null,"D","Z",{"$f":"_xlfn.CONCAT(\"`=\",D164,E164,\"31\")","v":"`=DZ31"},null,130,{"$f":"DZ31","v":"SolaireÀConnexionDirecte_RéfrigérateursEtCongélateursSCDSSEN2Bas"},"Bas",0,null,null,130,"SolaireÀConnexionDirecte_RéfrigérateursEtCongélateursSCDSSEN2Bas",{"$f":"J164","v":"Bas"},0,null,null,"G",47,{"$f":"_xlfn.CONCAT(\"`='CCEOP Price List'!\",T164,U164)","v":"`='CCEOP Price List'!G47"}]
[null,null,null,"E","A","`=EA31",null,131,{"$f":"EA31","v":"SolaireÀConnexionDirecte_RéfrigérateursEtCongélateursSCDSSEN2Moyen"},"yen",null,null,null,131,"SolaireÀConnexionDirecte_RéfrigérateursEtCongélateursSCDSSEN2Moyen","yen",0,null,null,"H",47,"`='CCEOP Price List'!H47"]
[null,null,null,"E","B","`=EB31",null,132,{"$f":"EB31","v":"SolaireÀConnexionDirecte_RéfrigérateursEtCongélateursSCDSSEN2Haut"},"aut",null,null,null,132,"SolaireÀConnexionDirecte_RéfrigérateursEtCongélateursSCDSSEN2Haut","aut",0,null,null,"I",47,"`='CCEOP Price List'!I47"]
[null,null,null,"E","C","`=EC31",null,133,{"$f":"EC31","v":"SolaireÀConnexionDirecte_RéfrigérateursEtCongélateursSCDSSEN2Bas"},"Bas",0,null,null,133,"SolaireÀConnexionDirecte_RéfrigérateursEtCongélateursSCDSSEN2Bas","Bas",0,null,null,"G",{"$f":"U164+1","v":48},"`='CCEOP Price List'!G48"]
[null,null,null,"E","D","`=ED31",null,134,{"$f":"ED31","v":"SolaireÀConnexionDirecte_RéfrigérateursEtCongélateursSCDSSEN2Moyen"},"yen",null,null,null,134,"SolaireÀConnexionDirecte_RéfrigérateursEtCongélateursSCDSSEN2Moyen","yen",0,null,null,"H",48,"`='CCEOP Price List'!H48"]
[null,null,null,"E","E","`=EE31",null,135,{"$f":"EE31","v":"SolaireÀConnexionDirecte_RéfrigérateursEtCongélateursSCDSSEN2Haut"},"aut",null,null,null,135,"SolaireÀConnexionDirecte_RéfrigérateursEtCongélateursSCDSSEN2Haut","aut",0,null,null,"I",48,"`='CCEOP Price List'!I48"]
[null,null,null,"E","F","`=EF31",null,136,{"$f":"EF31","v":"SolaireÀConnexionDirecte_RéfrigérateursEtCongélateursSCDSSEN2Bas"},"Bas",0,null,null,136,"SolaireÀConnexionDirecte_RéfrigérateursEtCongélateursSCDSSEN2Bas","Bas",0,null,null,"G",49,"`='CCEOP Price List'!G49"]
[null,null,null,"E","G","`=EG31",null,137,{"$f":"EG31","v":"SolaireÀConnexionDirecte_RéfrigérateursEtCongélateursSCDSSEN2Moyen"},"yen",null,null,null,137,"SolaireÀConnexionDirecte_RéfrigérateursEtCongélateursSCDSSEN2Moyen","yen",0,null,null,"H",49,"`='CCEOP Price List'!H49"]
[null,null,null,"E","H","`=EH31",null,138,{"$f":"EH31","v":"SolaireÀConnexionDirecte_RéfrigérateursEtCongélateursSCDSSEN2Haut"},"aut",null,null,null,138,"SolaireÀConnexionDirecte_RéfrigérateursEtCongélateursSCDSSEN2Haut","aut",0,null,null,"I",49,"`='CCEOP Price List'!I49"]
[null,null,null,"E","I","`=EI31",null,139,{"$f":"EI31","v":"SolaireÀConnexionDirecte_RéfrigérateursEtCongélateursSCDSSEN2Bas"},"Bas",0,null,null,139,"SolaireÀConnexionDirecte_RéfrigérateursEtCongélateursSCDSSEN2Bas","Bas",0,null,null,"G",50,"`='CCEOP Price List'!G50"]
[null,null,null,"E","J","`=EJ31",null,140,{"$f":"EJ31","v":"SolaireÀConnexionDirecte_RéfrigérateursEtCongélateursSCDSSEN2Moyen"},"yen",null,null,null,140,"SolaireÀConnexionDirecte_RéfrigérateursEtCongélateursSCDSSEN2Moyen","yen",0,null,null,"H",50,"`='CCEOP Price List'!H50"]
[null,null,null,"E","K","`=EK31",null,141,{"$f":"EK31","v":"SolaireÀConnexionDirecte_RéfrigérateursEtCongélateursSCDSSEN2Haut"},"aut",null,null,null,141,"SolaireÀConnexionDirecte_RéfrigérateursEtCongélateursSCDSSEN2Haut","aut",0,null,null,"I",50,"`='CCEOP Price List'!I50"]
[null,null,null,"E","L","`=EL31",null,142,{"$f":"EL31","v":"SolaireÀConnexionDirecte_RéfrigérateursEtCongélateursSCDSSEN2Bas"},"Bas",0,null,null,142,"SolaireÀConnexionDirecte_RéfrigérateursEtCongélateursSCDSSEN2Bas","Bas",0,null,null,"G",51,"`='CCEOP Price List'!G51"]
[null,null,null,"E","M","`=EM31",null,143,{"$f":"EM31","v":"SolaireÀConnexionDirecte_RéfrigérateursEtCongélateursSCDSSEN2Moyen"},"yen",null,null,null,143,"SolaireÀConnexionDirecte_RéfrigérateursEtCongélateursSCDSSEN2Moyen","yen",0,null,null,"H",51,"`='CCEOP Price List'!H51"]
[null,null,null,"E","N","`=EN31",null,144,{"$f":"EN31","v":"SolaireÀConnexionDirecte_RéfrigérateursEtCongélateursSCDSSEN2Haut"},"aut",null,null,null,144,"SolaireÀConnexionDirecte_RéfrigérateursEtCongélateursSCDSSEN2Haut","aut",0,null,null,"I",51,"`='CCEOP Price List'!I51"]
[null,null,null,"E","O","`=EO31",null,145,{"$f":"EO31","v":"SolaireÀConnexionDirecte_RéfrigérateursEtCongélateursSCDSSEN3etabonnementsBas"},"Bas",0,null,null,145,"SolaireÀConnexionDirecte_RéfrigérateursEtCongélateursSCDSSEN3etAbonnementsBas","Bas",0,null,null,"G",52,"`='CCEOP Price List'!G52"]
[null,null,null,"E","P","`=EP31",null,146,{"$f":"EP31","v":"SolaireÀConnexionDirecte_RéfrigérateursEtCongélateursSCDSSEN3etabonnementsMoyen"},"yen",null,null,null,146,"SolaireÀConnexionDirecte_RéfrigérateursEtCongélateursSCDSSEN3etAbonnementsMoyen","yen",0,null,null,"H",52,"`='CCEOP Price List'!H52"]
[null,null,null,"E","Q","`=EQ31",null,147,{"$f":"EQ31","v":"SolaireÀConnexionDirecte_RéfrigérateursEtCongélateursSCDSSEN3etabonnementsHaut"},"aut",null,null,null,147,"SolaireÀConnexionDirecte_RéfrigérateursEtCongélateursSCDSSEN3etAbonnementsHaut","aut",0,null,null,"I",52,"`='CCEOP Price List'!I52"]
[null,null,null,"E","R","`=ER31",null,148,{"$f":"ER31","v":"SolaireÀConnexionDirecte_RéfrigérateursEtCongélateursSCDSSEN3etabonnementsBas"},"Bas",0,null,null,148,"SolaireÀConnexionDirecte_RéfrigérateursEtCongélateursSCDSSEN3etAbonnementsBas","Bas",0,null,null,"G",53,"`='CCEOP Price List'!G53"]
[null,null,null,"E","S","`=ES31",null,149,{"$f":"ES31","v":"SolaireÀConnexionDirecte_RéfrigérateursEtCongélateursSCDSSEN3etabonnementsMoyen"},"yen",null,null,null,149,"SolaireÀConnexionDirecte_RéfrigérateursEtCongélateursSCDSSEN3etAbonnementsMoyen","yen",0,null,null,"H",53,"`='CCEOP Price List'!H53"]
[null,null,null,"E","T","`=ET31",null,150,{"$f":"ET31","v":"SolaireÀConnexionDirecte_RéfrigérateursEtCongélateursSCDSSEN3etabonnementsHaut"},"aut",null,null,null,150,"SolaireÀConnexionDirecte_RéfrigérateursEtCongélateursSCDSSEN3etAbonnementsHaut","aut",0,null,null,"I",53,"`='CCEOP Price List'!I53"]
[null,null,null,"E","U","`=EU31",null,151,{"$f":"EU31","v":"SolaireÀConnexionDirecte_RéfrigérateursEtCongélateursSCDSSEN3etabonnementsBas"},"Bas",0,null,null,151,"SolaireÀConnexionDirecte_RéfrigérateursEtCongélateursSCDSSEN3etAbonnementsBas","Bas",0,null,null,"G",54,"`='CCEOP Price List'!G54"]
[null,null,null,"E","V","`=EV31",null,152,{"$f":"EV31","v":"SolaireÀConnexionDirecte_RéfrigérateursEtCongélateursSCDSSEN3etabonnementsMoyen"},"yen",null,null,null,152,"SolaireÀConnexionDirecte_RéfrigérateursEtCongélateursSCDSSEN3etAbonnementsMoyen","yen",0,null,null,"H",54,"`='CCEOP Price List'!H54"]
[null,null,null,"E","W","`=EW31",null,153,{"$f":"EW31","v":"SolaireÀConnexionDirecte_RéfrigérateursEtCongélateursSCDSSEN3etabonnementsHaut"},"aut",null,null,null,153,"SolaireÀConnexionDirecte_RéfrigérateursEtCongélateursSCDSSEN3etAbonnementsHaut","aut",0,null,null,"I",54,"`='CCEOP Price List'!I54"]
[null,null,null,"E","X","`=EX31",null,154,{"$f":"EX31","v":"SolaireÀConnexionDirecte_RéfrigérateursEtCongélateursSCDSSEN3etabonnementsBas"},"Bas",0,null,null,154,"SolaireÀConnexionDirecte_RéfrigérateursEtCongélateursSCDSSEN3etAbonnementsBas","Bas",0,null,null,"G",55,"`='CCEOP Price List'!G55"]
[null,null,null,"E","Y","`=EY31",null,155,{"$f":"EY31","v":"SolaireÀConnexionDirecte_RéfrigérateursEtCongélateursSCDSSEN3etabonnementsMoyen"},"yen",null,null,null,155,"SolaireÀConnexionDirecte_RéfrigérateursEtCongélateursSCDSSEN3etAbonnementsMoyen","yen",0,null,null,"H",55,"`='CCEOP Price List'!H55"]
[null,null,null,"E","Z","`=EZ31",null,156,{"$f":"EZ31","v":"SolaireÀConnexionDirecte_RéfrigérateursEtCongélateursSCDSSEN3etabonnementsHaut"},"aut",null,null,null,156,"SolaireÀConnexionDirecte_RéfrigérateursEtCongélateursSCDSSEN3etAbonnementsHaut","aut",0,null,null,"I",55,"`='CCEOP Price List'!I55"]
[null,null,null,"F","A","`=FA31",null,157,{"$f":"FA31","v":"SolaireÀConnexionDirecte_RéfrigérateursEtCongélateursSCDSSEN3etabonnementsBas"},"Bas",0,null,null,157,"SolaireÀConnexionDirecte_RéfrigérateursEtCongélateursSCDSSEN3etAbonnementsBas","Bas",0,null,null,"G",56,"`='CCEOP Price List'!G56"]
[null,null,null,"F","B","`=FB31",null,158,{"$f":"FB31","v":"SolaireÀConnexionDirecte_RéfrigérateursEtCongélateursSCDSSEN3etabonnementsMoyen"},"yen",null,null,null,158,"SolaireÀConnexionDirecte_RéfrigérateursEtCongélateursSCDSSEN3etAbonnementsMoyen","yen",0,null,null,"H",56,"`='CCEOP Price List'!H56"]
[null,null,null,"F","C","`=FC31",null,159,{"$f":"FC31","v":"SolaireÀConnexionDirecte_RéfrigérateursEtCongélateursSCDSSEN3etabonnementsHaut"},"aut",null,null,null,159,"SolaireÀConnexionDirecte_RéfrigérateursEtCongélateursSCDSSEN3etAbonnementsHaut","aut",0,null,null,"I",56,"`='CCEOP Price List'!I56"]
[null,null,null,"F","D","`=FD31",null,160,{"$f":"FD31","v":"SolaireÀConnexionDirecte_RéfrigérateursEtCongélateursSCDSSEN3etabonnementsBas"},"Bas",0,null,null,160,"SolaireÀConnexionDirecte_RéfrigérateursEtCongélateursSCDSSEN3etAbonnementsBas","Bas",0,null,null,"G",57,"`='CCEOP Price List'!G57"]
[null,null,null,"F","E","`=FE31",null,161,{"$f":"FE31","v":"SolaireÀConnexionDirecte_RéfrigérateursEtCongélateursSCDSSEN3etabonnementsMoyen"},"yen",null,null,null,161,"SolaireÀConnexionDirecte_RéfrigérateursEtCongélateursSCDSSEN3etAbonnementsMoyen","yen",0,null,null,"H",57,"`='CCEOP Price List'!H57"]
[null,null,null,"F","F","`=FF31",null,162,{"$f":"FF31","v":"SolaireÀConnexionDirecte_RéfrigérateursEtCongélateursSCDSSEN3etabonnementsHaut"},"aut",null,null,null,162,"SolaireÀConnexionDirecte_RéfrigérateursEtCongélateursSCDSSEN3etAbonnementsHaut","aut",0,null,null,"I",57,"`='CCEOP Price List'!I57"]
[null,null,null,"F","G","`=FG31",null,163,{"$f":"FG31","v":"DispositifsPassifsÀLongTerme_DPLTActifsPassifsSO5-<10LBas"},"Bas",2393,null,null,163,"DispositifsPassifsÀLongTerme_DPLTActifsPassifsSO5-<10LBas","Bas",2393,null,null,"G",58,"`='CCEOP Price List'!G58"]
[null,null,null,"F","H","`=FH31",null,164,{"$f":"FH31","v":"DispositifsPassifsÀLongTerme_DPLTActifsPassifsSO5-<10LMoyen"},"yen",null,null,null,164,"DispositifsPassifsÀLongTerme_DPLTActifsPassifsSO5-<10LMoyen","yen",2512.65,null,null,"H",58,"`='CCEOP Price List'!H58"]
[null,null,null,"F","I","`=FI31",null,165,{"$f":"FI31","v":"DispositifsPassifsÀLongTerme_DPLTActifsPassifsSO5-<10LHaut"},"aut",null,null,null,165,"DispositifsPassifsÀLongTerme_DPLTActifsPassifsSO5-<10LHaut","aut",2632.3,null,null,"I",58,"`='CCEOP Price List'!I58"]
[null,null,null,"F","J","`=FJ31",null,166,{"$f":"FJ31","v":"PorteVaccinsAvecpréventiondugelDispositifspassifsSO1-<2LBas"},"Bas",38.542857142857144,null,null,166,"TransporteursDeVaccinsAvecPréventionDuGelDispositifsPassifsSO1-<2LBas","Bas",38.542857142857144,null,null,"G",59,"`='CCEOP Price List'!G59"]
[null,null,null,"F","K","`=FK31",null,167,{"$f":"FK31","v":"PorteVaccinsAvecpréventiondugelDispositifspassifsSO1-<2LMoyen"},"yen",null,null,null,167,"TransporteursDeVaccinsAvecPréventionDuGelDispositifsPassifsSO1-<2LMoyen","yen",42.695970446428575,null,null,"H",59,"`='CCEOP Price List'!H59"]
[null,null,null,"F","L","`=FL31",null,168,{"$f":"FL31","v":"PorteVaccinsAvecpréventiondugelDispositifspassifsSO1-<2LHaut"},"aut",null,null,null,168,"TransporteursDeVaccinsAvecPréventionDuGelDispositifsPassifsSO1-<2LHaut","aut",46.849083750000005,null,null,"I",59,"`='CCEOP Price List'!I59"]
[null,null,null,"F","M","`=FM31",null,169,{"$f":"FM31","v":"PorteVaccinsAvecpréventiondugelDispositifspassifsSO2-<5LBas"},"Bas",0,null,null,169,"TransporteursDeVaccinsAvecPréventionDuGelDispositifsPassifsSO2-<5LBas","Bas",47.7,null,null,"G",60,"`='CCEOP Price List'!G60"]
[null,null,null,"F","N","`=FN31",null,170,{"$f":"FN31","v":"PorteVaccinsAvecpréventiondugelDispositifspassifsSO2-<5LMoyen"},"yen",null,null,null,170,"TransporteursDeVaccinsAvecPréventionDuGelDispositifsPassifsSO2-<5LMoyen","yen",52.8398240625,null,null,"H",60,"`='CCEOP Price List'!H60"]
[null,null,null,"F","O","`=FO31",null,171,{"$f":"FO31","v":"PorteVaccinsAvecpréventiondugelDispositifspassifsSO2-<5LHaut"},"aut",null,null,null,171,"TransporteursDeVaccinsAvecPréventionDuGelDispositifsPassifsSO2-<5LHaut","aut",57.979648125000004,null,null,"I",60,"`='CCEOP Price List'!I60"]
[null,null,null,"F","P","`=FP31",null,172,{"$f":"FP31","v":"GlacièresAvecPréventionDuGelDispositifspassifsSOBas"},"Bas",83.567499999999995,null,null,172,"GlacièresAvecPréventionDuGelDispositifsPassifsSO5L-<10LBas","Bas",0,null,null,"G",61,"`='CCEOP Price List'!G61"]
[null,null,null,"F","Q","`=FQ31",null,173,{"$f":"FQ31","v":"GlacièresAvecPréventionDuGelDispositifspassifsSOMoyen"},"yen",null,null,null,173,"GlacièresAvecPréventionDuGelDispositifsPassifsSO5L-<10LMoyen","yen",0,null,null,"H",61,"`='CCEOP Price List'!H61"]
[null,null,null,"F","R","`=FR31",null,174,{"$f":"FR31","v":"GlacièresAvecPréventionDuGelDispositifspassifsSOHaut"},"aut",null,null,null,174,"GlacièresAvecPréventionDuGelDispositifsPassifsSO5L-<10LHaut","aut",0,null,null,"I",61,"`='CCEOP Price List'!I61"]
[null,null,null,"F","S","`=FS31",null,175,{"$f":"FS31","v":"GlacièresAvecPréventionDuGelDispositifspassifsSO20L-<25LBas"},"Bas",{"$error":"#REF!"},null,null,175,"GlacièresAvecPréventionDuGelDispositifsPassifsSO20L-<25LBas","Bas",234,null,null,"G",62,"`='CCEOP Price List'!G62"]
[null,null,null,"F","T","`=FT31",null,176,{"$f":"FT31","v":"GlacièresAvecPréventionDuGelDispositifspassifsSO20L-<25LMoyen"},"yen",null,null,null,176,"GlacièresAvecPréventionDuGelDispositifsPassifsSO20L-<25LMoyen","yen",259.14999999999998,null,null,"H",62,"`='CCEOP Price List'!H62"]
[null,null,null,"F","U","`=FU31",null,177,{"$f":"FU31","v":"GlacièresAvecPréventionDuGelDispositifspassifsSO20L-<25LHaut"},"aut",null,null,null,177,"GlacièresAvecPréventionDuGelDispositifsPassifsSO20L-<25LHaut","aut",284.3,null,null,"I",62,"`='CCEOP Price List'!I62"]
[null,null,null,"F","V","`=FV31",null,178,{"$f":"FV31","v":"EnregistreurDeTempératureECF_ET30JDSTpourréfrigérateursSOSOBas"},"Bas",{"$error":"#REF!"},null,null,178,"EnregistreursDeTempératureECF_ET30JDSTPourRéfrigérateursSOSOBas","Bas",83.567499999999995,null,null,"G",63,"`='CCEOP Price List'!G63"]
[null,null,null,"F","W","`=FW31",null,179,{"$f":"FW31","v":"EnregistreurDeTempératureECF_ET30JDSTpourréfrigérateursSOSOMoyen"},"yen",null,null,null,179,"EnregistreursDeTempératureECF_ET30JDSTPourRéfrigérateursSOSOMoyen","yen",92.572159273437492,null,null,"H",63,"`='CCEOP Price List'!H63"]
[null,null,null,"F","X","`=FX31",null,180,{"$f":"FX31","v":"EnregistreurDeTempératureECF_ET30JDSTpourréfrigérateursSOSOHaut"},"aut",null,null,null,180,"EnregistreursDeTempératureECF_ET30JDSTPourRéfrigérateursSOSOHaut","aut",101.57681854687499,null,null,"I",63,"`='CCEOP Price List'!I63"]
[null,null,null,"F","Y","`=FY31",null,181,{"$f":"FY31","v":"DispositifEtAbonnementSTDDSTDpourréfrigérateursSOSOBas"},"Bas",527.34333487499998,null,null,181,"DispositifEtAbonnementSTDRDSTPourRéfrigérateursSOSOBas","Bas",527.34333487499998,null,null,"G",64,"`='CCEOP Price List'!G64"]
[null,null,null,"F","Z","`=FZ31",null,182,{"$f":"FZ31","v":"DispositifEtAbonnementSTDDSTDpourréfrigérateursSOSOMoyen"},"yen",null,null,null,182,"DispositifEtAbonnementSTDRDSTPourRéfrigérateursSOSOMoyen","yen",584.1662271557027,null,null,"H",64,"`='CCEOP Price List'!H64"]
[null,null,null,"G","A","`=GA31",null,183,{"$f":"GA31","v":"DispositifEtAbonnementSTDDSTDpourréfrigérateursSOSOHaut"},"aut",null,null,null,183,"DispositifEtAbonnementSTDRDSTPourRéfrigérateursSOSOHaut","aut",640.98911943640542,null,null,"I",64,"`='CCEOP Price List'!I64"]
[null,null,null,"G","B","`=GB31",null,184,{"$f":"GB31","v":"DispositifEtAbonnementSTDDSTDpourCFADSOSOBas"},"Bas",1340.616,null,null,184,"DispositifEtAbonnementSTDRSTRDPourCFADSOSOBas","Bas",1340.616,null,null,"G",65,"`='CCEOP Price List'!G65"]
[null,null,null,"G","C","`=GC31",null,185,{"$f":"GC31","v":"DispositifEtAbonnementSTDDSTDpourCFADSOSOMoyen"},"yen",null,null,null,185,"DispositifEtAbonnementSTDRSTRDPourCFADSOSOMoyen","yen",1485.071563425,null,null,"H",65,"`='CCEOP Price List'!H65"]
[null,null,null,"G","D","`=GD31",null,186,{"$f":"GD31","v":"DispositifEtAbonnementSTDDSTDpourCFADSOSOHaut"},"aut",null,null,null,186,"DispositifEtAbonnementSTDDSTDPourCFADSOSOHaut","aut",1629.5271268500001,null,null,"I",65,"`='CCEOP Price List'!I65"]
[null,null,null,"G","E","`=GE31",null,187,{"$f":"GE31","v":"RégulateursDeTensionRégulateursSOSOBas"},"Bas",250,null,null,187,"RégulateursDeTensionRégulateursSOSOBas","Bas",250,null,null,"G",66,"`='CCEOP Price List'!G66"]
[null,null,null,"G","F","`=GF31",null,188,{"$f":"GF31","v":"RégulateursDeTensionRégulateursSOSOMoyen"},"yen",null,null,null,188,"RégulateursDeTensionRégulateursSOSOMoyen","yen",277,null,null,"H",66,"`='CCEOP Price List'!H66"]
[null,null,null,"G","G","`=GG31",null,189,{"$f":"GG31","v":"RégulateursDeTensionRégulateursSOSOHaut"},"aut",null,null,null,189,"RégulateursDeTensionRégulateursSOSOHaut","aut",303.87656249999998,null,null,"I",66,"`='CCEOP Price List'!I66"]
[null,null,null,"G","H","`=GH31",null,190,{"$f":"GH31","v":"RégulateursDeTensionSOSOBas"},"Bas",0,null,null,190,"RégulateursDeTensionSOSOBas","Bas",0,null,null,"G",67,"`='CCEOP Price List'!G67"]
[null,null,null,"G","I","`=GI31",null,191,{"$f":"GI31","v":"RégulateursDeTensionSOSOMoyen"},"yen",null,null,null,191,"RégulateursDeTensionSOSOMoyen","yen",0,null,null,"H",67,"`='CCEOP Price List'!H67"]
[null,null,null,"G","J","`=GJ31",null,192,{"$f":"GJ31","v":"RégulateursDeTensionSOSOHaut"},"aut",null,null,null,192,"RégulateursDeTensionSOSOHaut","aut",0,null,null,"I",67,"`='CCEOP Price List'!I67"]
[null,null,null,"G","K","`=GK31",null,193,{"$f":"GK31","v":"PiècesDeRechangePourECFSurSecteurRéfrigérateurSOSOBas"},{"$f":"RIGHT(I227,3)","v":"Bas"},457.63,null,null,193,"PiècesDeRechangePourECFSecteurRéfrigérateurSOSOBas","Bas",457.63,null,null,"G",68,"`='CCEOP Price List'!G68"]
[null,null,null,"G","L",{"$f":"_xlfn.CONCAT(\"`=\",D228,E228,\"31\")","v":"`=GL31"},null,194,{"$f":"GL31","v":"PiècesDeRechangePourECFSurSecteurRéfrigérateurSOSOMoyen"},"yen",null,null,null,194,"PiècesDeRechangePourECFSecteurRéfrigérateurSOSOMoyen",{"$f":"J228","v":"yen"},506.94106259375002,null,null,"H",68,{"$f":"_xlfn.CONCAT(\"`='CCEOP Price List'!\",T228,U228)","v":"`='CCEOP Price List'!H68"}]
[null,null,null,"G","M","`=GM31",null,195,{"$f":"GM31","v":"PiècesDeRechangePourECFSurSecteurRéfrigérateurSOSOHaut"},"aut",null,null,null,195,"PiècesDeRechangePourECFSecteurRéfrigérateurSOSOHaut","aut",556.25212518750004,null,null,"I",68,"`='CCEOP Price List'!I68"]
[null,null,null,"G","N","`=GN31",null,196,{"$f":"GN31","v":"PiècesDeRechangePourECFSurSecteurCongélateuràvaccinsetbriquettesd’eauSOSOBas"},"Bas",184,null,null,196,"PiècesDeRechangePourECFSecteurCongélateuràVaccinsetBriquettesdEauSOSOBas","Bas",184,null,null,"G",69,"`='CCEOP Price List'!G69"]
[null,null,null,"G","O","`=GO31",null,197,{"$f":"GO31","v":"PiècesDeRechangePourECFSurSecteurCongélateuràvaccinsetbriquettesd’eauSOSOMoyen"},"yen",null,null,null,197,"PiècesDeRechangePourECFSecteurCongélateuràVaccinsetBriquettesdEauSOSOMoyen","yen",203.82657499999999,null,null,"H",{"$f":"U228+1","v":69},"`='CCEOP Price List'!H69"]
[null,null,null,"G","P","`=GP31",null,198,{"$f":"GP31","v":"PiècesDeRechangePourECFSurSecteurCongélateuràvaccinsetbriquettesd’eauSOSOHaut"},"aut",null,null,null,198,"PiècesDeRechangePourECFSecteurCongélateuràVaccinsetBriquettesdEauSOSOHaut","aut",223.65315000000001,null,null,"I",69,"`='CCEOP Price List'!I69"]
[null,null,null,"G","Q","`=GQ31",null,199,{"$f":"GQ31","v":"PiècesDeRechangePourECFSurSecteurCombiné_RÉFetCONSOSOBas"},"Bas",502.27,null,null,199,"PiècesDeRechangePourECFSecteurCombiné_RÉFetCONSOSOBas","Bas",502.27,null,null,"G",70,"`='CCEOP Price List'!G70"]
[null,null,null,"G","R","`=GR31",null,200,{"$f":"GR31","v":"PiècesDeRechangePourECFSurSecteurCombiné_RÉFetCONSOSOMoyen"},"yen",null,null,null,200,"PiècesDeRechangePourECFSecteurCombiné_RÉFetCONSOSOMoyen","yen",556.39116209374993,null,null,"H",70,"`='CCEOP Price List'!H70"]
[null,null,null,"G","S","`=GS31",null,201,{"$f":"GS31","v":"PiècesDeRechangePourECFSurSecteurCombiné_RÉFetCONSOSOHaut"},"aut",null,null,null,201,"PiècesDeRechangePourECFSecteurCombiné_RÉFetCONSOSOHaut","aut",610.51232418749998,null,null,"I",70,"`='CCEOP Price List'!I70"]
[null,null,null,"G","T","`=GT31",null,202,{"$f":"GT31","v":"PiècesDeRechangePourECFSCDRéfrigérateurSOSOBas"},"Bas",{"$error":"#REF!"},null,null,202,"PiècesDeRechangePourECFSCDRéfrigérateurSOSOBas","Bas",557.9,null,null,"G",71,"`='CCEOP Price List'!G71"]
[null,null,null,"G","U","`=GU31",null,203,{"$f":"GU31","v":"PiècesDeRechangePourECFSCDRéfrigérateurSOSOMoyen"},"yen",null,null,null,203,"PiècesDeRechangePourECFSCDRéfrigérateurSOSOMoyen","yen",618.01546843749998,null,null,"H",71,"`='CCEOP Price List'!H71"]
[null,null,null,"G","V","`=GV31",null,204,{"$f":"GV31","v":"PiècesDeRechangePourECFSCDRéfrigérateurSOSOHaut"},"aut",null,null,null,204,"PiècesDeRechangePourECFSCDRéfrigérateurSOSOHaut","aut",678.13093687499997,null,null,"I",71,"`='CCEOP Price List'!I71"]
[null,null,null,"G","W","`=GW31",null,205,{"$f":"GW31","v":"PiècesDeRechangePourECFSCDCongélateuràbriquettesd’eauSOSOBas"},"Bas",557.9,null,null,205,"PiècesDeRechangePourECFSCDCongélateurBriquettesdEauSOSOBas","Bas",457.63,null,null,"G",72,"`='CCEOP Price List'!G72"]
[null,null,null,"G","X","`=GX31",null,206,{"$f":"GX31","v":"PiècesDeRechangePourECFSCDCongélateuràbriquettesd’eauSOSOMoyen"},"yen",null,null,null,206,"PiècesDeRechangePourECFSCDCongélateurBriquettesdEauSOSOMoyen","yen",506.94106259375002,null,null,"H",72,"`='CCEOP Price List'!H72"]
[null,null,null,"G","Y","`=GY31",null,207,{"$f":"GY31","v":"PiècesDeRechangePourECFSCDCongélateuràbriquettesd’eauSOSOHaut"},"aut",null,null,null,207,"PiècesDeRechangePourECFSCDCongélateurBriquettesdEauSOSOHaut","aut",556.25212518750004,null,null,"I",72,"`='CCEOP Price List'!I72"]
[null,null,null,"G","Z","`=GZ31",null,208,{"$f":"GZ31","v":"PiècesDeRechangePourECFSCDCombiné_RÉFetCONSOSOBas"},"Bas",457.63,null,null,208,"PiècesDeRechangePourECFSCDCombiné_RÉFetCONSOSOBas","Bas",708,null,null,"G",73,"`='CCEOP Price List'!G73"]
[null,null,null,"H","A","`=HA31",null,209,{"$f":"HA31","v":"PiècesDeRechangePourECFSCDCombiné_RÉFetCONSOSOMoyen"},"yen",null,null,null,209,"PiècesDeRechangePourECFSCDCombiné_RÉFetCONSOSOMoyen","yen",784.28921250000008,null,null,"H",73,"`='CCEOP Price List'!H73"]
[null,null,null,"H","B","`=HB31",null,210,{"$f":"HB31","v":"PiècesDeRechangePourECFSCDCombiné_RÉFetCONSOSOHaut"},"aut",null,null,null,210,"PiècesDeRechangePourECFSCDCombiné_RÉFetCONSOSOHaut","aut",860.57842500000004,null,null,"I",73,"`='CCEOP Price List'!I73"]
[null,null,null,"H","C","`=HC31",null,211,{"$f":"HC31","v":"PiècesDeRechangePourECFSCDSOSOBas"},"Bas",708,null,null,211,"PiècesDeRechangePourECFSCDSOSOBas","Bas",0,null,null,"G",74,"`='CCEOP Price List'!G74"]
[null,null,null,"H","D","`=HD31",null,212,{"$f":"HD31","v":"PiècesDeRechangePourECFSCDSOSOMoyen"},"yen",null,null,null,212,"PiècesDeRechangePourECFSCDSOSOMoyen","yen",0,null,null,"H",74,"`='CCEOP Price List'!H74"]
[null,null,null,"H","E","`=HE31",null,213,{"$f":"HE31","v":"PiècesDeRechangePourECFSCDSOSOHaut"},"aut",null,null,null,213,"PiècesDeRechangePourECFSCDSOSOHaut","aut",0,null,null,"I",74,"`='CCEOP Price List'!I74"]
[null,null,null,"H","F","`=HF31",null,214,{"$f":"HF31","v":"FormationSSEParLeFabricantServicespourréfrigérateursEnpersonneSOBas"},"Bas",0,null,null,214,"FormationSSEParLeFabricantServicesPourRéfrigérateursEnPersonneSOBas","Bas",0,null,null,"G",75,"`='CCEOP Price List'!G75"]
[null,null,null,"H","G","`=HG31",null,215,{"$f":"HG31","v":"FormationSSEParLeFabricantServicespourréfrigérateursEnpersonneSOMoyen"},"yen",null,null,null,215,"FormationSSEParLeFabricantServicesPourRéfrigérateursEnPersonneSOMoyen","yen",0,null,null,"H",75,"`='CCEOP Price List'!H75"]
[null,null,null,"H","H","`=HH31",null,216,{"$f":"HH31","v":"FormationSSEParLeFabricantServicespourréfrigérateursEnpersonneSOHaut"},"aut",null,null,null,216,"FormationSSEParLeFabricantServicesPourRéfrigérateursEnPersonneSOHaut","aut",0,null,null,"I",75,"`='CCEOP Price List'!I75"]
[null,null,null,"H","I","`=HI31",null,217,{"$f":"HI31","v":"FormationSSEParLeFabricantServicespourréfrigérateursÀdistanceSOBas"},"Bas",0,null,null,217,"FormationSSEParLeFabricantServicesPourRéfrigérateursÀDistanceSOBas","Bas",0,null,null,"G",76,"`='CCEOP Price List'!G76"]
[null,null,null,"H","J","`=HJ31",null,218,{"$f":"HJ31","v":"FormationSSEParLeFabricantServicespourréfrigérateursÀdistanceSOMoyen"},"yen",null,null,null,218,"FormationSSEParLeFabricantServicesPourRéfrigérateursÀDistanceSOMoyen","yen",0,null,null,"H",76,"`='CCEOP Price List'!H76"]
[null,null,null,"H","K","`=HK31",null,219,{"$f":"HK31","v":"FormationSSEParLeFabricantServicespourréfrigérateursÀdistanceSOHaut"},"aut",null,null,null,219,"FormationSSEParLeFabricantServicesPourRéfrigérateursÀDistanceSOHaut","aut",0,null,null,"I",76,"`='CCEOP Price List'!I76"]
[null,null,null,"H","L","`=HL31",null,220,{"$f":"HL31","v":"FormationSSEParLeFabricantEnpersonneSOBas"},"Bas",0,null,null,220,"FormationSSEParLeFabricantEnPersonneSOBas","Bas",0,null,null,"G",77,"`='CCEOP Price List'!G77"]
[null,null,null,"H","M","`=HM31",null,221,{"$f":"HM31","v":"FormationSSEParLeFabricantEnpersonneSOMoyen"},"yen",null,null,null,221,"FormationSSEParLeFabricantEnPersonneSOMoyen","yen",0,null,null,"H",77,"`='CCEOP Price List'!H77"]
[null,null,null,"H","N","`=HN31",null,222,{"$f":"HN31","v":"FormationSSEParLeFabricantEnpersonneSOHaut"},"aut",null,null,null,222,"FormationSSEParLeFabricantEnPersonneSOHaut","aut",0,null,null,"I",77,"`='CCEOP Price List'!I77"]
[null,null,null,"H","O","`=HO31",null,223,{"$f":"HO31","v":"FormationSSEParLeFabricantEnpersonneSOBas"},"Bas",0,null,null,223,"FormationSSEParLeFabricantEnPersonneSOBas","Bas",0,null,null,"G",78,"`='CCEOP Price List'!G78"]
[null,null,null,"H","P","`=HP31",null,224,{"$f":"HP31","v":"FormationSSEParLeFabricantEnpersonneSOMoyen"},"yen",null,null,null,224,"FormationSSEParLeFabricantEnPersonneSOMoyen","yen",0,null,null,"H",78,"`='CCEOP Price List'!H78"]
[null,null,null,"H","Q","`=HQ31",null,225,{"$f":"HQ31","v":"FormationSSEParLeFabricantEnpersonneSOHaut"},"aut",null,null,null,225,"FormationSSEParLeFabricantEnPersonneSOHaut","aut",0,null,null,"I",78,"`='CCEOP Price List'!I78"]
[null,null,null,"H","R","`=HR31",null,226,{"$f":"HR31","v":"FormationSSEParLeFabricantEnpersonneSOBas"},"Bas",0,null,null,226,"FormationSSEParLeFabricantEnPersonneSOBas","Bas",0,null,null,"G",79,"`='CCEOP Price List'!G79"]
[null,null,null,"H","S","`=HS31",null,227,{"$f":"HS31","v":"FormationSSEParLeFabricantEnpersonneSOMoyen"},"yen",null,null,null,227,"FormationSSEParLeFabricantEnPersonneSOMoyen","yen",0,null,null,"H",79,"`='CCEOP Price List'!H79"]
[null,null,null,"H","T","`=HT31",null,228,{"$f":"HT31","v":"FormationSSEParLeFabricantEnpersonneSOHaut"},"aut",null,null,null,228,"FormationSSEParLeFabricantEnPersonneSOHaut","aut",0,null,null,"I",79,"`='CCEOP Price List'!I79"]
[null,null,null,"H","U","`=HU31",null,229,{"$f":"HU31","v":"FormationDSTDParLeFabricantServicespourréfrigérateursEnpersonneSOBas"},"Bas",8400,null,null,229,"FormationDSTDParLeFabricantServicesPourRéfrigérateursEnPersonneSOBas","Bas",8400,null,null,"G",80,"`='CCEOP Price List'!G80"]
[null,null,null,"H","V","`=HV31",null,230,{"$f":"HV31","v":"FormationDSTDParLeFabricantServicespourréfrigérateursEnpersonneSOMoyen"},"yen",null,null,null,230,"FormationDSTDParLeFabricantServicesPourRéfrigérateursEnPersonneSOMoyen","yen",8800,null,null,"H",80,"`='CCEOP Price List'!H80"]
[null,null,null,"H","W","`=HW31",null,231,{"$f":"HW31","v":"FormationDSTDParLeFabricantServicespourréfrigérateursEnpersonneSOHaut"},"aut",null,null,null,231,"FormationDSTDParLeFabricantServicesPourRéfrigérateursEnPersonneSOHaut","aut",9200,null,null,"I",80,"`='CCEOP Price List'!I80"]
[null,null,null,"H","X","`=HX31",null,232,{"$f":"HX31","v":"FormationDSTDParLeFabricantServicespourréfrigérateursÀdistanceSOBas"},"Bas",2625,null,null,232,"FormationDSTDParLeFabricantServicesPourRéfrigérateursÀDistanceSOBas","Bas",2625,null,null,"G",81,"`='CCEOP Price List'!G81"]
[null,null,null,"H","Y","`=HY31",null,233,{"$f":"HY31","v":"FormationDSTDParLeFabricantServicespourréfrigérateursÀdistanceSOMoyen"},"yen",null,null,null,233,"FormationDSTDParLeFabricantServicesPourRéfrigérateursÀDistanceSOMoyen","yen",2750,null,null,"H",81,"`='CCEOP Price List'!H81"]
[null,null,null,"H","Z","`=HZ31",null,234,{"$f":"HZ31","v":"FormationDSTDParLeFabricantServicespourréfrigérateursÀdistanceSOHaut"},"aut",null,null,null,234,"FormationDSTDParLeFabricantServicesPourRéfrigérateursÀDistanceSOHaut","aut",2875,null,null,"I",81,"`='CCEOP Price List'!I81"]
[null,null,null,"I","A","`=IA31",null,235,{"$f":"IA31","v":"FormationDSTDParLeFabricantServicespourCFADEnpersonneSOBas"},"Bas",8400,null,null,235,"FormationDSTDParLeFabricantServicesPourCFADEnPersonneSOBas","Bas",8400,null,null,"G",82,"`='CCEOP Price List'!G82"]
[null,null,null,"I","B","`=IB31",null,236,{"$f":"IB31","v":"FormationDSTDParLeFabricantServicespourCFADEnpersonneSOMoyen"},"yen",null,null,null,236,"FormationDSTDParLeFabricantServicesPourCFADEnPersonneSOMoyen","yen",8800,null,null,"H",82,"`='CCEOP Price List'!H82"]
[null,null,null,"I","C","`=IC31",null,237,{"$f":"IC31","v":"FormationDSTDParLeFabricantServicespourCFADEnpersonneSOHaut"},"aut",null,null,null,237,"FormationDSTDParLeFabricantServicesPourCFADEnPersonneSOHaut","aut",9200,null,null,"I",82,"`='CCEOP Price List'!I82"]
[null,null,null,"I","D","`=ID31",null,238,{"$f":"ID31","v":"FormationDSTDParLeFabricantServicespourCFADÀdistanceSOBas"},"Bas",3150,null,null,238,"FormationDSTDParLeFabricantServicesPourCFADÀDistanceSOBas","Bas",3150,null,null,"G",83,"`='CCEOP Price List'!G83"]
[null,null,null,"I","E","`=IE31",null,239,{"$f":"IE31","v":"FormationDSTDParLeFabricantServicespourCFADÀdistanceSOMoyen"},"yen",null,null,null,239,"FormationDSTDParLeFabricantServicesPourCFADÀDistanceSOMoyen","yen",3300.0000000000005,null,null,"H",83,"`='CCEOP Price List'!H83"]
[null,null,null,"I","F","`=IF31",null,240,{"$f":"IF31","v":"FormationDSTDParLeFabricantServicespourCFADÀdistanceSOHaut"},"aut",null,null,null,240,"FormationDSTDParLeFabricantServicesPourCFADÀDistanceSOHaut","aut",3449.9999999999995,null,null,"I",83,"`='CCEOP Price List'!I83"]
[null,null,null,"I","G","`=IG31",null,241,{"$f":"IG31","v":"FormationMaintenanceECFParLeFabricantServicespourréfrigérateursEnpersonneSOBas"},"Bas",19425,null,null,241,"FormationMaintenanceECFParLeFabricantServicesPourRéfrigérateursEnPersonneSOBas","Bas",19425,null,null,"G",84,"`='CCEOP Price List'!G84"]
[null,null,null,"I","H","`=IH31",null,242,{"$f":"IH31","v":"FormationMaintenanceECFParLeFabricantServicespourréfrigérateursEnpersonneSOMoyen"},"yen",null,null,null,242,"FormationMaintenanceECFParLeFabricantServicesPourRéfrigérateursEnPersonneSOMoyen","yen",20350,null,null,"H",84,"`='CCEOP Price List'!H84"]
[null,null,null,"I","I","`=II31",null,243,{"$f":"II31","v":"FormationMaintenanceECFParLeFabricantServicespourréfrigérateursEnpersonneSOHaut"},"aut",null,null,null,243,"FormationMaintenanceECFParLeFabricantServicesPourRéfrigérateursEnPersonneSOHaut","aut",21275,null,null,"I",84,"`='CCEOP Price List'!I84"]
[null,null,null,"I","J","`=IJ31",null,244,{"$f":"IJ31","v":"FormationMaintenanceECFParLeFabricantServicespourréfrigérateursÀdistanceSOBas"},"Bas",0,null,null,244,"FormationMaintenanceECFParLeFabricantServicesPourRéfrigérateursÀDistanceSOBas","Bas",0,null,null,"G",85,"`='CCEOP Price List'!G85"]
[null,null,null,"I","K","`=IK31",null,245,{"$f":"IK31","v":"FormationMaintenanceECFParLeFabricantServicespourréfrigérateursÀdistanceSOMoyen"},"yen",null,null,null,245,"FormationMaintenanceECFParLeFabricantServicesPourRéfrigérateursÀDistanceSOMoyen","yen",0,null,null,"H",85,"`='CCEOP Price List'!H85"]
[null,null,null,"I","L","`=IL31",null,246,{"$f":"IL31","v":"FormationMaintenanceECFParLeFabricantServicespourréfrigérateursÀdistanceSOHaut"},"aut",null,null,null,246,"FormationMaintenanceECFParLeFabricantServicesPourRéfrigérateursÀDistanceSOHaut","aut",0,null,null,"I",85,"`='CCEOP Price List'!I85"]
[null,null,null,"I","M","`=IM31",null,247,{"$f":"IM31","v":"FormationMaintenanceECFParLeFabricantServicespourCFADEnpersonneSOBas"},"Bas",9712.5,null,null,247,"FormationMaintenanceECFParLeFabricantServicesPourCFADEnPersonneSOBas","Bas",9712.5,null,null,"G",86,"`='CCEOP Price List'!G86"]
[null,null,null,"I","N","`=IN31",null,248,{"$f":"IN31","v":"FormationMaintenanceECFParLeFabricantServicespourCFADEnpersonneSOMoyen"},"yen",null,null,null,248,"FormationMaintenanceECFParLeFabricantServicesPourCFADEnPersonneSOMoyen","yen",10175,null,null,"H",86,"`='CCEOP Price List'!H86"]
[null,null,null,"I","O","`=IO31",null,249,{"$f":"IO31","v":"FormationMaintenanceECFParLeFabricantServicespourCFADEnpersonneSOHaut"},"aut",null,null,null,249,"FormationMaintenanceECFParLeFabricantServicesPourCFADEnPersonneSOHaut","aut",10637.5,null,null,"I",86,"`='CCEOP Price List'!I86"]
[null,null,null,"I","P","`=IP31",null,250,{"$f":"IP31","v":"FormationMaintenanceECFParLeFabricantServicespourCFADÀdistanceSOBas"},"Bas",0,null,null,250,"FormationMaintenanceECFParLeFabricantServicesPourCFADÀDistanceSOBas","Bas",0,null,null,"G",87,"`='CCEOP Price List'!G87"]
[null,null,null,"I","Q","`=IQ31",null,251,{"$f":"IQ31","v":"FormationMaintenanceECFParLeFabricantServicespourCFADÀdistanceSOMoyen"},"yen",null,null,null,251,"FormationMaintenanceECFParLeFabricantServicesPourCFADÀDistanceSOMoyen","yen",0,null,null,"H",87,"`='CCEOP Price List'!H87"]
[null,null,null,"I","R","`=IR31",null,252,{"$f":"IR31","v":"FormationMaintenanceECFParLeFabricantServicespourCFADÀdistanceSOHaut"},"aut",null,null,null,252,"FormationMaintenanceECFParLeFabricantServicesPourCFADÀDistanceSOHaut","aut",0,null,null,"I",87,"`='CCEOP Price List'!I87"]
[null,null,null,"I","S","`=IS31",null,253,{"$f":"IS31","v":"AbonnementsAnnuelsAuxDonnéesDSTDServicespourréfrigérateursSOSOBas"},"Bas",208.5,null,null,253,"AbonnementsAnnuelsAuxDonnéesDSTDServicesPourRéfrigérateursSOSOBas","Bas",208.5,null,null,"G",88,"`='CCEOP Price List'!G88"]
[null,null,null,"I","T","`=IT31",null,254,{"$f":"IT31","v":"AbonnementsAnnuelsAuxDonnéesDSTDServicespourréfrigérateursSOSOMoyen"},"yen",null,null,null,254,"AbonnementsAnnuelsAuxDonnéesDSTDServicesPourRéfrigérateursSOSOMoyen","yen",230.95165400787067,null,null,"H",88,"`='CCEOP Price List'!H88"]
[null,null,null,"I","U","`=IU31",null,255,{"$f":"IU31","v":"AbonnementsAnnuelsAuxDonnéesDSTDServicespourréfrigérateursSOSOHaut"},"aut",null,null,null,255,"AbonnementsAnnuelsAuxDonnéesDSTDServicesPourRéfrigérateursSOSOHaut","aut",253.40330801574137,null,null,"I",88,"`='CCEOP Price List'!I88"]
[null,null,null,"I","V","`=IV31",null,256,{"$f":"IV31","v":"AbonnementsAnnuelsAuxDonnéesDSTDServicespourréfrigérateursSOBas"},"Bas",0,null,null,256,"AbonnementsAnnuelsAuxDonnéesDSTDServicesPourRéfrigérateursSOBas","Bas",0,null,null,"G",89,"`='CCEOP Price List'!G89"]
[null,null,null,"I","W","`=IW31",null,257,{"$f":"IW31","v":"AbonnementsAnnuelsAuxDonnéesDSTDServicespourréfrigérateursSOMoyen"},{"$f":"RIGHT(I291,3)","v":"yen"},null,null,null,257,"AbonnementsAnnuelsAuxDonnéesDSTDServicesPourRéfrigérateursSOMoyen","yen",0,null,null,"H",89,"`='CCEOP Price List'!H89"]
[null,null,null,"I","X",{"$f":"_xlfn.CONCAT(\"`=\",D292,E292,\"31\")","v":"`=IX31"},null,258,{"$f":"IX31","v":"AbonnementsAnnuelsAuxDonnéesDSTDServicespourréfrigérateursSOHaut"},"aut",null,null,null,258,"AbonnementsAnnuelsAuxDonnéesDSTDServicesPourRéfrigérateursSOHaut",{"$f":"J292","v":"aut"},0,null,null,"I",89,{"$f":"_xlfn.CONCAT(\"`='CCEOP Price List'!\",T292,U292)","v":"`='CCEOP Price List'!I89"}]
[null,null,null,"I","Y","`=IY31",null,259,{"$f":"IY31","v":"AbonnementsAnnuelsAuxDonnéesDSTDServicespourCFADSOSOBas"},"Bas",404,null,null,259,"AbonnementsAnnuelsAuxDonnéesDSTDServicesPourCFADSOSOBas","Bas",404,null,null,"G",90,"`='CCEOP Price List'!G90"]
[null,null,null,"I","Z","`=IZ31",null,260,{"$f":"IZ31","v":"AbonnementsAnnuelsAuxDonnéesDSTDServicespourCFADSOSOMoyen"},"yen",null,null,null,260,"AbonnementsAnnuelsAuxDonnéesDSTDServicesPourCFADSOSOMoyen","yen",447.84366099502068,null,null,"H",90,"`='CCEOP Price List'!H90"]
[null,null,null,"J","A","`=JA31",null,261,{"$f":"JA31","v":"AbonnementsAnnuelsAuxDonnéesDSTDServicespourCFADSOSOHaut"},"aut",null,null,null,261,"AbonnementsAnnuelsAuxDonnéesDSTDServicesPourCFADSOSOHaut","aut",491.68732199004137,null,null,"I",{"$f":"U292+1","v":90},"`='CCEOP Price List'!I90"]
[null,null,null,"J","B","`=JB31",null,262,{"$f":"JB31","v":"AbonnementsAnnuelsAuxDonnéesDSTDServicespourCFADSOBas"},"Bas",404,null,null,262,"AbonnementsAnnuelsAuxDonnéesDSTDServicesPourCFADSOBas","Bas",0,null,null,"G",91,"`='CCEOP Price List'!G91"]
[null,null,null,"J","C","`=JC31",null,263,{"$f":"JC31","v":"AbonnementsAnnuelsAuxDonnéesDSTDServicespourCFADSOMoyen"},"yen",null,null,null,263,"AbonnementsAnnuelsAuxDonnéesDSTDServicesPourCFADSOMoyen","yen",0,null,null,"H",91,"`='CCEOP Price List'!H91"]
[null,null,null,"J","D","`=JD31",null,264,{"$f":"JD31","v":"AbonnementsAnnuelsAuxDonnéesDSTDServicespourCFADSOHaut"},"aut",null,null,null,264,"AbonnementsAnnuelsAuxDonnéesDSTDServicesPourCFADSOHaut","aut",0,null,null,"I",91,"`='CCEOP Price List'!I91"]
[null,null,null,"J","E","`=JE31",null,265,{"$f":"JE31","v":"AbonnementsAnnuelsAuxDonnéesSSEServicespourréfrigérateursSOSOBas"},"Bas",0.30142857142857149,null,null,265,"AbonnementsAnnuelsAuxDonnéesSSEServicesPourRéfrigérateursSOSOBas","Bas",518.70000000000005,null,null,"G",92,"`='CCEOP Price List'!G92"]
[null,null,null,"J","F","`=JF31",null,266,{"$f":"JF31","v":"AbonnementsAnnuelsAuxDonnéesSSEServicespourréfrigérateursSOSOMoyen"},"yen",null,null,null,266,"AbonnementsAnnuelsAuxDonnéesSSEServicesPourRéfrigérateursSOSOMoyen","yen",574.16499999999996,null,null,"H",92,"`='CCEOP Price List'!H92"]
[null,null,null,"J","G","`=JG31",null,267,{"$f":"JG31","v":"AbonnementsAnnuelsAuxDonnéesSSEServicespourréfrigérateursSOSOHaut"},"aut",null,null,null,267,"AbonnementsAnnuelsAuxDonnéesSSEServicesPourRéfrigérateursSOSOHaut","aut",629.63,null,null,"I",92,"`='CCEOP Price List'!I92"]
[null,null,null,"J","H","`=JH31",null,268,{"$f":"JH31","v":"AbonnementsAnnuelsAuxDonnéesSSESOSOBas"},"Bas",0.39400000000000002,null,null,268,"AbonnementsAnnuelsAuxDonnéesSSESOSOBas","Bas",0,null,null,"G",93,"`='CCEOP Price List'!G93"]
[null,null,null,"J","I","`=JI31",null,269,{"$f":"JI31","v":"AbonnementsAnnuelsAuxDonnéesSSESOSOMoyen"},"yen",null,null,null,269,"AbonnementsAnnuelsAuxDonnéesSSESOSOMoyen","yen",0,null,null,"H",93,"`='CCEOP Price List'!H93"]
[null,null,null,"J","J","`=JJ31",null,270,{"$f":"JJ31","v":"AbonnementsAnnuelsAuxDonnéesSSESOSOHaut"},"aut",null,null,null,270,"AbonnementsAnnuelsAuxDonnéesSSESOSOHaut","aut",0,null,null,"I",93,"`='CCEOP Price List'!I93"]
[null,null,null,"J","K","`=JK31",null,271,{"$f":"JK31","v":"PainsDeGlaceSOSO0.3LBas"},"Bas",9,null,null,271,"PainsDeGlaceSOSO0.3LBas","Bas",0.30142857142857149,null,null,"G",94,"`='CCEOP Price List'!G94"]
[null,null,null,"J","L","`=JL31",null,272,{"$f":"JL31","v":"PainsDeGlaceSOSO0.3LMoyen"},"yen",null,null,null,272,"PainsDeGlaceSOSO0.3LMoyen","yen",0.33390844196428582,null,null,"H",94,"`='CCEOP Price List'!H94"]
[null,null,null,"J","M","`=JM31",null,273,{"$f":"JM31","v":"PainsDeGlaceSOSO0.3LHaut"},"aut",null,null,null,273,"PainsDeGlaceSOSO0.3LHaut","aut",0.36638831250000009,null,null,"I",94,"`='CCEOP Price List'!I94"]
[null,null,null,"J","N","`=JN31",null,274,{"$f":"JN31","v":"PainsDeGlaceSOSO0.4LBas"},"Bas",2073.75,null,null,274,"PainsDeGlaceSOSO0.4LBas","Bas",0.39400000000000002,null,null,"G",95,"`='CCEOP Price List'!G95"]
[null,null,null,"J","O","`=JO31",null,275,{"$f":"JO31","v":"PainsDeGlaceSOSO0.4LMoyen"},"yen",null,null,null,275,"PainsDeGlaceSOSO0.4LMoyen","yen",0.43645473125000001,null,null,"H",95,"`='CCEOP Price List'!H95"]
[null,null,null,"J","P","`=JP31",null,276,{"$f":"JP31","v":"PainsDeGlaceSOSO0.4LHaut"},"aut",null,null,null,276,"PainsDeGlaceSOSO0.4LHaut","aut",0.47890946250000005,null,null,"I",95,"`='CCEOP Price List'!I95"]
[null,null,null,"J","Q","`=JQ31",null,277,{"$f":"JQ31","v":"PainsDeGlaceSOSO0.6LBas"},"Bas",3045,null,null,277,"PainsDeGlaceSOSO0.6LBas","Bas",9,null,null,"G",96,"`='CCEOP Price List'!G96"]
[null,null,null,"J","R","`=JR31",null,278,{"$f":"JR31","v":"PainsDeGlaceSOSO0.6LMoyen"},"yen",null,null,null,278,"PainsDeGlaceSOSO0.6LMoyen","yen",9.9697781250000013,null,null,"H",96,"`='CCEOP Price List'!H96"]
[null,null,null,"J","S","`=JS31",null,279,{"$f":"JS31","v":"PainsDeGlaceSOSO0.6LHaut"},"aut",null,null,null,279,"PainsDeGlaceSOSO0.6LHaut","aut",10.939556250000001,null,null,"I",96,"`='CCEOP Price List'!I96"]
[null,null,null,"J","T","`=JT31",null,280,{"$f":"JT31","v":"PainsDeGlaceSO0.3LBas"},"Bas",null,null,null,280,"PainsDeGlaceSO0.3LBas","Bas",0,null,null,"G",97,"`='CCEOP Price List'!G97"]
[null,null,null,"J","U","`=JU31",null,281,{"$f":"JU31","v":"PainsDeGlaceSO0.3LMoyen"},"yen",null,null,null,281,"PainsDeGlaceSO0.3LMoyen","yen",0,null,null,"H",97,"`='CCEOP Price List'!H97"]
[null,null,null,"J","V","`=JV31",null,282,{"$f":"JV31","v":"PainsDeGlaceSO0.3LHaut"},"aut",null,null,null,282,"PainsDeGlaceSO0.3LHaut","aut",0,null,null,"I",97,"`='CCEOP Price List'!I97"]
[null,null,null,"J","W","`=JW31",null,283,{"$f":"JW31","v":"PainsDeGlaceSO0.4LBas"},"Bas",null,null,null,283,"PainsDeGlaceSO0.4LBas","Bas",0,null,null,"G",98,"`='CCEOP Price List'!G98"]
[null,null,null,"J","X","`=JX31",null,284,{"$f":"JX31","v":"PainsDeGlaceSO0.4LMoyen"},"yen",null,null,null,284,"PainsDeGlaceSO0.4LMoyen","yen",0,null,null,"H",98,"`='CCEOP Price List'!H98"]
[null,null,null,"J","Y","`=JY31",null,285,{"$f":"JY31","v":"PainsDeGlaceSO0.4LHaut"},"aut",null,null,null,285,"PainsDeGlaceSO0.4LHaut","aut",0,null,null,"I",98,"`='CCEOP Price List'!I98"]
[null,null,null,"J","Z","`=JZ31",null,286,{"$f":"JZ31","v":"PainsDeGlaceSO0.6LBas"},"Bas",null,null,null,286,"PainsDeGlaceSO0.6LBas","Bas",0,null,null,"G",99,"`='CCEOP Price List'!G99"]
[null,null,null,"K","A","`=KA31",null,287,{"$f":"KA31","v":"PainsDeGlaceSO0.6LMoyen"},"yen",null,null,null,287,"PainsDeGlaceSO0.6LMoyen","yen",0,null,null,"H",99,"`='CCEOP Price List'!H99"]
[null,null,null,"K","B","`=KB31",null,288,{"$f":"KB31","v":"PainsDeGlaceSO0.6LHaut"},"aut",null,null,null,288,"PainsDeGlaceSO0.6LHaut","aut",0,null,null,"I",99,"`='CCEOP Price List'!I99"]
[null,null,null,"K","C","`=KC31",null,289,{"$f":"KC31","v":"DispositifsDeStockageDesVaccinsTransportablesEtAlimentés_DSTAPortevaccinsDSTASO0-<5LBas"},"Bas",null,null,null,289,"DispositifsDeStockageDesVaccinsTransportablesEtAlimentés_DSTATransporteursDSTASO0-<5LBas","Bas",2073.75,null,null,"G",100,"`='CCEOP Price List'!G100"]
[null,null,null,"K","D","`=KD31",null,290,{"$f":"KD31","v":"DispositifsDeStockageDesVaccinsTransportablesEtAlimentés_DSTAPortevaccinsDSTASO0-<5LMoyen"},"yen",null,null,null,290,"DispositifsDeStockageDesVaccinsTransportablesEtAlimentés_DSTATransporteursDSTASO0-<5LMoyen","yen",2177.4375,null,null,"H",100,"`='CCEOP Price List'!H100"]
[null,null,null,"K","E","`=KE31",null,291,{"$f":"KE31","v":"DispositifsDeStockageDesVaccinsTransportablesEtAlimentés_DSTAPortevaccinsDSTASO0-<5LHaut"},"aut",null,null,null,291,"DispositifsDeStockageDesVaccinsTransportablesEtAlimentés_DSTATransporteursDSTASO0-<5LHaut","aut",2281.125,null,null,"I",100,"`='CCEOP Price List'!I100"]
[null,null,null,"K","F","`=KF31",null,292,{"$f":"KF31","v":"DispositifsDeStockageDesVaccinsTransportablesEtAlimentés_DSTAChargeursDSTASOSOBas"},"Bas",null,null,null,292,"DispositifsDeStockageDesVaccinsTransportablesEtAlimentés_DSTAChargeursDSTASOSOBas","Bas",3045,null,null,"G",101,"`='CCEOP Price List'!G101"]
[null,null,null,"K","G","`=KG31",null,293,{"$f":"KG31","v":"DispositifsDeStockageDesVaccinsTransportablesEtAlimentés_DSTAChargeursDSTASOSOMoyen"},"yen",null,null,null,293,"DispositifsDeStockageDesVaccinsTransportablesEtAlimentés_DSTAChargeursDSTASOSOMoyen","yen",3197.25,null,null,"H",101,"`='CCEOP Price List'!H101"]
[null,null,null,"K","H","`=KH31",null,294,{"$f":"KH31","v":"DispositifsDeStockageDesVaccinsTransportablesEtAlimentés_DSTAChargeursDSTASOSOHaut"},"aut",null,null,null,294,"DispositifsDeStockageDesVaccinsTransportablesEtAlimentés_DSTAChargeursDSTASOSOHaut","aut",3349.5,null,null,"I",101,"`='CCEOP Price List'!I101"]
[null,null,null,"K","I","`=KI31",null,295,{"$f":"KI31","v":"SupportDePanneauSolairePourSCDMatérielSOSOBas"},"Bas",null,null,null,295,"SupportDePanneauSolairePourSCDMatérielSOSOBas","Bas",1468.44,null,null,"G",102,"`='CCEOP Price List'!G102"]
[null,null,null,"K","J","`=KJ31",null,296,{"$f":"KJ31","v":"SupportDePanneauSolairePourSCDMatérielSOSOMoyen"},"yen",null,null,null,296,"SupportDePanneauSolairePourSCDMatérielSOSOMoyen","yen",1626.6689988749999,null,null,"H",102,"`='CCEOP Price List'!H102"]
[null,null,null,"K","K","`=KK31",null,297,{"$f":"KK31","v":"SupportDePanneauSolairePourSCDMatérielSOSOHaut"},"aut",null,null,null,297,"SupportDePanneauSolairePourSCDMatérielSOSOHaut","aut",1784.8979977500001,null,null,"I",102,"`='CCEOP Price List'!I102"]
[null,null,null,"K","L","`=KL31",null,298,{"$f":"KL31","v":"SupportDePanneauSolairePourSCDSOSOBas"},"Bas",null,null,null,298,"SupportDePanneauSolairePourSCDSOSOBas","Bas",0,null,null,"G",103,"`='CCEOP Price List'!G103"]
[null,null,null,"K","M","`=KM31",null,299,{"$f":"KM31","v":"SupportDePanneauSolairePourSCDSOSOMoyen"},"yen",null,null,null,299,"SupportDePanneauSolairePourSCDSOSOMoyen","yen",0,null,null,"H",103,"`='CCEOP Price List'!H103"]
[null,null,null,"K","N","`=KN31",null,300,{"$f":"KN31","v":"SupportDePanneauSolairePourSCDSOSOHaut"},"aut",null,null,null,300,"SupportDePanneauSolairePourSCDSOSOHaut","aut",0,null,null,"I",103,"`='CCEOP Price List'!I103"]
[null,null,null,"K","O","`=KO31",null,301,{"$f":"KO31","v":"PorteVaccinsConventionnelsDispositifspassifsSO1-<2LBas"},"Bas",null,null,null,301,"PorteVaccinsConventionnelsDispositifsPassifsSO1-<2LBas","Bas",13.3,null,null,"G",104,"`='CCEOP Price List'!G104"]
[null,null,null,"K","P","`=KP31",null,302,{"$f":"KP31","v":"PorteVaccinsConventionnelsDispositifspassifsSO1-<2LMoyen"},"yen",null,null,null,302,"PorteVaccinsConventionnelsDispositifsPassifsSO1-<2LMoyen","yen",14.75,null,null,"H",104,"`='CCEOP Price List'!H104"]
[null,null,null,"K","Q","`=KQ31",null,303,{"$f":"KQ31","v":"PorteVaccinsConventionnelsDispositifspassifsSO1-<2LHaut"},"aut",null,null,null,303,"PorteVaccinsConventionnelsDispositifsPassifsSO1-<2LHaut","aut",16.2,null,null,"I",104,"`='CCEOP Price List'!I104"]
[null,null,null,"K","R","`=KR31",null,304,{"$f":"KR31","v":"PorteVaccinsConventionnelsDispositifspassifsSO2-<5LBas"},"Bas",null,null,null,304,"PorteVaccinsConventionnelsDispositifsPassifsSO2-<5LBas","Bas",21.6,null,null,"G",105,"`='CCEOP Price List'!G105"]
[null,null,null,"K","S","`=KS31",null,305,{"$f":"KS31","v":"PorteVaccinsConventionnelsDispositifspassifsSO2-<5LMoyen"},"yen",null,null,null,305,"PorteVaccinsConventionnelsDispositifsPassifsSO2-<5LMoyen","yen",23.925000000000001,null,null,"H",105,"`='CCEOP Price List'!H105"]
[null,null,null,"K","T","`=KT31",null,306,{"$f":"KT31","v":"PorteVaccinsConventionnelsDispositifspassifsSO2-<5LHaut"},"aut",null,null,null,306,"PorteVaccinsConventionnelsDispositifsPassifsSO2-<5LHaut","aut",26.25,null,null,"I",105,"`='CCEOP Price List'!I105"]
[null,null,null,"K","U","`=KU31",null,307,{"$f":"KU31","v":"GlacièresConventionnellesDispositifspassifsSO5L-<10LBas"},"Bas",null,null,null,307,"GlacièresConventionnellesDispositifsPassifsSO5L-<10LBas","Bas",104.46,null,null,"G",106,"`='CCEOP Price List'!G106"]
[null,null,null,"K","V","`=KV31",null,308,{"$f":"KV31","v":"GlacièresConventionnellesDispositifspassifsSO5L-<10LMoyen"},"yen",null,null,null,308,"GlacièresConventionnellesDispositifsPassifsSO5L-<10LMoyen","yen",115.72999999999999,null,null,"H",106,"`='CCEOP Price List'!H106"]
[null,null,null,"K","W","`=KW31",null,309,{"$f":"KW31","v":"GlacièresConventionnellesDispositifspassifsSO5L-<10LHaut"},"aut",null,null,null,309,"GlacièresConventionnellesDispositifsPassifsSO5L-<10LHaut","aut",127,null,null,"I",106,"`='CCEOP Price List'!I106"]
[null,null,null,"K","X","`=KX31",null,310,{"$f":"KX31","v":"GlacièresConventionnellesDispositifspassifsSO20L-<25LBas"},"Bas",null,null,null,310,"GlacièresConventionnellesDispositifsPassifsSO20L-<25LBas","Bas",144.38999999999999,null,null,"G",107,"`='CCEOP Price List'!G107"]
[null,null,null,"K","Y","`=KY31",null,311,{"$f":"KY31","v":"GlacièresConventionnellesDispositifspassifsSO20L-<25LMoyen"},"yen",null,null,null,311,"GlacièresConventionnellesDispositifsPassifsSO20L-<25LMoyen","yen",159.94999999999999,null,null,"H",107,"`='CCEOP Price List'!H107"]
[null,null,null,"K","Z","`=KZ31",null,312,{"$f":"KZ31","v":"GlacièresConventionnellesDispositifspassifsSO20L-<25LHaut"},"aut",null,null,null,312,"GlacièresConventionnellesDispositifsPassifsSO20L-<25LHaut","aut",175.51,null,null,"I",107,"`='CCEOP Price List'!I107"]
[null,null,null,"L","A","`=LA31",null,313,{"$f":"LA31","v":"EnregistreurDeTempératureProgrammableParL’UtilisateurDSTpourréfrigérateursSOSOBas"},"Bas",null,null,null,313,"EnregistreurDeTempératureProgrammableParUtilisateurDSTPourRéfrigérateursSOSOBas","Bas",77.099999999999994,null,null,"G",108,"`='CCEOP Price List'!G108"]
[null,null,null,"L","B","`=LB31",null,314,{"$f":"LB31","v":"EnregistreurDeTempératureProgrammableParL’UtilisateurDSTpourréfrigérateursSOSOMoyen"},"yen",null,null,null,314,"EnregistreurDeTempératureProgrammableParUtilisateurDSTPourRéfrigérateursSOSOMoyen","yen",102.05,null,null,"H",108,"`='CCEOP Price List'!H108"]
[null,null,null,"L","C","`=LC31",null,315,{"$f":"LC31","v":"EnregistreurDeTempératureProgrammableParL’UtilisateurDSTpourréfrigérateursSOSOHaut"},"aut",null,null,null,315,"EnregistreurDeTempératureProgrammableParUtilisateurDSTPourRéfrigérateursSOSOHaut","aut",127,null,null,"I",108,"`='CCEOP Price List'!I108"]
[null,null,null,"L","D","`=LD31",null,316,{"$f":"LD31","v":"IndicateurDeGelSOSOSOBas"},"Bas",null,null,null,316,"IndicateurDeGelSOSOSOBas","Bas",8.65,null,null,"G",109,"`='CCEOP Price List'!G109"]
[null,null,null,"L","E","`=LE31",null,317,{"$f":"LE31","v":"IndicateurDeGelSOSOSOMoyen"},"yen",null,null,null,317,"IndicateurDeGelSOSOSOMoyen","yen",9.5820645312500012,null,null,"H",109,"`='CCEOP Price List'!H109"]
[null,null,null,"L","F","`=LF31",null,318,{"$f":"LF31","v":"IndicateurDeGelSOSOSOHaut"},"aut",null,null,null,318,"IndicateurDeGelSOSOSOHaut","aut",10.5141290625,null,null,"I",109,"`='CCEOP Price List'!I109"]
[null,null,null,"L","G","`=LG31",null,319,{"$f":"LG31","v":0},"0",null,null,null,319,0,"0",0,null,null,"G",110,"`='CCEOP Price List'!G110"]
[null,null,null,"L","H","`=LH31",null,320,{"$f":"LH31","v":0},"0",null,null,null,320,0,"0",0,null,null,"H",110,"`='CCEOP Price List'!H110"]
[null,null,null,"L","I","`=LI31",null,321,{"$f":"LI31","v":0},{"$f":"RIGHT(I355,3)","v":"0"},null,null,null,321,0,"0",0,null,null,"I",110,"`='CCEOP Price List'!I110"]
[null,null,null,"L","J",{"$f":"_xlfn.CONCAT(\"`=\",D356,E356,\"31\")","v":"`=LJ31"},null,322,{"$f":"LJ31","v":0},"0",null,null,null,322,0,{"$f":"J356","v":"0"},0,null,null,"G",111,{"$f":"_xlfn.CONCAT(\"`='CCEOP Price List'!\",T356,U356)","v":"`='CCEOP Price List'!G111"}]
[null,null,null,"L","K","`=LK31",null,323,{"$f":"LK31","v":0},"0",null,null,null,323,0,"0",0,null,null,"H",111,"`='CCEOP Price List'!H111"]
[null,null,null,"L","L","`=LL31",null,324,{"$f":"LL31","v":0},"0",null,null,null,324,0,"0",0,null,null,"I",111,"`='CCEOP Price List'!I111"]
[null,null,null,"L","M","`=LM31",null,325,{"$f":"LM31","v":0},"0",null,null,null,325,0,"0",0,null,null,"G",{"$f":"U356+1","v":112},"`='CCEOP Price List'!G112"]
[null,null,null,"L","N","`=LN31",null,326,{"$f":"LN31","v":0},"0",null,null,null,326,0,"0",0,null,null,"H",112,"`='CCEOP Price List'!H112"]
[null,null,null,"L","O","`=LO31",null,327,{"$f":"LO31","v":0},"0",null,null,null,327,0,"0",0,null,null,"I",112,"`='CCEOP Price List'!I112"]
[null,null,null,"L","P","`=LP31",null,328,{"$f":"LP31","v":0},"0",null,null,null,328,0,"0",0,null,null,"G",113,"`='CCEOP Price List'!G113"]
[null,null,null,"L","Q","`=LQ31",null,329,{"$f":"LQ31","v":0},"0",null,null,null,329,0,"0",0,null,null,"H",113,"`='CCEOP Price List'!H113"]
[null,null,null,"L","R","`=LR31",null,330,{"$f":"LR31","v":0},"0",null,null,null,330,0,"0",0,null,null,"I",113,"`='CCEOP Price List'!I113"]
[null,null,null,"L","S","`=LS31",null,331,{"$f":"LS31","v":0},"0",null,null,null,331,0,"0",0,null,null,"G",114,"`='CCEOP Price List'!G114"]
[null,null,null,"L","T","`=LT31",null,332,{"$f":"LT31","v":0},"0",null,null,null,332,0,"0",0,null,null,"H",114,"`='CCEOP Price List'!H114"]
[null,null,null,"L","U","`=LU31",null,333,{"$f":"LU31","v":0},"0",null,null,null,333,0,"0",0,null,null,"I",114,"`='CCEOP Price List'!I114"]
[null,null,null,"L","V","`=LV31",null,334,{"$f":"LV31","v":0},"0",null,null,null,334,0,"0",0,null,null,"G",115,"`='CCEOP Price List'!G115"]
[null,null,null,"L","W","`=LW31",null,335,{"$f":"LW31","v":0},"0",null,null,null,335,0,"0",0,null,null,"H",115,"`='CCEOP Price List'!H115"]
[null,null,null,"L","X","`=LX31",null,336,{"$f":"LX31","v":0},"0",null,null,null,336,0,"0",0,null,null,"I",115,"`='CCEOP Price List'!I115"]
[null,null,null,"L","Y","`=LY31",null,337,{"$f":"LY31","v":0},"0",null,null,null,337,0,"0",0,null,null,"G",116,"`='CCEOP Price List'!G116"]
[null,null,null,"L","Z","`=LZ31",null,338,{"$f":"LZ31","v":0},"0",null,null,null,338,0,"0",0,null,null,"H",116,"`='CCEOP Price List'!H116"]

{"sheet":"CCEOP Av Px_Min Floor & Cash ","index":17,"n_rows":300,"n_cols":8,"rows_kept":300,"cut":false,"hidden":true,"merged":[[83,4,83,5],[99,4,99,6]]}
["Catégorie","Prix unitaire moyen",null,null,"Pays","Code ISO","Plafond subvention","Investissement minimum dans les ECF"]
["RéfrigérateursEtCongélateursSurSecteurRéfrigérateurSSEN230-<60LBas",1604.4682500000001,null,null,"Afghanistan","AFG",66405026.261990055,2700000]
["RéfrigérateursEtCongélateursSurSecteurRéfrigérateurSSEN230-<60LMoyen",2349.3912553125001,null,null,"Angola","AGO",42817242.220034719,2800000]
["RéfrigérateursEtCongélateursSurSecteurRéfrigérateurSSEN230-<60LHaut",3401.4726900000001,null,null,"Bangladesh","BGD",19417263.897341073,3000000]
["RéfrigérateursEtCongélateursSurSecteurRéfrigérateurSSEN260-<120LBas",2005.5853125000001,null,null,"Bénin","BEN",16792130.580513582,2600000]
["RéfrigérateursEtCongélateursSurSecteurRéfrigérateurSSEN260-<120LMoyen",2811.7090574999997,null,null,"Burkina Faso","BFA",19041141.487831473,2400000]
["RéfrigérateursEtCongélateursSurSecteurRéfrigérateurSSEN260-<120LHaut",3704.8630499999999,null,null,"Burundi","BDI",14272091.549999999,1400000]
["RéfrigérateursEtCongélateursSurSecteurRéfrigérateurSSEN2>120LBas",2127.1359375000002,null,null,"Cambodge","KHM",8856190.7119999994,1330000]
["RéfrigérateursEtCongélateursSurSecteurRéfrigérateurSSEN2>120LMoyen",3575.1685331250001,null,null,"Cameroun","CMR",30038124.178738058,4300000]
["RéfrigérateursEtCongélateursSurSecteurRéfrigérateurSSEN2>120LHaut",5062.8266324999995,null,null,"République centrafricaine","CAF",16896893.673250481,441000]
["RéfrigérateursEtCongélateursSurSecteurRéfrigérateurSSEN3etabonnements30-<60LBas",2123.1357500000004,null,null,"Tchad","TCD",37554346.12979167,4500000]
["RéfrigérateursEtCongélateursSurSecteurRéfrigérateurSSEN3etabonnements30-<60LMoyen",2868.0587553125001,null,null,"Comores","COM",5000000,150000]
["RéfrigérateursEtCongélateursSurSecteurRéfrigérateurSSEN3etabonnements30-<60LHaut",3920.1401900000001,null,null,"Congo","COG",6750000,1020000]
["RéfrigérateursEtCongélateursSurSecteurRéfrigérateurSSEN3etabonnements60-<120LBas",2524.2528124999999,null,null,"RDC Congo","COD",120000000,18000000]
["RéfrigérateursEtCongélateursSurSecteurRéfrigérateurSSEN3etabonnements60-<120LMoyen",3330.3765574999998,null,null,"Côte d’Ivoire","CIV",18355435.381835714,2700000]
["RéfrigérateursEtCongélateursSurSecteurRéfrigérateurSSEN3etabonnements60-<120LHaut",4223.5305499999995,null,null,"Djibouti","DJI",4000000,195000]
["RéfrigérateursEtCongélateursSurSecteurRéfrigérateurSSEN3etabonnements>120LBas",2645.8034375000002,null,null,"Érythrée","ERI",5626187.7360000005,800000]
["RéfrigérateursEtCongélateursSurSecteurRéfrigérateurSSEN3etabonnements>120LMoyen",4093.8360331250001,null,null,"Éthiopie","ETH",120000000,18000000]
["RéfrigérateursEtCongélateursSurSecteurRéfrigérateurSSEN3etabonnements>120LHaut",5581.4941325,null,null,"Gambie","GMB",5000000,750000]
["RéfrigérateursEtCongélateursSurSecteurCongélateuràvaccinsetbriquettesd’eauSO90-<150LBas",747.53634375000001,null,null,"Ghana","GHA",8622760.9016439915,1300000]
["RéfrigérateursEtCongélateursSurSecteurCongélateuràvaccinsetbriquettesd’eauSO90-<150LMoyen",1213.6424737499999,null,null,"Guinée","GIN",22046091.613666568,480000]
["RéfrigérateursEtCongélateursSurSecteurCongélateuràvaccinsetbriquettesd’eauSO90-<150LHaut",1702.1949524999998,null,null,"Guinea Bissau","GNB",7097072.9999999991,275259]
["RéfrigérateursEtCongélateursSurSecteurCongélateuràvaccinsetbriquettesd’eauSO>150LBas",856.93190625,null,null,"Haïti","HTI",14031579.148,980000]
["RéfrigérateursEtCongélateursSurSecteurCongélateuràvaccinsetbriquettesd’eauSO>150LMoyen",1377.5940084375,null,null,"Kenya","KEN",21095387.624293815,3200000]
["RéfrigérateursEtCongélateursSurSecteurCongélateuràvaccinsetbriquettesd’eauSO>150LHaut",1986.6234149999998,null,null,"RPD Core","PRK",6700783.4900000012,1006000]
["RéfrigérateursEtCongélateursSurSecteurCongélateuràvaccinsetbriquettesd’eau90-<150LBas",0,null,null,"Rép. kirghize","KGZ",5000000,750000]
["RéfrigérateursEtCongélateursSurSecteurCongélateuràvaccinsetbriquettesd’eau90-<150LMoyen",0,null,null,"RDP lao","LAO",5450000,820000]
["RéfrigérateursEtCongélateursSurSecteurCongélateuràvaccinsetbriquettesd’eau90-<150LHaut",0,null,null,"Lesotho","LSO",5000000,545000]
["RéfrigérateursEtCongélateursSurSecteurCongélateuràvaccinsetbriquettesd’eau>150LBas",0,null,null,"Libéria","LBR",6894301.4440000001,1035000]
["RéfrigérateursEtCongélateursSurSecteurCongélateuràvaccinsetbriquettesd’eau>150LMoyen",0,null,null,"Madagascar","MDG",39114745.30044701,902000]
["RéfrigérateursEtCongélateursSurSecteurCongélateuràvaccinsetbriquettesd’eau>150LHaut",0,null,null,"Malawi","MWI",21719840.60318654,2700000]
["RéfrigérateursEtCongélateursSurSecteurCombiné_RÉFetCONSSEN230-<60LBas",2042.0505000000001,null,null,"Mali","MLI",30264239.400109984,3510000]
["RéfrigérateursEtCongélateursSurSecteurCombiné_RÉFetCONSSEN230-<60LMoyen",2427.36598125,null,null,"Mauritanie","MRT",5000000,502000]
["RéfrigérateursEtCongélateursSurSecteurCombiné_RÉFetCONSSEN230-<60LHaut",2812.6814625000002,null,null,"Mozambique","MOZ",62094496,4404236]
["RéfrigérateursEtCongélateursSurSecteurCombiné_RÉFetCONSSEN260-<120LBas",2309.461875,null,null,"Myanmar","MMR",29582777.575129762,1900000]
["RéfrigérateursEtCongélateursSurSecteurCombiné_RÉFetCONSSEN260-<120LMoyen",4644.7735162499994,null,null,"Népal","NPL",16429990.324000001,1300000]
["RéfrigérateursEtCongélateursSurSecteurCombiné_RÉFetCONSSEN260-<120LHaut",7765.6263300000001,null,null,"Niger","NER",36665772.73709517,2500000]
["RéfrigérateursEtCongélateursSurSecteurCombiné_RÉFetCONSSEN2>120LBas",3389,null,null,"Nigéria","NGA",120000000,18000000]
["RéfrigérateursEtCongélateursSurSecteurCombiné_RÉFetCONSSEN2>120LMoyen",3754.175340625,null,null,"Pakistan","PAK",120000000,18075505]
["RéfrigérateursEtCongélateursSurSecteurCombiné_RÉFetCONSSEN2>120LHaut",4119.35068125,null,null,"Papouasie-Nouvelle-Guinée","PNG",21428957.869336002,1200000]
["RéfrigérateursEtCongélateursSurSecteurCombiné_RÉFetCONSSEN3etabonnements30-<60LBas",2560.7179999999998,null,null,"Rwanda","RWA",8010580.0229142653,1220000]
["RéfrigérateursEtCongélateursSurSecteurCombiné_RÉFetCONSSEN3etabonnements30-<60LMoyen",2946.03348125,null,null,"São Tomé","STP",5000000,150000]
["RéfrigérateursEtCongélateursSurSecteurCombiné_RÉFetCONSSEN3etabonnements30-<60LHaut",3331.3489625000002,null,null,"Sénégal","SEN",9351922.4911929108,1410000]
["RéfrigérateursEtCongélateursSurSecteurCombiné_RÉFetCONSSEN3etabonnements60-<120LBas",2828.129375,null,null,"Sierra Leone","SLE",8500862.6180000007,1300000]
["RéfrigérateursEtCongélateursSurSecteurCombiné_RÉFetCONSSEN3etabonnements60-<120LMoyen",5163.4410162499989,null,null,"Îles Salomon","SLB",5000000,150000]
["RéfrigérateursEtCongélateursSurSecteurCombiné_RÉFetCONSSEN3etabonnements60-<120LHaut",8284.2938300000005,null,null,"Somalie","SOM",37273334.034813732,2800000]
["RéfrigérateursEtCongélateursSurSecteurCombiné_RÉFetCONSSEN3etabonnements>120LBas",3907.6675,null,null,"Soudan du Sud","SDS",20698045.232000001,800000]
["RéfrigérateursEtCongélateursSurSecteurCombiné_RÉFetCONSSEN3etabonnements>120LMoyen",4272.8428406250005,null,null,"République du Soudan","SDN",75421244.921767756,4450000]
["RéfrigérateursEtCongélateursSurSecteurCombiné_RÉFetCONSSEN3etabonnements>120LHaut",4638.0181812499995,null,null,"République arabe syrienne","SYR",27555893.000583101,4200000]
["SolaireÀConnexionDirecte_RéfrigérateursEtCongélateursSCDRéfrigérateurSSEN230-<60LBas",3494.5804687499999,null,null,"Tadjikistan","TJK",5000000,750000]
["SolaireÀConnexionDirecte_RéfrigérateursEtCongélateursSCDRéfrigérateurSSEN230-<60LMoyen",4775.1568199999992,null,null,"Tanzanie","TZA",53949656.43677111,8100000]
["SolaireÀConnexionDirecte_RéfrigérateursEtCongélateursSCDRéfrigérateurSSEN230-<60LHaut",6451.4209724999992,null,null,"Timor-Leste","TMP",5000000,150000]
["SolaireÀConnexionDirecte_RéfrigérateursEtCongélateursSCDRéfrigérateurSSEN260-<120LBas",5368.8911062500001,null,null,"Togo","TGO",8491299.3586475179,1300000]
["SolaireÀConnexionDirecte_RéfrigérateursEtCongélateursSCDRéfrigérateurSSEN260-<120LMoyen",6574.8353737500001,null,null,"Ouganda","UGA",42699373.693102054,6500000]
["SolaireÀConnexionDirecte_RéfrigérateursEtCongélateursSCDRéfrigérateurSSEN260-<120LHaut",7380.5539500000004,null,null,"Yémen","YEM",48583608.988523886,434000]
["SolaireÀConnexionDirecte_RéfrigérateursEtCongélateursSCDRéfrigérateurSSEN2>120LBas",5869.6796812499997,null,null,"Zambie","ZMB",13628353.102082146,2100000]
["SolaireÀConnexionDirecte_RéfrigérateursEtCongélateursSCDRéfrigérateurSSEN2>120LMoyen",7284.85309125,null,null,"Zimbabwe","ZWE",9631584.4698906932,1450000]
["SolaireÀConnexionDirecte_RéfrigérateursEtCongélateursSCDRéfrigérateurSSEN2>120LHaut",8319.8971799999999]
["SolaireÀConnexionDirecte_RéfrigérateursEtCongélateursSCDRéfrigérateurSSEN3etabonnements30-<60LBas",4013.2479687499999,null,null,null,"Total",{"$f":"SUM(G2:G58)","v":1544856629.2105248},{"$f":"SUM(H2:H58)","v":169735000}]
["SolaireÀConnexionDirecte_RéfrigérateursEtCongélateursSCDRéfrigérateurSSEN3etabonnements30-<60LMoyen",5293.8243199999997]
["SolaireÀConnexionDirecte_RéfrigérateursEtCongélateursSCDRéfrigérateurSSEN3etabonnements30-<60LHaut",6970.0884724999996]
["SolaireÀConnexionDirecte_RéfrigérateursEtCongélateursSCDRéfrigérateurSSEN3etabonnements60-<120LBas",5887.5586062500006]
["SolaireÀConnexionDirecte_RéfrigérateursEtCongélateursSCDRéfrigérateurSSEN3etabonnements60-<120LMoyen",7093.5028737499997]
["SolaireÀConnexionDirecte_RéfrigérateursEtCongélateursSCDRéfrigérateurSSEN3etabonnements60-<120LHaut",7899.2214500000009]
["SolaireÀConnexionDirecte_RéfrigérateursEtCongélateursSCDRéfrigérateurSSEN3etabonnements>120LBas",6388.3471812499993]
["SolaireÀConnexionDirecte_RéfrigérateursEtCongélateursSCDRéfrigérateurSSEN3etabonnements>120LMoyen",7803.5205912500005]
["SolaireÀConnexionDirecte_RéfrigérateursEtCongélateursSCDRéfrigérateurSSEN3etabonnements>120LHaut",8838.5646799999995]
["SolaireÀConnexionDirecte_RéfrigérateursEtCongélateursSCDCongélateuràbriquettesd’eauSO30-<120LBas",2856.4396875000002]
["SolaireÀConnexionDirecte_RéfrigérateursEtCongélateursSCDCongélateuràbriquettesd’eauSO30-<120LMoyen",3691.2493800000002]
["SolaireÀConnexionDirecte_RéfrigérateursEtCongélateursSCDCongélateuràbriquettesd’eauSO30-<120LHaut",4526.0590725000002]
["SolaireÀConnexionDirecte_RéfrigérateursEtCongélateursSCDCongélateuràbriquettesd’eau30-<120LBas",0]
["SolaireÀConnexionDirecte_RéfrigérateursEtCongélateursSCDCongélateuràbriquettesd’eau30-<120LMoyen",0]
["SolaireÀConnexionDirecte_RéfrigérateursEtCongélateursSCDCongélateuràbriquettesd’eau30-<120LHaut",0]
["SolaireÀConnexionDirecte_RéfrigérateursEtCongélateursSCDCombiné_RÉFetCONSSEN230-<60LBas",3768.069375]
["SolaireÀConnexionDirecte_RéfrigérateursEtCongélateursSCDCombiné_RÉFetCONSSEN230-<60LMoyen",7769.1756082499996]
["SolaireÀConnexionDirecte_RéfrigérateursEtCongélateursSCDCombiné_RÉFetCONSSEN230-<60LHaut",10324.023885000001]
["SolaireÀConnexionDirecte_RéfrigérateursEtCongélateursSCDCombiné_RÉFetCONSSEN260-<120LBas",7920.2387250000002]
["SolaireÀConnexionDirecte_RéfrigérateursEtCongélateursSCDCombiné_RÉFetCONSSEN260-<120LMoyen",9584.5098825000005]
["SolaireÀConnexionDirecte_RéfrigérateursEtCongélateursSCDCombiné_RÉFetCONSSEN260-<120LHaut",11345.049135000001]
["SolaireÀConnexionDirecte_RéfrigérateursEtCongélateursSCDCombiné_RÉFetCONSSEN2>120LBas",5384.6926874999999,null,null,"Pays","Code ISO","Plafond subvention","Investissement minimum dans les ECF"]
["SolaireÀConnexionDirecte_RéfrigérateursEtCongélateursSCDCombiné_RÉFetCONSSEN2>120LMoyen",6812.3047781249998,null,null,"Érythrée",{"$f":"INDEX($E$1:$I$74,MATCH($E$81,$E$1:$E$57,0),MATCH($F$80,$E$1:$I$1,0))","v":"ERI"},{"$f":"INDEX($E$1:$I$74,MATCH(E81,$E$1:$E$57,0),MATCH($G$80,$E$1:$I$1,0))","v":5626187.7360000005},{"$f":"INDEX($E$1:$I$74,MATCH(E81,$E$1:$E$57,0),MATCH($H$80,$E$1:$I$1,0))","v":800000}]
["SolaireÀConnexionDirecte_RéfrigérateursEtCongélateursSCDCombiné_RÉFetCONSSEN2>120LHaut",8239.9168687500005]
["SolaireÀConnexionDirecte_RéfrigérateursEtCongélateursSCDCombiné_RÉFetCONSSEN3etabonnements30-<60LBas",4286.7368750000005]
["SolaireÀConnexionDirecte_RéfrigérateursEtCongélateursSCDCombiné_RÉFetCONSSEN3etabonnements30-<60LMoyen",8287.8431082499992,null,null,"CALCULS DE FRET PAR AN"]
["SolaireÀConnexionDirecte_RéfrigérateursEtCongélateursSCDCombiné_RÉFetCONSSEN3etabonnements30-<60LHaut",10842.691385,null,null,"Article de fret","Estimation du coût de fret","CCE"]
["SolaireÀConnexionDirecte_RéfrigérateursEtCongélateursSCDCombiné_RÉFetCONSSEN3etabonnements60-<120LBas",8438.9062250000006,null,null,"Fret international par unité (RGR et SCD - Catégories 1 à 6)",280,"Réfrigérateurs et congélateurs sur secteur",10]
["SolaireÀConnexionDirecte_RéfrigérateursEtCongélateursSCDCombiné_RÉFetCONSSEN3etabonnements60-<120LMoyen",10103.1773825,null,null,"Fret international par unité (RGR et SCD - Catégories 1 à 6)",280,"Solaire à connexion directe_Réfrigérateurs et congélateurs SCD"]
["SolaireÀConnexionDirecte_RéfrigérateursEtCongélateursSCDCombiné_RÉFetCONSSEN3etabonnements60-<120LHaut",11863.716635000001,null,null,"Fret international - forfait (DST - Catégorie 7)",1500,"Enregistreur de température ECF_ET30J"]
["SolaireÀConnexionDirecte_RéfrigérateursEtCongélateursSCDCombiné_RÉFetCONSSEN3etabonnements>120LBas",5903.3601875000004,null,null,"Fret international - forfait (DSTD - Catégorie 8)",600,"Dispositif et abonnement STD"]
["SolaireÀConnexionDirecte_RéfrigérateursEtCongélateursSCDCombiné_RÉFetCONSSEN3etabonnements>120LMoyen",7330.9722781250002,null,null,"Fret international par unité (Porte-vaccins - Catégorie 9)",2,"Porte-vaccins avec prévention du gel"]
["SolaireÀConnexionDirecte_RéfrigérateursEtCongélateursSCDCombiné_RÉFetCONSSEN3etabonnements>120LHaut",8758.5843687500001,null,null,"Fret international par unité (Glacières - Catégorie 10)",20,"Glacières avec prévention du gel "]
["DispositifsPassifsÀLongTerme_DPLTActifsPassifsSO5-<10LBas",2393,null,null,"Fret international - forfait (Régulateurs de tension - Catégorie 11)",2000,"Régulateurs de tension"]
["DispositifsPassifsÀLongTerme_DPLTActifsPassifsSO5-<10LMoyen",2512.65,null,null,"Fret international par unité (Pains de glace - Catégorie 12)",0.1,"Pains de glace"]
["DispositifsPassifsÀLongTerme_DPLTActifsPassifsSO5-<10LHaut",2632.3,null,null,null,200,"Dispositifs de stockage des vaccins transportables et alimentés_DSTA"]
["PorteVaccinsAvecpréventiondugelDispositifspassifsSO1-<2LBas",38.542857142857144,null,null,null,100,"Dispositifs passifs à long terme_DPLT"]
["PorteVaccinsAvecpréventiondugelDispositifspassifsSO1-<2LMoyen",42.695970446428575,null,null,null,100,"Support de panneau solaire pour SCD"]
["PorteVaccinsAvecpréventiondugelDispositifspassifsSO1-<2LHaut",46.849083750000005,null,null,"Fret international par unité (Porte-vaccins - Catégorie 9)",2,"Porte-vaccins conventionnels"]
["PorteVaccinsAvecpréventiondugelDispositifspassifsSO2-<5LBas",47.7,null,null,"Fret international par unité (Glacières - Catégorie 10)",20,"Glacières conventionnelles "]
["PorteVaccinsAvecpréventiondugelDispositifspassifsSO2-<5LMoyen",52.8398240625]
["PorteVaccinsAvecpréventiondugelDispositifspassifsSO2-<5LHaut",57.979648125000004,null,null,"Coût des services - Déploiement dirigé par le pays"]
["GlacièresAvecPréventionDuGelDispositifspassifsSOBas",0,null,null,"Article","Coût unitaire du groupe de services (dir. pays)","Équipements et services éligibles au POECF"]
["GlacièresAvecPréventionDuGelDispositifspassifsSOMoyen",0,null,null,"Coût unitaire total SCD",0,"Solaire à connexion directe_Réfrigérateurs et congélateurs SCD"]
["GlacièresAvecPréventionDuGelDispositifspassifsSOHaut",0,null,null,"Coût unitaire total RGR",0,"Réfrigérateurs et congélateurs sur secteur"]
["GlacièresAvecPréventionDuGelDispositifspassifsSO20L-<25LBas",234,null,null,"Coût unitaire total DSTA",0,"Dispositifs de stockage des vaccins transportables et alimentés_DSTA"]
["GlacièresAvecPréventionDuGelDispositifspassifsSO20L-<25LMoyen",259.14999999999998,null,null,"Coût unitaire total DSTD",0,"Dispositif et abonnement STD"]
["GlacièresAvecPréventionDuGelDispositifspassifsSO20L-<25LHaut",284.3,null,null,"Coût unitaire total DP",0,"Dispositifs passifs à long terme_DPLT"]
["EnregistreurDeTempératureECF_ET30JDSTpourréfrigérateursSOSOBas",83.567499999999995]
["EnregistreurDeTempératureECF_ET30JDSTpourréfrigérateursSOSOMoyen",92.572159273437492]
["EnregistreurDeTempératureECF_ET30JDSTpourréfrigérateursSOSOHaut",101.57681854687499]
["DispositifEtAbonnementSTDDSTDpourréfrigérateursSOSOBas",527.34333487499998]
["DispositifEtAbonnementSTDDSTDpourréfrigérateursSOSOMoyen",584.1662271557027]
["DispositifEtAbonnementSTDDSTDpourréfrigérateursSOSOHaut",640.98911943640542]
["DispositifEtAbonnementSTDDSTDpourCFADSOSOBas",1340.616]
["DispositifEtAbonnementSTDDSTDpourCFADSOSOMoyen",1485.071563425]
["DispositifEtAbonnementSTDDSTDpourCFADSOSOHaut",1629.5271268500001]
["RégulateursDeTensionRégulateursSOSOBas",250]
["RégulateursDeTensionRégulateursSOSOMoyen",277]
["RégulateursDeTensionRégulateursSOSOHaut",303.87656249999998]
["RégulateursDeTensionSOSOBas",0]
["RégulateursDeTensionSOSOMoyen",0]
["RégulateursDeTensionSOSOHaut",0]
["PiècesDeRechangePourECFSurSecteurRéfrigérateurSOSOBas",457.63]
["PiècesDeRechangePourECFSurSecteurRéfrigérateurSOSOMoyen",506.94106259375002]
["PiècesDeRechangePourECFSurSecteurRéfrigérateurSOSOHaut",556.25212518750004]
["PiècesDeRechangePourECFSurSecteurCongélateuràvaccinsetbriquettesd’eauSOSOBas",184]
["PiècesDeRechangePourECFSurSecteurCongélateuràvaccinsetbriquettesd’eauSOSOMoyen",203.82657499999999]
["PiècesDeRechangePourECFSurSecteurCongélateuràvaccinsetbriquettesd’eauSOSOHaut",223.65315000000001]
["PiècesDeRechangePourECFSurSecteurCombiné_RÉFetCONSOSOBas",502.27]
["PiècesDeRechangePourECFSurSecteurCombiné_RÉFetCONSOSOMoyen",556.39116209374993]
["PiècesDeRechangePourECFSurSecteurCombiné_RÉFetCONSOSOHaut",610.51232418749998]
["PiècesDeRechangePourECFSCDRéfrigérateurSOSOBas",557.9]
["PiècesDeRechangePourECFSCDRéfrigérateurSOSOMoyen",618.01546843749998]
["PiècesDeRechangePourECFSCDRéfrigérateurSOSOHaut",678.13093687499997]
["PiècesDeRechangePourECFSCDCongélateuràbriquettesd’eauSOSOBas",457.63]
["PiècesDeRechangePourECFSCDCongélateuràbriquettesd’eauSOSOMoyen",506.94106259375002]
["PiècesDeRechangePourECFSCDCongélateuràbriquettesd’eauSOSOHaut",556.25212518750004]
["PiècesDeRechangePourECFSCDCombiné_RÉFetCONSOSOBas",708]
["PiècesDeRechangePourECFSCDCombiné_RÉFetCONSOSOMoyen",784.28921250000008]
["PiècesDeRechangePourECFSCDCombiné_RÉFetCONSOSOHaut",860.57842500000004]
["PiècesDeRechangePourECFSCDSOSOBas",0]
["PiècesDeRechangePourECFSCDSOSOMoyen",0]
["PiècesDeRechangePourECFSCDSOSOHaut",0]
["FormationSSEParLeFabricantServicespourréfrigérateursEnpersonneSOBas",0]
["FormationSSEParLeFabricantServicespourréfrigérateursEnpersonneSOMoyen",0]
["FormationSSEParLeFabricantServicespourréfrigérateursEnpersonneSOHaut",0]
["FormationSSEParLeFabricantServicespourréfrigérateursÀdistanceSOBas",0]
["FormationSSEParLeFabricantServicespourréfrigérateursÀdistanceSOMoyen",0]
["FormationSSEParLeFabricantServicespourréfrigérateursÀdistanceSOHaut",0]
["FormationSSEParLeFabricantEnpersonneSOBas",0]
["FormationSSEParLeFabricantEnpersonneSOMoyen",0]
["FormationSSEParLeFabricantEnpersonneSOHaut",0]
["FormationSSEParLeFabricantEnpersonneSOBas",0]
["FormationSSEParLeFabricantEnpersonneSOMoyen",0]
["FormationSSEParLeFabricantEnpersonneSOHaut",0]
["FormationSSEParLeFabricantEnpersonneSOBas",0]
["FormationSSEParLeFabricantEnpersonneSOMoyen",0]
["FormationSSEParLeFabricantEnpersonneSOHaut",0]
["FormationDSTDParLeFabricantServicespourréfrigérateursEnpersonneSOBas",8400]
["FormationDSTDParLeFabricantServicespourréfrigérateursEnpersonneSOMoyen",8800]
["FormationDSTDParLeFabricantServicespourréfrigérateursEnpersonneSOHaut",9200]
["FormationDSTDParLeFabricantServicespourréfrigérateursÀdistanceSOBas",2625]
["FormationDSTDParLeFabricantServicespourréfrigérateursÀdistanceSOMoyen",2750]
["FormationDSTDParLeFabricantServicespourréfrigérateursÀdistanceSOHaut",2875]
["FormationDSTDParLeFabricantServicespourCFADEnpersonneSOBas",8400]
["FormationDSTDParLeFabricantServicespourCFADEnpersonneSOMoyen",8800]
["FormationDSTDParLeFabricantServicespourCFADEnpersonneSOHaut",9200]
["FormationDSTDParLeFabricantServicespourCFADÀdistanceSOBas",3150]
["FormationDSTDParLeFabricantServicespourCFADÀdistanceSOMoyen",3300.0000000000005]
["FormationDSTDParLeFabricantServicespourCFADÀdistanceSOHaut",3449.9999999999995]
["FormationMaintenanceECFParLeFabricantServicespourréfrigérateursEnpersonneSOBas",19425]
["FormationMaintenanceECFParLeFabricantServicespourréfrigérateursEnpersonneSOMoyen",20350]
["FormationMaintenanceECFParLeFabricantServicespourréfrigérateursEnpersonneSOHaut",21275]
["FormationMaintenanceECFParLeFabricantServicespourréfrigérateursÀdistanceSOBas",0]
["FormationMaintenanceECFParLeFabricantServicespourréfrigérateursÀdistanceSOMoyen",0]
["FormationMaintenanceECFParLeFabricantServicespourréfrigérateursÀdistanceSOHaut",0]
["FormationMaintenanceECFParLeFabricantServicespourCFADEnpersonneSOBas",9712.5]
["FormationMaintenanceECFParLeFabricantServicespourCFADEnpersonneSOMoyen",10175]
["FormationMaintenanceECFParLeFabricantServicespourCFADEnpersonneSOHaut",10637.5]
["FormationMaintenanceECFParLeFabricantServicespourCFADÀdistanceSOBas",0]
["FormationMaintenanceECFParLeFabricantServicespourCFADÀdistanceSOMoyen",0]
["FormationMaintenanceECFParLeFabricantServicespourCFADÀdistanceSOHaut",0]
["AbonnementsAnnuelsAuxDonnéesDSTDServicespourréfrigérateursSOSOBas",208.5]
["AbonnementsAnnuelsAuxDonnéesDSTDServicespourréfrigérateursSOSOMoyen",230.95165400787067]
["AbonnementsAnnuelsAuxDonnéesDSTDServicespourréfrigérateursSOSOHaut",253.40330801574137]
["AbonnementsAnnuelsAuxDonnéesDSTDServicespourréfrigérateursSOBas",0]
["AbonnementsAnnuelsAuxDonnéesDSTDServicespourréfrigérateursSOMoyen",0]
["AbonnementsAnnuelsAuxDonnéesDSTDServicespourréfrigérateursSOHaut",0]
["AbonnementsAnnuelsAuxDonnéesDSTDServicespourCFADSOSOBas",404]
["AbonnementsAnnuelsAuxDonnéesDSTDServicespourCFADSOSOMoyen",447.84366099502068]
["AbonnementsAnnuelsAuxDonnéesDSTDServicespourCFADSOSOHaut",491.68732199004137]
["AbonnementsAnnuelsAuxDonnéesDSTDServicespourCFADSOBas",0]
["AbonnementsAnnuelsAuxDonnéesDSTDServicespourCFADSOMoyen",0]
["AbonnementsAnnuelsAuxDonnéesDSTDServicespourCFADSOHaut",0]
["AbonnementsAnnuelsAuxDonnéesSSEServicespourréfrigérateursSOSOBas",518.70000000000005]
["AbonnementsAnnuelsAuxDonnéesSSEServicespourréfrigérateursSOSOMoyen",574.16499999999996]
["AbonnementsAnnuelsAuxDonnéesSSEServicespourréfrigérateursSOSOHaut",629.63]
["AbonnementsAnnuelsAuxDonnéesSSESOSOBas",0]
["AbonnementsAnnuelsAuxDonnéesSSESOSOMoyen",0]
["AbonnementsAnnuelsAuxDonnéesSSESOSOHaut",0]
["PainsDeGlaceSOSO0.3LBas",0.30142857142857149]
["PainsDeGlaceSOSO0.3LMoyen",0.33390844196428582]
["PainsDeGlaceSOSO0.3LHaut",0.36638831250000009]
["PainsDeGlaceSOSO0.4LBas",0.39400000000000002]
["PainsDeGlaceSOSO0.4LMoyen",0.43645473125000001]
["PainsDeGlaceSOSO0.4LHaut",0.47890946250000005]
["PainsDeGlaceSOSO0.6LBas",9]
["PainsDeGlaceSOSO0.6LMoyen",9.9697781250000013]
["PainsDeGlaceSOSO0.6LHaut",10.939556250000001]
["PainsDeGlaceSO0.3LBas",0]
["PainsDeGlaceSO0.3LMoyen",0]
["PainsDeGlaceSO0.3LHaut",0]
["PainsDeGlaceSO0.4LBas",0]
["PainsDeGlaceSO0.4LMoyen",0]
["PainsDeGlaceSO0.4LHaut",0]
["PainsDeGlaceSO0.6LBas",0]
["PainsDeGlaceSO0.6LMoyen",0]
["PainsDeGlaceSO0.6LHaut",0]
["DispositifsDeStockageDesVaccinsTransportablesEtAlimentés_DSTAPortevaccinsDSTASO0-<5LBas",2073.75]
["DispositifsDeStockageDesVaccinsTransportablesEtAlimentés_DSTAPortevaccinsDSTASO0-<5LMoyen",2177.4375]
["DispositifsDeStockageDesVaccinsTransportablesEtAlimentés_DSTAPortevaccinsDSTASO0-<5LHaut",2281.125]
["DispositifsDeStockageDesVaccinsTransportablesEtAlimentés_DSTAChargeursDSTASOSOBas",3045]
["DispositifsDeStockageDesVaccinsTransportablesEtAlimentés_DSTAChargeursDSTASOSOMoyen",3197.25]
["DispositifsDeStockageDesVaccinsTransportablesEtAlimentés_DSTAChargeursDSTASOSOHaut",3349.5]
["SupportDePanneauSolairePourSCDMatérielSOSOBas",1468.44]
["SupportDePanneauSolairePourSCDMatérielSOSOMoyen",1626.6689988749999]
["SupportDePanneauSolairePourSCDMatérielSOSOHaut",1784.8979977500001]
["SupportDePanneauSolairePourSCDSOSOBas",0]
["SupportDePanneauSolairePourSCDSOSOMoyen",0]
["SupportDePanneauSolairePourSCDSOSOHaut",0]
["PorteVaccinsConventionnelsDispositifspassifsSO1-<2LBas",13.3]
["PorteVaccinsConventionnelsDispositifspassifsSO1-<2LMoyen",14.75]
["PorteVaccinsConventionnelsDispositifspassifsSO1-<2LHaut",16.2]
["PorteVaccinsConventionnelsDispositifspassifsSO2-<5LBas",21.6]
["PorteVaccinsConventionnelsDispositifspassifsSO2-<5LMoyen",23.925000000000001]
["PorteVaccinsConventionnelsDispositifspassifsSO2-<5LHaut",26.25]
["GlacièresConventionnellesDispositifspassifsSO5L-<10LBas",104.46]
["GlacièresConventionnellesDispositifspassifsSO5L-<10LMoyen",115.72999999999999]
["GlacièresConventionnellesDispositifspassifsSO5L-<10LHaut",127]
["GlacièresConventionnellesDispositifspassifsSO20L-<25LBas",144.38999999999999]
["GlacièresConventionnellesDispositifspassifsSO20L-<25LMoyen",159.94999999999999]
["GlacièresConventionnellesDispositifspassifsSO20L-<25LHaut",175.51]
["EnregistreurDeTempératureProgrammableParL’UtilisateurDSTpourréfrigérateursSOSOBas",77.099999999999994]
["EnregistreurDeTempératureProgrammableParL’UtilisateurDSTpourréfrigérateursSOSOMoyen",102.05]
["EnregistreurDeTempératureProgrammableParL’UtilisateurDSTpourréfrigérateursSOSOHaut",127]
["IndicateurDeGelSOSOSOBas",8.65]
["IndicateurDeGelSOSOSOMoyen",9.5820645312500012]
["IndicateurDeGelSOSOSOHaut",10.5141290625]
[0,0]
[0,0]
[0,0]
[0,0]
[0,0]
[0,0]
[0,0]
[0,0]
[0,0]
[0,0]
[0,0]
[0,0]
[0,0]
[0,0]
[0,0]
[0,0]
[0,0]
[0,0]
[0,0]
[0,0]
[0,0]
[0,0]
[0,0]
[0,0]
[0,0]
[0,0]
[0,0]
[0,0]
[0,0]
[0,0]
[0,0]
[0,0]
[0,0]
[0,0]
[0,0]
[0,0]
[0,0]
[0,0]
[0,0]
[0,0]
[0,0]
[0,0]
[0,0]
[0,0]
[0,0]
[0,0]
[0,0]
[0,0]
[0,0]
[0,0]
[0,0]
[0,0]
[0,0]